{"text_format":"1","workbook":"xlsx","n_sheets":19,"sheets":["Development Log","Hidden","Analysis Tool Creator Intro","User Guide","Analysis Tool Creator","Introduction","Raw Data","Auto Data Alignment","Map","aligning data","Sorting 1","Averages 1","Average-w-bkg","Pos Normalization 1","Sorting 2","Averages 2","Average w-o bkg","Final Data","Final Graphs"],"not_rendered":{"charts":0,"images":2,"macros":1,"external_links":1,"defined_names":2,"comments":0,"pivot_tables":0},"unopened":[],"bounds":{"document_bytes":16777216,"sheet_cells":100000,"rows_first":2000,"rows_last":500,"rows_between":2000,"halvings":0,"cell_chars":16384,"cell_head_chars":4096},"cells_cut":0,"cells_raw":0,"read":"whole","date_system":"1900"}

{"sheet":"Development Log","index":0,"n_rows":14,"n_cols":2,"rows_kept":14,"cut":false,"hidden":true,"merged":[]}
["Development Log"]
[]
["2019-07-24","Start of development"]
["2019-08-02","Added in Auto Data Align"]
["2019-08-13","Start recording development"]
[null,"Added in support for 4 repeats"]
[null,"Patched in CV calculation for Triplicate"]
[null,"Adjusted Formatting"]
["2019-12-03","Added in Auto Sample name, data validation"]
["2019-12-18","Added in colored formatting, Auto Slide Name, hide midcalculations"]
["2020-01-28","Improved raw data parameter guessing"]
["2020-01-31","Hid unnecessary pages from Creator, error ignoring for 1 sample maps"]
["2020-02-25","Added in support for vertical repeats, 3rd positive control"]
["2020-04-09","Added in Graph Generating option"]

{"sheet":"Hidden","index":1,"n_rows":16,"n_cols":11,"rows_kept":16,"cut":false,"hidden":true,"merged":[]}
["Repeats",null,null,null,null,1,{"$f":"IF(ISBLANK('Analysis Tool Creator'!K14),\"Sample 1\",'Analysis Tool Creator'!K14)","v":"Sample 1"},null,null,1,{"$f":"IF(ISBLANK('Analysis Tool Creator'!K14),\"Sample 1\",'Analysis Tool Creator'!K14)","v":"Sample 1"}]
[null,null,"1 = 16 well, 2 = 4 well",null,null,null,{"$f":"IF(ISBLANK('Analysis Tool Creator'!L14),\"Sample 2\",'Analysis Tool Creator'!L14)","v":"Sample 2"},2,null,2,{"$f":"IF(ISBLANK('Analysis Tool Creator'!K18),\"Sample 2\",'Analysis Tool Creator'!K18)","v":"Sample 2"}]
[2,null,1,null,null,3,{"$f":"IF(ISBLANK('Analysis Tool Creator'!K16),\"Sample 3\",'Analysis Tool Creator'!K16)","v":"Sample 3"},null,null,3,{"$f":"IF(ISBLANK('Analysis Tool Creator'!K22),\"Sample 3\",'Analysis Tool Creator'!K22)","v":"Sample 3"}]
[3,null,null,null,null,null,{"$f":"IF(ISBLANK('Analysis Tool Creator'!L16),\"Sample 4\",'Analysis Tool Creator'!L16)","v":"Sample 4"},4,null,4,{"$f":"IF(ISBLANK('Analysis Tool Creator'!K26),\"Sample 4\",'Analysis Tool Creator'!K26)","v":"Sample 4"}]
[4,null,"Array Name",null,null,5,{"$f":"IF(ISBLANK('Analysis Tool Creator'!K18),\"Sample 5\",'Analysis Tool Creator'!K18)","v":"Sample 5"}]
[null,null,{"$f":"IF('Analysis Tool Creator'!E8 = \"Array Name Here\",\"\", 'Analysis Tool Creator'!E8&\" \")","v":"Pig Cytokine Protein Array G1 "},null,null,null,{"$f":"IF(ISBLANK('Analysis Tool Creator'!L18),\"Sample 6\",'Analysis Tool Creator'!L18)","v":"Sample 6"},6]
["Alignment",2,1,null,null,7,{"$f":"IF(ISBLANK('Analysis Tool Creator'!K20),\"Sample 7\",'Analysis Tool Creator'!K20)","v":"Sample 7"}]
["Vertical",{"$f":"1","v":1},null,null,null,null,{"$f":"IF(ISBLANK('Analysis Tool Creator'!L20),\"Sample 8\",'Analysis Tool Creator'!L20)","v":"Sample 8"},8]
["Horizontal",{"$f":"2","v":2},null,null,null,9,{"$f":"IF(ISBLANK('Analysis Tool Creator'!K22),\"Sample 9\",'Analysis Tool Creator'!K22)","v":"Sample 9"}]
[null,null,null,null,null,null,{"$f":"IF(ISBLANK('Analysis Tool Creator'!L22),\"Sample 10\",'Analysis Tool Creator'!L22)","v":"Sample 10"},10]
[null,null,null,null,null,11,{"$f":"IF(ISBLANK('Analysis Tool Creator'!K24),\"Sample 11\",'Analysis Tool Creator'!K24)","v":"Sample 11"}]
[null,-4146,false,null,null,null,{"$f":"IF(ISBLANK('Analysis Tool Creator'!L24),\"Sample 12\",'Analysis Tool Creator'!L24)","v":"Sample 12"},12]
[null,null,null,null,null,13,{"$f":"IF(ISBLANK('Analysis Tool Creator'!K26),\"Sample 13\",'Analysis Tool Creator'!K26)","v":"Sample 13"}]
[null,null,null,null,null,null,{"$f":"IF(ISBLANK('Analysis Tool Creator'!L26),\"Sample 14\",'Analysis Tool Creator'!L26)","v":"Sample 14"},14]
[null,null,null,null,null,15,{"$f":"IF(ISBLANK('Analysis Tool Creator'!K27),\"Sample 15\",'Analysis Tool Creator'!K27)","v":"Sample 15"}]
[null,null,null,null,null,null,{"$f":"IF(ISBLANK('Analysis Tool Creator'!L27),\"Sample 16\",'Analysis Tool Creator'!L27)","v":"Sample 16"},16]

{"sheet":"Analysis Tool Creator Intro","index":2,"n_rows":24,"n_cols":11,"rows_kept":24,"cut":false,"hidden":true,"merged":[[7,0,7,10],[19,1,19,2],[20,1,20,2],[21,1,21,2],[23,0,23,10]]}
[]
[]
[]
[]
[]
[]
[]
["RayBio® Universal Protein Array Analysis Tool Creator"]
[]
[null,null,null,null,null,null,null,null,null,"Version: ","V5b"]
[null,null,null,null,null,null,null,null,null,"Updated:","2020-04-01"]
[null,null,null,null,null,null,null,null,null,"Created by:","Lily Qiu"]
[]
[null,"Tool Features"]
[null,"Replication Directions Supported: ",null,null,null,null,"Horizontal and Vertical"]
[null,"Number of Rows Supported:",null,null,null,null,"2 to 75+"]
[null,"Number of Columns Supported",null,null,null,null,"2 to 26+"]
[null,"Replications per Target supported: ",null,null,null,null,"Duplicate, triplicate, quadruplicate"]
[null,"Comprehensive tool function:",null,null,null,null,"From raw data to normalized data"]
[null,"Quick",null,"Get the normalized data in minutes"]
[null,"Easy",null,"Just follow the tool procedures step by step"]
[null,"Reliable",null,"No need for manual copy and pasting"]
[]
["Please contact us if you have any questions for this tool"]

{"sheet":"User Guide","index":3,"n_rows":8,"n_cols":1,"rows_kept":8,"cut":false,"hidden":true,"merged":[[6,0,6,11],[7,0,7,11]]}
[]
[]
[]
[]
[]
[]
["Analysis Tool Guide"]
["RayBio® Pig Cytokine Protein Array G1 "]

{"sheet":"Analysis Tool Creator","index":4,"n_rows":150,"n_cols":78,"rows_kept":150,"cut":false,"hidden":true,"merged":[[26,12,27,12],[13,12,14,12],[15,12,16,12],[17,12,18,12],[19,12,20,12],[21,12,22,12],[26,10,27,10],[7,2,7,3],[10,2,11,3],[26,11,27,11],[13,9,14,9],[15,9,16,9],[17,9,18,9],[19,9,20,9],[21,9,22,9],[23,9,24,9],[26,9,27,9],[15,11,16,11],[17,11,18,11],[19,11,20,11],[21,11,22,11],[23,11,24,11],[21,18,23,21],[14,7,15,7],[14,8,15,8],[22,2,25,3],[20,2,21,3],[16,2,19,3],[12,2,15,3],[18,8,19,8],[16,7,17,8],[19,10,20,10],[21,10,22,10],[23,10,24,10],[13,10,14,10],[15,10,16,10],[17,10,18,10],[23,12,24,12],[1,13,3,16],[22,13,22,14],[10,13,13,14],[10,9,10,12],[11,9,12,10],[11,11,12,12],[1,6,3,12],[7,4,7,7],[13,4,13,5],[15,4,15,5],[13,7,13,8],[10,15,13,17],[18,5,19,6],[13,11,14,11]]}
[]
[null,null,null,null,null,null,"RayBio® Universal Protein Array Analysis Tool Creator",null,null,null,null,null,null,"For In-House Use Only \n Do not give to customer"]
[]
[]
[]
[]
[]
[null,null,"Array Name:",null,"Pig Cytokine Protein Array G1"]
[]
[]
[null,null,"1. Array Map ",null,"2. Array Parameters",null,null,null,null,"4. Sample Names",null,null,null,"5. Create Analysis Tool",null,"6. Purge Macros"]
[null,null,null,null,"All Targets must have the same number of repeats",null,null,null,null,"16 Well Format",null,"     4 Well Format          "]
[null,null,"Paste Array Map Below"]
[null,null,null,null,"Number of Rows:   ",null,12,"Alignment: ",null,1,null,null,2]
[null,null,null,null,null,null,null,"     Vertical","Horizontal   "]
[null,null,null,null,"Number of Columns:   ",null,15,null,null,3,null,null,4]
[null,null,"All repeats must be visible.",null,null,null,null,"Create Graphs: "]
[null,null,null,null,null,"Number of Repeats:   ",3,null,null,5,null,null,6]
[null,null,null,null,null,"2, 3, 4 repeats supported  "]
[null,null,null,null,null,null,null,null,null,7,null,null,8]
[null,null,"No Merged Cells",null,"3. Control Parameters"]
[null,null,null,null,"Recommended to Copy/Paste Control Names directly from Map",null,null,null,null,9,null,null,10]
[null,null,"Make sure first target lines up with 1x1",null,"Leave Blank if not applicable",null,null,null,null,null,null,null,null,"May take a few minutes delay"]
[null,null,null,null,null,null,null,null,null,11,null,null,12]
[null,null,null,null,"       Positive Control:       Positive 1",null,"Bio-BSA (1)","Bio-BSA (2)","Positive 2   "]
[null,null,null,null,null,"Max 3 supported   ",null,"Positive 3  ",null,13,null,null,14]
[null,null,null,null,null,null,null,null,null,15,null,null,16]
[null,null,null,null,"     Negative Control: ",null,"Blank","Negative 1  "]
[null,null,null,null,null,"Max 1 supported   ",null,null,null,"leave Blank for Sample 1, Sample 2.."]
[]
[null,null,1,2,3,4,5,6,7,8,9,10,11,12,13,14,15,16,17,18,19,20,21,22,23,24,25,26,27,28,29,30,31,32,33,34,35,36,37,38,39,40,41,42,43,44,45,46,47,48,49,50,51,52,53,54,55,56,57,58,59,60,61,62,63,64,65,66,67,68,69,70,71,72,73,74,75,76]
[null,1,"Bio-BSA (1)","Bio-BSA (1)","Bio-BSA (1)","P11","P11","P11","Bio-BSA (1)","Bio-BSA (1)","Bio-BSA (1)","P33","P33","P33","P45","P45","P45"]
[null,2,"Bio-BSA (2)","Bio-BSA (2)","Bio-BSA (2)","P12","P12","P12","P22","P22","P22","P34","P34","P34","P46","P46","P46"]
[null,3,"P1","P1","P1","P13","P13","P13","P23","P23","P23","P35","P35","P35","P47","P47","P47"]
[null,4,"P2","P2","P2","P14","P14","P14","P24","P24","P24","P36","P36","P36","P48","P48","P48"]
[null,5,"P3","P3","P3","P15","P15","P15","P25","P25","P25","P37","P37","P37","P49","P49","P49"]
[null,6,"P4","P4","P4","P16","P16","P16","P26","P26","P26","P38","P38","P38","P50","P50","P50"]
[null,7,"P5","P5","P5","P17","P17","P17","P27","P27","P27","P39","P39","P39","P51","P51","P51"]
[null,8,"P6","P6","P6","P18","P18","P18","P28","P28","P28","P40","P40","P40","Blank","Blank","Blank"]
[null,9,"P7","P7","P7","P19","P19","P19","P29","P29","P29","P41","P41","P41","Pig IgG","Pig IgG","Pig IgG"]
[null,10,"P8","P8","P8","P20","P20","P20","P30","P30","P30","P42","P42","P42","Pig IgA","Pig IgA","Pig IgA"]
[null,11,"P9","P9","P9","P21","P21","P21","P31","P31","P31","P43","P43","P43","Blank","Blank","Blank"]
[null,12,"P10","P10","P10","Bio-BSA (1)","Bio-BSA (1)","Bio-BSA (1)","P32","P32","P32","P44","P44","P44","Bio-BSA (1)","Bio-BSA (1)","Bio-BSA (1)"]
[null,13]
[null,14]
[null,15]
[null,16]
[null,17]
[null,18]
[null,19]
[null,20]
[null,21]
[null,22]
[null,23]
[null,24]
[null,25]
[null,26]
[null,27]
[null,28]
[null,29]
[null,30]
[null,31]
[null,32]
[null,33]
[null,34]
[null,35]
[null,36]
[null,37]
[null,38]
[null,39]
[null,40]
[null,41]
[null,42]
[null,43]
[null,44]
[null,45]
[null,46]
[null,47]
[null,48]
[null,49]
[null,50]
[null,51]
[null,52]
[null,53]
[null,54]
[null,55]
[null,56]
[null,57]
[null,58]
[null,59]
[null,60]
[null,61]
[null,62]
[null,63]
[null,64]
[null,65]
[null,66]
[null,67]
[null,68]
[null,69]
[null,70]
[null,71]
[null,72]
[null,73]
[null,74]
[null,75]
[null,76]
[null,77]
[null,78]
[null,79]
[null,80]
[null,81]
[null,82]
[null,83]
[null,84]
[null,85]
[null,86]
[null,87]
[null,88]
[null,89]
[null,90]
[null,91]
[null,92]
[null,93]
[null,94]
[null,95]
[null,96]
[null,97]
[null,98]
[null,99]
[null,100]
[null,101]
[null,102]
[null,103]
[null,104]
[null,105]
[null,106]
[null,107]
[null,108]
[null,109]
[null,110]
[null,111]
[null,112]
[null,113]
[null,114]
[null,115]
[null,116]
[null,117]
[null,118]
[null,119]

{"sheet":"Introduction","index":5,"n_rows":24,"n_cols":11,"rows_kept":24,"cut":false,"hidden":true,"merged":[[7,0,7,10],[19,1,19,2],[20,1,20,2],[21,1,21,2],[23,0,23,10]]}
[]
[]
[]
[]
[]
[]
[]
["RayBio® Pig Cytokine Protein Array G1  Analysis Tool"]
[]
[null,null,null,null,null,null,null,null,null,"Version: ","V4"]
[null,null,null,null,null,null,null,null,null,"Updated:",12.2019]
[null,null,null,null,null,null,null,null,null,"Created by:","Lily Qiu"]
[]
[null,"Tool Features"]
[null,"Comprehensive tool function:",null,null,null,null,"From raw data to normalized data"]
[null,"Automatic Data Alignment",null,null,null,null,"Get your results in seconds"]
[null,"Data Bar Conditional Formatting",null,null,null,null,"Easy visualization of trends"]
[null,"Adjustable Normalization",null,null,null,null,"Compare across slides"]
[]
[null,"Quick",null,"Get the normalized data in minutes"]
[null,"Easy",null,"Just follow the tool procedures step by step"]
[null,"Reliable",null,"No need for manual copy and pasting"]
[]
["Please contact us if you have any questions for this tool"]

{"sheet":"Raw Data","index":6,"n_rows":0,"n_cols":0,"rows_kept":0,"cut":false,"hidden":true,"merged":[]}

{"sheet":"Auto Data Alignment","index":7,"n_rows":148,"n_cols":32,"rows_kept":148,"cut":false,"hidden":false,"merged":[[24,10,25,10],[26,10,27,10],[1,6,3,12],[10,12,10,14],[11,2,14,3],[12,4,12,5],[14,4,14,5],[15,2,18,3],[16,4,16,5],[10,8,10,11],[13,9,14,9],[15,9,16,9],[17,9,19,9],[20,9,21,9],[7,2,7,3],[7,4,7,7],[13,10,14,10],[15,10,16,10],[17,10,19,10],[20,10,21,10],[22,10,23,10],[23,2,25,3],[19,2,22,3],[26,4,26,5],[22,9,23,9],[24,9,25,9],[26,9,27,9]]}
[]
[null,null,null,null,null,null,"RayBio® Auto Data Alignment Tool"]
[]
[]
[]
[]
[]
[null,null,"Slide Name:",null,"Slide Name Here"]
[null,null,null,null,{"$f":"IF(E8=\"Slide Name Here\",0,1)","v":0}]
[]
[null,null,"1. Raw Scan Results",null,"2. Sample and Array Parameters",null,null,null,"4. Sample Names Leave blank to use sheet default",null,null,null,"5. Align Data Automatically"]
[null,null,"Paste Entire Scan Results Below"]
[null,null,null,null,"Number of Samples:",null,null,{"$f":"IF(ISBLANK(C30),\"\",MAX((INDIRECT(\"R\"&C31+32&\"C\"&(MATCH(\"Block\",INDIRECT(\"R\"&C31+32&\"C\"&\"3\",FALSE):INDIRECT(\"R\"&C31+32&\"C\"&D31+2,FALSE),0)+2),FALSE)):(INDIRECT(ADDRESS(4000,MATCH(\"Block\",INDIRECT(\"R\"&C31+32&\"C\"&\"3\",FALSE):INDIRECT(\"R\"&C31+32&\"C\"&D31+2,FALSE),0)+2,4))))&\" samples?\")","v":""},"16 Well Format","Sample  1","Sample  2","4 Well Format"]
[null,null,null,null,null,null,null,null,null,"Sample  3","Sample  4"]
[null,null,null,null,"Array Rows:",null,{"$f":"'Analysis Tool Creator'!G14","v":12},{"$f":"IF(ISBLANK(C30),\"\",MAX((INDIRECT(\"R\"&C31+32&\"C\"&(MATCH(\"Row\",INDIRECT(\"R\"&C31+32&\"C\"&\"3\",FALSE):INDIRECT(\"R\"&C31+32&\"C\"&D31+2,FALSE),0)+2),FALSE)):(INDIRECT(ADDRESS(4000,MATCH(\"Row\",INDIRECT(\"R\"&C31+32&\"C\"&\"3\",FALSE):INDIRECT(\"R\"&C31+32&\"C\"&D31+2,FALSE),0)+2,4))))&\" rows?\")","v":""}]
[null,null,"Separate cells via Tab-Delimited ",null,null,null,null,null,null,"Sample  5","Sample  6"]
[null,null,null,null,"Array Columns:",null,{"$f":"'Analysis Tool Creator'!G16","v":15},{"$f":"IF(ISBLANK(C30),\"\",MAX((INDIRECT(\"R\"&C31+32&\"C\"&(MATCH(\"Column\",INDIRECT(\"R\"&C31+32&\"C\"&\"3\",FALSE):INDIRECT(\"R\"&C31+32&\"C\"&D31+2,FALSE),0)+2),FALSE)):(INDIRECT(ADDRESS(4000,MATCH(\"Column\",INDIRECT(\"R\"&C31+32&\"C\"&\"3\",FALSE):INDIRECT(\"R\"&C31+32&\"C\"&D31+2,FALSE),0)+2,4))))&\" columns?\")","v":""}]
[null,null,null,null,null,null,null,null,null,"Sample  7","Sample  8"]
[]
[null,null,"ATF Header must be present",null,"3. Data Parameters"]
[null,null,null,null,"Enter Column Headers of data to be processed",null,null,null,null,"Sample  9","Sample  10"]
[null,null,null,null,"Best to Copy/Paste column Headers directly from Scan Data"]
[null,null,null,null,null,null,null,null,null,"Sample  11","Sample  12"]
[null,null,"Make sure the word \"ATF\" lines up at 1x1",null,null,"With Background:",null,"Header #1"]
[null,null,null,null,null,null,{"$f":"IF(NOT(ISNA(HLOOKUP(G24,INDIRECT(\"C\"&(C31+32)):INDIRECT(SUBSTITUTE(ADDRESS(1,D31+2,4),\"1\",\"\")&(C31+32)),1,FALSE))),\"Found\",\"Not Found\")","v":"Not Found"},null,null,"Sample  13","Sample  14"]
[null,null,null,null,null,"Without Background:",null,"Header #2"]
[null,null,null,null,"Enter N/A if unavailable",null,{"$f":"IF(NOT(ISNA(HLOOKUP(G26,INDIRECT(\"C\"&(C31+32)):INDIRECT(SUBSTITUTE(ADDRESS(1,D31+2,4),\"1\",\"\")&(C31+32)),1,FALSE))),\"Found\",\"Not Found\")","v":"Not Found"},null,null,"Sample  15","Sample  16"]
[]
[null,null,1,2,3,4,5,6,7,8,9,10,12,13,14,15,16,17,18,19,20,21,22,23,24,25,26,27,28,29,30,31]
[null," 1           ATF"]
[null,2]
[null,3]
[null,4]
[null,5]
[null,6]
[null,7]
[null,8]
[null,9]
[null,10]
[null,11]
[null,12]
[null,13]
[null,14]
[null,15]
[null,16]
[null,17]
[null,18]
[null,19]
[null,20]
[null,21]
[null,22]
[null,23]
[null,24]
[null,25]
[null,26]
[null,27]
[null,28]
[null,29]
[null,30]
[null,31]
[null,32]
[null,33]
[null,34]
[null,35]
[null,36]
[null,37]
[null,38]
[null,39]
[null,40]
[null,41]
[null,42]
[null,43]
[null,44]
[null,45]
[null,46]
[null,47]
[null,48]
[null,49]
[null,50]
[null,51]
[null,52]
[null,53]
[null,54]
[null,55]
[null,56]
[null,57]
[null,58]
[null,59]
[null,60]
[null,61]
[null,62]
[null,63]
[null,64]
[null,65]
[null,66]
[null,67]
[null,68]
[null,69]
[null,70]
[null,71]
[null,72]
[null,73]
[null,74]
[null,75]
[null,76]
[null,77]
[null,78]
[null,79]
[null,80]
[null,81]
[null,82]
[null,83]
[null,84]
[null,85]
[null,86]
[null,87]
[null,88]
[null,89]
[null,90]
[null,91]
[null,92]
[null,93]
[null,94]
[null,95]
[null,96]
[null,97]
[null,98]
[null,99]
[null,100]
[null,101]
[null,102]
[null,103]
[null,104]
[null,105]
[null,106]
[null,107]
[null,108]
[null,109]
[null,110]
[null,111]
[null,112]
[null,113]
[null,114]
[null,115]
[null,116]
[null,117]
[null,118]
[null,119]

{"sheet":"Map","index":8,"n_rows":14,"n_cols":16,"rows_kept":14,"cut":false,"hidden":true,"merged":[[0,0,0,15]]}
["RayBio® Pig Cytokine Protein Array G1  Map"]
[null,"A","B","C","D","E","F","G","H","I","J","K","L","M","N","O"]
[1,"Bio-BSA (1)","Bio-BSA (1)","Bio-BSA (1)","P11","P11","P11","Bio-BSA (1)","Bio-BSA (1)","Bio-BSA (1)","P33","P33","P33","P45","P45","P45"]
[2,"Bio-BSA (2)","Bio-BSA (2)","Bio-BSA (2)","P12","P12","P12","P22","P22","P22","P34","P34","P34","P46","P46","P46"]
[3,"P1","P1","P1","P13","P13","P13","P23","P23","P23","P35","P35","P35","P47","P47","P47"]
[4,"P2","P2","P2","P14","P14","P14","P24","P24","P24","P36","P36","P36","P48","P48","P48"]
[5,"P3","P3","P3","P15","P15","P15","P25","P25","P25","P37","P37","P37","P49","P49","P49"]
[6,"P4","P4","P4","P16","P16","P16","P26","P26","P26","P38","P38","P38","P50","P50","P50"]
[7,"P5","P5","P5","P17","P17","P17","P27","P27","P27","P39","P39","P39","P51","P51","P51"]
[8,"P6","P6","P6","P18","P18","P18","P28","P28","P28","P40","P40","P40","Blank","Blank","Blank"]
[9,"P7","P7","P7","P19","P19","P19","P29","P29","P29","P41","P41","P41","Pig IgG","Pig IgG","Pig IgG"]
[10,"P8","P8","P8","P20","P20","P20","P30","P30","P30","P42","P42","P42","Pig IgA","Pig IgA","Pig IgA"]
[11,"P9","P9","P9","P21","P21","P21","P31","P31","P31","P43","P43","P43","Blank","Blank","Blank"]
[12,"P10","P10","P10","Bio-BSA (1)","Bio-BSA (1)","Bio-BSA (1)","P32","P32","P32","P44","P44","P44","Bio-BSA (1)","Bio-BSA (1)","Bio-BSA (1)"]

{"sheet":"aligning data","index":9,"n_rows":183,"n_cols":48,"rows_kept":183,"cut":false,"hidden":true,"merged":[[1,16,1,17],[1,1,1,2],[1,4,1,5],[1,7,1,8],[1,10,1,11],[1,13,1,14],[1,37,1,38],[1,40,1,41],[1,43,1,44],[1,46,1,47],[1,19,1,20],[1,22,1,23],[1,25,1,26],[1,28,1,29],[1,31,1,32],[1,34,1,35]]}
["RayBio® Pig Cytokine Protein Array G1 Analysis Tool - Aligning Data"]
[null,"Sample 1",null,null,"Sample 2",null,null,"Sample 3",null,null,"Sample 4",null,null,"Sample 5",null,null,"Sample 6",null,null,"Sample 7",null,null,"Sample 8",null,null,"Sample 9",null,null,"Sample 10",null,null,"Sample 11",null,null,"Sample 12",null,null,"Sample 13",null,null,"Sample 14",null,null,"Sample 15",null,null,"Sample 16"]
["Target","With Background","Without Background",null,"With Background","Without Background",null,"With Background","Without Background",null,"With Background","Without Background",null,"With Background","Without Background",null,"With Background","Without Background",null,"With Background","Without Background",null,"With Background","Without Background",null,"With Background","Without Background",null,"With Background","Without Background",null,"With Background","Without Background",null,"With Background","Without Background",null,"With Background","Without Background",null,"With Background","Without Background",null,"With Background","Without Background",null,"With Background","Without Background"]
["Bio-BSA (1)","A1","A1",null,"A1","A1",null,"A1","A1",null,"A1","A1",null,"A1","A1",null,"A1","A1",null,"A1","A1",null,"A1","A1",null,"A1","A1",null,"A1","A1",null,"A1","A1",null,"A1","A1",null,"A1","A1",null,"A1","A1",null,"A1","A1",null,"A1","A1"]
["Bio-BSA (1)","B1","B1",null,"B1","B1",null,"B1","B1",null,"B1","B1",null,"B1","B1",null,"B1","B1",null,"B1","B1",null,"B1","B1",null,"B1","B1",null,"B1","B1",null,"B1","B1",null,"B1","B1",null,"B1","B1",null,"B1","B1",null,"B1","B1",null,"B1","B1"]
["Bio-BSA (1)","C1","C1",null,"C1","C1",null,"C1","C1",null,"C1","C1",null,"C1","C1",null,"C1","C1",null,"C1","C1",null,"C1","C1",null,"C1","C1",null,"C1","C1",null,"C1","C1",null,"C1","C1",null,"C1","C1",null,"C1","C1",null,"C1","C1",null,"C1","C1"]
["P11","D1","D1",null,"D1","D1",null,"D1","D1",null,"D1","D1",null,"D1","D1",null,"D1","D1",null,"D1","D1",null,"D1","D1",null,"D1","D1",null,"D1","D1",null,"D1","D1",null,"D1","D1",null,"D1","D1",null,"D1","D1",null,"D1","D1",null,"D1","D1"]
["P11","E1","E1",null,"E1","E1",null,"E1","E1",null,"E1","E1",null,"E1","E1",null,"E1","E1",null,"E1","E1",null,"E1","E1",null,"E1","E1",null,"E1","E1",null,"E1","E1",null,"E1","E1",null,"E1","E1",null,"E1","E1",null,"E1","E1",null,"E1","E1"]
["P11","F1","F1",null,"F1","F1",null,"F1","F1",null,"F1","F1",null,"F1","F1",null,"F1","F1",null,"F1","F1",null,"F1","F1",null,"F1","F1",null,"F1","F1",null,"F1","F1",null,"F1","F1",null,"F1","F1",null,"F1","F1",null,"F1","F1",null,"F1","F1"]
["Bio-BSA (1)","G1","G1",null,"G1","G1",null,"G1","G1",null,"G1","G1",null,"G1","G1",null,"G1","G1",null,"G1","G1",null,"G1","G1",null,"G1","G1",null,"G1","G1",null,"G1","G1",null,"G1","G1",null,"G1","G1",null,"G1","G1",null,"G1","G1",null,"G1","G1"]
["Bio-BSA (1)","H1","H1",null,"H1","H1",null,"H1","H1",null,"H1","H1",null,"H1","H1",null,"H1","H1",null,"H1","H1",null,"H1","H1",null,"H1","H1",null,"H1","H1",null,"H1","H1",null,"H1","H1",null,"H1","H1",null,"H1","H1",null,"H1","H1",null,"H1","H1"]
["Bio-BSA (1)","I1","I1",null,"I1","I1",null,"I1","I1",null,"I1","I1",null,"I1","I1",null,"I1","I1",null,"I1","I1",null,"I1","I1",null,"I1","I1",null,"I1","I1",null,"I1","I1",null,"I1","I1",null,"I1","I1",null,"I1","I1",null,"I1","I1",null,"I1","I1"]
["P33","J1","J1",null,"J1","J1",null,"J1","J1",null,"J1","J1",null,"J1","J1",null,"J1","J1",null,"J1","J1",null,"J1","J1",null,"J1","J1",null,"J1","J1",null,"J1","J1",null,"J1","J1",null,"J1","J1",null,"J1","J1",null,"J1","J1",null,"J1","J1"]
["P33","K1","K1",null,"K1","K1",null,"K1","K1",null,"K1","K1",null,"K1","K1",null,"K1","K1",null,"K1","K1",null,"K1","K1",null,"K1","K1",null,"K1","K1",null,"K1","K1",null,"K1","K1",null,"K1","K1",null,"K1","K1",null,"K1","K1",null,"K1","K1"]
["P33","L1","L1",null,"L1","L1",null,"L1","L1",null,"L1","L1",null,"L1","L1",null,"L1","L1",null,"L1","L1",null,"L1","L1",null,"L1","L1",null,"L1","L1",null,"L1","L1",null,"L1","L1",null,"L1","L1",null,"L1","L1",null,"L1","L1",null,"L1","L1"]
["P45","M1","M1",null,"M1","M1",null,"M1","M1",null,"M1","M1",null,"M1","M1",null,"M1","M1",null,"M1","M1",null,"M1","M1",null,"M1","M1",null,"M1","M1",null,"M1","M1",null,"M1","M1",null,"M1","M1",null,"M1","M1",null,"M1","M1",null,"M1","M1"]
["P45","N1","N1",null,"N1","N1",null,"N1","N1",null,"N1","N1",null,"N1","N1",null,"N1","N1",null,"N1","N1",null,"N1","N1",null,"N1","N1",null,"N1","N1",null,"N1","N1",null,"N1","N1",null,"N1","N1",null,"N1","N1",null,"N1","N1",null,"N1","N1"]
["P45","O1","O1",null,"O1","O1",null,"O1","O1",null,"O1","O1",null,"O1","O1",null,"O1","O1",null,"O1","O1",null,"O1","O1",null,"O1","O1",null,"O1","O1",null,"O1","O1",null,"O1","O1",null,"O1","O1",null,"O1","O1",null,"O1","O1",null,"O1","O1"]
["Bio-BSA (2)","A2","A2",null,"A2","A2",null,"A2","A2",null,"A2","A2",null,"A2","A2",null,"A2","A2",null,"A2","A2",null,"A2","A2",null,"A2","A2",null,"A2","A2",null,"A2","A2",null,"A2","A2",null,"A2","A2",null,"A2","A2",null,"A2","A2",null,"A2","A2"]
["Bio-BSA (2)","B2","B2",null,"B2","B2",null,"B2","B2",null,"B2","B2",null,"B2","B2",null,"B2","B2",null,"B2","B2",null,"B2","B2",null,"B2","B2",null,"B2","B2",null,"B2","B2",null,"B2","B2",null,"B2","B2",null,"B2","B2",null,"B2","B2",null,"B2","B2"]
["Bio-BSA (2)","C2","C2",null,"C2","C2",null,"C2","C2",null,"C2","C2",null,"C2","C2",null,"C2","C2",null,"C2","C2",null,"C2","C2",null,"C2","C2",null,"C2","C2",null,"C2","C2",null,"C2","C2",null,"C2","C2",null,"C2","C2",null,"C2","C2",null,"C2","C2"]
["P12","D2","D2",null,"D2","D2",null,"D2","D2",null,"D2","D2",null,"D2","D2",null,"D2","D2",null,"D2","D2",null,"D2","D2",null,"D2","D2",null,"D2","D2",null,"D2","D2",null,"D2","D2",null,"D2","D2",null,"D2","D2",null,"D2","D2",null,"D2","D2"]
["P12","E2","E2",null,"E2","E2",null,"E2","E2",null,"E2","E2",null,"E2","E2",null,"E2","E2",null,"E2","E2",null,"E2","E2",null,"E2","E2",null,"E2","E2",null,"E2","E2",null,"E2","E2",null,"E2","E2",null,"E2","E2",null,"E2","E2",null,"E2","E2"]
["P12","F2","F2",null,"F2","F2",null,"F2","F2",null,"F2","F2",null,"F2","F2",null,"F2","F2",null,"F2","F2",null,"F2","F2",null,"F2","F2",null,"F2","F2",null,"F2","F2",null,"F2","F2",null,"F2","F2",null,"F2","F2",null,"F2","F2",null,"F2","F2"]
["P22","G2","G2",null,"G2","G2",null,"G2","G2",null,"G2","G2",null,"G2","G2",null,"G2","G2",null,"G2","G2",null,"G2","G2",null,"G2","G2",null,"G2","G2",null,"G2","G2",null,"G2","G2",null,"G2","G2",null,"G2","G2",null,"G2","G2",null,"G2","G2"]
["P22","H2","H2",null,"H2","H2",null,"H2","H2",null,"H2","H2",null,"H2","H2",null,"H2","H2",null,"H2","H2",null,"H2","H2",null,"H2","H2",null,"H2","H2",null,"H2","H2",null,"H2","H2",null,"H2","H2",null,"H2","H2",null,"H2","H2",null,"H2","H2"]
["P22","I2","I2",null,"I2","I2",null,"I2","I2",null,"I2","I2",null,"I2","I2",null,"I2","I2",null,"I2","I2",null,"I2","I2",null,"I2","I2",null,"I2","I2",null,"I2","I2",null,"I2","I2",null,"I2","I2",null,"I2","I2",null,"I2","I2",null,"I2","I2"]
["P34","J2","J2",null,"J2","J2",null,"J2","J2",null,"J2","J2",null,"J2","J2",null,"J2","J2",null,"J2","J2",null,"J2","J2",null,"J2","J2",null,"J2","J2",null,"J2","J2",null,"J2","J2",null,"J2","J2",null,"J2","J2",null,"J2","J2",null,"J2","J2"]
["P34","K2","K2",null,"K2","K2",null,"K2","K2",null,"K2","K2",null,"K2","K2",null,"K2","K2",null,"K2","K2",null,"K2","K2",null,"K2","K2",null,"K2","K2",null,"K2","K2",null,"K2","K2",null,"K2","K2",null,"K2","K2",null,"K2","K2",null,"K2","K2"]
["P34","L2","L2",null,"L2","L2",null,"L2","L2",null,"L2","L2",null,"L2","L2",null,"L2","L2",null,"L2","L2",null,"L2","L2",null,"L2","L2",null,"L2","L2",null,"L2","L2",null,"L2","L2",null,"L2","L2",null,"L2","L2",null,"L2","L2",null,"L2","L2"]
["P46","M2","M2",null,"M2","M2",null,"M2","M2",null,"M2","M2",null,"M2","M2",null,"M2","M2",null,"M2","M2",null,"M2","M2",null,"M2","M2",null,"M2","M2",null,"M2","M2",null,"M2","M2",null,"M2","M2",null,"M2","M2",null,"M2","M2",null,"M2","M2"]
["P46","N2","N2",null,"N2","N2",null,"N2","N2",null,"N2","N2",null,"N2","N2",null,"N2","N2",null,"N2","N2",null,"N2","N2",null,"N2","N2",null,"N2","N2",null,"N2","N2",null,"N2","N2",null,"N2","N2",null,"N2","N2",null,"N2","N2",null,"N2","N2"]
["P46","O2","O2",null,"O2","O2",null,"O2","O2",null,"O2","O2",null,"O2","O2",null,"O2","O2",null,"O2","O2",null,"O2","O2",null,"O2","O2",null,"O2","O2",null,"O2","O2",null,"O2","O2",null,"O2","O2",null,"O2","O2",null,"O2","O2",null,"O2","O2"]
["P1","A3","A3",null,"A3","A3",null,"A3","A3",null,"A3","A3",null,"A3","A3",null,"A3","A3",null,"A3","A3",null,"A3","A3",null,"A3","A3",null,"A3","A3",null,"A3","A3",null,"A3","A3",null,"A3","A3",null,"A3","A3",null,"A3","A3",null,"A3","A3"]
["P1","B3","B3",null,"B3","B3",null,"B3","B3",null,"B3","B3",null,"B3","B3",null,"B3","B3",null,"B3","B3",null,"B3","B3",null,"B3","B3",null,"B3","B3",null,"B3","B3",null,"B3","B3",null,"B3","B3",null,"B3","B3",null,"B3","B3",null,"B3","B3"]
["P1","C3","C3",null,"C3","C3",null,"C3","C3",null,"C3","C3",null,"C3","C3",null,"C3","C3",null,"C3","C3",null,"C3","C3",null,"C3","C3",null,"C3","C3",null,"C3","C3",null,"C3","C3",null,"C3","C3",null,"C3","C3",null,"C3","C3",null,"C3","C3"]
["P13","D3","D3",null,"D3","D3",null,"D3","D3",null,"D3","D3",null,"D3","D3",null,"D3","D3",null,"D3","D3",null,"D3","D3",null,"D3","D3",null,"D3","D3",null,"D3","D3",null,"D3","D3",null,"D3","D3",null,"D3","D3",null,"D3","D3",null,"D3","D3"]
["P13","E3","E3",null,"E3","E3",null,"E3","E3",null,"E3","E3",null,"E3","E3",null,"E3","E3",null,"E3","E3",null,"E3","E3",null,"E3","E3",null,"E3","E3",null,"E3","E3",null,"E3","E3",null,"E3","E3",null,"E3","E3",null,"E3","E3",null,"E3","E3"]
["P13","F3","F3",null,"F3","F3",null,"F3","F3",null,"F3","F3",null,"F3","F3",null,"F3","F3",null,"F3","F3",null,"F3","F3",null,"F3","F3",null,"F3","F3",null,"F3","F3",null,"F3","F3",null,"F3","F3",null,"F3","F3",null,"F3","F3",null,"F3","F3"]
["P23","G3","G3",null,"G3","G3",null,"G3","G3",null,"G3","G3",null,"G3","G3",null,"G3","G3",null,"G3","G3",null,"G3","G3",null,"G3","G3",null,"G3","G3",null,"G3","G3",null,"G3","G3",null,"G3","G3",null,"G3","G3",null,"G3","G3",null,"G3","G3"]
["P23","H3","H3",null,"H3","H3",null,"H3","H3",null,"H3","H3",null,"H3","H3",null,"H3","H3",null,"H3","H3",null,"H3","H3",null,"H3","H3",null,"H3","H3",null,"H3","H3",null,"H3","H3",null,"H3","H3",null,"H3","H3",null,"H3","H3",null,"H3","H3"]
["P23","I3","I3",null,"I3","I3",null,"I3","I3",null,"I3","I3",null,"I3","I3",null,"I3","I3",null,"I3","I3",null,"I3","I3",null,"I3","I3",null,"I3","I3",null,"I3","I3",null,"I3","I3",null,"I3","I3",null,"I3","I3",null,"I3","I3",null,"I3","I3"]
["P35","J3","J3",null,"J3","J3",null,"J3","J3",null,"J3","J3",null,"J3","J3",null,"J3","J3",null,"J3","J3",null,"J3","J3",null,"J3","J3",null,"J3","J3",null,"J3","J3",null,"J3","J3",null,"J3","J3",null,"J3","J3",null,"J3","J3",null,"J3","J3"]
["P35","K3","K3",null,"K3","K3",null,"K3","K3",null,"K3","K3",null,"K3","K3",null,"K3","K3",null,"K3","K3",null,"K3","K3",null,"K3","K3",null,"K3","K3",null,"K3","K3",null,"K3","K3",null,"K3","K3",null,"K3","K3",null,"K3","K3",null,"K3","K3"]
["P35","L3","L3",null,"L3","L3",null,"L3","L3",null,"L3","L3",null,"L3","L3",null,"L3","L3",null,"L3","L3",null,"L3","L3",null,"L3","L3",null,"L3","L3",null,"L3","L3",null,"L3","L3",null,"L3","L3",null,"L3","L3",null,"L3","L3",null,"L3","L3"]
["P47","M3","M3",null,"M3","M3",null,"M3","M3",null,"M3","M3",null,"M3","M3",null,"M3","M3",null,"M3","M3",null,"M3","M3",null,"M3","M3",null,"M3","M3",null,"M3","M3",null,"M3","M3",null,"M3","M3",null,"M3","M3",null,"M3","M3",null,"M3","M3"]
["P47","N3","N3",null,"N3","N3",null,"N3","N3",null,"N3","N3",null,"N3","N3",null,"N3","N3",null,"N3","N3",null,"N3","N3",null,"N3","N3",null,"N3","N3",null,"N3","N3",null,"N3","N3",null,"N3","N3",null,"N3","N3",null,"N3","N3",null,"N3","N3"]
["P47","O3","O3",null,"O3","O3",null,"O3","O3",null,"O3","O3",null,"O3","O3",null,"O3","O3",null,"O3","O3",null,"O3","O3",null,"O3","O3",null,"O3","O3",null,"O3","O3",null,"O3","O3",null,"O3","O3",null,"O3","O3",null,"O3","O3",null,"O3","O3"]
["P2","A4","A4",null,"A4","A4",null,"A4","A4",null,"A4","A4",null,"A4","A4",null,"A4","A4",null,"A4","A4",null,"A4","A4",null,"A4","A4",null,"A4","A4",null,"A4","A4",null,"A4","A4",null,"A4","A4",null,"A4","A4",null,"A4","A4",null,"A4","A4"]
["P2","B4","B4",null,"B4","B4",null,"B4","B4",null,"B4","B4",null,"B4","B4",null,"B4","B4",null,"B4","B4",null,"B4","B4",null,"B4","B4",null,"B4","B4",null,"B4","B4",null,"B4","B4",null,"B4","B4",null,"B4","B4",null,"B4","B4",null,"B4","B4"]
["P2","C4","C4",null,"C4","C4",null,"C4","C4",null,"C4","C4",null,"C4","C4",null,"C4","C4",null,"C4","C4",null,"C4","C4",null,"C4","C4",null,"C4","C4",null,"C4","C4",null,"C4","C4",null,"C4","C4",null,"C4","C4",null,"C4","C4",null,"C4","C4"]
["P14","D4","D4",null,"D4","D4",null,"D4","D4",null,"D4","D4",null,"D4","D4",null,"D4","D4",null,"D4","D4",null,"D4","D4",null,"D4","D4",null,"D4","D4",null,"D4","D4",null,"D4","D4",null,"D4","D4",null,"D4","D4",null,"D4","D4",null,"D4","D4"]
["P14","E4","E4",null,"E4","E4",null,"E4","E4",null,"E4","E4",null,"E4","E4",null,"E4","E4",null,"E4","E4",null,"E4","E4",null,"E4","E4",null,"E4","E4",null,"E4","E4",null,"E4","E4",null,"E4","E4",null,"E4","E4",null,"E4","E4",null,"E4","E4"]
["P14","F4","F4",null,"F4","F4",null,"F4","F4",null,"F4","F4",null,"F4","F4",null,"F4","F4",null,"F4","F4",null,"F4","F4",null,"F4","F4",null,"F4","F4",null,"F4","F4",null,"F4","F4",null,"F4","F4",null,"F4","F4",null,"F4","F4",null,"F4","F4"]
["P24","G4","G4",null,"G4","G4",null,"G4","G4",null,"G4","G4",null,"G4","G4",null,"G4","G4",null,"G4","G4",null,"G4","G4",null,"G4","G4",null,"G4","G4",null,"G4","G4",null,"G4","G4",null,"G4","G4",null,"G4","G4",null,"G4","G4",null,"G4","G4"]
["P24","H4","H4",null,"H4","H4",null,"H4","H4",null,"H4","H4",null,"H4","H4",null,"H4","H4",null,"H4","H4",null,"H4","H4",null,"H4","H4",null,"H4","H4",null,"H4","H4",null,"H4","H4",null,"H4","H4",null,"H4","H4",null,"H4","H4",null,"H4","H4"]
["P24","I4","I4",null,"I4","I4",null,"I4","I4",null,"I4","I4",null,"I4","I4",null,"I4","I4",null,"I4","I4",null,"I4","I4",null,"I4","I4",null,"I4","I4",null,"I4","I4",null,"I4","I4",null,"I4","I4",null,"I4","I4",null,"I4","I4",null,"I4","I4"]
["P36","J4","J4",null,"J4","J4",null,"J4","J4",null,"J4","J4",null,"J4","J4",null,"J4","J4",null,"J4","J4",null,"J4","J4",null,"J4","J4",null,"J4","J4",null,"J4","J4",null,"J4","J4",null,"J4","J4",null,"J4","J4",null,"J4","J4",null,"J4","J4"]
["P36","K4","K4",null,"K4","K4",null,"K4","K4",null,"K4","K4",null,"K4","K4",null,"K4","K4",null,"K4","K4",null,"K4","K4",null,"K4","K4",null,"K4","K4",null,"K4","K4",null,"K4","K4",null,"K4","K4",null,"K4","K4",null,"K4","K4",null,"K4","K4"]
["P36","L4","L4",null,"L4","L4",null,"L4","L4",null,"L4","L4",null,"L4","L4",null,"L4","L4",null,"L4","L4",null,"L4","L4",null,"L4","L4",null,"L4","L4",null,"L4","L4",null,"L4","L4",null,"L4","L4",null,"L4","L4",null,"L4","L4",null,"L4","L4"]
["P48","M4","M4",null,"M4","M4",null,"M4","M4",null,"M4","M4",null,"M4","M4",null,"M4","M4",null,"M4","M4",null,"M4","M4",null,"M4","M4",null,"M4","M4",null,"M4","M4",null,"M4","M4",null,"M4","M4",null,"M4","M4",null,"M4","M4",null,"M4","M4"]
["P48","N4","N4",null,"N4","N4",null,"N4","N4",null,"N4","N4",null,"N4","N4",null,"N4","N4",null,"N4","N4",null,"N4","N4",null,"N4","N4",null,"N4","N4",null,"N4","N4",null,"N4","N4",null,"N4","N4",null,"N4","N4",null,"N4","N4",null,"N4","N4"]
["P48","O4","O4",null,"O4","O4",null,"O4","O4",null,"O4","O4",null,"O4","O4",null,"O4","O4",null,"O4","O4",null,"O4","O4",null,"O4","O4",null,"O4","O4",null,"O4","O4",null,"O4","O4",null,"O4","O4",null,"O4","O4",null,"O4","O4",null,"O4","O4"]
["P3","A5","A5",null,"A5","A5",null,"A5","A5",null,"A5","A5",null,"A5","A5",null,"A5","A5",null,"A5","A5",null,"A5","A5",null,"A5","A5",null,"A5","A5",null,"A5","A5",null,"A5","A5",null,"A5","A5",null,"A5","A5",null,"A5","A5",null,"A5","A5"]
["P3","B5","B5",null,"B5","B5",null,"B5","B5",null,"B5","B5",null,"B5","B5",null,"B5","B5",null,"B5","B5",null,"B5","B5",null,"B5","B5",null,"B5","B5",null,"B5","B5",null,"B5","B5",null,"B5","B5",null,"B5","B5",null,"B5","B5",null,"B5","B5"]
["P3","C5","C5",null,"C5","C5",null,"C5","C5",null,"C5","C5",null,"C5","C5",null,"C5","C5",null,"C5","C5",null,"C5","C5",null,"C5","C5",null,"C5","C5",null,"C5","C5",null,"C5","C5",null,"C5","C5",null,"C5","C5",null,"C5","C5",null,"C5","C5"]
["P15","D5","D5",null,"D5","D5",null,"D5","D5",null,"D5","D5",null,"D5","D5",null,"D5","D5",null,"D5","D5",null,"D5","D5",null,"D5","D5",null,"D5","D5",null,"D5","D5",null,"D5","D5",null,"D5","D5",null,"D5","D5",null,"D5","D5",null,"D5","D5"]
["P15","E5","E5",null,"E5","E5",null,"E5","E5",null,"E5","E5",null,"E5","E5",null,"E5","E5",null,"E5","E5",null,"E5","E5",null,"E5","E5",null,"E5","E5",null,"E5","E5",null,"E5","E5",null,"E5","E5",null,"E5","E5",null,"E5","E5",null,"E5","E5"]
["P15","F5","F5",null,"F5","F5",null,"F5","F5",null,"F5","F5",null,"F5","F5",null,"F5","F5",null,"F5","F5",null,"F5","F5",null,"F5","F5",null,"F5","F5",null,"F5","F5",null,"F5","F5",null,"F5","F5",null,"F5","F5",null,"F5","F5",null,"F5","F5"]
["P25","G5","G5",null,"G5","G5",null,"G5","G5",null,"G5","G5",null,"G5","G5",null,"G5","G5",null,"G5","G5",null,"G5","G5",null,"G5","G5",null,"G5","G5",null,"G5","G5",null,"G5","G5",null,"G5","G5",null,"G5","G5",null,"G5","G5",null,"G5","G5"]
["P25","H5","H5",null,"H5","H5",null,"H5","H5",null,"H5","H5",null,"H5","H5",null,"H5","H5",null,"H5","H5",null,"H5","H5",null,"H5","H5",null,"H5","H5",null,"H5","H5",null,"H5","H5",null,"H5","H5",null,"H5","H5",null,"H5","H5",null,"H5","H5"]
["P25","I5","I5",null,"I5","I5",null,"I5","I5",null,"I5","I5",null,"I5","I5",null,"I5","I5",null,"I5","I5",null,"I5","I5",null,"I5","I5",null,"I5","I5",null,"I5","I5",null,"I5","I5",null,"I5","I5",null,"I5","I5",null,"I5","I5",null,"I5","I5"]
["P37","J5","J5",null,"J5","J5",null,"J5","J5",null,"J5","J5",null,"J5","J5",null,"J5","J5",null,"J5","J5",null,"J5","J5",null,"J5","J5",null,"J5","J5",null,"J5","J5",null,"J5","J5",null,"J5","J5",null,"J5","J5",null,"J5","J5",null,"J5","J5"]
["P37","K5","K5",null,"K5","K5",null,"K5","K5",null,"K5","K5",null,"K5","K5",null,"K5","K5",null,"K5","K5",null,"K5","K5",null,"K5","K5",null,"K5","K5",null,"K5","K5",null,"K5","K5",null,"K5","K5",null,"K5","K5",null,"K5","K5",null,"K5","K5"]
["P37","L5","L5",null,"L5","L5",null,"L5","L5",null,"L5","L5",null,"L5","L5",null,"L5","L5",null,"L5","L5",null,"L5","L5",null,"L5","L5",null,"L5","L5",null,"L5","L5",null,"L5","L5",null,"L5","L5",null,"L5","L5",null,"L5","L5",null,"L5","L5"]
["P49","M5","M5",null,"M5","M5",null,"M5","M5",null,"M5","M5",null,"M5","M5",null,"M5","M5",null,"M5","M5",null,"M5","M5",null,"M5","M5",null,"M5","M5",null,"M5","M5",null,"M5","M5",null,"M5","M5",null,"M5","M5",null,"M5","M5",null,"M5","M5"]
["P49","N5","N5",null,"N5","N5",null,"N5","N5",null,"N5","N5",null,"N5","N5",null,"N5","N5",null,"N5","N5",null,"N5","N5",null,"N5","N5",null,"N5","N5",null,"N5","N5",null,"N5","N5",null,"N5","N5",null,"N5","N5",null,"N5","N5",null,"N5","N5"]
["P49","O5","O5",null,"O5","O5",null,"O5","O5",null,"O5","O5",null,"O5","O5",null,"O5","O5",null,"O5","O5",null,"O5","O5",null,"O5","O5",null,"O5","O5",null,"O5","O5",null,"O5","O5",null,"O5","O5",null,"O5","O5",null,"O5","O5",null,"O5","O5"]
["P4","A6","A6",null,"A6","A6",null,"A6","A6",null,"A6","A6",null,"A6","A6",null,"A6","A6",null,"A6","A6",null,"A6","A6",null,"A6","A6",null,"A6","A6",null,"A6","A6",null,"A6","A6",null,"A6","A6",null,"A6","A6",null,"A6","A6",null,"A6","A6"]
["P4","B6","B6",null,"B6","B6",null,"B6","B6",null,"B6","B6",null,"B6","B6",null,"B6","B6",null,"B6","B6",null,"B6","B6",null,"B6","B6",null,"B6","B6",null,"B6","B6",null,"B6","B6",null,"B6","B6",null,"B6","B6",null,"B6","B6",null,"B6","B6"]
["P4","C6","C6",null,"C6","C6",null,"C6","C6",null,"C6","C6",null,"C6","C6",null,"C6","C6",null,"C6","C6",null,"C6","C6",null,"C6","C6",null,"C6","C6",null,"C6","C6",null,"C6","C6",null,"C6","C6",null,"C6","C6",null,"C6","C6",null,"C6","C6"]
["P16","D6","D6",null,"D6","D6",null,"D6","D6",null,"D6","D6",null,"D6","D6",null,"D6","D6",null,"D6","D6",null,"D6","D6",null,"D6","D6",null,"D6","D6",null,"D6","D6",null,"D6","D6",null,"D6","D6",null,"D6","D6",null,"D6","D6",null,"D6","D6"]
["P16","E6","E6",null,"E6","E6",null,"E6","E6",null,"E6","E6",null,"E6","E6",null,"E6","E6",null,"E6","E6",null,"E6","E6",null,"E6","E6",null,"E6","E6",null,"E6","E6",null,"E6","E6",null,"E6","E6",null,"E6","E6",null,"E6","E6",null,"E6","E6"]
["P16","F6","F6",null,"F6","F6",null,"F6","F6",null,"F6","F6",null,"F6","F6",null,"F6","F6",null,"F6","F6",null,"F6","F6",null,"F6","F6",null,"F6","F6",null,"F6","F6",null,"F6","F6",null,"F6","F6",null,"F6","F6",null,"F6","F6",null,"F6","F6"]
["P26","G6","G6",null,"G6","G6",null,"G6","G6",null,"G6","G6",null,"G6","G6",null,"G6","G6",null,"G6","G6",null,"G6","G6",null,"G6","G6",null,"G6","G6",null,"G6","G6",null,"G6","G6",null,"G6","G6",null,"G6","G6",null,"G6","G6",null,"G6","G6"]
["P26","H6","H6",null,"H6","H6",null,"H6","H6",null,"H6","H6",null,"H6","H6",null,"H6","H6",null,"H6","H6",null,"H6","H6",null,"H6","H6",null,"H6","H6",null,"H6","H6",null,"H6","H6",null,"H6","H6",null,"H6","H6",null,"H6","H6",null,"H6","H6"]
["P26","I6","I6",null,"I6","I6",null,"I6","I6",null,"I6","I6",null,"I6","I6",null,"I6","I6",null,"I6","I6",null,"I6","I6",null,"I6","I6",null,"I6","I6",null,"I6","I6",null,"I6","I6",null,"I6","I6",null,"I6","I6",null,"I6","I6",null,"I6","I6"]
["P38","J6","J6",null,"J6","J6",null,"J6","J6",null,"J6","J6",null,"J6","J6",null,"J6","J6",null,"J6","J6",null,"J6","J6",null,"J6","J6",null,"J6","J6",null,"J6","J6",null,"J6","J6",null,"J6","J6",null,"J6","J6",null,"J6","J6",null,"J6","J6"]
["P38","K6","K6",null,"K6","K6",null,"K6","K6",null,"K6","K6",null,"K6","K6",null,"K6","K6",null,"K6","K6",null,"K6","K6",null,"K6","K6",null,"K6","K6",null,"K6","K6",null,"K6","K6",null,"K6","K6",null,"K6","K6",null,"K6","K6",null,"K6","K6"]
["P38","L6","L6",null,"L6","L6",null,"L6","L6",null,"L6","L6",null,"L6","L6",null,"L6","L6",null,"L6","L6",null,"L6","L6",null,"L6","L6",null,"L6","L6",null,"L6","L6",null,"L6","L6",null,"L6","L6",null,"L6","L6",null,"L6","L6",null,"L6","L6"]
["P50","M6","M6",null,"M6","M6",null,"M6","M6",null,"M6","M6",null,"M6","M6",null,"M6","M6",null,"M6","M6",null,"M6","M6",null,"M6","M6",null,"M6","M6",null,"M6","M6",null,"M6","M6",null,"M6","M6",null,"M6","M6",null,"M6","M6",null,"M6","M6"]
["P50","N6","N6",null,"N6","N6",null,"N6","N6",null,"N6","N6",null,"N6","N6",null,"N6","N6",null,"N6","N6",null,"N6","N6",null,"N6","N6",null,"N6","N6",null,"N6","N6",null,"N6","N6",null,"N6","N6",null,"N6","N6",null,"N6","N6",null,"N6","N6"]
["P50","O6","O6",null,"O6","O6",null,"O6","O6",null,"O6","O6",null,"O6","O6",null,"O6","O6",null,"O6","O6",null,"O6","O6",null,"O6","O6",null,"O6","O6",null,"O6","O6",null,"O6","O6",null,"O6","O6",null,"O6","O6",null,"O6","O6",null,"O6","O6"]
["P5","A7","A7",null,"A7","A7",null,"A7","A7",null,"A7","A7",null,"A7","A7",null,"A7","A7",null,"A7","A7",null,"A7","A7",null,"A7","A7",null,"A7","A7",null,"A7","A7",null,"A7","A7",null,"A7","A7",null,"A7","A7",null,"A7","A7",null,"A7","A7"]
["P5","B7","B7",null,"B7","B7",null,"B7","B7",null,"B7","B7",null,"B7","B7",null,"B7","B7",null,"B7","B7",null,"B7","B7",null,"B7","B7",null,"B7","B7",null,"B7","B7",null,"B7","B7",null,"B7","B7",null,"B7","B7",null,"B7","B7",null,"B7","B7"]
["P5","C7","C7",null,"C7","C7",null,"C7","C7",null,"C7","C7",null,"C7","C7",null,"C7","C7",null,"C7","C7",null,"C7","C7",null,"C7","C7",null,"C7","C7",null,"C7","C7",null,"C7","C7",null,"C7","C7",null,"C7","C7",null,"C7","C7",null,"C7","C7"]
["P17","D7","D7",null,"D7","D7",null,"D7","D7",null,"D7","D7",null,"D7","D7",null,"D7","D7",null,"D7","D7",null,"D7","D7",null,"D7","D7",null,"D7","D7",null,"D7","D7",null,"D7","D7",null,"D7","D7",null,"D7","D7",null,"D7","D7",null,"D7","D7"]
["P17","E7","E7",null,"E7","E7",null,"E7","E7",null,"E7","E7",null,"E7","E7",null,"E7","E7",null,"E7","E7",null,"E7","E7",null,"E7","E7",null,"E7","E7",null,"E7","E7",null,"E7","E7",null,"E7","E7",null,"E7","E7",null,"E7","E7",null,"E7","E7"]
["P17","F7","F7",null,"F7","F7",null,"F7","F7",null,"F7","F7",null,"F7","F7",null,"F7","F7",null,"F7","F7",null,"F7","F7",null,"F7","F7",null,"F7","F7",null,"F7","F7",null,"F7","F7",null,"F7","F7",null,"F7","F7",null,"F7","F7",null,"F7","F7"]
["P27","G7","G7",null,"G7","G7",null,"G7","G7",null,"G7","G7",null,"G7","G7",null,"G7","G7",null,"G7","G7",null,"G7","G7",null,"G7","G7",null,"G7","G7",null,"G7","G7",null,"G7","G7",null,"G7","G7",null,"G7","G7",null,"G7","G7",null,"G7","G7"]
["P27","H7","H7",null,"H7","H7",null,"H7","H7",null,"H7","H7",null,"H7","H7",null,"H7","H7",null,"H7","H7",null,"H7","H7",null,"H7","H7",null,"H7","H7",null,"H7","H7",null,"H7","H7",null,"H7","H7",null,"H7","H7",null,"H7","H7",null,"H7","H7"]
["P27","I7","I7",null,"I7","I7",null,"I7","I7",null,"I7","I7",null,"I7","I7",null,"I7","I7",null,"I7","I7",null,"I7","I7",null,"I7","I7",null,"I7","I7",null,"I7","I7",null,"I7","I7",null,"I7","I7",null,"I7","I7",null,"I7","I7",null,"I7","I7"]
["P39","J7","J7",null,"J7","J7",null,"J7","J7",null,"J7","J7",null,"J7","J7",null,"J7","J7",null,"J7","J7",null,"J7","J7",null,"J7","J7",null,"J7","J7",null,"J7","J7",null,"J7","J7",null,"J7","J7",null,"J7","J7",null,"J7","J7",null,"J7","J7"]
["P39","K7","K7",null,"K7","K7",null,"K7","K7",null,"K7","K7",null,"K7","K7",null,"K7","K7",null,"K7","K7",null,"K7","K7",null,"K7","K7",null,"K7","K7",null,"K7","K7",null,"K7","K7",null,"K7","K7",null,"K7","K7",null,"K7","K7",null,"K7","K7"]
["P39","L7","L7",null,"L7","L7",null,"L7","L7",null,"L7","L7",null,"L7","L7",null,"L7","L7",null,"L7","L7",null,"L7","L7",null,"L7","L7",null,"L7","L7",null,"L7","L7",null,"L7","L7",null,"L7","L7",null,"L7","L7",null,"L7","L7",null,"L7","L7"]
["P51","M7","M7",null,"M7","M7",null,"M7","M7",null,"M7","M7",null,"M7","M7",null,"M7","M7",null,"M7","M7",null,"M7","M7",null,"M7","M7",null,"M7","M7",null,"M7","M7",null,"M7","M7",null,"M7","M7",null,"M7","M7",null,"M7","M7",null,"M7","M7"]
["P51","N7","N7",null,"N7","N7",null,"N7","N7",null,"N7","N7",null,"N7","N7",null,"N7","N7",null,"N7","N7",null,"N7","N7",null,"N7","N7",null,"N7","N7",null,"N7","N7",null,"N7","N7",null,"N7","N7",null,"N7","N7",null,"N7","N7",null,"N7","N7"]
["P51","O7","O7",null,"O7","O7",null,"O7","O7",null,"O7","O7",null,"O7","O7",null,"O7","O7",null,"O7","O7",null,"O7","O7",null,"O7","O7",null,"O7","O7",null,"O7","O7",null,"O7","O7",null,"O7","O7",null,"O7","O7",null,"O7","O7",null,"O7","O7"]
["P6","A8","A8",null,"A8","A8",null,"A8","A8",null,"A8","A8",null,"A8","A8",null,"A8","A8",null,"A8","A8",null,"A8","A8",null,"A8","A8",null,"A8","A8",null,"A8","A8",null,"A8","A8",null,"A8","A8",null,"A8","A8",null,"A8","A8",null,"A8","A8"]
["P6","B8","B8",null,"B8","B8",null,"B8","B8",null,"B8","B8",null,"B8","B8",null,"B8","B8",null,"B8","B8",null,"B8","B8",null,"B8","B8",null,"B8","B8",null,"B8","B8",null,"B8","B8",null,"B8","B8",null,"B8","B8",null,"B8","B8",null,"B8","B8"]
["P6","C8","C8",null,"C8","C8",null,"C8","C8",null,"C8","C8",null,"C8","C8",null,"C8","C8",null,"C8","C8",null,"C8","C8",null,"C8","C8",null,"C8","C8",null,"C8","C8",null,"C8","C8",null,"C8","C8",null,"C8","C8",null,"C8","C8",null,"C8","C8"]
["P18","D8","D8",null,"D8","D8",null,"D8","D8",null,"D8","D8",null,"D8","D8",null,"D8","D8",null,"D8","D8",null,"D8","D8",null,"D8","D8",null,"D8","D8",null,"D8","D8",null,"D8","D8",null,"D8","D8",null,"D8","D8",null,"D8","D8",null,"D8","D8"]
["P18","E8","E8",null,"E8","E8",null,"E8","E8",null,"E8","E8",null,"E8","E8",null,"E8","E8",null,"E8","E8",null,"E8","E8",null,"E8","E8",null,"E8","E8",null,"E8","E8",null,"E8","E8",null,"E8","E8",null,"E8","E8",null,"E8","E8",null,"E8","E8"]
["P18","F8","F8",null,"F8","F8",null,"F8","F8",null,"F8","F8",null,"F8","F8",null,"F8","F8",null,"F8","F8",null,"F8","F8",null,"F8","F8",null,"F8","F8",null,"F8","F8",null,"F8","F8",null,"F8","F8",null,"F8","F8",null,"F8","F8",null,"F8","F8"]
["P28","G8","G8",null,"G8","G8",null,"G8","G8",null,"G8","G8",null,"G8","G8",null,"G8","G8",null,"G8","G8",null,"G8","G8",null,"G8","G8",null,"G8","G8",null,"G8","G8",null,"G8","G8",null,"G8","G8",null,"G8","G8",null,"G8","G8",null,"G8","G8"]
["P28","H8","H8",null,"H8","H8",null,"H8","H8",null,"H8","H8",null,"H8","H8",null,"H8","H8",null,"H8","H8",null,"H8","H8",null,"H8","H8",null,"H8","H8",null,"H8","H8",null,"H8","H8",null,"H8","H8",null,"H8","H8",null,"H8","H8",null,"H8","H8"]
["P28","I8","I8",null,"I8","I8",null,"I8","I8",null,"I8","I8",null,"I8","I8",null,"I8","I8",null,"I8","I8",null,"I8","I8",null,"I8","I8",null,"I8","I8",null,"I8","I8",null,"I8","I8",null,"I8","I8",null,"I8","I8",null,"I8","I8",null,"I8","I8"]
["P40","J8","J8",null,"J8","J8",null,"J8","J8",null,"J8","J8",null,"J8","J8",null,"J8","J8",null,"J8","J8",null,"J8","J8",null,"J8","J8",null,"J8","J8",null,"J8","J8",null,"J8","J8",null,"J8","J8",null,"J8","J8",null,"J8","J8",null,"J8","J8"]
["P40","K8","K8",null,"K8","K8",null,"K8","K8",null,"K8","K8",null,"K8","K8",null,"K8","K8",null,"K8","K8",null,"K8","K8",null,"K8","K8",null,"K8","K8",null,"K8","K8",null,"K8","K8",null,"K8","K8",null,"K8","K8",null,"K8","K8",null,"K8","K8"]
["P40","L8","L8",null,"L8","L8",null,"L8","L8",null,"L8","L8",null,"L8","L8",null,"L8","L8",null,"L8","L8",null,"L8","L8",null,"L8","L8",null,"L8","L8",null,"L8","L8",null,"L8","L8",null,"L8","L8",null,"L8","L8",null,"L8","L8",null,"L8","L8"]
["Blank","M8","M8",null,"M8","M8",null,"M8","M8",null,"M8","M8",null,"M8","M8",null,"M8","M8",null,"M8","M8",null,"M8","M8",null,"M8","M8",null,"M8","M8",null,"M8","M8",null,"M8","M8",null,"M8","M8",null,"M8","M8",null,"M8","M8",null,"M8","M8"]
["Blank","N8","N8",null,"N8","N8",null,"N8","N8",null,"N8","N8",null,"N8","N8",null,"N8","N8",null,"N8","N8",null,"N8","N8",null,"N8","N8",null,"N8","N8",null,"N8","N8",null,"N8","N8",null,"N8","N8",null,"N8","N8",null,"N8","N8",null,"N8","N8"]
["Blank","O8","O8",null,"O8","O8",null,"O8","O8",null,"O8","O8",null,"O8","O8",null,"O8","O8",null,"O8","O8",null,"O8","O8",null,"O8","O8",null,"O8","O8",null,"O8","O8",null,"O8","O8",null,"O8","O8",null,"O8","O8",null,"O8","O8",null,"O8","O8"]
["P7","A9","A9",null,"A9","A9",null,"A9","A9",null,"A9","A9",null,"A9","A9",null,"A9","A9",null,"A9","A9",null,"A9","A9",null,"A9","A9",null,"A9","A9",null,"A9","A9",null,"A9","A9",null,"A9","A9",null,"A9","A9",null,"A9","A9",null,"A9","A9"]
["P7","B9","B9",null,"B9","B9",null,"B9","B9",null,"B9","B9",null,"B9","B9",null,"B9","B9",null,"B9","B9",null,"B9","B9",null,"B9","B9",null,"B9","B9",null,"B9","B9",null,"B9","B9",null,"B9","B9",null,"B9","B9",null,"B9","B9",null,"B9","B9"]
["P7","C9","C9",null,"C9","C9",null,"C9","C9",null,"C9","C9",null,"C9","C9",null,"C9","C9",null,"C9","C9",null,"C9","C9",null,"C9","C9",null,"C9","C9",null,"C9","C9",null,"C9","C9",null,"C9","C9",null,"C9","C9",null,"C9","C9",null,"C9","C9"]
["P19","D9","D9",null,"D9","D9",null,"D9","D9",null,"D9","D9",null,"D9","D9",null,"D9","D9",null,"D9","D9",null,"D9","D9",null,"D9","D9",null,"D9","D9",null,"D9","D9",null,"D9","D9",null,"D9","D9",null,"D9","D9",null,"D9","D9",null,"D9","D9"]
["P19","E9","E9",null,"E9","E9",null,"E9","E9",null,"E9","E9",null,"E9","E9",null,"E9","E9",null,"E9","E9",null,"E9","E9",null,"E9","E9",null,"E9","E9",null,"E9","E9",null,"E9","E9",null,"E9","E9",null,"E9","E9",null,"E9","E9",null,"E9","E9"]
["P19","F9","F9",null,"F9","F9",null,"F9","F9",null,"F9","F9",null,"F9","F9",null,"F9","F9",null,"F9","F9",null,"F9","F9",null,"F9","F9",null,"F9","F9",null,"F9","F9",null,"F9","F9",null,"F9","F9",null,"F9","F9",null,"F9","F9",null,"F9","F9"]
["P29","G9","G9",null,"G9","G9",null,"G9","G9",null,"G9","G9",null,"G9","G9",null,"G9","G9",null,"G9","G9",null,"G9","G9",null,"G9","G9",null,"G9","G9",null,"G9","G9",null,"G9","G9",null,"G9","G9",null,"G9","G9",null,"G9","G9",null,"G9","G9"]
["P29","H9","H9",null,"H9","H9",null,"H9","H9",null,"H9","H9",null,"H9","H9",null,"H9","H9",null,"H9","H9",null,"H9","H9",null,"H9","H9",null,"H9","H9",null,"H9","H9",null,"H9","H9",null,"H9","H9",null,"H9","H9",null,"H9","H9",null,"H9","H9"]
["P29","I9","I9",null,"I9","I9",null,"I9","I9",null,"I9","I9",null,"I9","I9",null,"I9","I9",null,"I9","I9",null,"I9","I9",null,"I9","I9",null,"I9","I9",null,"I9","I9",null,"I9","I9",null,"I9","I9",null,"I9","I9",null,"I9","I9",null,"I9","I9"]
["P41","J9","J9",null,"J9","J9",null,"J9","J9",null,"J9","J9",null,"J9","J9",null,"J9","J9",null,"J9","J9",null,"J9","J9",null,"J9","J9",null,"J9","J9",null,"J9","J9",null,"J9","J9",null,"J9","J9",null,"J9","J9",null,"J9","J9",null,"J9","J9"]
["P41","K9","K9",null,"K9","K9",null,"K9","K9",null,"K9","K9",null,"K9","K9",null,"K9","K9",null,"K9","K9",null,"K9","K9",null,"K9","K9",null,"K9","K9",null,"K9","K9",null,"K9","K9",null,"K9","K9",null,"K9","K9",null,"K9","K9",null,"K9","K9"]
["P41","L9","L9",null,"L9","L9",null,"L9","L9",null,"L9","L9",null,"L9","L9",null,"L9","L9",null,"L9","L9",null,"L9","L9",null,"L9","L9",null,"L9","L9",null,"L9","L9",null,"L9","L9",null,"L9","L9",null,"L9","L9",null,"L9","L9",null,"L9","L9"]
["Pig IgG","M9","M9",null,"M9","M9",null,"M9","M9",null,"M9","M9",null,"M9","M9",null,"M9","M9",null,"M9","M9",null,"M9","M9",null,"M9","M9",null,"M9","M9",null,"M9","M9",null,"M9","M9",null,"M9","M9",null,"M9","M9",null,"M9","M9",null,"M9","M9"]
["Pig IgG","N9","N9",null,"N9","N9",null,"N9","N9",null,"N9","N9",null,"N9","N9",null,"N9","N9",null,"N9","N9",null,"N9","N9",null,"N9","N9",null,"N9","N9",null,"N9","N9",null,"N9","N9",null,"N9","N9",null,"N9","N9",null,"N9","N9",null,"N9","N9"]
["Pig IgG","O9","O9",null,"O9","O9",null,"O9","O9",null,"O9","O9",null,"O9","O9",null,"O9","O9",null,"O9","O9",null,"O9","O9",null,"O9","O9",null,"O9","O9",null,"O9","O9",null,"O9","O9",null,"O9","O9",null,"O9","O9",null,"O9","O9",null,"O9","O9"]
["P8","A10","A10",null,"A10","A10",null,"A10","A10",null,"A10","A10",null,"A10","A10",null,"A10","A10",null,"A10","A10",null,"A10","A10",null,"A10","A10",null,"A10","A10",null,"A10","A10",null,"A10","A10",null,"A10","A10",null,"A10","A10",null,"A10","A10",null,"A10","A10"]
["P8","B10","B10",null,"B10","B10",null,"B10","B10",null,"B10","B10",null,"B10","B10",null,"B10","B10",null,"B10","B10",null,"B10","B10",null,"B10","B10",null,"B10","B10",null,"B10","B10",null,"B10","B10",null,"B10","B10",null,"B10","B10",null,"B10","B10",null,"B10","B10"]
["P8","C10","C10",null,"C10","C10",null,"C10","C10",null,"C10","C10",null,"C10","C10",null,"C10","C10",null,"C10","C10",null,"C10","C10",null,"C10","C10",null,"C10","C10",null,"C10","C10",null,"C10","C10",null,"C10","C10",null,"C10","C10",null,"C10","C10",null,"C10","C10"]
["P20","D10","D10",null,"D10","D10",null,"D10","D10",null,"D10","D10",null,"D10","D10",null,"D10","D10",null,"D10","D10",null,"D10","D10",null,"D10","D10",null,"D10","D10",null,"D10","D10",null,"D10","D10",null,"D10","D10",null,"D10","D10",null,"D10","D10",null,"D10","D10"]
["P20","E10","E10",null,"E10","E10",null,"E10","E10",null,"E10","E10",null,"E10","E10",null,"E10","E10",null,"E10","E10",null,"E10","E10",null,"E10","E10",null,"E10","E10",null,"E10","E10",null,"E10","E10",null,"E10","E10",null,"E10","E10",null,"E10","E10",null,"E10","E10"]
["P20","F10","F10",null,"F10","F10",null,"F10","F10",null,"F10","F10",null,"F10","F10",null,"F10","F10",null,"F10","F10",null,"F10","F10",null,"F10","F10",null,"F10","F10",null,"F10","F10",null,"F10","F10",null,"F10","F10",null,"F10","F10",null,"F10","F10",null,"F10","F10"]
["P30","G10","G10",null,"G10","G10",null,"G10","G10",null,"G10","G10",null,"G10","G10",null,"G10","G10",null,"G10","G10",null,"G10","G10",null,"G10","G10",null,"G10","G10",null,"G10","G10",null,"G10","G10",null,"G10","G10",null,"G10","G10",null,"G10","G10",null,"G10","G10"]
["P30","H10","H10",null,"H10","H10",null,"H10","H10",null,"H10","H10",null,"H10","H10",null,"H10","H10",null,"H10","H10",null,"H10","H10",null,"H10","H10",null,"H10","H10",null,"H10","H10",null,"H10","H10",null,"H10","H10",null,"H10","H10",null,"H10","H10",null,"H10","H10"]
["P30","I10","I10",null,"I10","I10",null,"I10","I10",null,"I10","I10",null,"I10","I10",null,"I10","I10",null,"I10","I10",null,"I10","I10",null,"I10","I10",null,"I10","I10",null,"I10","I10",null,"I10","I10",null,"I10","I10",null,"I10","I10",null,"I10","I10",null,"I10","I10"]
["P42","J10","J10",null,"J10","J10",null,"J10","J10",null,"J10","J10",null,"J10","J10",null,"J10","J10",null,"J10","J10",null,"J10","J10",null,"J10","J10",null,"J10","J10",null,"J10","J10",null,"J10","J10",null,"J10","J10",null,"J10","J10",null,"J10","J10",null,"J10","J10"]
["P42","K10","K10",null,"K10","K10",null,"K10","K10",null,"K10","K10",null,"K10","K10",null,"K10","K10",null,"K10","K10",null,"K10","K10",null,"K10","K10",null,"K10","K10",null,"K10","K10",null,"K10","K10",null,"K10","K10",null,"K10","K10",null,"K10","K10",null,"K10","K10"]
["P42","L10","L10",null,"L10","L10",null,"L10","L10",null,"L10","L10",null,"L10","L10",null,"L10","L10",null,"L10","L10",null,"L10","L10",null,"L10","L10",null,"L10","L10",null,"L10","L10",null,"L10","L10",null,"L10","L10",null,"L10","L10",null,"L10","L10",null,"L10","L10"]
["Pig IgA","M10","M10",null,"M10","M10",null,"M10","M10",null,"M10","M10",null,"M10","M10",null,"M10","M10",null,"M10","M10",null,"M10","M10",null,"M10","M10",null,"M10","M10",null,"M10","M10",null,"M10","M10",null,"M10","M10",null,"M10","M10",null,"M10","M10",null,"M10","M10"]
["Pig IgA","N10","N10",null,"N10","N10",null,"N10","N10",null,"N10","N10",null,"N10","N10",null,"N10","N10",null,"N10","N10",null,"N10","N10",null,"N10","N10",null,"N10","N10",null,"N10","N10",null,"N10","N10",null,"N10","N10",null,"N10","N10",null,"N10","N10",null,"N10","N10"]
["Pig IgA","O10","O10",null,"O10","O10",null,"O10","O10",null,"O10","O10",null,"O10","O10",null,"O10","O10",null,"O10","O10",null,"O10","O10",null,"O10","O10",null,"O10","O10",null,"O10","O10",null,"O10","O10",null,"O10","O10",null,"O10","O10",null,"O10","O10",null,"O10","O10"]
["P9","A11","A11",null,"A11","A11",null,"A11","A11",null,"A11","A11",null,"A11","A11",null,"A11","A11",null,"A11","A11",null,"A11","A11",null,"A11","A11",null,"A11","A11",null,"A11","A11",null,"A11","A11",null,"A11","A11",null,"A11","A11",null,"A11","A11",null,"A11","A11"]
["P9","B11","B11",null,"B11","B11",null,"B11","B11",null,"B11","B11",null,"B11","B11",null,"B11","B11",null,"B11","B11",null,"B11","B11",null,"B11","B11",null,"B11","B11",null,"B11","B11",null,"B11","B11",null,"B11","B11",null,"B11","B11",null,"B11","B11",null,"B11","B11"]
["P9","C11","C11",null,"C11","C11",null,"C11","C11",null,"C11","C11",null,"C11","C11",null,"C11","C11",null,"C11","C11",null,"C11","C11",null,"C11","C11",null,"C11","C11",null,"C11","C11",null,"C11","C11",null,"C11","C11",null,"C11","C11",null,"C11","C11",null,"C11","C11"]
["P21","D11","D11",null,"D11","D11",null,"D11","D11",null,"D11","D11",null,"D11","D11",null,"D11","D11",null,"D11","D11",null,"D11","D11",null,"D11","D11",null,"D11","D11",null,"D11","D11",null,"D11","D11",null,"D11","D11",null,"D11","D11",null,"D11","D11",null,"D11","D11"]
["P21","E11","E11",null,"E11","E11",null,"E11","E11",null,"E11","E11",null,"E11","E11",null,"E11","E11",null,"E11","E11",null,"E11","E11",null,"E11","E11",null,"E11","E11",null,"E11","E11",null,"E11","E11",null,"E11","E11",null,"E11","E11",null,"E11","E11",null,"E11","E11"]
["P21","F11","F11",null,"F11","F11",null,"F11","F11",null,"F11","F11",null,"F11","F11",null,"F11","F11",null,"F11","F11",null,"F11","F11",null,"F11","F11",null,"F11","F11",null,"F11","F11",null,"F11","F11",null,"F11","F11",null,"F11","F11",null,"F11","F11",null,"F11","F11"]
["P31","G11","G11",null,"G11","G11",null,"G11","G11",null,"G11","G11",null,"G11","G11",null,"G11","G11",null,"G11","G11",null,"G11","G11",null,"G11","G11",null,"G11","G11",null,"G11","G11",null,"G11","G11",null,"G11","G11",null,"G11","G11",null,"G11","G11",null,"G11","G11"]
["P31","H11","H11",null,"H11","H11",null,"H11","H11",null,"H11","H11",null,"H11","H11",null,"H11","H11",null,"H11","H11",null,"H11","H11",null,"H11","H11",null,"H11","H11",null,"H11","H11",null,"H11","H11",null,"H11","H11",null,"H11","H11",null,"H11","H11",null,"H11","H11"]
["P31","I11","I11",null,"I11","I11",null,"I11","I11",null,"I11","I11",null,"I11","I11",null,"I11","I11",null,"I11","I11",null,"I11","I11",null,"I11","I11",null,"I11","I11",null,"I11","I11",null,"I11","I11",null,"I11","I11",null,"I11","I11",null,"I11","I11",null,"I11","I11"]
["P43","J11","J11",null,"J11","J11",null,"J11","J11",null,"J11","J11",null,"J11","J11",null,"J11","J11",null,"J11","J11",null,"J11","J11",null,"J11","J11",null,"J11","J11",null,"J11","J11",null,"J11","J11",null,"J11","J11",null,"J11","J11",null,"J11","J11",null,"J11","J11"]
["P43","K11","K11",null,"K11","K11",null,"K11","K11",null,"K11","K11",null,"K11","K11",null,"K11","K11",null,"K11","K11",null,"K11","K11",null,"K11","K11",null,"K11","K11",null,"K11","K11",null,"K11","K11",null,"K11","K11",null,"K11","K11",null,"K11","K11",null,"K11","K11"]
["P43","L11","L11",null,"L11","L11",null,"L11","L11",null,"L11","L11",null,"L11","L11",null,"L11","L11",null,"L11","L11",null,"L11","L11",null,"L11","L11",null,"L11","L11",null,"L11","L11",null,"L11","L11",null,"L11","L11",null,"L11","L11",null,"L11","L11",null,"L11","L11"]
["Blank","M11","M11",null,"M11","M11",null,"M11","M11",null,"M11","M11",null,"M11","M11",null,"M11","M11",null,"M11","M11",null,"M11","M11",null,"M11","M11",null,"M11","M11",null,"M11","M11",null,"M11","M11",null,"M11","M11",null,"M11","M11",null,"M11","M11",null,"M11","M11"]
["Blank","N11","N11",null,"N11","N11",null,"N11","N11",null,"N11","N11",null,"N11","N11",null,"N11","N11",null,"N11","N11",null,"N11","N11",null,"N11","N11",null,"N11","N11",null,"N11","N11",null,"N11","N11",null,"N11","N11",null,"N11","N11",null,"N11","N11",null,"N11","N11"]
["Blank","O11","O11",null,"O11","O11",null,"O11","O11",null,"O11","O11",null,"O11","O11",null,"O11","O11",null,"O11","O11",null,"O11","O11",null,"O11","O11",null,"O11","O11",null,"O11","O11",null,"O11","O11",null,"O11","O11",null,"O11","O11",null,"O11","O11",null,"O11","O11"]
["P10","A12","A12",null,"A12","A12",null,"A12","A12",null,"A12","A12",null,"A12","A12",null,"A12","A12",null,"A12","A12",null,"A12","A12",null,"A12","A12",null,"A12","A12",null,"A12","A12",null,"A12","A12",null,"A12","A12",null,"A12","A12",null,"A12","A12",null,"A12","A12"]
["P10","B12","B12",null,"B12","B12",null,"B12","B12",null,"B12","B12",null,"B12","B12",null,"B12","B12",null,"B12","B12",null,"B12","B12",null,"B12","B12",null,"B12","B12",null,"B12","B12",null,"B12","B12",null,"B12","B12",null,"B12","B12",null,"B12","B12",null,"B12","B12"]
["P10","C12","C12",null,"C12","C12",null,"C12","C12",null,"C12","C12",null,"C12","C12",null,"C12","C12",null,"C12","C12",null,"C12","C12",null,"C12","C12",null,"C12","C12",null,"C12","C12",null,"C12","C12",null,"C12","C12",null,"C12","C12",null,"C12","C12",null,"C12","C12"]
["Bio-BSA (1)","D12","D12",null,"D12","D12",null,"D12","D12",null,"D12","D12",null,"D12","D12",null,"D12","D12",null,"D12","D12",null,"D12","D12",null,"D12","D12",null,"D12","D12",null,"D12","D12",null,"D12","D12",null,"D12","D12",null,"D12","D12",null,"D12","D12",null,"D12","D12"]
["Bio-BSA (1)","E12","E12",null,"E12","E12",null,"E12","E12",null,"E12","E12",null,"E12","E12",null,"E12","E12",null,"E12","E12",null,"E12","E12",null,"E12","E12",null,"E12","E12",null,"E12","E12",null,"E12","E12",null,"E12","E12",null,"E12","E12",null,"E12","E12",null,"E12","E12"]
["Bio-BSA (1)","F12","F12",null,"F12","F12",null,"F12","F12",null,"F12","F12",null,"F12","F12",null,"F12","F12",null,"F12","F12",null,"F12","F12",null,"F12","F12",null,"F12","F12",null,"F12","F12",null,"F12","F12",null,"F12","F12",null,"F12","F12",null,"F12","F12",null,"F12","F12"]
["P32","G12","G12",null,"G12","G12",null,"G12","G12",null,"G12","G12",null,"G12","G12",null,"G12","G12",null,"G12","G12",null,"G12","G12",null,"G12","G12",null,"G12","G12",null,"G12","G12",null,"G12","G12",null,"G12","G12",null,"G12","G12",null,"G12","G12",null,"G12","G12"]
["P32","H12","H12",null,"H12","H12",null,"H12","H12",null,"H12","H12",null,"H12","H12",null,"H12","H12",null,"H12","H12",null,"H12","H12",null,"H12","H12",null,"H12","H12",null,"H12","H12",null,"H12","H12",null,"H12","H12",null,"H12","H12",null,"H12","H12",null,"H12","H12"]
["P32","I12","I12",null,"I12","I12",null,"I12","I12",null,"I12","I12",null,"I12","I12",null,"I12","I12",null,"I12","I12",null,"I12","I12",null,"I12","I12",null,"I12","I12",null,"I12","I12",null,"I12","I12",null,"I12","I12",null,"I12","I12",null,"I12","I12",null,"I12","I12"]
["P44","J12","J12",null,"J12","J12",null,"J12","J12",null,"J12","J12",null,"J12","J12",null,"J12","J12",null,"J12","J12",null,"J12","J12",null,"J12","J12",null,"J12","J12",null,"J12","J12",null,"J12","J12",null,"J12","J12",null,"J12","J12",null,"J12","J12",null,"J12","J12"]
["P44","K12","K12",null,"K12","K12",null,"K12","K12",null,"K12","K12",null,"K12","K12",null,"K12","K12",null,"K12","K12",null,"K12","K12",null,"K12","K12",null,"K12","K12",null,"K12","K12",null,"K12","K12",null,"K12","K12",null,"K12","K12",null,"K12","K12",null,"K12","K12"]
["P44","L12","L12",null,"L12","L12",null,"L12","L12",null,"L12","L12",null,"L12","L12",null,"L12","L12",null,"L12","L12",null,"L12","L12",null,"L12","L12",null,"L12","L12",null,"L12","L12",null,"L12","L12",null,"L12","L12",null,"L12","L12",null,"L12","L12",null,"L12","L12"]
["Bio-BSA (1)","M12","M12",null,"M12","M12",null,"M12","M12",null,"M12","M12",null,"M12","M12",null,"M12","M12",null,"M12","M12",null,"M12","M12",null,"M12","M12",null,"M12","M12",null,"M12","M12",null,"M12","M12",null,"M12","M12",null,"M12","M12",null,"M12","M12",null,"M12","M12"]
["Bio-BSA (1)","N12","N12",null,"N12","N12",null,"N12","N12",null,"N12","N12",null,"N12","N12",null,"N12","N12",null,"N12","N12",null,"N12","N12",null,"N12","N12",null,"N12","N12",null,"N12","N12",null,"N12","N12",null,"N12","N12",null,"N12","N12",null,"N12","N12",null,"N12","N12"]
["Bio-BSA (1)","O12","O12",null,"O12","O12",null,"O12","O12",null,"O12","O12",null,"O12","O12",null,"O12","O12",null,"O12","O12",null,"O12","O12",null,"O12","O12",null,"O12","O12",null,"O12","O12",null,"O12","O12",null,"O12","O12",null,"O12","O12",null,"O12","O12",null,"O12","O12"]

{"sheet":"Sorting 1","index":10,"n_rows":61,"n_cols":97,"rows_kept":61,"cut":false,"hidden":true,"merged":[[3,92,3,96],[3,62,3,66],[3,68,3,72],[3,74,3,78],[3,80,3,84],[3,86,3,90],[3,32,3,36],[3,38,3,42],[3,44,3,48],[3,50,3,54],[3,56,3,60],[3,2,3,6],[3,8,3,12],[3,14,3,18],[3,20,3,24],[3,26,3,30]]}
[]
["RayBio® Pig Cytokine Protein Array G1 Analysis Tool - Sorting With Background"]
[]
[null,null,{"$f":"'aligning data'!B2","v":"Sample 1"},null,null,null,null,null,{"$f":"'aligning data'!E2","v":"Sample 2"},null,null,null,null,null,{"$f":"'aligning data'!H2","v":"Sample 3"},null,null,null,null,null,{"$f":"'aligning data'!K2","v":"Sample 4"},null,null,null,null,null,{"$f":"'aligning data'!N2","v":"Sample 5"},null,null,null,null,null,{"$f":"'aligning data'!Q2","v":"Sample 6"},null,null,null,null,null,{"$f":"'aligning data'!T2","v":"Sample 7"},null,null,null,null,null,{"$f":"'aligning data'!W2","v":"Sample 8"},null,null,null,null,null,{"$f":"'aligning data'!Z2","v":"Sample 9"},null,null,null,null,null,{"$f":"'aligning data'!AC2","v":"Sample 10"},null,null,null,null,null,{"$f":"'aligning data'!AF2","v":"Sample 11"},null,null,null,null,null,{"$f":"'aligning data'!AI2","v":"Sample 12"},null,null,null,null,null,{"$f":"'aligning data'!AL2","v":"Sample 13"},null,null,null,null,null,{"$f":"'aligning data'!AO2","v":"Sample 14"},null,null,null,null,null,{"$f":"'aligning data'!AR2","v":"Sample 15"},null,null,null,null,null,{"$f":"'aligning data'!AU2","v":"Sample 16"}]
["Target",null,1,2,3,"AVERAGE","CV",null,1,2,3,"AVERAGE","CV",null,1,2,3,"AVERAGE","CV",null,1,2,3,"AVERAGE","CV",null,1,2,3,"AVERAGE","CV",null,1,2,3,"AVERAGE","CV",null,1,2,3,"AVERAGE","CV",null,1,2,3,"AVERAGE","CV",null,1,2,3,"AVERAGE","CV",null,1,2,3,"AVERAGE","CV",null,1,2,3,"AVERAGE","CV",null,1,2,3,"AVERAGE","CV",null,1,2,3,"AVERAGE","CV",null,1,2,3,"AVERAGE","CV",null,1,2,3,"AVERAGE","CV",null,1,2,3,"AVERAGE","CV"]
["POS",null,null,null,null,{"$f":"SUM('aligning data'!B4,'aligning data'!B5,'aligning data'!B6,'aligning data'!B10,'aligning data'!B11,'aligning data'!B12,'aligning data'!B19,'aligning data'!B20,'aligning data'!B21,'aligning data'!B172,'aligning data'!B173,'aligning data'!B174,'aligning data'!B181,'aligning data'!B182,'aligning data'!B183)/15","v":0},{"$f":"STDEVA('aligning data'!B4,'aligning data'!B5,'aligning data'!B6,'aligning data'!B10,'aligning data'!B11,'aligning data'!B12,'aligning data'!B19,'aligning data'!B20,'aligning data'!B21,'aligning data'!B172,'aligning data'!B173,'aligning data'!B174,'aligning data'!B181,'aligning data'!B182,'aligning data'!B183)","v":0},null,null,null,null,{"$f":"SUM('aligning data'!E4,'aligning data'!E5,'aligning data'!E6,'aligning data'!E10,'aligning data'!E11,'aligning data'!E12,'aligning data'!E19,'aligning data'!E20,'aligning data'!E21,'aligning data'!E172,'aligning data'!E173,'aligning data'!E174,'aligning data'!E181,'aligning data'!E182,'aligning data'!E183)/15","v":0},{"$f":"STDEVA('aligning data'!E4,'aligning data'!E5,'aligning data'!E6,'aligning data'!E10,'aligning data'!E11,'aligning data'!E12,'aligning data'!E19,'aligning data'!E20,'aligning data'!E21,'aligning data'!E172,'aligning data'!E173,'aligning data'!E174,'aligning data'!E181,'aligning data'!E182,'aligning data'!E183)","v":0},null,null,null,null,{"$f":"SUM('aligning data'!H4,'aligning data'!H5,'aligning data'!H6,'aligning data'!H10,'aligning data'!H11,'aligning data'!H12,'aligning data'!H19,'aligning data'!H20,'aligning data'!H21,'aligning data'!H172,'aligning data'!H173,'aligning data'!H174,'aligning data'!H181,'aligning data'!H182,'aligning data'!H183)/15","v":0},{"$f":"STDEVA('aligning data'!H4,'aligning data'!H5,'aligning data'!H6,'aligning data'!H10,'aligning data'!H11,'aligning data'!H12,'aligning data'!H19,'aligning data'!H20,'aligning data'!H21,'aligning data'!H172,'aligning data'!H173,'aligning data'!H174,'aligning data'!H181,'aligning data'!H182,'aligning data'!H183)","v":0},null,null,null,null,{"$f":"SUM('aligning data'!K4,'aligning data'!K5,'aligning data'!K6,'aligning data'!K10,'aligning data'!K11,'aligning data'!K12,'aligning data'!K19,'aligning data'!K20,'aligning data'!K21,'aligning data'!K172,'aligning data'!K173,'aligning data'!K174,'aligning data'!K181,'aligning data'!K182,'aligning data'!K183)/15","v":0},{"$f":"STDEVA('aligning data'!K4,'aligning data'!K5,'aligning data'!K6,'aligning data'!K10,'aligning data'!K11,'aligning data'!K12,'aligning data'!K19,'aligning data'!K20,'aligning data'!K21,'aligning data'!K172,'aligning data'!K173,'aligning data'!K174,'aligning data'!K181,'aligning data'!K182,'aligning data'!K183)","v":0},null,null,null,null,{"$f":"SUM('aligning data'!N4,'aligning data'!N5,'aligning data'!N6,'aligning data'!N10,'aligning data'!N11,'aligning data'!N12,'aligning data'!N19,'aligning data'!N20,'aligning data'!N21,'aligning data'!N172,'aligning data'!N173,'aligning data'!N174,'aligning data'!N181,'aligning data'!N182,'aligning data'!N183)/15","v":0},{"$f":"STDEVA('aligning data'!N4,'aligning data'!N5,'aligning data'!N6,'aligning data'!N10,'aligning data'!N11,'aligning data'!N12,'aligning data'!N19,'aligning data'!N20,'aligning data'!N21,'aligning data'!N172,'aligning data'!N173,'aligning data'!N174,'aligning data'!N181,'aligning data'!N182,'aligning data'!N183)","v":0},null,null,null,null,{"$f":"SUM('aligning data'!Q4,'aligning data'!Q5,'aligning data'!Q6,'aligning data'!Q10,'aligning data'!Q11,'aligning data'!Q12,'aligning data'!Q19,'aligning data'!Q20,'aligning data'!Q21,'aligning data'!Q172,'aligning data'!Q173,'aligning data'!Q174,'aligning data'!Q181,'aligning data'!Q182,'aligning data'!Q183)/15","v":0},{"$f":"STDEVA('aligning data'!Q4,'aligning data'!Q5,'aligning data'!Q6,'aligning data'!Q10,'aligning data'!Q11,'aligning data'!Q12,'aligning data'!Q19,'aligning data'!Q20,'aligning data'!Q21,'aligning data'!Q172,'aligning data'!Q173,'aligning data'!Q174,'aligning data'!Q181,'aligning data'!Q182,'aligning data'!Q183)","v":0},null,null,null,null,{"$f":"SUM('aligning data'!T4,'aligning data'!T5,'aligning data'!T6,'aligning data'!T10,'aligning data'!T11,'aligning data'!T12,'aligning data'!T19,'aligning data'!T20,'aligning data'!T21,'aligning data'!T172,'aligning data'!T173,'aligning data'!T174,'aligning data'!T181,'aligning data'!T182,'aligning data'!T183)/15","v":0},{"$f":"STDEVA('aligning data'!T4,'aligning data'!T5,'aligning data'!T6,'aligning data'!T10,'aligning data'!T11,'aligning data'!T12,'aligning data'!T19,'aligning data'!T20,'aligning data'!T21,'aligning data'!T172,'aligning data'!T173,'aligning data'!T174,'aligning data'!T181,'aligning data'!T182,'aligning data'!T183)","v":0},null,null,null,null,{"$f":"SUM('aligning data'!W4,'aligning data'!W5,'aligning data'!W6,'aligning data'!W10,'aligning data'!W11,'aligning data'!W12,'aligning data'!W19,'aligning data'!W20,'aligning data'!W21,'aligning data'!W172,'aligning data'!W173,'aligning data'!W174,'aligning data'!W181,'aligning data'!W182,'aligning data'!W183)/15","v":0},{"$f":"STDEVA('aligning data'!W4,'aligning data'!W5,'aligning data'!W6,'aligning data'!W10,'aligning data'!W11,'aligning data'!W12,'aligning data'!W19,'aligning data'!W20,'aligning data'!W21,'aligning data'!W172,'aligning data'!W173,'aligning data'!W174,'aligning data'!W181,'aligning data'!W182,'aligning data'!W183)","v":0},null,null,null,null,{"$f":"SUM('aligning data'!Z4,'aligning data'!Z5,'aligning data'!Z6,'aligning data'!Z10,'aligning data'!Z11,'aligning data'!Z12,'aligning data'!Z19,'aligning data'!Z20,'aligning data'!Z21,'aligning data'!Z172,'aligning data'!Z173,'aligning data'!Z174,'aligning data'!Z181,'aligning data'!Z182,'aligning data'!Z183)/15","v":0},{"$f":"STDEVA('aligning data'!Z4,'aligning data'!Z5,'aligning data'!Z6,'aligning data'!Z10,'aligning data'!Z11,'aligning data'!Z12,'aligning data'!Z19,'aligning data'!Z20,'aligning data'!Z21,'aligning data'!Z172,'aligning data'!Z173,'aligning data'!Z174,'aligning data'!Z181,'aligning data'!Z182,'aligning data'!Z183)","v":0},null,null,null,null,{"$f":"SUM('aligning data'!AC4,'aligning data'!AC5,'aligning data'!AC6,'aligning data'!AC10,'aligning data'!AC11,'aligning data'!AC12,'aligning data'!AC19,'aligning data'!AC20,'aligning data'!AC21,'aligning data'!AC172,'aligning data'!AC173,'aligning data'!AC174,'aligning data'!AC181,'aligning data'!AC182,'aligning data'!AC183)/15","v":0},{"$f":"STDEVA('aligning data'!AC4,'aligning data'!AC5,'aligning data'!AC6,'aligning data'!AC10,'aligning data'!AC11,'aligning data'!AC12,'aligning data'!AC19,'aligning data'!AC20,'aligning data'!AC21,'aligning data'!AC172,'aligning data'!AC173,'aligning data'!AC174,'aligning data'!AC181,'aligning data'!AC182,'aligning data'!AC183)","v":0},null,null,null,null,{"$f":"SUM('aligning data'!AF4,'aligning data'!AF5,'aligning data'!AF6,'aligning data'!AF10,'aligning data'!AF11,'aligning data'!AF12,'aligning data'!AF19,'aligning data'!AF20,'aligning data'!AF21,'aligning data'!AF172,'aligning data'!AF173,'aligning data'!AF174,'aligning data'!AF181,'aligning data'!AF182,'aligning data'!AF183)/15","v":0},{"$f":"STDEVA('aligning data'!AF4,'aligning data'!AF5,'aligning data'!AF6,'aligning data'!AF10,'aligning data'!AF11,'aligning data'!AF12,'aligning data'!AF19,'aligning data'!AF20,'aligning data'!AF21,'aligning data'!AF172,'aligning data'!AF173,'aligning data'!AF174,'aligning data'!AF181,'aligning data'!AF182,'aligning data'!AF183)","v":0},null,null,null,null,{"$f":"SUM('aligning data'!AI4,'aligning data'!AI5,'aligning data'!AI6,'aligning data'!AI10,'aligning data'!AI11,'aligning data'!AI12,'aligning data'!AI19,'aligning data'!AI20,'aligning data'!AI21,'aligning data'!AI172,'aligning data'!AI173,'aligning data'!AI174,'aligning data'!AI181,'aligning data'!AI182,'aligning data'!AI183)/15","v":0},{"$f":"STDEVA('aligning data'!AI4,'aligning data'!AI5,'aligning data'!AI6,'aligning data'!AI10,'aligning data'!AI11,'aligning data'!AI12,'aligning data'!AI19,'aligning data'!AI20,'aligning data'!AI21,'aligning data'!AI172,'aligning data'!AI173,'aligning data'!AI174,'aligning data'!AI181,'aligning data'!AI182,'aligning data'!AI183)","v":0},null,null,null,null,{"$f":"SUM('aligning data'!AL4,'aligning data'!AL5,'aligning data'!AL6,'aligning data'!AL10,'aligning data'!AL11,'aligning data'!AL12,'aligning data'!AL19,'aligning data'!AL20,'aligning data'!AL21,'aligning data'!AL172,'aligning data'!AL173,'aligning data'!AL174,'aligning data'!AL181,'aligning data'!AL182,'aligning data'!AL183)/15","v":0},{"$f":"STDEVA('aligning data'!AL4,'aligning data'!AL5,'aligning data'!AL6,'aligning data'!AL10,'aligning data'!AL11,'aligning data'!AL12,'aligning data'!AL19,'aligning data'!AL20,'aligning data'!AL21,'aligning data'!AL172,'aligning data'!AL173,'aligning data'!AL174,'aligning data'!AL181,'aligning data'!AL182,'aligning data'!AL183)","v":0},null,null,null,null,{"$f":"SUM('aligning data'!AO4,'aligning data'!AO5,'aligning data'!AO6,'aligning data'!AO10,'aligning data'!AO11,'aligning data'!AO12,'aligning data'!AO19,'aligning data'!AO20,'aligning data'!AO21,'aligning data'!AO172,'aligning data'!AO173,'aligning data'!AO174,'aligning data'!AO181,'aligning data'!AO182,'aligning data'!AO183)/15","v":0},{"$f":"STDEVA('aligning data'!AO4,'aligning data'!AO5,'aligning data'!AO6,'aligning data'!AO10,'aligning data'!AO11,'aligning data'!AO12,'aligning data'!AO19,'aligning data'!AO20,'aligning data'!AO21,'aligning data'!AO172,'aligning data'!AO173,'aligning data'!AO174,'aligning data'!AO181,'aligning data'!AO182,'aligning data'!AO183)","v":0},null,null,null,null,{"$f":"SUM('aligning data'!AR4,'aligning data'!AR5,'aligning data'!AR6,'aligning data'!AR10,'aligning data'!AR11,'aligning data'!AR12,'aligning data'!AR19,'aligning data'!AR20,'aligning data'!AR21,'aligning data'!AR172,'aligning data'!AR173,'aligning data'!AR174,'aligning data'!AR181,'aligning data'!AR182,'aligning data'!AR183)/15","v":0},{"$f":"STDEVA('aligning data'!AR4,'aligning data'!AR5,'aligning data'!AR6,'aligning data'!AR10,'aligning data'!AR11,'aligning data'!AR12,'aligning data'!AR19,'aligning data'!AR20,'aligning data'!AR21,'aligning data'!AR172,'aligning data'!AR173,'aligning data'!AR174,'aligning data'!AR181,'aligning data'!AR182,'aligning data'!AR183)","v":0},null,null,null,null,{"$f":"SUM('aligning data'!AU4,'aligning data'!AU5,'aligning data'!AU6,'aligning data'!AU10,'aligning data'!AU11,'aligning data'!AU12,'aligning data'!AU19,'aligning data'!AU20,'aligning data'!AU21,'aligning data'!AU172,'aligning data'!AU173,'aligning data'!AU174,'aligning data'!AU181,'aligning data'!AU182,'aligning data'!AU183)/15","v":0},{"$f":"STDEVA('aligning data'!AU4,'aligning data'!AU5,'aligning data'!AU6,'aligning data'!AU10,'aligning data'!AU11,'aligning data'!AU12,'aligning data'!AU19,'aligning data'!AU20,'aligning data'!AU21,'aligning data'!AU172,'aligning data'!AU173,'aligning data'!AU174,'aligning data'!AU181,'aligning data'!AU182,'aligning data'!AU183)","v":0}]
["NEG",null,null,null,null,{"$f":"SUM('aligning data'!B121,'aligning data'!B122,'aligning data'!B123,'aligning data'!B166,'aligning data'!B167,'aligning data'!B168)/6","v":0},{"$f":"STDEVA('aligning data'!B121,'aligning data'!B122,'aligning data'!B123,'aligning data'!B166,'aligning data'!B167,'aligning data'!B168)","v":0},null,null,null,null,{"$f":"SUM('aligning data'!E121,'aligning data'!E122,'aligning data'!E123,'aligning data'!E166,'aligning data'!E167,'aligning data'!E168)/6","v":0},{"$f":"STDEVA('aligning data'!E121,'aligning data'!E122,'aligning data'!E123,'aligning data'!E166,'aligning data'!E167,'aligning data'!E168)","v":0},null,null,null,null,{"$f":"SUM('aligning data'!H121,'aligning data'!H122,'aligning data'!H123,'aligning data'!H166,'aligning data'!H167,'aligning data'!H168)/6","v":0},{"$f":"STDEVA('aligning data'!H121,'aligning data'!H122,'aligning data'!H123,'aligning data'!H166,'aligning data'!H167,'aligning data'!H168)","v":0},null,null,null,null,{"$f":"SUM('aligning data'!K121,'aligning data'!K122,'aligning data'!K123,'aligning data'!K166,'aligning data'!K167,'aligning data'!K168)/6","v":0},{"$f":"STDEVA('aligning data'!K121,'aligning data'!K122,'aligning data'!K123,'aligning data'!K166,'aligning data'!K167,'aligning data'!K168)","v":0},null,null,null,null,{"$f":"SUM('aligning data'!N121,'aligning data'!N122,'aligning data'!N123,'aligning data'!N166,'aligning data'!N167,'aligning data'!N168)/6","v":0},{"$f":"STDEVA('aligning data'!N121,'aligning data'!N122,'aligning data'!N123,'aligning data'!N166,'aligning data'!N167,'aligning data'!N168)","v":0},null,null,null,null,{"$f":"SUM('aligning data'!Q121,'aligning data'!Q122,'aligning data'!Q123,'aligning data'!Q166,'aligning data'!Q167,'aligning data'!Q168)/6","v":0},{"$f":"STDEVA('aligning data'!Q121,'aligning data'!Q122,'aligning data'!Q123,'aligning data'!Q166,'aligning data'!Q167,'aligning data'!Q168)","v":0},null,null,null,null,{"$f":"SUM('aligning data'!T121,'aligning data'!T122,'aligning data'!T123,'aligning data'!T166,'aligning data'!T167,'aligning data'!T168)/6","v":0},{"$f":"STDEVA('aligning data'!T121,'aligning data'!T122,'aligning data'!T123,'aligning data'!T166,'aligning data'!T167,'aligning data'!T168)","v":0},null,null,null,null,{"$f":"SUM('aligning data'!W121,'aligning data'!W122,'aligning data'!W123,'aligning data'!W166,'aligning data'!W167,'aligning data'!W168)/6","v":0},{"$f":"STDEVA('aligning data'!W121,'aligning data'!W122,'aligning data'!W123,'aligning data'!W166,'aligning data'!W167,'aligning data'!W168)","v":0},null,null,null,null,{"$f":"SUM('aligning data'!Z121,'aligning data'!Z122,'aligning data'!Z123,'aligning data'!Z166,'aligning data'!Z167,'aligning data'!Z168)/6","v":0},{"$f":"STDEVA('aligning data'!Z121,'aligning data'!Z122,'aligning data'!Z123,'aligning data'!Z166,'aligning data'!Z167,'aligning data'!Z168)","v":0},null,null,null,null,{"$f":"SUM('aligning data'!AC121,'aligning data'!AC122,'aligning data'!AC123,'aligning data'!AC166,'aligning data'!AC167,'aligning data'!AC168)/6","v":0},{"$f":"STDEVA('aligning data'!AC121,'aligning data'!AC122,'aligning data'!AC123,'aligning data'!AC166,'aligning data'!AC167,'aligning data'!AC168)","v":0},null,null,null,null,{"$f":"SUM('aligning data'!AF121,'aligning data'!AF122,'aligning data'!AF123,'aligning data'!AF166,'aligning data'!AF167,'aligning data'!AF168)/6","v":0},{"$f":"STDEVA('aligning data'!AF121,'aligning data'!AF122,'aligning data'!AF123,'aligning data'!AF166,'aligning data'!AF167,'aligning data'!AF168)","v":0},null,null,null,null,{"$f":"SUM('aligning data'!AI121,'aligning data'!AI122,'aligning data'!AI123,'aligning data'!AI166,'aligning data'!AI167,'aligning data'!AI168)/6","v":0},{"$f":"STDEVA('aligning data'!AI121,'aligning data'!AI122,'aligning data'!AI123,'aligning data'!AI166,'aligning data'!AI167,'aligning data'!AI168)","v":0},null,null,null,null,{"$f":"SUM('aligning data'!AL121,'aligning data'!AL122,'aligning data'!AL123,'aligning data'!AL166,'aligning data'!AL167,'aligning data'!AL168)/6","v":0},{"$f":"STDEVA('aligning data'!AL121,'aligning data'!AL122,'aligning data'!AL123,'aligning data'!AL166,'aligning data'!AL167,'aligning data'!AL168)","v":0},null,null,null,null,{"$f":"SUM('aligning data'!AO121,'aligning data'!AO122,'aligning data'!AO123,'aligning data'!AO166,'aligning data'!AO167,'aligning data'!AO168)/6","v":0},{"$f":"STDEVA('aligning data'!AO121,'aligning data'!AO122,'aligning data'!AO123,'aligning data'!AO166,'aligning data'!AO167,'aligning data'!AO168)","v":0},null,null,null,null,{"$f":"SUM('aligning data'!AR121,'aligning data'!AR122,'aligning data'!AR123,'aligning data'!AR166,'aligning data'!AR167,'aligning data'!AR168)/6","v":0},{"$f":"STDEVA('aligning data'!AR121,'aligning data'!AR122,'aligning data'!AR123,'aligning data'!AR166,'aligning data'!AR167,'aligning data'!AR168)","v":0},null,null,null,null,{"$f":"SUM('aligning data'!AU121,'aligning data'!AU122,'aligning data'!AU123,'aligning data'!AU166,'aligning data'!AU167,'aligning data'!AU168)/6","v":0},{"$f":"STDEVA('aligning data'!AU121,'aligning data'!AU122,'aligning data'!AU123,'aligning data'!AU166,'aligning data'!AU167,'aligning data'!AU168)","v":0}]
["P11",null,{"$f":"'aligning data'!B7","v":"D1"},{"$f":"'aligning data'!B8","v":"E1"},{"$f":"'aligning data'!B9","v":"F1"},{"$f":"AVERAGE(C8:E8)","v":{"$error":"#DIV/0!"}},{"$f":"STDEVA(C8:E8)","v":0},null,{"$f":"'aligning data'!E7","v":"D1"},{"$f":"'aligning data'!E8","v":"E1"},{"$f":"'aligning data'!E9","v":"F1"},{"$f":"AVERAGE(I8:K8)","v":{"$error":"#DIV/0!"}},{"$f":"STDEVA(I8:K8)","v":0},null,{"$f":"'aligning data'!H7","v":"D1"},{"$f":"'aligning data'!H8","v":"E1"},{"$f":"'aligning data'!H9","v":"F1"},{"$f":"AVERAGE(O8:Q8)","v":{"$error":"#DIV/0!"}},{"$f":"STDEVA(O8:Q8)","v":0},null,{"$f":"'aligning data'!K7","v":"D1"},{"$f":"'aligning data'!K8","v":"E1"},{"$f":"'aligning data'!K9","v":"F1"},{"$f":"AVERAGE(U8:W8)","v":{"$error":"#DIV/0!"}},{"$f":"STDEVA(U8:W8)","v":0},null,{"$f":"'aligning data'!N7","v":"D1"},{"$f":"'aligning data'!N8","v":"E1"},{"$f":"'aligning data'!N9","v":"F1"},{"$f":"AVERAGE(AA8:AC8)","v":{"$error":"#DIV/0!"}},{"$f":"STDEVA(AA8:AC8)","v":0},null,{"$f":"'aligning data'!Q7","v":"D1"},{"$f":"'aligning data'!Q8","v":"E1"},{"$f":"'aligning data'!Q9","v":"F1"},{"$f":"AVERAGE(AG8:AI8)","v":{"$error":"#DIV/0!"}},{"$f":"STDEVA(AG8:AI8)","v":0},null,{"$f":"'aligning data'!T7","v":"D1"},{"$f":"'aligning data'!T8","v":"E1"},{"$f":"'aligning data'!T9","v":"F1"},{"$f":"AVERAGE(AM8:AO8)","v":{"$error":"#DIV/0!"}},{"$f":"STDEVA(AM8:AO8)","v":0},null,{"$f":"'aligning data'!W7","v":"D1"},{"$f":"'aligning data'!W8","v":"E1"},{"$f":"'aligning data'!W9","v":"F1"},{"$f":"AVERAGE(AS8:AU8)","v":{"$error":"#DIV/0!"}},{"$f":"STDEVA(AS8:AU8)","v":0},null,{"$f":"'aligning data'!Z7","v":"D1"},{"$f":"'aligning data'!Z8","v":"E1"},{"$f":"'aligning data'!Z9","v":"F1"},{"$f":"AVERAGE(AY8:BA8)","v":{"$error":"#DIV/0!"}},{"$f":"STDEVA(AY8:BA8)","v":0},null,{"$f":"'aligning data'!AC7","v":"D1"},{"$f":"'aligning data'!AC8","v":"E1"},{"$f":"'aligning data'!AC9","v":"F1"},{"$f":"AVERAGE(BE8:BG8)","v":{"$error":"#DIV/0!"}},{"$f":"STDEVA(BE8:BG8)","v":0},null,{"$f":"'aligning data'!AF7","v":"D1"},{"$f":"'aligning data'!AF8","v":"E1"},{"$f":"'aligning data'!AF9","v":"F1"},{"$f":"AVERAGE(BK8:BM8)","v":{"$error":"#DIV/0!"}},{"$f":"STDEVA(BK8:BM8)","v":0},null,{"$f":"'aligning data'!AI7","v":"D1"},{"$f":"'aligning data'!AI8","v":"E1"},{"$f":"'aligning data'!AI9","v":"F1"},{"$f":"AVERAGE(BQ8:BS8)","v":{"$error":"#DIV/0!"}},{"$f":"STDEVA(BQ8:BS8)","v":0},null,{"$f":"'aligning data'!AL7","v":"D1"},{"$f":"'aligning data'!AL8","v":"E1"},{"$f":"'aligning data'!AL9","v":"F1"},{"$f":"AVERAGE(BW8:BY8)","v":{"$error":"#DIV/0!"}},{"$f":"STDEVA(BW8:BY8)","v":0},null,{"$f":"'aligning data'!AO7","v":"D1"},{"$f":"'aligning data'!AO8","v":"E1"},{"$f":"'aligning data'!AO9","v":"F1"},{"$f":"AVERAGE(CC8:CE8)","v":{"$error":"#DIV/0!"}},{"$f":"STDEVA(CC8:CE8)","v":0},null,{"$f":"'aligning data'!AR7","v":"D1"},{"$f":"'aligning data'!AR8","v":"E1"},{"$f":"'aligning data'!AR9","v":"F1"},{"$f":"AVERAGE(CI8:CK8)","v":{"$error":"#DIV/0!"}},{"$f":"STDEVA(CI8:CK8)","v":0},null,{"$f":"'aligning data'!AU7","v":"D1"},{"$f":"'aligning data'!AU8","v":"E1"},{"$f":"'aligning data'!AU9","v":"F1"},{"$f":"AVERAGE(CO8:CQ8)","v":{"$error":"#DIV/0!"}},{"$f":"STDEVA(CO8:CQ8)","v":0}]
["P33",null,{"$f":"'aligning data'!B13","v":"J1"},{"$f":"'aligning data'!B14","v":"K1"},{"$f":"'aligning data'!B15","v":"L1"},{"$f":"AVERAGE(C9:E9)","v":{"$error":"#DIV/0!"}},{"$f":"STDEVA(C9:E9)","v":0},null,{"$f":"'aligning data'!E13","v":"J1"},{"$f":"'aligning data'!E14","v":"K1"},{"$f":"'aligning data'!E15","v":"L1"},{"$f":"AVERAGE(I9:K9)","v":{"$error":"#DIV/0!"}},{"$f":"STDEVA(I9:K9)","v":0},null,{"$f":"'aligning data'!H13","v":"J1"},{"$f":"'aligning data'!H14","v":"K1"},{"$f":"'aligning data'!H15","v":"L1"},{"$f":"AVERAGE(O9:Q9)","v":{"$error":"#DIV/0!"}},{"$f":"STDEVA(O9:Q9)","v":0},null,{"$f":"'aligning data'!K13","v":"J1"},{"$f":"'aligning data'!K14","v":"K1"},{"$f":"'aligning data'!K15","v":"L1"},{"$f":"AVERAGE(U9:W9)","v":{"$error":"#DIV/0!"}},{"$f":"STDEVA(U9:W9)","v":0},null,{"$f":"'aligning data'!N13","v":"J1"},{"$f":"'aligning data'!N14","v":"K1"},{"$f":"'aligning data'!N15","v":"L1"},{"$f":"AVERAGE(AA9:AC9)","v":{"$error":"#DIV/0!"}},{"$f":"STDEVA(AA9:AC9)","v":0},null,{"$f":"'aligning data'!Q13","v":"J1"},{"$f":"'aligning data'!Q14","v":"K1"},{"$f":"'aligning data'!Q15","v":"L1"},{"$f":"AVERAGE(AG9:AI9)","v":{"$error":"#DIV/0!"}},{"$f":"STDEVA(AG9:AI9)","v":0},null,{"$f":"'aligning data'!T13","v":"J1"},{"$f":"'aligning data'!T14","v":"K1"},{"$f":"'aligning data'!T15","v":"L1"},{"$f":"AVERAGE(AM9:AO9)","v":{"$error":"#DIV/0!"}},{"$f":"STDEVA(AM9:AO9)","v":0},null,{"$f":"'aligning data'!W13","v":"J1"},{"$f":"'aligning data'!W14","v":"K1"},{"$f":"'aligning data'!W15","v":"L1"},{"$f":"AVERAGE(AS9:AU9)","v":{"$error":"#DIV/0!"}},{"$f":"STDEVA(AS9:AU9)","v":0},null,{"$f":"'aligning data'!Z13","v":"J1"},{"$f":"'aligning data'!Z14","v":"K1"},{"$f":"'aligning data'!Z15","v":"L1"},{"$f":"AVERAGE(AY9:BA9)","v":{"$error":"#DIV/0!"}},{"$f":"STDEVA(AY9:BA9)","v":0},null,{"$f":"'aligning data'!AC13","v":"J1"},{"$f":"'aligning data'!AC14","v":"K1"},{"$f":"'aligning data'!AC15","v":"L1"},{"$f":"AVERAGE(BE9:BG9)","v":{"$error":"#DIV/0!"}},{"$f":"STDEVA(BE9:BG9)","v":0},null,{"$f":"'aligning data'!AF13","v":"J1"},{"$f":"'aligning data'!AF14","v":"K1"},{"$f":"'aligning data'!AF15","v":"L1"},{"$f":"AVERAGE(BK9:BM9)","v":{"$error":"#DIV/0!"}},{"$f":"STDEVA(BK9:BM9)","v":0},null,{"$f":"'aligning data'!AI13","v":"J1"},{"$f":"'aligning data'!AI14","v":"K1"},{"$f":"'aligning data'!AI15","v":"L1"},{"$f":"AVERAGE(BQ9:BS9)","v":{"$error":"#DIV/0!"}},{"$f":"STDEVA(BQ9:BS9)","v":0},null,{"$f":"'aligning data'!AL13","v":"J1"},{"$f":"'aligning data'!AL14","v":"K1"},{"$f":"'aligning data'!AL15","v":"L1"},{"$f":"AVERAGE(BW9:BY9)","v":{"$error":"#DIV/0!"}},{"$f":"STDEVA(BW9:BY9)","v":0},null,{"$f":"'aligning data'!AO13","v":"J1"},{"$f":"'aligning data'!AO14","v":"K1"},{"$f":"'aligning data'!AO15","v":"L1"},{"$f":"AVERAGE(CC9:CE9)","v":{"$error":"#DIV/0!"}},{"$f":"STDEVA(CC9:CE9)","v":0},null,{"$f":"'aligning data'!AR13","v":"J1"},{"$f":"'aligning data'!AR14","v":"K1"},{"$f":"'aligning data'!AR15","v":"L1"},{"$f":"AVERAGE(CI9:CK9)","v":{"$error":"#DIV/0!"}},{"$f":"STDEVA(CI9:CK9)","v":0},null,{"$f":"'aligning data'!AU13","v":"J1"},{"$f":"'aligning data'!AU14","v":"K1"},{"$f":"'aligning data'!AU15","v":"L1"},{"$f":"AVERAGE(CO9:CQ9)","v":{"$error":"#DIV/0!"}},{"$f":"STDEVA(CO9:CQ9)","v":0}]
["P45",null,{"$f":"'aligning data'!B16","v":"M1"},{"$f":"'aligning data'!B17","v":"N1"},{"$f":"'aligning data'!B18","v":"O1"},{"$error":"#DIV/0!"},0,null,{"$f":"'aligning data'!E16","v":"M1"},{"$f":"'aligning data'!E17","v":"N1"},{"$f":"'aligning data'!E18","v":"O1"},{"$error":"#DIV/0!"},0,null,{"$f":"'aligning data'!H16","v":"M1"},{"$f":"'aligning data'!H17","v":"N1"},{"$f":"'aligning data'!H18","v":"O1"},{"$error":"#DIV/0!"},0,null,{"$f":"'aligning data'!K16","v":"M1"},{"$f":"'aligning data'!K17","v":"N1"},{"$f":"'aligning data'!K18","v":"O1"},{"$error":"#DIV/0!"},0,null,{"$f":"'aligning data'!N16","v":"M1"},{"$f":"'aligning data'!N17","v":"N1"},{"$f":"'aligning data'!N18","v":"O1"},{"$error":"#DIV/0!"},0,null,{"$f":"'aligning data'!Q16","v":"M1"},{"$f":"'aligning data'!Q17","v":"N1"},{"$f":"'aligning data'!Q18","v":"O1"},{"$error":"#DIV/0!"},0,null,{"$f":"'aligning data'!T16","v":"M1"},{"$f":"'aligning data'!T17","v":"N1"},{"$f":"'aligning data'!T18","v":"O1"},{"$error":"#DIV/0!"},0,null,{"$f":"'aligning data'!W16","v":"M1"},{"$f":"'aligning data'!W17","v":"N1"},{"$f":"'aligning data'!W18","v":"O1"},{"$error":"#DIV/0!"},0,null,{"$f":"'aligning data'!Z16","v":"M1"},{"$f":"'aligning data'!Z17","v":"N1"},{"$f":"'aligning data'!Z18","v":"O1"},{"$error":"#DIV/0!"},0,null,{"$f":"'aligning data'!AC16","v":"M1"},{"$f":"'aligning data'!AC17","v":"N1"},{"$f":"'aligning data'!AC18","v":"O1"},{"$error":"#DIV/0!"},0,null,{"$f":"'aligning data'!AF16","v":"M1"},{"$f":"'aligning data'!AF17","v":"N1"},{"$f":"'aligning data'!AF18","v":"O1"},{"$error":"#DIV/0!"},0,null,{"$f":"'aligning data'!AI16","v":"M1"},{"$f":"'aligning data'!AI17","v":"N1"},{"$f":"'aligning data'!AI18","v":"O1"},{"$error":"#DIV/0!"},0,null,{"$f":"'aligning data'!AL16","v":"M1"},{"$f":"'aligning data'!AL17","v":"N1"},{"$f":"'aligning data'!AL18","v":"O1"},{"$error":"#DIV/0!"},0,null,{"$f":"'aligning data'!AO16","v":"M1"},{"$f":"'aligning data'!AO17","v":"N1"},{"$f":"'aligning data'!AO18","v":"O1"},{"$error":"#DIV/0!"},0,null,{"$f":"'aligning data'!AR16","v":"M1"},{"$f":"'aligning data'!AR17","v":"N1"},{"$f":"'aligning data'!AR18","v":"O1"},{"$error":"#DIV/0!"},0,null,{"$f":"'aligning data'!AU16","v":"M1"},{"$f":"'aligning data'!AU17","v":"N1"},{"$f":"'aligning data'!AU18","v":"O1"},{"$error":"#DIV/0!"},0]
["P12",null,{"$f":"'aligning data'!B22","v":"D2"},{"$f":"'aligning data'!B23","v":"E2"},{"$f":"'aligning data'!B24","v":"F2"},{"$error":"#DIV/0!"},0,null,{"$f":"'aligning data'!E22","v":"D2"},{"$f":"'aligning data'!E23","v":"E2"},{"$f":"'aligning data'!E24","v":"F2"},{"$error":"#DIV/0!"},0,null,{"$f":"'aligning data'!H22","v":"D2"},{"$f":"'aligning data'!H23","v":"E2"},{"$f":"'aligning data'!H24","v":"F2"},{"$error":"#DIV/0!"},0,null,{"$f":"'aligning data'!K22","v":"D2"},{"$f":"'aligning data'!K23","v":"E2"},{"$f":"'aligning data'!K24","v":"F2"},{"$error":"#DIV/0!"},0,null,{"$f":"'aligning data'!N22","v":"D2"},{"$f":"'aligning data'!N23","v":"E2"},{"$f":"'aligning data'!N24","v":"F2"},{"$error":"#DIV/0!"},0,null,{"$f":"'aligning data'!Q22","v":"D2"},{"$f":"'aligning data'!Q23","v":"E2"},{"$f":"'aligning data'!Q24","v":"F2"},{"$error":"#DIV/0!"},0,null,{"$f":"'aligning data'!T22","v":"D2"},{"$f":"'aligning data'!T23","v":"E2"},{"$f":"'aligning data'!T24","v":"F2"},{"$error":"#DIV/0!"},0,null,{"$f":"'aligning data'!W22","v":"D2"},{"$f":"'aligning data'!W23","v":"E2"},{"$f":"'aligning data'!W24","v":"F2"},{"$error":"#DIV/0!"},0,null,{"$f":"'aligning data'!Z22","v":"D2"},{"$f":"'aligning data'!Z23","v":"E2"},{"$f":"'aligning data'!Z24","v":"F2"},{"$error":"#DIV/0!"},0,null,{"$f":"'aligning data'!AC22","v":"D2"},{"$f":"'aligning data'!AC23","v":"E2"},{"$f":"'aligning data'!AC24","v":"F2"},{"$error":"#DIV/0!"},0,null,{"$f":"'aligning data'!AF22","v":"D2"},{"$f":"'aligning data'!AF23","v":"E2"},{"$f":"'aligning data'!AF24","v":"F2"},{"$error":"#DIV/0!"},0,null,{"$f":"'aligning data'!AI22","v":"D2"},{"$f":"'aligning data'!AI23","v":"E2"},{"$f":"'aligning data'!AI24","v":"F2"},{"$error":"#DIV/0!"},0,null,{"$f":"'aligning data'!AL22","v":"D2"},{"$f":"'aligning data'!AL23","v":"E2"},{"$f":"'aligning data'!AL24","v":"F2"},{"$error":"#DIV/0!"},0,null,{"$f":"'aligning data'!AO22","v":"D2"},{"$f":"'aligning data'!AO23","v":"E2"},{"$f":"'aligning data'!AO24","v":"F2"},{"$error":"#DIV/0!"},0,null,{"$f":"'aligning data'!AR22","v":"D2"},{"$f":"'aligning data'!AR23","v":"E2"},{"$f":"'aligning data'!AR24","v":"F2"},{"$error":"#DIV/0!"},0,null,{"$f":"'aligning data'!AU22","v":"D2"},{"$f":"'aligning data'!AU23","v":"E2"},{"$f":"'aligning data'!AU24","v":"F2"},{"$error":"#DIV/0!"},0]
["P22",null,{"$f":"'aligning data'!B25","v":"G2"},{"$f":"'aligning data'!B26","v":"H2"},{"$f":"'aligning data'!B27","v":"I2"},{"$error":"#DIV/0!"},0,null,{"$f":"'aligning data'!E25","v":"G2"},{"$f":"'aligning data'!E26","v":"H2"},{"$f":"'aligning data'!E27","v":"I2"},{"$error":"#DIV/0!"},0,null,{"$f":"'aligning data'!H25","v":"G2"},{"$f":"'aligning data'!H26","v":"H2"},{"$f":"'aligning data'!H27","v":"I2"},{"$error":"#DIV/0!"},0,null,{"$f":"'aligning data'!K25","v":"G2"},{"$f":"'aligning data'!K26","v":"H2"},{"$f":"'aligning data'!K27","v":"I2"},{"$error":"#DIV/0!"},0,null,{"$f":"'aligning data'!N25","v":"G2"},{"$f":"'aligning data'!N26","v":"H2"},{"$f":"'aligning data'!N27","v":"I2"},{"$error":"#DIV/0!"},0,null,{"$f":"'aligning data'!Q25","v":"G2"},{"$f":"'aligning data'!Q26","v":"H2"},{"$f":"'aligning data'!Q27","v":"I2"},{"$error":"#DIV/0!"},0,null,{"$f":"'aligning data'!T25","v":"G2"},{"$f":"'aligning data'!T26","v":"H2"},{"$f":"'aligning data'!T27","v":"I2"},{"$error":"#DIV/0!"},0,null,{"$f":"'aligning data'!W25","v":"G2"},{"$f":"'aligning data'!W26","v":"H2"},{"$f":"'aligning data'!W27","v":"I2"},{"$error":"#DIV/0!"},0,null,{"$f":"'aligning data'!Z25","v":"G2"},{"$f":"'aligning data'!Z26","v":"H2"},{"$f":"'aligning data'!Z27","v":"I2"},{"$error":"#DIV/0!"},0,null,{"$f":"'aligning data'!AC25","v":"G2"},{"$f":"'aligning data'!AC26","v":"H2"},{"$f":"'aligning data'!AC27","v":"I2"},{"$error":"#DIV/0!"},0,null,{"$f":"'aligning data'!AF25","v":"G2"},{"$f":"'aligning data'!AF26","v":"H2"},{"$f":"'aligning data'!AF27","v":"I2"},{"$error":"#DIV/0!"},0,null,{"$f":"'aligning data'!AI25","v":"G2"},{"$f":"'aligning data'!AI26","v":"H2"},{"$f":"'aligning data'!AI27","v":"I2"},{"$error":"#DIV/0!"},0,null,{"$f":"'aligning data'!AL25","v":"G2"},{"$f":"'aligning data'!AL26","v":"H2"},{"$f":"'aligning data'!AL27","v":"I2"},{"$error":"#DIV/0!"},0,null,{"$f":"'aligning data'!AO25","v":"G2"},{"$f":"'aligning data'!AO26","v":"H2"},{"$f":"'aligning data'!AO27","v":"I2"},{"$error":"#DIV/0!"},0,null,{"$f":"'aligning data'!AR25","v":"G2"},{"$f":"'aligning data'!AR26","v":"H2"},{"$f":"'aligning data'!AR27","v":"I2"},{"$error":"#DIV/0!"},0,null,{"$f":"'aligning data'!AU25","v":"G2"},{"$f":"'aligning data'!AU26","v":"H2"},{"$f":"'aligning data'!AU27","v":"I2"},{"$error":"#DIV/0!"},0]
["P34",null,{"$f":"'aligning data'!B28","v":"J2"},{"$f":"'aligning data'!B29","v":"K2"},{"$f":"'aligning data'!B30","v":"L2"},{"$error":"#DIV/0!"},0,null,{"$f":"'aligning data'!E28","v":"J2"},{"$f":"'aligning data'!E29","v":"K2"},{"$f":"'aligning data'!E30","v":"L2"},{"$error":"#DIV/0!"},0,null,{"$f":"'aligning data'!H28","v":"J2"},{"$f":"'aligning data'!H29","v":"K2"},{"$f":"'aligning data'!H30","v":"L2"},{"$error":"#DIV/0!"},0,null,{"$f":"'aligning data'!K28","v":"J2"},{"$f":"'aligning data'!K29","v":"K2"},{"$f":"'aligning data'!K30","v":"L2"},{"$error":"#DIV/0!"},0,null,{"$f":"'aligning data'!N28","v":"J2"},{"$f":"'aligning data'!N29","v":"K2"},{"$f":"'aligning data'!N30","v":"L2"},{"$error":"#DIV/0!"},0,null,{"$f":"'aligning data'!Q28","v":"J2"},{"$f":"'aligning data'!Q29","v":"K2"},{"$f":"'aligning data'!Q30","v":"L2"},{"$error":"#DIV/0!"},0,null,{"$f":"'aligning data'!T28","v":"J2"},{"$f":"'aligning data'!T29","v":"K2"},{"$f":"'aligning data'!T30","v":"L2"},{"$error":"#DIV/0!"},0,null,{"$f":"'aligning data'!W28","v":"J2"},{"$f":"'aligning data'!W29","v":"K2"},{"$f":"'aligning data'!W30","v":"L2"},{"$error":"#DIV/0!"},0,null,{"$f":"'aligning data'!Z28","v":"J2"},{"$f":"'aligning data'!Z29","v":"K2"},{"$f":"'aligning data'!Z30","v":"L2"},{"$error":"#DIV/0!"},0,null,{"$f":"'aligning data'!AC28","v":"J2"},{"$f":"'aligning data'!AC29","v":"K2"},{"$f":"'aligning data'!AC30","v":"L2"},{"$error":"#DIV/0!"},0,null,{"$f":"'aligning data'!AF28","v":"J2"},{"$f":"'aligning data'!AF29","v":"K2"},{"$f":"'aligning data'!AF30","v":"L2"},{"$error":"#DIV/0!"},0,null,{"$f":"'aligning data'!AI28","v":"J2"},{"$f":"'aligning data'!AI29","v":"K2"},{"$f":"'aligning data'!AI30","v":"L2"},{"$error":"#DIV/0!"},0,null,{"$f":"'aligning data'!AL28","v":"J2"},{"$f":"'aligning data'!AL29","v":"K2"},{"$f":"'aligning data'!AL30","v":"L2"},{"$error":"#DIV/0!"},0,null,{"$f":"'aligning data'!AO28","v":"J2"},{"$f":"'aligning data'!AO29","v":"K2"},{"$f":"'aligning data'!AO30","v":"L2"},{"$error":"#DIV/0!"},0,null,{"$f":"'aligning data'!AR28","v":"J2"},{"$f":"'aligning data'!AR29","v":"K2"},{"$f":"'aligning data'!AR30","v":"L2"},{"$error":"#DIV/0!"},0,null,{"$f":"'aligning data'!AU28","v":"J2"},{"$f":"'aligning data'!AU29","v":"K2"},{"$f":"'aligning data'!AU30","v":"L2"},{"$error":"#DIV/0!"},0]
["P46",null,{"$f":"'aligning data'!B31","v":"M2"},{"$f":"'aligning data'!B32","v":"N2"},{"$f":"'aligning data'!B33","v":"O2"},{"$error":"#DIV/0!"},0,null,{"$f":"'aligning data'!E31","v":"M2"},{"$f":"'aligning data'!E32","v":"N2"},{"$f":"'aligning data'!E33","v":"O2"},{"$error":"#DIV/0!"},0,null,{"$f":"'aligning data'!H31","v":"M2"},{"$f":"'aligning data'!H32","v":"N2"},{"$f":"'aligning data'!H33","v":"O2"},{"$error":"#DIV/0!"},0,null,{"$f":"'aligning data'!K31","v":"M2"},{"$f":"'aligning data'!K32","v":"N2"},{"$f":"'aligning data'!K33","v":"O2"},{"$error":"#DIV/0!"},0,null,{"$f":"'aligning data'!N31","v":"M2"},{"$f":"'aligning data'!N32","v":"N2"},{"$f":"'aligning data'!N33","v":"O2"},{"$error":"#DIV/0!"},0,null,{"$f":"'aligning data'!Q31","v":"M2"},{"$f":"'aligning data'!Q32","v":"N2"},{"$f":"'aligning data'!Q33","v":"O2"},{"$error":"#DIV/0!"},0,null,{"$f":"'aligning data'!T31","v":"M2"},{"$f":"'aligning data'!T32","v":"N2"},{"$f":"'aligning data'!T33","v":"O2"},{"$error":"#DIV/0!"},0,null,{"$f":"'aligning data'!W31","v":"M2"},{"$f":"'aligning data'!W32","v":"N2"},{"$f":"'aligning data'!W33","v":"O2"},{"$error":"#DIV/0!"},0,null,{"$f":"'aligning data'!Z31","v":"M2"},{"$f":"'aligning data'!Z32","v":"N2"},{"$f":"'aligning data'!Z33","v":"O2"},{"$error":"#DIV/0!"},0,null,{"$f":"'aligning data'!AC31","v":"M2"},{"$f":"'aligning data'!AC32","v":"N2"},{"$f":"'aligning data'!AC33","v":"O2"},{"$error":"#DIV/0!"},0,null,{"$f":"'aligning data'!AF31","v":"M2"},{"$f":"'aligning data'!AF32","v":"N2"},{"$f":"'aligning data'!AF33","v":"O2"},{"$error":"#DIV/0!"},0,null,{"$f":"'aligning data'!AI31","v":"M2"},{"$f":"'aligning data'!AI32","v":"N2"},{"$f":"'aligning data'!AI33","v":"O2"},{"$error":"#DIV/0!"},0,null,{"$f":"'aligning data'!AL31","v":"M2"},{"$f":"'aligning data'!AL32","v":"N2"},{"$f":"'aligning data'!AL33","v":"O2"},{"$error":"#DIV/0!"},0,null,{"$f":"'aligning data'!AO31","v":"M2"},{"$f":"'aligning data'!AO32","v":"N2"},{"$f":"'aligning data'!AO33","v":"O2"},{"$error":"#DIV/0!"},0,null,{"$f":"'aligning data'!AR31","v":"M2"},{"$f":"'aligning data'!AR32","v":"N2"},{"$f":"'aligning data'!AR33","v":"O2"},{"$error":"#DIV/0!"},0,null,{"$f":"'aligning data'!AU31","v":"M2"},{"$f":"'aligning data'!AU32","v":"N2"},{"$f":"'aligning data'!AU33","v":"O2"},{"$error":"#DIV/0!"},0]
["P1",null,{"$f":"'aligning data'!B34","v":"A3"},{"$f":"'aligning data'!B35","v":"B3"},{"$f":"'aligning data'!B36","v":"C3"},{"$error":"#DIV/0!"},0,null,{"$f":"'aligning data'!E34","v":"A3"},{"$f":"'aligning data'!E35","v":"B3"},{"$f":"'aligning data'!E36","v":"C3"},{"$error":"#DIV/0!"},0,null,{"$f":"'aligning data'!H34","v":"A3"},{"$f":"'aligning data'!H35","v":"B3"},{"$f":"'aligning data'!H36","v":"C3"},{"$error":"#DIV/0!"},0,null,{"$f":"'aligning data'!K34","v":"A3"},{"$f":"'aligning data'!K35","v":"B3"},{"$f":"'aligning data'!K36","v":"C3"},{"$error":"#DIV/0!"},0,null,{"$f":"'aligning data'!N34","v":"A3"},{"$f":"'aligning data'!N35","v":"B3"},{"$f":"'aligning data'!N36","v":"C3"},{"$error":"#DIV/0!"},0,null,{"$f":"'aligning data'!Q34","v":"A3"},{"$f":"'aligning data'!Q35","v":"B3"},{"$f":"'aligning data'!Q36","v":"C3"},{"$error":"#DIV/0!"},0,null,{"$f":"'aligning data'!T34","v":"A3"},{"$f":"'aligning data'!T35","v":"B3"},{"$f":"'aligning data'!T36","v":"C3"},{"$error":"#DIV/0!"},0,null,{"$f":"'aligning data'!W34","v":"A3"},{"$f":"'aligning data'!W35","v":"B3"},{"$f":"'aligning data'!W36","v":"C3"},{"$error":"#DIV/0!"},0,null,{"$f":"'aligning data'!Z34","v":"A3"},{"$f":"'aligning data'!Z35","v":"B3"},{"$f":"'aligning data'!Z36","v":"C3"},{"$error":"#DIV/0!"},0,null,{"$f":"'aligning data'!AC34","v":"A3"},{"$f":"'aligning data'!AC35","v":"B3"},{"$f":"'aligning data'!AC36","v":"C3"},{"$error":"#DIV/0!"},0,null,{"$f":"'aligning data'!AF34","v":"A3"},{"$f":"'aligning data'!AF35","v":"B3"},{"$f":"'aligning data'!AF36","v":"C3"},{"$error":"#DIV/0!"},0,null,{"$f":"'aligning data'!AI34","v":"A3"},{"$f":"'aligning data'!AI35","v":"B3"},{"$f":"'aligning data'!AI36","v":"C3"},{"$error":"#DIV/0!"},0,null,{"$f":"'aligning data'!AL34","v":"A3"},{"$f":"'aligning data'!AL35","v":"B3"},{"$f":"'aligning data'!AL36","v":"C3"},{"$error":"#DIV/0!"},0,null,{"$f":"'aligning data'!AO34","v":"A3"},{"$f":"'aligning data'!AO35","v":"B3"},{"$f":"'aligning data'!AO36","v":"C3"},{"$error":"#DIV/0!"},0,null,{"$f":"'aligning data'!AR34","v":"A3"},{"$f":"'aligning data'!AR35","v":"B3"},{"$f":"'aligning data'!AR36","v":"C3"},{"$error":"#DIV/0!"},0,null,{"$f":"'aligning data'!AU34","v":"A3"},{"$f":"'aligning data'!AU35","v":"B3"},{"$f":"'aligning data'!AU36","v":"C3"},{"$error":"#DIV/0!"},0]
["P13",null,{"$f":"'aligning data'!B37","v":"D3"},{"$f":"'aligning data'!B38","v":"E3"},{"$f":"'aligning data'!B39","v":"F3"},{"$error":"#DIV/0!"},0,null,{"$f":"'aligning data'!E37","v":"D3"},{"$f":"'aligning data'!E38","v":"E3"},{"$f":"'aligning data'!E39","v":"F3"},{"$error":"#DIV/0!"},0,null,{"$f":"'aligning data'!H37","v":"D3"},{"$f":"'aligning data'!H38","v":"E3"},{"$f":"'aligning data'!H39","v":"F3"},{"$error":"#DIV/0!"},0,null,{"$f":"'aligning data'!K37","v":"D3"},{"$f":"'aligning data'!K38","v":"E3"},{"$f":"'aligning data'!K39","v":"F3"},{"$error":"#DIV/0!"},0,null,{"$f":"'aligning data'!N37","v":"D3"},{"$f":"'aligning data'!N38","v":"E3"},{"$f":"'aligning data'!N39","v":"F3"},{"$error":"#DIV/0!"},0,null,{"$f":"'aligning data'!Q37","v":"D3"},{"$f":"'aligning data'!Q38","v":"E3"},{"$f":"'aligning data'!Q39","v":"F3"},{"$error":"#DIV/0!"},0,null,{"$f":"'aligning data'!T37","v":"D3"},{"$f":"'aligning data'!T38","v":"E3"},{"$f":"'aligning data'!T39","v":"F3"},{"$error":"#DIV/0!"},0,null,{"$f":"'aligning data'!W37","v":"D3"},{"$f":"'aligning data'!W38","v":"E3"},{"$f":"'aligning data'!W39","v":"F3"},{"$error":"#DIV/0!"},0,null,{"$f":"'aligning data'!Z37","v":"D3"},{"$f":"'aligning data'!Z38","v":"E3"},{"$f":"'aligning data'!Z39","v":"F3"},{"$error":"#DIV/0!"},0,null,{"$f":"'aligning data'!AC37","v":"D3"},{"$f":"'aligning data'!AC38","v":"E3"},{"$f":"'aligning data'!AC39","v":"F3"},{"$error":"#DIV/0!"},0,null,{"$f":"'aligning data'!AF37","v":"D3"},{"$f":"'aligning data'!AF38","v":"E3"},{"$f":"'aligning data'!AF39","v":"F3"},{"$error":"#DIV/0!"},0,null,{"$f":"'aligning data'!AI37","v":"D3"},{"$f":"'aligning data'!AI38","v":"E3"},{"$f":"'aligning data'!AI39","v":"F3"},{"$error":"#DIV/0!"},0,null,{"$f":"'aligning data'!AL37","v":"D3"},{"$f":"'aligning data'!AL38","v":"E3"},{"$f":"'aligning data'!AL39","v":"F3"},{"$error":"#DIV/0!"},0,null,{"$f":"'aligning data'!AO37","v":"D3"},{"$f":"'aligning data'!AO38","v":"E3"},{"$f":"'aligning data'!AO39","v":"F3"},{"$error":"#DIV/0!"},0,null,{"$f":"'aligning data'!AR37","v":"D3"},{"$f":"'aligning data'!AR38","v":"E3"},{"$f":"'aligning data'!AR39","v":"F3"},{"$error":"#DIV/0!"},0,null,{"$f":"'aligning data'!AU37","v":"D3"},{"$f":"'aligning data'!AU38","v":"E3"},{"$f":"'aligning data'!AU39","v":"F3"},{"$error":"#DIV/0!"},0]
["P23",null,{"$f":"'aligning data'!B40","v":"G3"},{"$f":"'aligning data'!B41","v":"H3"},{"$f":"'aligning data'!B42","v":"I3"},{"$error":"#DIV/0!"},0,null,{"$f":"'aligning data'!E40","v":"G3"},{"$f":"'aligning data'!E41","v":"H3"},{"$f":"'aligning data'!E42","v":"I3"},{"$error":"#DIV/0!"},0,null,{"$f":"'aligning data'!H40","v":"G3"},{"$f":"'aligning data'!H41","v":"H3"},{"$f":"'aligning data'!H42","v":"I3"},{"$error":"#DIV/0!"},0,null,{"$f":"'aligning data'!K40","v":"G3"},{"$f":"'aligning data'!K41","v":"H3"},{"$f":"'aligning data'!K42","v":"I3"},{"$error":"#DIV/0!"},0,null,{"$f":"'aligning data'!N40","v":"G3"},{"$f":"'aligning data'!N41","v":"H3"},{"$f":"'aligning data'!N42","v":"I3"},{"$error":"#DIV/0!"},0,null,{"$f":"'aligning data'!Q40","v":"G3"},{"$f":"'aligning data'!Q41","v":"H3"},{"$f":"'aligning data'!Q42","v":"I3"},{"$error":"#DIV/0!"},0,null,{"$f":"'aligning data'!T40","v":"G3"},{"$f":"'aligning data'!T41","v":"H3"},{"$f":"'aligning data'!T42","v":"I3"},{"$error":"#DIV/0!"},0,null,{"$f":"'aligning data'!W40","v":"G3"},{"$f":"'aligning data'!W41","v":"H3"},{"$f":"'aligning data'!W42","v":"I3"},{"$error":"#DIV/0!"},0,null,{"$f":"'aligning data'!Z40","v":"G3"},{"$f":"'aligning data'!Z41","v":"H3"},{"$f":"'aligning data'!Z42","v":"I3"},{"$error":"#DIV/0!"},0,null,{"$f":"'aligning data'!AC40","v":"G3"},{"$f":"'aligning data'!AC41","v":"H3"},{"$f":"'aligning data'!AC42","v":"I3"},{"$error":"#DIV/0!"},0,null,{"$f":"'aligning data'!AF40","v":"G3"},{"$f":"'aligning data'!AF41","v":"H3"},{"$f":"'aligning data'!AF42","v":"I3"},{"$error":"#DIV/0!"},0,null,{"$f":"'aligning data'!AI40","v":"G3"},{"$f":"'aligning data'!AI41","v":"H3"},{"$f":"'aligning data'!AI42","v":"I3"},{"$error":"#DIV/0!"},0,null,{"$f":"'aligning data'!AL40","v":"G3"},{"$f":"'aligning data'!AL41","v":"H3"},{"$f":"'aligning data'!AL42","v":"I3"},{"$error":"#DIV/0!"},0,null,{"$f":"'aligning data'!AO40","v":"G3"},{"$f":"'aligning data'!AO41","v":"H3"},{"$f":"'aligning data'!AO42","v":"I3"},{"$error":"#DIV/0!"},0,null,{"$f":"'aligning data'!AR40","v":"G3"},{"$f":"'aligning data'!AR41","v":"H3"},{"$f":"'aligning data'!AR42","v":"I3"},{"$error":"#DIV/0!"},0,null,{"$f":"'aligning data'!AU40","v":"G3"},{"$f":"'aligning data'!AU41","v":"H3"},{"$f":"'aligning data'!AU42","v":"I3"},{"$error":"#DIV/0!"},0]
["P35",null,{"$f":"'aligning data'!B43","v":"J3"},{"$f":"'aligning data'!B44","v":"K3"},{"$f":"'aligning data'!B45","v":"L3"},{"$error":"#DIV/0!"},0,null,{"$f":"'aligning data'!E43","v":"J3"},{"$f":"'aligning data'!E44","v":"K3"},{"$f":"'aligning data'!E45","v":"L3"},{"$error":"#DIV/0!"},0,null,{"$f":"'aligning data'!H43","v":"J3"},{"$f":"'aligning data'!H44","v":"K3"},{"$f":"'aligning data'!H45","v":"L3"},{"$error":"#DIV/0!"},0,null,{"$f":"'aligning data'!K43","v":"J3"},{"$f":"'aligning data'!K44","v":"K3"},{"$f":"'aligning data'!K45","v":"L3"},{"$error":"#DIV/0!"},0,null,{"$f":"'aligning data'!N43","v":"J3"},{"$f":"'aligning data'!N44","v":"K3"},{"$f":"'aligning data'!N45","v":"L3"},{"$error":"#DIV/0!"},0,null,{"$f":"'aligning data'!Q43","v":"J3"},{"$f":"'aligning data'!Q44","v":"K3"},{"$f":"'aligning data'!Q45","v":"L3"},{"$error":"#DIV/0!"},0,null,{"$f":"'aligning data'!T43","v":"J3"},{"$f":"'aligning data'!T44","v":"K3"},{"$f":"'aligning data'!T45","v":"L3"},{"$error":"#DIV/0!"},0,null,{"$f":"'aligning data'!W43","v":"J3"},{"$f":"'aligning data'!W44","v":"K3"},{"$f":"'aligning data'!W45","v":"L3"},{"$error":"#DIV/0!"},0,null,{"$f":"'aligning data'!Z43","v":"J3"},{"$f":"'aligning data'!Z44","v":"K3"},{"$f":"'aligning data'!Z45","v":"L3"},{"$error":"#DIV/0!"},0,null,{"$f":"'aligning data'!AC43","v":"J3"},{"$f":"'aligning data'!AC44","v":"K3"},{"$f":"'aligning data'!AC45","v":"L3"},{"$error":"#DIV/0!"},0,null,{"$f":"'aligning data'!AF43","v":"J3"},{"$f":"'aligning data'!AF44","v":"K3"},{"$f":"'aligning data'!AF45","v":"L3"},{"$error":"#DIV/0!"},0,null,{"$f":"'aligning data'!AI43","v":"J3"},{"$f":"'aligning data'!AI44","v":"K3"},{"$f":"'aligning data'!AI45","v":"L3"},{"$error":"#DIV/0!"},0,null,{"$f":"'aligning data'!AL43","v":"J3"},{"$f":"'aligning data'!AL44","v":"K3"},{"$f":"'aligning data'!AL45","v":"L3"},{"$error":"#DIV/0!"},0,null,{"$f":"'aligning data'!AO43","v":"J3"},{"$f":"'aligning data'!AO44","v":"K3"},{"$f":"'aligning data'!AO45","v":"L3"},{"$error":"#DIV/0!"},0,null,{"$f":"'aligning data'!AR43","v":"J3"},{"$f":"'aligning data'!AR44","v":"K3"},{"$f":"'aligning data'!AR45","v":"L3"},{"$error":"#DIV/0!"},0,null,{"$f":"'aligning data'!AU43","v":"J3"},{"$f":"'aligning data'!AU44","v":"K3"},{"$f":"'aligning data'!AU45","v":"L3"},{"$error":"#DIV/0!"},0]
["P47",null,{"$f":"'aligning data'!B46","v":"M3"},{"$f":"'aligning data'!B47","v":"N3"},{"$f":"'aligning data'!B48","v":"O3"},{"$error":"#DIV/0!"},0,null,{"$f":"'aligning data'!E46","v":"M3"},{"$f":"'aligning data'!E47","v":"N3"},{"$f":"'aligning data'!E48","v":"O3"},{"$error":"#DIV/0!"},0,null,{"$f":"'aligning data'!H46","v":"M3"},{"$f":"'aligning data'!H47","v":"N3"},{"$f":"'aligning data'!H48","v":"O3"},{"$error":"#DIV/0!"},0,null,{"$f":"'aligning data'!K46","v":"M3"},{"$f":"'aligning data'!K47","v":"N3"},{"$f":"'aligning data'!K48","v":"O3"},{"$error":"#DIV/0!"},0,null,{"$f":"'aligning data'!N46","v":"M3"},{"$f":"'aligning data'!N47","v":"N3"},{"$f":"'aligning data'!N48","v":"O3"},{"$error":"#DIV/0!"},0,null,{"$f":"'aligning data'!Q46","v":"M3"},{"$f":"'aligning data'!Q47","v":"N3"},{"$f":"'aligning data'!Q48","v":"O3"},{"$error":"#DIV/0!"},0,null,{"$f":"'aligning data'!T46","v":"M3"},{"$f":"'aligning data'!T47","v":"N3"},{"$f":"'aligning data'!T48","v":"O3"},{"$error":"#DIV/0!"},0,null,{"$f":"'aligning data'!W46","v":"M3"},{"$f":"'aligning data'!W47","v":"N3"},{"$f":"'aligning data'!W48","v":"O3"},{"$error":"#DIV/0!"},0,null,{"$f":"'aligning data'!Z46","v":"M3"},{"$f":"'aligning data'!Z47","v":"N3"},{"$f":"'aligning data'!Z48","v":"O3"},{"$error":"#DIV/0!"},0,null,{"$f":"'aligning data'!AC46","v":"M3"},{"$f":"'aligning data'!AC47","v":"N3"},{"$f":"'aligning data'!AC48","v":"O3"},{"$error":"#DIV/0!"},0,null,{"$f":"'aligning data'!AF46","v":"M3"},{"$f":"'aligning data'!AF47","v":"N3"},{"$f":"'aligning data'!AF48","v":"O3"},{"$error":"#DIV/0!"},0,null,{"$f":"'aligning data'!AI46","v":"M3"},{"$f":"'aligning data'!AI47","v":"N3"},{"$f":"'aligning data'!AI48","v":"O3"},{"$error":"#DIV/0!"},0,null,{"$f":"'aligning data'!AL46","v":"M3"},{"$f":"'aligning data'!AL47","v":"N3"},{"$f":"'aligning data'!AL48","v":"O3"},{"$error":"#DIV/0!"},0,null,{"$f":"'aligning data'!AO46","v":"M3"},{"$f":"'aligning data'!AO47","v":"N3"},{"$f":"'aligning data'!AO48","v":"O3"},{"$error":"#DIV/0!"},0,null,{"$f":"'aligning data'!AR46","v":"M3"},{"$f":"'aligning data'!AR47","v":"N3"},{"$f":"'aligning data'!AR48","v":"O3"},{"$error":"#DIV/0!"},0,null,{"$f":"'aligning data'!AU46","v":"M3"},{"$f":"'aligning data'!AU47","v":"N3"},{"$f":"'aligning data'!AU48","v":"O3"},{"$error":"#DIV/0!"},0]
["P2",null,{"$f":"'aligning data'!B49","v":"A4"},{"$f":"'aligning data'!B50","v":"B4"},{"$f":"'aligning data'!B51","v":"C4"},{"$error":"#DIV/0!"},0,null,{"$f":"'aligning data'!E49","v":"A4"},{"$f":"'aligning data'!E50","v":"B4"},{"$f":"'aligning data'!E51","v":"C4"},{"$error":"#DIV/0!"},0,null,{"$f":"'aligning data'!H49","v":"A4"},{"$f":"'aligning data'!H50","v":"B4"},{"$f":"'aligning data'!H51","v":"C4"},{"$error":"#DIV/0!"},0,null,{"$f":"'aligning data'!K49","v":"A4"},{"$f":"'aligning data'!K50","v":"B4"},{"$f":"'aligning data'!K51","v":"C4"},{"$error":"#DIV/0!"},0,null,{"$f":"'aligning data'!N49","v":"A4"},{"$f":"'aligning data'!N50","v":"B4"},{"$f":"'aligning data'!N51","v":"C4"},{"$error":"#DIV/0!"},0,null,{"$f":"'aligning data'!Q49","v":"A4"},{"$f":"'aligning data'!Q50","v":"B4"},{"$f":"'aligning data'!Q51","v":"C4"},{"$error":"#DIV/0!"},0,null,{"$f":"'aligning data'!T49","v":"A4"},{"$f":"'aligning data'!T50","v":"B4"},{"$f":"'aligning data'!T51","v":"C4"},{"$error":"#DIV/0!"},0,null,{"$f":"'aligning data'!W49","v":"A4"},{"$f":"'aligning data'!W50","v":"B4"},{"$f":"'aligning data'!W51","v":"C4"},{"$error":"#DIV/0!"},0,null,{"$f":"'aligning data'!Z49","v":"A4"},{"$f":"'aligning data'!Z50","v":"B4"},{"$f":"'aligning data'!Z51","v":"C4"},{"$error":"#DIV/0!"},0,null,{"$f":"'aligning data'!AC49","v":"A4"},{"$f":"'aligning data'!AC50","v":"B4"},{"$f":"'aligning data'!AC51","v":"C4"},{"$error":"#DIV/0!"},0,null,{"$f":"'aligning data'!AF49","v":"A4"},{"$f":"'aligning data'!AF50","v":"B4"},{"$f":"'aligning data'!AF51","v":"C4"},{"$error":"#DIV/0!"},0,null,{"$f":"'aligning data'!AI49","v":"A4"},{"$f":"'aligning data'!AI50","v":"B4"},{"$f":"'aligning data'!AI51","v":"C4"},{"$error":"#DIV/0!"},0,null,{"$f":"'aligning data'!AL49","v":"A4"},{"$f":"'aligning data'!AL50","v":"B4"},{"$f":"'aligning data'!AL51","v":"C4"},{"$error":"#DIV/0!"},0,null,{"$f":"'aligning data'!AO49","v":"A4"},{"$f":"'aligning data'!AO50","v":"B4"},{"$f":"'aligning data'!AO51","v":"C4"},{"$error":"#DIV/0!"},0,null,{"$f":"'aligning data'!AR49","v":"A4"},{"$f":"'aligning data'!AR50","v":"B4"},{"$f":"'aligning data'!AR51","v":"C4"},{"$error":"#DIV/0!"},0,null,{"$f":"'aligning data'!AU49","v":"A4"},{"$f":"'aligning data'!AU50","v":"B4"},{"$f":"'aligning data'!AU51","v":"C4"},{"$error":"#DIV/0!"},0]
["P14",null,{"$f":"'aligning data'!B52","v":"D4"},{"$f":"'aligning data'!B53","v":"E4"},{"$f":"'aligning data'!B54","v":"F4"},{"$error":"#DIV/0!"},0,null,{"$f":"'aligning data'!E52","v":"D4"},{"$f":"'aligning data'!E53","v":"E4"},{"$f":"'aligning data'!E54","v":"F4"},{"$error":"#DIV/0!"},0,null,{"$f":"'aligning data'!H52","v":"D4"},{"$f":"'aligning data'!H53","v":"E4"},{"$f":"'aligning data'!H54","v":"F4"},{"$error":"#DIV/0!"},0,null,{"$f":"'aligning data'!K52","v":"D4"},{"$f":"'aligning data'!K53","v":"E4"},{"$f":"'aligning data'!K54","v":"F4"},{"$error":"#DIV/0!"},0,null,{"$f":"'aligning data'!N52","v":"D4"},{"$f":"'aligning data'!N53","v":"E4"},{"$f":"'aligning data'!N54","v":"F4"},{"$error":"#DIV/0!"},0,null,{"$f":"'aligning data'!Q52","v":"D4"},{"$f":"'aligning data'!Q53","v":"E4"},{"$f":"'aligning data'!Q54","v":"F4"},{"$error":"#DIV/0!"},0,null,{"$f":"'aligning data'!T52","v":"D4"},{"$f":"'aligning data'!T53","v":"E4"},{"$f":"'aligning data'!T54","v":"F4"},{"$error":"#DIV/0!"},0,null,{"$f":"'aligning data'!W52","v":"D4"},{"$f":"'aligning data'!W53","v":"E4"},{"$f":"'aligning data'!W54","v":"F4"},{"$error":"#DIV/0!"},0,null,{"$f":"'aligning data'!Z52","v":"D4"},{"$f":"'aligning data'!Z53","v":"E4"},{"$f":"'aligning data'!Z54","v":"F4"},{"$error":"#DIV/0!"},0,null,{"$f":"'aligning data'!AC52","v":"D4"},{"$f":"'aligning data'!AC53","v":"E4"},{"$f":"'aligning data'!AC54","v":"F4"},{"$error":"#DIV/0!"},0,null,{"$f":"'aligning data'!AF52","v":"D4"},{"$f":"'aligning data'!AF53","v":"E4"},{"$f":"'aligning data'!AF54","v":"F4"},{"$error":"#DIV/0!"},0,null,{"$f":"'aligning data'!AI52","v":"D4"},{"$f":"'aligning data'!AI53","v":"E4"},{"$f":"'aligning data'!AI54","v":"F4"},{"$error":"#DIV/0!"},0,null,{"$f":"'aligning data'!AL52","v":"D4"},{"$f":"'aligning data'!AL53","v":"E4"},{"$f":"'aligning data'!AL54","v":"F4"},{"$error":"#DIV/0!"},0,null,{"$f":"'aligning data'!AO52","v":"D4"},{"$f":"'aligning data'!AO53","v":"E4"},{"$f":"'aligning data'!AO54","v":"F4"},{"$error":"#DIV/0!"},0,null,{"$f":"'aligning data'!AR52","v":"D4"},{"$f":"'aligning data'!AR53","v":"E4"},{"$f":"'aligning data'!AR54","v":"F4"},{"$error":"#DIV/0!"},0,null,{"$f":"'aligning data'!AU52","v":"D4"},{"$f":"'aligning data'!AU53","v":"E4"},{"$f":"'aligning data'!AU54","v":"F4"},{"$error":"#DIV/0!"},0]
["P24",null,{"$f":"'aligning data'!B55","v":"G4"},{"$f":"'aligning data'!B56","v":"H4"},{"$f":"'aligning data'!B57","v":"I4"},{"$error":"#DIV/0!"},0,null,{"$f":"'aligning data'!E55","v":"G4"},{"$f":"'aligning data'!E56","v":"H4"},{"$f":"'aligning data'!E57","v":"I4"},{"$error":"#DIV/0!"},0,null,{"$f":"'aligning data'!H55","v":"G4"},{"$f":"'aligning data'!H56","v":"H4"},{"$f":"'aligning data'!H57","v":"I4"},{"$error":"#DIV/0!"},0,null,{"$f":"'aligning data'!K55","v":"G4"},{"$f":"'aligning data'!K56","v":"H4"},{"$f":"'aligning data'!K57","v":"I4"},{"$error":"#DIV/0!"},0,null,{"$f":"'aligning data'!N55","v":"G4"},{"$f":"'aligning data'!N56","v":"H4"},{"$f":"'aligning data'!N57","v":"I4"},{"$error":"#DIV/0!"},0,null,{"$f":"'aligning data'!Q55","v":"G4"},{"$f":"'aligning data'!Q56","v":"H4"},{"$f":"'aligning data'!Q57","v":"I4"},{"$error":"#DIV/0!"},0,null,{"$f":"'aligning data'!T55","v":"G4"},{"$f":"'aligning data'!T56","v":"H4"},{"$f":"'aligning data'!T57","v":"I4"},{"$error":"#DIV/0!"},0,null,{"$f":"'aligning data'!W55","v":"G4"},{"$f":"'aligning data'!W56","v":"H4"},{"$f":"'aligning data'!W57","v":"I4"},{"$error":"#DIV/0!"},0,null,{"$f":"'aligning data'!Z55","v":"G4"},{"$f":"'aligning data'!Z56","v":"H4"},{"$f":"'aligning data'!Z57","v":"I4"},{"$error":"#DIV/0!"},0,null,{"$f":"'aligning data'!AC55","v":"G4"},{"$f":"'aligning data'!AC56","v":"H4"},{"$f":"'aligning data'!AC57","v":"I4"},{"$error":"#DIV/0!"},0,null,{"$f":"'aligning data'!AF55","v":"G4"},{"$f":"'aligning data'!AF56","v":"H4"},{"$f":"'aligning data'!AF57","v":"I4"},{"$error":"#DIV/0!"},0,null,{"$f":"'aligning data'!AI55","v":"G4"},{"$f":"'aligning data'!AI56","v":"H4"},{"$f":"'aligning data'!AI57","v":"I4"},{"$error":"#DIV/0!"},0,null,{"$f":"'aligning data'!AL55","v":"G4"},{"$f":"'aligning data'!AL56","v":"H4"},{"$f":"'aligning data'!AL57","v":"I4"},{"$error":"#DIV/0!"},0,null,{"$f":"'aligning data'!AO55","v":"G4"},{"$f":"'aligning data'!AO56","v":"H4"},{"$f":"'aligning data'!AO57","v":"I4"},{"$error":"#DIV/0!"},0,null,{"$f":"'aligning data'!AR55","v":"G4"},{"$f":"'aligning data'!AR56","v":"H4"},{"$f":"'aligning data'!AR57","v":"I4"},{"$error":"#DIV/0!"},0,null,{"$f":"'aligning data'!AU55","v":"G4"},{"$f":"'aligning data'!AU56","v":"H4"},{"$f":"'aligning data'!AU57","v":"I4"},{"$error":"#DIV/0!"},0]
["P36",null,{"$f":"'aligning data'!B58","v":"J4"},{"$f":"'aligning data'!B59","v":"K4"},{"$f":"'aligning data'!B60","v":"L4"},{"$error":"#DIV/0!"},0,null,{"$f":"'aligning data'!E58","v":"J4"},{"$f":"'aligning data'!E59","v":"K4"},{"$f":"'aligning data'!E60","v":"L4"},{"$error":"#DIV/0!"},0,null,{"$f":"'aligning data'!H58","v":"J4"},{"$f":"'aligning data'!H59","v":"K4"},{"$f":"'aligning data'!H60","v":"L4"},{"$error":"#DIV/0!"},0,null,{"$f":"'aligning data'!K58","v":"J4"},{"$f":"'aligning data'!K59","v":"K4"},{"$f":"'aligning data'!K60","v":"L4"},{"$error":"#DIV/0!"},0,null,{"$f":"'aligning data'!N58","v":"J4"},{"$f":"'aligning data'!N59","v":"K4"},{"$f":"'aligning data'!N60","v":"L4"},{"$error":"#DIV/0!"},0,null,{"$f":"'aligning data'!Q58","v":"J4"},{"$f":"'aligning data'!Q59","v":"K4"},{"$f":"'aligning data'!Q60","v":"L4"},{"$error":"#DIV/0!"},0,null,{"$f":"'aligning data'!T58","v":"J4"},{"$f":"'aligning data'!T59","v":"K4"},{"$f":"'aligning data'!T60","v":"L4"},{"$error":"#DIV/0!"},0,null,{"$f":"'aligning data'!W58","v":"J4"},{"$f":"'aligning data'!W59","v":"K4"},{"$f":"'aligning data'!W60","v":"L4"},{"$error":"#DIV/0!"},0,null,{"$f":"'aligning data'!Z58","v":"J4"},{"$f":"'aligning data'!Z59","v":"K4"},{"$f":"'aligning data'!Z60","v":"L4"},{"$error":"#DIV/0!"},0,null,{"$f":"'aligning data'!AC58","v":"J4"},{"$f":"'aligning data'!AC59","v":"K4"},{"$f":"'aligning data'!AC60","v":"L4"},{"$error":"#DIV/0!"},0,null,{"$f":"'aligning data'!AF58","v":"J4"},{"$f":"'aligning data'!AF59","v":"K4"},{"$f":"'aligning data'!AF60","v":"L4"},{"$error":"#DIV/0!"},0,null,{"$f":"'aligning data'!AI58","v":"J4"},{"$f":"'aligning data'!AI59","v":"K4"},{"$f":"'aligning data'!AI60","v":"L4"},{"$error":"#DIV/0!"},0,null,{"$f":"'aligning data'!AL58","v":"J4"},{"$f":"'aligning data'!AL59","v":"K4"},{"$f":"'aligning data'!AL60","v":"L4"},{"$error":"#DIV/0!"},0,null,{"$f":"'aligning data'!AO58","v":"J4"},{"$f":"'aligning data'!AO59","v":"K4"},{"$f":"'aligning data'!AO60","v":"L4"},{"$error":"#DIV/0!"},0,null,{"$f":"'aligning data'!AR58","v":"J4"},{"$f":"'aligning data'!AR59","v":"K4"},{"$f":"'aligning data'!AR60","v":"L4"},{"$error":"#DIV/0!"},0,null,{"$f":"'aligning data'!AU58","v":"J4"},{"$f":"'aligning data'!AU59","v":"K4"},{"$f":"'aligning data'!AU60","v":"L4"},{"$error":"#DIV/0!"},0]
["P48",null,{"$f":"'aligning data'!B61","v":"M4"},{"$f":"'aligning data'!B62","v":"N4"},{"$f":"'aligning data'!B63","v":"O4"},{"$error":"#DIV/0!"},0,null,{"$f":"'aligning data'!E61","v":"M4"},{"$f":"'aligning data'!E62","v":"N4"},{"$f":"'aligning data'!E63","v":"O4"},{"$error":"#DIV/0!"},0,null,{"$f":"'aligning data'!H61","v":"M4"},{"$f":"'aligning data'!H62","v":"N4"},{"$f":"'aligning data'!H63","v":"O4"},{"$error":"#DIV/0!"},0,null,{"$f":"'aligning data'!K61","v":"M4"},{"$f":"'aligning data'!K62","v":"N4"},{"$f":"'aligning data'!K63","v":"O4"},{"$error":"#DIV/0!"},0,null,{"$f":"'aligning data'!N61","v":"M4"},{"$f":"'aligning data'!N62","v":"N4"},{"$f":"'aligning data'!N63","v":"O4"},{"$error":"#DIV/0!"},0,null,{"$f":"'aligning data'!Q61","v":"M4"},{"$f":"'aligning data'!Q62","v":"N4"},{"$f":"'aligning data'!Q63","v":"O4"},{"$error":"#DIV/0!"},0,null,{"$f":"'aligning data'!T61","v":"M4"},{"$f":"'aligning data'!T62","v":"N4"},{"$f":"'aligning data'!T63","v":"O4"},{"$error":"#DIV/0!"},0,null,{"$f":"'aligning data'!W61","v":"M4"},{"$f":"'aligning data'!W62","v":"N4"},{"$f":"'aligning data'!W63","v":"O4"},{"$error":"#DIV/0!"},0,null,{"$f":"'aligning data'!Z61","v":"M4"},{"$f":"'aligning data'!Z62","v":"N4"},{"$f":"'aligning data'!Z63","v":"O4"},{"$error":"#DIV/0!"},0,null,{"$f":"'aligning data'!AC61","v":"M4"},{"$f":"'aligning data'!AC62","v":"N4"},{"$f":"'aligning data'!AC63","v":"O4"},{"$error":"#DIV/0!"},0,null,{"$f":"'aligning data'!AF61","v":"M4"},{"$f":"'aligning data'!AF62","v":"N4"},{"$f":"'aligning data'!AF63","v":"O4"},{"$error":"#DIV/0!"},0,null,{"$f":"'aligning data'!AI61","v":"M4"},{"$f":"'aligning data'!AI62","v":"N4"},{"$f":"'aligning data'!AI63","v":"O4"},{"$error":"#DIV/0!"},0,null,{"$f":"'aligning data'!AL61","v":"M4"},{"$f":"'aligning data'!AL62","v":"N4"},{"$f":"'aligning data'!AL63","v":"O4"},{"$error":"#DIV/0!"},0,null,{"$f":"'aligning data'!AO61","v":"M4"},{"$f":"'aligning data'!AO62","v":"N4"},{"$f":"'aligning data'!AO63","v":"O4"},{"$error":"#DIV/0!"},0,null,{"$f":"'aligning data'!AR61","v":"M4"},{"$f":"'aligning data'!AR62","v":"N4"},{"$f":"'aligning data'!AR63","v":"O4"},{"$error":"#DIV/0!"},0,null,{"$f":"'aligning data'!AU61","v":"M4"},{"$f":"'aligning data'!AU62","v":"N4"},{"$f":"'aligning data'!AU63","v":"O4"},{"$error":"#DIV/0!"},0]
["P3",null,{"$f":"'aligning data'!B64","v":"A5"},{"$f":"'aligning data'!B65","v":"B5"},{"$f":"'aligning data'!B66","v":"C5"},{"$error":"#DIV/0!"},0,null,{"$f":"'aligning data'!E64","v":"A5"},{"$f":"'aligning data'!E65","v":"B5"},{"$f":"'aligning data'!E66","v":"C5"},{"$error":"#DIV/0!"},0,null,{"$f":"'aligning data'!H64","v":"A5"},{"$f":"'aligning data'!H65","v":"B5"},{"$f":"'aligning data'!H66","v":"C5"},{"$error":"#DIV/0!"},0,null,{"$f":"'aligning data'!K64","v":"A5"},{"$f":"'aligning data'!K65","v":"B5"},{"$f":"'aligning data'!K66","v":"C5"},{"$error":"#DIV/0!"},0,null,{"$f":"'aligning data'!N64","v":"A5"},{"$f":"'aligning data'!N65","v":"B5"},{"$f":"'aligning data'!N66","v":"C5"},{"$error":"#DIV/0!"},0,null,{"$f":"'aligning data'!Q64","v":"A5"},{"$f":"'aligning data'!Q65","v":"B5"},{"$f":"'aligning data'!Q66","v":"C5"},{"$error":"#DIV/0!"},0,null,{"$f":"'aligning data'!T64","v":"A5"},{"$f":"'aligning data'!T65","v":"B5"},{"$f":"'aligning data'!T66","v":"C5"},{"$error":"#DIV/0!"},0,null,{"$f":"'aligning data'!W64","v":"A5"},{"$f":"'aligning data'!W65","v":"B5"},{"$f":"'aligning data'!W66","v":"C5"},{"$error":"#DIV/0!"},0,null,{"$f":"'aligning data'!Z64","v":"A5"},{"$f":"'aligning data'!Z65","v":"B5"},{"$f":"'aligning data'!Z66","v":"C5"},{"$error":"#DIV/0!"},0,null,{"$f":"'aligning data'!AC64","v":"A5"},{"$f":"'aligning data'!AC65","v":"B5"},{"$f":"'aligning data'!AC66","v":"C5"},{"$error":"#DIV/0!"},0,null,{"$f":"'aligning data'!AF64","v":"A5"},{"$f":"'aligning data'!AF65","v":"B5"},{"$f":"'aligning data'!AF66","v":"C5"},{"$error":"#DIV/0!"},0,null,{"$f":"'aligning data'!AI64","v":"A5"},{"$f":"'aligning data'!AI65","v":"B5"},{"$f":"'aligning data'!AI66","v":"C5"},{"$error":"#DIV/0!"},0,null,{"$f":"'aligning data'!AL64","v":"A5"},{"$f":"'aligning data'!AL65","v":"B5"},{"$f":"'aligning data'!AL66","v":"C5"},{"$error":"#DIV/0!"},0,null,{"$f":"'aligning data'!AO64","v":"A5"},{"$f":"'aligning data'!AO65","v":"B5"},{"$f":"'aligning data'!AO66","v":"C5"},{"$error":"#DIV/0!"},0,null,{"$f":"'aligning data'!AR64","v":"A5"},{"$f":"'aligning data'!AR65","v":"B5"},{"$f":"'aligning data'!AR66","v":"C5"},{"$error":"#DIV/0!"},0,null,{"$f":"'aligning data'!AU64","v":"A5"},{"$f":"'aligning data'!AU65","v":"B5"},{"$f":"'aligning data'!AU66","v":"C5"},{"$error":"#DIV/0!"},0]
["P15",null,{"$f":"'aligning data'!B67","v":"D5"},{"$f":"'aligning data'!B68","v":"E5"},{"$f":"'aligning data'!B69","v":"F5"},{"$error":"#DIV/0!"},0,null,{"$f":"'aligning data'!E67","v":"D5"},{"$f":"'aligning data'!E68","v":"E5"},{"$f":"'aligning data'!E69","v":"F5"},{"$error":"#DIV/0!"},0,null,{"$f":"'aligning data'!H67","v":"D5"},{"$f":"'aligning data'!H68","v":"E5"},{"$f":"'aligning data'!H69","v":"F5"},{"$error":"#DIV/0!"},0,null,{"$f":"'aligning data'!K67","v":"D5"},{"$f":"'aligning data'!K68","v":"E5"},{"$f":"'aligning data'!K69","v":"F5"},{"$error":"#DIV/0!"},0,null,{"$f":"'aligning data'!N67","v":"D5"},{"$f":"'aligning data'!N68","v":"E5"},{"$f":"'aligning data'!N69","v":"F5"},{"$error":"#DIV/0!"},0,null,{"$f":"'aligning data'!Q67","v":"D5"},{"$f":"'aligning data'!Q68","v":"E5"},{"$f":"'aligning data'!Q69","v":"F5"},{"$error":"#DIV/0!"},0,null,{"$f":"'aligning data'!T67","v":"D5"},{"$f":"'aligning data'!T68","v":"E5"},{"$f":"'aligning data'!T69","v":"F5"},{"$error":"#DIV/0!"},0,null,{"$f":"'aligning data'!W67","v":"D5"},{"$f":"'aligning data'!W68","v":"E5"},{"$f":"'aligning data'!W69","v":"F5"},{"$error":"#DIV/0!"},0,null,{"$f":"'aligning data'!Z67","v":"D5"},{"$f":"'aligning data'!Z68","v":"E5"},{"$f":"'aligning data'!Z69","v":"F5"},{"$error":"#DIV/0!"},0,null,{"$f":"'aligning data'!AC67","v":"D5"},{"$f":"'aligning data'!AC68","v":"E5"},{"$f":"'aligning data'!AC69","v":"F5"},{"$error":"#DIV/0!"},0,null,{"$f":"'aligning data'!AF67","v":"D5"},{"$f":"'aligning data'!AF68","v":"E5"},{"$f":"'aligning data'!AF69","v":"F5"},{"$error":"#DIV/0!"},0,null,{"$f":"'aligning data'!AI67","v":"D5"},{"$f":"'aligning data'!AI68","v":"E5"},{"$f":"'aligning data'!AI69","v":"F5"},{"$error":"#DIV/0!"},0,null,{"$f":"'aligning data'!AL67","v":"D5"},{"$f":"'aligning data'!AL68","v":"E5"},{"$f":"'aligning data'!AL69","v":"F5"},{"$error":"#DIV/0!"},0,null,{"$f":"'aligning data'!AO67","v":"D5"},{"$f":"'aligning data'!AO68","v":"E5"},{"$f":"'aligning data'!AO69","v":"F5"},{"$error":"#DIV/0!"},0,null,{"$f":"'aligning data'!AR67","v":"D5"},{"$f":"'aligning data'!AR68","v":"E5"},{"$f":"'aligning data'!AR69","v":"F5"},{"$error":"#DIV/0!"},0,null,{"$f":"'aligning data'!AU67","v":"D5"},{"$f":"'aligning data'!AU68","v":"E5"},{"$f":"'aligning data'!AU69","v":"F5"},{"$error":"#DIV/0!"},0]
["P25",null,{"$f":"'aligning data'!B70","v":"G5"},{"$f":"'aligning data'!B71","v":"H5"},{"$f":"'aligning data'!B72","v":"I5"},{"$error":"#DIV/0!"},0,null,{"$f":"'aligning data'!E70","v":"G5"},{"$f":"'aligning data'!E71","v":"H5"},{"$f":"'aligning data'!E72","v":"I5"},{"$error":"#DIV/0!"},0,null,{"$f":"'aligning data'!H70","v":"G5"},{"$f":"'aligning data'!H71","v":"H5"},{"$f":"'aligning data'!H72","v":"I5"},{"$error":"#DIV/0!"},0,null,{"$f":"'aligning data'!K70","v":"G5"},{"$f":"'aligning data'!K71","v":"H5"},{"$f":"'aligning data'!K72","v":"I5"},{"$error":"#DIV/0!"},0,null,{"$f":"'aligning data'!N70","v":"G5"},{"$f":"'aligning data'!N71","v":"H5"},{"$f":"'aligning data'!N72","v":"I5"},{"$error":"#DIV/0!"},0,null,{"$f":"'aligning data'!Q70","v":"G5"},{"$f":"'aligning data'!Q71","v":"H5"},{"$f":"'aligning data'!Q72","v":"I5"},{"$error":"#DIV/0!"},0,null,{"$f":"'aligning data'!T70","v":"G5"},{"$f":"'aligning data'!T71","v":"H5"},{"$f":"'aligning data'!T72","v":"I5"},{"$error":"#DIV/0!"},0,null,{"$f":"'aligning data'!W70","v":"G5"},{"$f":"'aligning data'!W71","v":"H5"},{"$f":"'aligning data'!W72","v":"I5"},{"$error":"#DIV/0!"},0,null,{"$f":"'aligning data'!Z70","v":"G5"},{"$f":"'aligning data'!Z71","v":"H5"},{"$f":"'aligning data'!Z72","v":"I5"},{"$error":"#DIV/0!"},0,null,{"$f":"'aligning data'!AC70","v":"G5"},{"$f":"'aligning data'!AC71","v":"H5"},{"$f":"'aligning data'!AC72","v":"I5"},{"$error":"#DIV/0!"},0,null,{"$f":"'aligning data'!AF70","v":"G5"},{"$f":"'aligning data'!AF71","v":"H5"},{"$f":"'aligning data'!AF72","v":"I5"},{"$error":"#DIV/0!"},0,null,{"$f":"'aligning data'!AI70","v":"G5"},{"$f":"'aligning data'!AI71","v":"H5"},{"$f":"'aligning data'!AI72","v":"I5"},{"$error":"#DIV/0!"},0,null,{"$f":"'aligning data'!AL70","v":"G5"},{"$f":"'aligning data'!AL71","v":"H5"},{"$f":"'aligning data'!AL72","v":"I5"},{"$error":"#DIV/0!"},0,null,{"$f":"'aligning data'!AO70","v":"G5"},{"$f":"'aligning data'!AO71","v":"H5"},{"$f":"'aligning data'!AO72","v":"I5"},{"$error":"#DIV/0!"},0,null,{"$f":"'aligning data'!AR70","v":"G5"},{"$f":"'aligning data'!AR71","v":"H5"},{"$f":"'aligning data'!AR72","v":"I5"},{"$error":"#DIV/0!"},0,null,{"$f":"'aligning data'!AU70","v":"G5"},{"$f":"'aligning data'!AU71","v":"H5"},{"$f":"'aligning data'!AU72","v":"I5"},{"$error":"#DIV/0!"},0]
["P37",null,{"$f":"'aligning data'!B73","v":"J5"},{"$f":"'aligning data'!B74","v":"K5"},{"$f":"'aligning data'!B75","v":"L5"},{"$error":"#DIV/0!"},0,null,{"$f":"'aligning data'!E73","v":"J5"},{"$f":"'aligning data'!E74","v":"K5"},{"$f":"'aligning data'!E75","v":"L5"},{"$error":"#DIV/0!"},0,null,{"$f":"'aligning data'!H73","v":"J5"},{"$f":"'aligning data'!H74","v":"K5"},{"$f":"'aligning data'!H75","v":"L5"},{"$error":"#DIV/0!"},0,null,{"$f":"'aligning data'!K73","v":"J5"},{"$f":"'aligning data'!K74","v":"K5"},{"$f":"'aligning data'!K75","v":"L5"},{"$error":"#DIV/0!"},0,null,{"$f":"'aligning data'!N73","v":"J5"},{"$f":"'aligning data'!N74","v":"K5"},{"$f":"'aligning data'!N75","v":"L5"},{"$error":"#DIV/0!"},0,null,{"$f":"'aligning data'!Q73","v":"J5"},{"$f":"'aligning data'!Q74","v":"K5"},{"$f":"'aligning data'!Q75","v":"L5"},{"$error":"#DIV/0!"},0,null,{"$f":"'aligning data'!T73","v":"J5"},{"$f":"'aligning data'!T74","v":"K5"},{"$f":"'aligning data'!T75","v":"L5"},{"$error":"#DIV/0!"},0,null,{"$f":"'aligning data'!W73","v":"J5"},{"$f":"'aligning data'!W74","v":"K5"},{"$f":"'aligning data'!W75","v":"L5"},{"$error":"#DIV/0!"},0,null,{"$f":"'aligning data'!Z73","v":"J5"},{"$f":"'aligning data'!Z74","v":"K5"},{"$f":"'aligning data'!Z75","v":"L5"},{"$error":"#DIV/0!"},0,null,{"$f":"'aligning data'!AC73","v":"J5"},{"$f":"'aligning data'!AC74","v":"K5"},{"$f":"'aligning data'!AC75","v":"L5"},{"$error":"#DIV/0!"},0,null,{"$f":"'aligning data'!AF73","v":"J5"},{"$f":"'aligning data'!AF74","v":"K5"},{"$f":"'aligning data'!AF75","v":"L5"},{"$error":"#DIV/0!"},0,null,{"$f":"'aligning data'!AI73","v":"J5"},{"$f":"'aligning data'!AI74","v":"K5"},{"$f":"'aligning data'!AI75","v":"L5"},{"$error":"#DIV/0!"},0,null,{"$f":"'aligning data'!AL73","v":"J5"},{"$f":"'aligning data'!AL74","v":"K5"},{"$f":"'aligning data'!AL75","v":"L5"},{"$error":"#DIV/0!"},0,null,{"$f":"'aligning data'!AO73","v":"J5"},{"$f":"'aligning data'!AO74","v":"K5"},{"$f":"'aligning data'!AO75","v":"L5"},{"$error":"#DIV/0!"},0,null,{"$f":"'aligning data'!AR73","v":"J5"},{"$f":"'aligning data'!AR74","v":"K5"},{"$f":"'aligning data'!AR75","v":"L5"},{"$error":"#DIV/0!"},0,null,{"$f":"'aligning data'!AU73","v":"J5"},{"$f":"'aligning data'!AU74","v":"K5"},{"$f":"'aligning data'!AU75","v":"L5"},{"$error":"#DIV/0!"},0]
["P49",null,{"$f":"'aligning data'!B76","v":"M5"},{"$f":"'aligning data'!B77","v":"N5"},{"$f":"'aligning data'!B78","v":"O5"},{"$error":"#DIV/0!"},0,null,{"$f":"'aligning data'!E76","v":"M5"},{"$f":"'aligning data'!E77","v":"N5"},{"$f":"'aligning data'!E78","v":"O5"},{"$error":"#DIV/0!"},0,null,{"$f":"'aligning data'!H76","v":"M5"},{"$f":"'aligning data'!H77","v":"N5"},{"$f":"'aligning data'!H78","v":"O5"},{"$error":"#DIV/0!"},0,null,{"$f":"'aligning data'!K76","v":"M5"},{"$f":"'aligning data'!K77","v":"N5"},{"$f":"'aligning data'!K78","v":"O5"},{"$error":"#DIV/0!"},0,null,{"$f":"'aligning data'!N76","v":"M5"},{"$f":"'aligning data'!N77","v":"N5"},{"$f":"'aligning data'!N78","v":"O5"},{"$error":"#DIV/0!"},0,null,{"$f":"'aligning data'!Q76","v":"M5"},{"$f":"'aligning data'!Q77","v":"N5"},{"$f":"'aligning data'!Q78","v":"O5"},{"$error":"#DIV/0!"},0,null,{"$f":"'aligning data'!T76","v":"M5"},{"$f":"'aligning data'!T77","v":"N5"},{"$f":"'aligning data'!T78","v":"O5"},{"$error":"#DIV/0!"},0,null,{"$f":"'aligning data'!W76","v":"M5"},{"$f":"'aligning data'!W77","v":"N5"},{"$f":"'aligning data'!W78","v":"O5"},{"$error":"#DIV/0!"},0,null,{"$f":"'aligning data'!Z76","v":"M5"},{"$f":"'aligning data'!Z77","v":"N5"},{"$f":"'aligning data'!Z78","v":"O5"},{"$error":"#DIV/0!"},0,null,{"$f":"'aligning data'!AC76","v":"M5"},{"$f":"'aligning data'!AC77","v":"N5"},{"$f":"'aligning data'!AC78","v":"O5"},{"$error":"#DIV/0!"},0,null,{"$f":"'aligning data'!AF76","v":"M5"},{"$f":"'aligning data'!AF77","v":"N5"},{"$f":"'aligning data'!AF78","v":"O5"},{"$error":"#DIV/0!"},0,null,{"$f":"'aligning data'!AI76","v":"M5"},{"$f":"'aligning data'!AI77","v":"N5"},{"$f":"'aligning data'!AI78","v":"O5"},{"$error":"#DIV/0!"},0,null,{"$f":"'aligning data'!AL76","v":"M5"},{"$f":"'aligning data'!AL77","v":"N5"},{"$f":"'aligning data'!AL78","v":"O5"},{"$error":"#DIV/0!"},0,null,{"$f":"'aligning data'!AO76","v":"M5"},{"$f":"'aligning data'!AO77","v":"N5"},{"$f":"'aligning data'!AO78","v":"O5"},{"$error":"#DIV/0!"},0,null,{"$f":"'aligning data'!AR76","v":"M5"},{"$f":"'aligning data'!AR77","v":"N5"},{"$f":"'aligning data'!AR78","v":"O5"},{"$error":"#DIV/0!"},0,null,{"$f":"'aligning data'!AU76","v":"M5"},{"$f":"'aligning data'!AU77","v":"N5"},{"$f":"'aligning data'!AU78","v":"O5"},{"$error":"#DIV/0!"},0]
["P4",null,{"$f":"'aligning data'!B79","v":"A6"},{"$f":"'aligning data'!B80","v":"B6"},{"$f":"'aligning data'!B81","v":"C6"},{"$error":"#DIV/0!"},0,null,{"$f":"'aligning data'!E79","v":"A6"},{"$f":"'aligning data'!E80","v":"B6"},{"$f":"'aligning data'!E81","v":"C6"},{"$error":"#DIV/0!"},0,null,{"$f":"'aligning data'!H79","v":"A6"},{"$f":"'aligning data'!H80","v":"B6"},{"$f":"'aligning data'!H81","v":"C6"},{"$error":"#DIV/0!"},0,null,{"$f":"'aligning data'!K79","v":"A6"},{"$f":"'aligning data'!K80","v":"B6"},{"$f":"'aligning data'!K81","v":"C6"},{"$error":"#DIV/0!"},0,null,{"$f":"'aligning data'!N79","v":"A6"},{"$f":"'aligning data'!N80","v":"B6"},{"$f":"'aligning data'!N81","v":"C6"},{"$error":"#DIV/0!"},0,null,{"$f":"'aligning data'!Q79","v":"A6"},{"$f":"'aligning data'!Q80","v":"B6"},{"$f":"'aligning data'!Q81","v":"C6"},{"$error":"#DIV/0!"},0,null,{"$f":"'aligning data'!T79","v":"A6"},{"$f":"'aligning data'!T80","v":"B6"},{"$f":"'aligning data'!T81","v":"C6"},{"$error":"#DIV/0!"},0,null,{"$f":"'aligning data'!W79","v":"A6"},{"$f":"'aligning data'!W80","v":"B6"},{"$f":"'aligning data'!W81","v":"C6"},{"$error":"#DIV/0!"},0,null,{"$f":"'aligning data'!Z79","v":"A6"},{"$f":"'aligning data'!Z80","v":"B6"},{"$f":"'aligning data'!Z81","v":"C6"},{"$error":"#DIV/0!"},0,null,{"$f":"'aligning data'!AC79","v":"A6"},{"$f":"'aligning data'!AC80","v":"B6"},{"$f":"'aligning data'!AC81","v":"C6"},{"$error":"#DIV/0!"},0,null,{"$f":"'aligning data'!AF79","v":"A6"},{"$f":"'aligning data'!AF80","v":"B6"},{"$f":"'aligning data'!AF81","v":"C6"},{"$error":"#DIV/0!"},0,null,{"$f":"'aligning data'!AI79","v":"A6"},{"$f":"'aligning data'!AI80","v":"B6"},{"$f":"'aligning data'!AI81","v":"C6"},{"$error":"#DIV/0!"},0,null,{"$f":"'aligning data'!AL79","v":"A6"},{"$f":"'aligning data'!AL80","v":"B6"},{"$f":"'aligning data'!AL81","v":"C6"},{"$error":"#DIV/0!"},0,null,{"$f":"'aligning data'!AO79","v":"A6"},{"$f":"'aligning data'!AO80","v":"B6"},{"$f":"'aligning data'!AO81","v":"C6"},{"$error":"#DIV/0!"},0,null,{"$f":"'aligning data'!AR79","v":"A6"},{"$f":"'aligning data'!AR80","v":"B6"},{"$f":"'aligning data'!AR81","v":"C6"},{"$error":"#DIV/0!"},0,null,{"$f":"'aligning data'!AU79","v":"A6"},{"$f":"'aligning data'!AU80","v":"B6"},{"$f":"'aligning data'!AU81","v":"C6"},{"$error":"#DIV/0!"},0]
["P16",null,{"$f":"'aligning data'!B82","v":"D6"},{"$f":"'aligning data'!B83","v":"E6"},{"$f":"'aligning data'!B84","v":"F6"},{"$error":"#DIV/0!"},0,null,{"$f":"'aligning data'!E82","v":"D6"},{"$f":"'aligning data'!E83","v":"E6"},{"$f":"'aligning data'!E84","v":"F6"},{"$error":"#DIV/0!"},0,null,{"$f":"'aligning data'!H82","v":"D6"},{"$f":"'aligning data'!H83","v":"E6"},{"$f":"'aligning data'!H84","v":"F6"},{"$error":"#DIV/0!"},0,null,{"$f":"'aligning data'!K82","v":"D6"},{"$f":"'aligning data'!K83","v":"E6"},{"$f":"'aligning data'!K84","v":"F6"},{"$error":"#DIV/0!"},0,null,{"$f":"'aligning data'!N82","v":"D6"},{"$f":"'aligning data'!N83","v":"E6"},{"$f":"'aligning data'!N84","v":"F6"},{"$error":"#DIV/0!"},0,null,{"$f":"'aligning data'!Q82","v":"D6"},{"$f":"'aligning data'!Q83","v":"E6"},{"$f":"'aligning data'!Q84","v":"F6"},{"$error":"#DIV/0!"},0,null,{"$f":"'aligning data'!T82","v":"D6"},{"$f":"'aligning data'!T83","v":"E6"},{"$f":"'aligning data'!T84","v":"F6"},{"$error":"#DIV/0!"},0,null,{"$f":"'aligning data'!W82","v":"D6"},{"$f":"'aligning data'!W83","v":"E6"},{"$f":"'aligning data'!W84","v":"F6"},{"$error":"#DIV/0!"},0,null,{"$f":"'aligning data'!Z82","v":"D6"},{"$f":"'aligning data'!Z83","v":"E6"},{"$f":"'aligning data'!Z84","v":"F6"},{"$error":"#DIV/0!"},0,null,{"$f":"'aligning data'!AC82","v":"D6"},{"$f":"'aligning data'!AC83","v":"E6"},{"$f":"'aligning data'!AC84","v":"F6"},{"$error":"#DIV/0!"},0,null,{"$f":"'aligning data'!AF82","v":"D6"},{"$f":"'aligning data'!AF83","v":"E6"},{"$f":"'aligning data'!AF84","v":"F6"},{"$error":"#DIV/0!"},0,null,{"$f":"'aligning data'!AI82","v":"D6"},{"$f":"'aligning data'!AI83","v":"E6"},{"$f":"'aligning data'!AI84","v":"F6"},{"$error":"#DIV/0!"},0,null,{"$f":"'aligning data'!AL82","v":"D6"},{"$f":"'aligning data'!AL83","v":"E6"},{"$f":"'aligning data'!AL84","v":"F6"},{"$error":"#DIV/0!"},0,null,{"$f":"'aligning data'!AO82","v":"D6"},{"$f":"'aligning data'!AO83","v":"E6"},{"$f":"'aligning data'!AO84","v":"F6"},{"$error":"#DIV/0!"},0,null,{"$f":"'aligning data'!AR82","v":"D6"},{"$f":"'aligning data'!AR83","v":"E6"},{"$f":"'aligning data'!AR84","v":"F6"},{"$error":"#DIV/0!"},0,null,{"$f":"'aligning data'!AU82","v":"D6"},{"$f":"'aligning data'!AU83","v":"E6"},{"$f":"'aligning data'!AU84","v":"F6"},{"$error":"#DIV/0!"},0]
["P26",null,{"$f":"'aligning data'!B85","v":"G6"},{"$f":"'aligning data'!B86","v":"H6"},{"$f":"'aligning data'!B87","v":"I6"},{"$error":"#DIV/0!"},0,null,{"$f":"'aligning data'!E85","v":"G6"},{"$f":"'aligning data'!E86","v":"H6"},{"$f":"'aligning data'!E87","v":"I6"},{"$error":"#DIV/0!"},0,null,{"$f":"'aligning data'!H85","v":"G6"},{"$f":"'aligning data'!H86","v":"H6"},{"$f":"'aligning data'!H87","v":"I6"},{"$error":"#DIV/0!"},0,null,{"$f":"'aligning data'!K85","v":"G6"},{"$f":"'aligning data'!K86","v":"H6"},{"$f":"'aligning data'!K87","v":"I6"},{"$error":"#DIV/0!"},0,null,{"$f":"'aligning data'!N85","v":"G6"},{"$f":"'aligning data'!N86","v":"H6"},{"$f":"'aligning data'!N87","v":"I6"},{"$error":"#DIV/0!"},0,null,{"$f":"'aligning data'!Q85","v":"G6"},{"$f":"'aligning data'!Q86","v":"H6"},{"$f":"'aligning data'!Q87","v":"I6"},{"$error":"#DIV/0!"},0,null,{"$f":"'aligning data'!T85","v":"G6"},{"$f":"'aligning data'!T86","v":"H6"},{"$f":"'aligning data'!T87","v":"I6"},{"$error":"#DIV/0!"},0,null,{"$f":"'aligning data'!W85","v":"G6"},{"$f":"'aligning data'!W86","v":"H6"},{"$f":"'aligning data'!W87","v":"I6"},{"$error":"#DIV/0!"},0,null,{"$f":"'aligning data'!Z85","v":"G6"},{"$f":"'aligning data'!Z86","v":"H6"},{"$f":"'aligning data'!Z87","v":"I6"},{"$error":"#DIV/0!"},0,null,{"$f":"'aligning data'!AC85","v":"G6"},{"$f":"'aligning data'!AC86","v":"H6"},{"$f":"'aligning data'!AC87","v":"I6"},{"$error":"#DIV/0!"},0,null,{"$f":"'aligning data'!AF85","v":"G6"},{"$f":"'aligning data'!AF86","v":"H6"},{"$f":"'aligning data'!AF87","v":"I6"},{"$error":"#DIV/0!"},0,null,{"$f":"'aligning data'!AI85","v":"G6"},{"$f":"'aligning data'!AI86","v":"H6"},{"$f":"'aligning data'!AI87","v":"I6"},{"$error":"#DIV/0!"},0,null,{"$f":"'aligning data'!AL85","v":"G6"},{"$f":"'aligning data'!AL86","v":"H6"},{"$f":"'aligning data'!AL87","v":"I6"},{"$error":"#DIV/0!"},0,null,{"$f":"'aligning data'!AO85","v":"G6"},{"$f":"'aligning data'!AO86","v":"H6"},{"$f":"'aligning data'!AO87","v":"I6"},{"$error":"#DIV/0!"},0,null,{"$f":"'aligning data'!AR85","v":"G6"},{"$f":"'aligning data'!AR86","v":"H6"},{"$f":"'aligning data'!AR87","v":"I6"},{"$error":"#DIV/0!"},0,null,{"$f":"'aligning data'!AU85","v":"G6"},{"$f":"'aligning data'!AU86","v":"H6"},{"$f":"'aligning data'!AU87","v":"I6"},{"$error":"#DIV/0!"},0]
["P38",null,{"$f":"'aligning data'!B88","v":"J6"},{"$f":"'aligning data'!B89","v":"K6"},{"$f":"'aligning data'!B90","v":"L6"},{"$error":"#DIV/0!"},0,null,{"$f":"'aligning data'!E88","v":"J6"},{"$f":"'aligning data'!E89","v":"K6"},{"$f":"'aligning data'!E90","v":"L6"},{"$error":"#DIV/0!"},0,null,{"$f":"'aligning data'!H88","v":"J6"},{"$f":"'aligning data'!H89","v":"K6"},{"$f":"'aligning data'!H90","v":"L6"},{"$error":"#DIV/0!"},0,null,{"$f":"'aligning data'!K88","v":"J6"},{"$f":"'aligning data'!K89","v":"K6"},{"$f":"'aligning data'!K90","v":"L6"},{"$error":"#DIV/0!"},0,null,{"$f":"'aligning data'!N88","v":"J6"},{"$f":"'aligning data'!N89","v":"K6"},{"$f":"'aligning data'!N90","v":"L6"},{"$error":"#DIV/0!"},0,null,{"$f":"'aligning data'!Q88","v":"J6"},{"$f":"'aligning data'!Q89","v":"K6"},{"$f":"'aligning data'!Q90","v":"L6"},{"$error":"#DIV/0!"},0,null,{"$f":"'aligning data'!T88","v":"J6"},{"$f":"'aligning data'!T89","v":"K6"},{"$f":"'aligning data'!T90","v":"L6"},{"$error":"#DIV/0!"},0,null,{"$f":"'aligning data'!W88","v":"J6"},{"$f":"'aligning data'!W89","v":"K6"},{"$f":"'aligning data'!W90","v":"L6"},{"$error":"#DIV/0!"},0,null,{"$f":"'aligning data'!Z88","v":"J6"},{"$f":"'aligning data'!Z89","v":"K6"},{"$f":"'aligning data'!Z90","v":"L6"},{"$error":"#DIV/0!"},0,null,{"$f":"'aligning data'!AC88","v":"J6"},{"$f":"'aligning data'!AC89","v":"K6"},{"$f":"'aligning data'!AC90","v":"L6"},{"$error":"#DIV/0!"},0,null,{"$f":"'aligning data'!AF88","v":"J6"},{"$f":"'aligning data'!AF89","v":"K6"},{"$f":"'aligning data'!AF90","v":"L6"},{"$error":"#DIV/0!"},0,null,{"$f":"'aligning data'!AI88","v":"J6"},{"$f":"'aligning data'!AI89","v":"K6"},{"$f":"'aligning data'!AI90","v":"L6"},{"$error":"#DIV/0!"},0,null,{"$f":"'aligning data'!AL88","v":"J6"},{"$f":"'aligning data'!AL89","v":"K6"},{"$f":"'aligning data'!AL90","v":"L6"},{"$error":"#DIV/0!"},0,null,{"$f":"'aligning data'!AO88","v":"J6"},{"$f":"'aligning data'!AO89","v":"K6"},{"$f":"'aligning data'!AO90","v":"L6"},{"$error":"#DIV/0!"},0,null,{"$f":"'aligning data'!AR88","v":"J6"},{"$f":"'aligning data'!AR89","v":"K6"},{"$f":"'aligning data'!AR90","v":"L6"},{"$error":"#DIV/0!"},0,null,{"$f":"'aligning data'!AU88","v":"J6"},{"$f":"'aligning data'!AU89","v":"K6"},{"$f":"'aligning data'!AU90","v":"L6"},{"$error":"#DIV/0!"},0]
["P50",null,{"$f":"'aligning data'!B91","v":"M6"},{"$f":"'aligning data'!B92","v":"N6"},{"$f":"'aligning data'!B93","v":"O6"},{"$error":"#DIV/0!"},0,null,{"$f":"'aligning data'!E91","v":"M6"},{"$f":"'aligning data'!E92","v":"N6"},{"$f":"'aligning data'!E93","v":"O6"},{"$error":"#DIV/0!"},0,null,{"$f":"'aligning data'!H91","v":"M6"},{"$f":"'aligning data'!H92","v":"N6"},{"$f":"'aligning data'!H93","v":"O6"},{"$error":"#DIV/0!"},0,null,{"$f":"'aligning data'!K91","v":"M6"},{"$f":"'aligning data'!K92","v":"N6"},{"$f":"'aligning data'!K93","v":"O6"},{"$error":"#DIV/0!"},0,null,{"$f":"'aligning data'!N91","v":"M6"},{"$f":"'aligning data'!N92","v":"N6"},{"$f":"'aligning data'!N93","v":"O6"},{"$error":"#DIV/0!"},0,null,{"$f":"'aligning data'!Q91","v":"M6"},{"$f":"'aligning data'!Q92","v":"N6"},{"$f":"'aligning data'!Q93","v":"O6"},{"$error":"#DIV/0!"},0,null,{"$f":"'aligning data'!T91","v":"M6"},{"$f":"'aligning data'!T92","v":"N6"},{"$f":"'aligning data'!T93","v":"O6"},{"$error":"#DIV/0!"},0,null,{"$f":"'aligning data'!W91","v":"M6"},{"$f":"'aligning data'!W92","v":"N6"},{"$f":"'aligning data'!W93","v":"O6"},{"$error":"#DIV/0!"},0,null,{"$f":"'aligning data'!Z91","v":"M6"},{"$f":"'aligning data'!Z92","v":"N6"},{"$f":"'aligning data'!Z93","v":"O6"},{"$error":"#DIV/0!"},0,null,{"$f":"'aligning data'!AC91","v":"M6"},{"$f":"'aligning data'!AC92","v":"N6"},{"$f":"'aligning data'!AC93","v":"O6"},{"$error":"#DIV/0!"},0,null,{"$f":"'aligning data'!AF91","v":"M6"},{"$f":"'aligning data'!AF92","v":"N6"},{"$f":"'aligning data'!AF93","v":"O6"},{"$error":"#DIV/0!"},0,null,{"$f":"'aligning data'!AI91","v":"M6"},{"$f":"'aligning data'!AI92","v":"N6"},{"$f":"'aligning data'!AI93","v":"O6"},{"$error":"#DIV/0!"},0,null,{"$f":"'aligning data'!AL91","v":"M6"},{"$f":"'aligning data'!AL92","v":"N6"},{"$f":"'aligning data'!AL93","v":"O6"},{"$error":"#DIV/0!"},0,null,{"$f":"'aligning data'!AO91","v":"M6"},{"$f":"'aligning data'!AO92","v":"N6"},{"$f":"'aligning data'!AO93","v":"O6"},{"$error":"#DIV/0!"},0,null,{"$f":"'aligning data'!AR91","v":"M6"},{"$f":"'aligning data'!AR92","v":"N6"},{"$f":"'aligning data'!AR93","v":"O6"},{"$error":"#DIV/0!"},0,null,{"$f":"'aligning data'!AU91","v":"M6"},{"$f":"'aligning data'!AU92","v":"N6"},{"$f":"'aligning data'!AU93","v":"O6"},{"$error":"#DIV/0!"},0]
["P5",null,{"$f":"'aligning data'!B94","v":"A7"},{"$f":"'aligning data'!B95","v":"B7"},{"$f":"'aligning data'!B96","v":"C7"},{"$error":"#DIV/0!"},0,null,{"$f":"'aligning data'!E94","v":"A7"},{"$f":"'aligning data'!E95","v":"B7"},{"$f":"'aligning data'!E96","v":"C7"},{"$error":"#DIV/0!"},0,null,{"$f":"'aligning data'!H94","v":"A7"},{"$f":"'aligning data'!H95","v":"B7"},{"$f":"'aligning data'!H96","v":"C7"},{"$error":"#DIV/0!"},0,null,{"$f":"'aligning data'!K94","v":"A7"},{"$f":"'aligning data'!K95","v":"B7"},{"$f":"'aligning data'!K96","v":"C7"},{"$error":"#DIV/0!"},0,null,{"$f":"'aligning data'!N94","v":"A7"},{"$f":"'aligning data'!N95","v":"B7"},{"$f":"'aligning data'!N96","v":"C7"},{"$error":"#DIV/0!"},0,null,{"$f":"'aligning data'!Q94","v":"A7"},{"$f":"'aligning data'!Q95","v":"B7"},{"$f":"'aligning data'!Q96","v":"C7"},{"$error":"#DIV/0!"},0,null,{"$f":"'aligning data'!T94","v":"A7"},{"$f":"'aligning data'!T95","v":"B7"},{"$f":"'aligning data'!T96","v":"C7"},{"$error":"#DIV/0!"},0,null,{"$f":"'aligning data'!W94","v":"A7"},{"$f":"'aligning data'!W95","v":"B7"},{"$f":"'aligning data'!W96","v":"C7"},{"$error":"#DIV/0!"},0,null,{"$f":"'aligning data'!Z94","v":"A7"},{"$f":"'aligning data'!Z95","v":"B7"},{"$f":"'aligning data'!Z96","v":"C7"},{"$error":"#DIV/0!"},0,null,{"$f":"'aligning data'!AC94","v":"A7"},{"$f":"'aligning data'!AC95","v":"B7"},{"$f":"'aligning data'!AC96","v":"C7"},{"$error":"#DIV/0!"},0,null,{"$f":"'aligning data'!AF94","v":"A7"},{"$f":"'aligning data'!AF95","v":"B7"},{"$f":"'aligning data'!AF96","v":"C7"},{"$error":"#DIV/0!"},0,null,{"$f":"'aligning data'!AI94","v":"A7"},{"$f":"'aligning data'!AI95","v":"B7"},{"$f":"'aligning data'!AI96","v":"C7"},{"$error":"#DIV/0!"},0,null,{"$f":"'aligning data'!AL94","v":"A7"},{"$f":"'aligning data'!AL95","v":"B7"},{"$f":"'aligning data'!AL96","v":"C7"},{"$error":"#DIV/0!"},0,null,{"$f":"'aligning data'!AO94","v":"A7"},{"$f":"'aligning data'!AO95","v":"B7"},{"$f":"'aligning data'!AO96","v":"C7"},{"$error":"#DIV/0!"},0,null,{"$f":"'aligning data'!AR94","v":"A7"},{"$f":"'aligning data'!AR95","v":"B7"},{"$f":"'aligning data'!AR96","v":"C7"},{"$error":"#DIV/0!"},0,null,{"$f":"'aligning data'!AU94","v":"A7"},{"$f":"'aligning data'!AU95","v":"B7"},{"$f":"'aligning data'!AU96","v":"C7"},{"$error":"#DIV/0!"},0]
["P17",null,{"$f":"'aligning data'!B97","v":"D7"},{"$f":"'aligning data'!B98","v":"E7"},{"$f":"'aligning data'!B99","v":"F7"},{"$error":"#DIV/0!"},0,null,{"$f":"'aligning data'!E97","v":"D7"},{"$f":"'aligning data'!E98","v":"E7"},{"$f":"'aligning data'!E99","v":"F7"},{"$error":"#DIV/0!"},0,null,{"$f":"'aligning data'!H97","v":"D7"},{"$f":"'aligning data'!H98","v":"E7"},{"$f":"'aligning data'!H99","v":"F7"},{"$error":"#DIV/0!"},0,null,{"$f":"'aligning data'!K97","v":"D7"},{"$f":"'aligning data'!K98","v":"E7"},{"$f":"'aligning data'!K99","v":"F7"},{"$error":"#DIV/0!"},0,null,{"$f":"'aligning data'!N97","v":"D7"},{"$f":"'aligning data'!N98","v":"E7"},{"$f":"'aligning data'!N99","v":"F7"},{"$error":"#DIV/0!"},0,null,{"$f":"'aligning data'!Q97","v":"D7"},{"$f":"'aligning data'!Q98","v":"E7"},{"$f":"'aligning data'!Q99","v":"F7"},{"$error":"#DIV/0!"},0,null,{"$f":"'aligning data'!T97","v":"D7"},{"$f":"'aligning data'!T98","v":"E7"},{"$f":"'aligning data'!T99","v":"F7"},{"$error":"#DIV/0!"},0,null,{"$f":"'aligning data'!W97","v":"D7"},{"$f":"'aligning data'!W98","v":"E7"},{"$f":"'aligning data'!W99","v":"F7"},{"$error":"#DIV/0!"},0,null,{"$f":"'aligning data'!Z97","v":"D7"},{"$f":"'aligning data'!Z98","v":"E7"},{"$f":"'aligning data'!Z99","v":"F7"},{"$error":"#DIV/0!"},0,null,{"$f":"'aligning data'!AC97","v":"D7"},{"$f":"'aligning data'!AC98","v":"E7"},{"$f":"'aligning data'!AC99","v":"F7"},{"$error":"#DIV/0!"},0,null,{"$f":"'aligning data'!AF97","v":"D7"},{"$f":"'aligning data'!AF98","v":"E7"},{"$f":"'aligning data'!AF99","v":"F7"},{"$error":"#DIV/0!"},0,null,{"$f":"'aligning data'!AI97","v":"D7"},{"$f":"'aligning data'!AI98","v":"E7"},{"$f":"'aligning data'!AI99","v":"F7"},{"$error":"#DIV/0!"},0,null,{"$f":"'aligning data'!AL97","v":"D7"},{"$f":"'aligning data'!AL98","v":"E7"},{"$f":"'aligning data'!AL99","v":"F7"},{"$error":"#DIV/0!"},0,null,{"$f":"'aligning data'!AO97","v":"D7"},{"$f":"'aligning data'!AO98","v":"E7"},{"$f":"'aligning data'!AO99","v":"F7"},{"$error":"#DIV/0!"},0,null,{"$f":"'aligning data'!AR97","v":"D7"},{"$f":"'aligning data'!AR98","v":"E7"},{"$f":"'aligning data'!AR99","v":"F7"},{"$error":"#DIV/0!"},0,null,{"$f":"'aligning data'!AU97","v":"D7"},{"$f":"'aligning data'!AU98","v":"E7"},{"$f":"'aligning data'!AU99","v":"F7"},{"$error":"#DIV/0!"},0]
["P27",null,{"$f":"'aligning data'!B100","v":"G7"},{"$f":"'aligning data'!B101","v":"H7"},{"$f":"'aligning data'!B102","v":"I7"},{"$error":"#DIV/0!"},0,null,{"$f":"'aligning data'!E100","v":"G7"},{"$f":"'aligning data'!E101","v":"H7"},{"$f":"'aligning data'!E102","v":"I7"},{"$error":"#DIV/0!"},0,null,{"$f":"'aligning data'!H100","v":"G7"},{"$f":"'aligning data'!H101","v":"H7"},{"$f":"'aligning data'!H102","v":"I7"},{"$error":"#DIV/0!"},0,null,{"$f":"'aligning data'!K100","v":"G7"},{"$f":"'aligning data'!K101","v":"H7"},{"$f":"'aligning data'!K102","v":"I7"},{"$error":"#DIV/0!"},0,null,{"$f":"'aligning data'!N100","v":"G7"},{"$f":"'aligning data'!N101","v":"H7"},{"$f":"'aligning data'!N102","v":"I7"},{"$error":"#DIV/0!"},0,null,{"$f":"'aligning data'!Q100","v":"G7"},{"$f":"'aligning data'!Q101","v":"H7"},{"$f":"'aligning data'!Q102","v":"I7"},{"$error":"#DIV/0!"},0,null,{"$f":"'aligning data'!T100","v":"G7"},{"$f":"'aligning data'!T101","v":"H7"},{"$f":"'aligning data'!T102","v":"I7"},{"$error":"#DIV/0!"},0,null,{"$f":"'aligning data'!W100","v":"G7"},{"$f":"'aligning data'!W101","v":"H7"},{"$f":"'aligning data'!W102","v":"I7"},{"$error":"#DIV/0!"},0,null,{"$f":"'aligning data'!Z100","v":"G7"},{"$f":"'aligning data'!Z101","v":"H7"},{"$f":"'aligning data'!Z102","v":"I7"},{"$error":"#DIV/0!"},0,null,{"$f":"'aligning data'!AC100","v":"G7"},{"$f":"'aligning data'!AC101","v":"H7"},{"$f":"'aligning data'!AC102","v":"I7"},{"$error":"#DIV/0!"},0,null,{"$f":"'aligning data'!AF100","v":"G7"},{"$f":"'aligning data'!AF101","v":"H7"},{"$f":"'aligning data'!AF102","v":"I7"},{"$error":"#DIV/0!"},0,null,{"$f":"'aligning data'!AI100","v":"G7"},{"$f":"'aligning data'!AI101","v":"H7"},{"$f":"'aligning data'!AI102","v":"I7"},{"$error":"#DIV/0!"},0,null,{"$f":"'aligning data'!AL100","v":"G7"},{"$f":"'aligning data'!AL101","v":"H7"},{"$f":"'aligning data'!AL102","v":"I7"},{"$error":"#DIV/0!"},0,null,{"$f":"'aligning data'!AO100","v":"G7"},{"$f":"'aligning data'!AO101","v":"H7"},{"$f":"'aligning data'!AO102","v":"I7"},{"$error":"#DIV/0!"},0,null,{"$f":"'aligning data'!AR100","v":"G7"},{"$f":"'aligning data'!AR101","v":"H7"},{"$f":"'aligning data'!AR102","v":"I7"},{"$error":"#DIV/0!"},0,null,{"$f":"'aligning data'!AU100","v":"G7"},{"$f":"'aligning data'!AU101","v":"H7"},{"$f":"'aligning data'!AU102","v":"I7"},{"$error":"#DIV/0!"},0]
["P39",null,{"$f":"'aligning data'!B103","v":"J7"},{"$f":"'aligning data'!B104","v":"K7"},{"$f":"'aligning data'!B105","v":"L7"},{"$error":"#DIV/0!"},0,null,{"$f":"'aligning data'!E103","v":"J7"},{"$f":"'aligning data'!E104","v":"K7"},{"$f":"'aligning data'!E105","v":"L7"},{"$error":"#DIV/0!"},0,null,{"$f":"'aligning data'!H103","v":"J7"},{"$f":"'aligning data'!H104","v":"K7"},{"$f":"'aligning data'!H105","v":"L7"},{"$error":"#DIV/0!"},0,null,{"$f":"'aligning data'!K103","v":"J7"},{"$f":"'aligning data'!K104","v":"K7"},{"$f":"'aligning data'!K105","v":"L7"},{"$error":"#DIV/0!"},0,null,{"$f":"'aligning data'!N103","v":"J7"},{"$f":"'aligning data'!N104","v":"K7"},{"$f":"'aligning data'!N105","v":"L7"},{"$error":"#DIV/0!"},0,null,{"$f":"'aligning data'!Q103","v":"J7"},{"$f":"'aligning data'!Q104","v":"K7"},{"$f":"'aligning data'!Q105","v":"L7"},{"$error":"#DIV/0!"},0,null,{"$f":"'aligning data'!T103","v":"J7"},{"$f":"'aligning data'!T104","v":"K7"},{"$f":"'aligning data'!T105","v":"L7"},{"$error":"#DIV/0!"},0,null,{"$f":"'aligning data'!W103","v":"J7"},{"$f":"'aligning data'!W104","v":"K7"},{"$f":"'aligning data'!W105","v":"L7"},{"$error":"#DIV/0!"},0,null,{"$f":"'aligning data'!Z103","v":"J7"},{"$f":"'aligning data'!Z104","v":"K7"},{"$f":"'aligning data'!Z105","v":"L7"},{"$error":"#DIV/0!"},0,null,{"$f":"'aligning data'!AC103","v":"J7"},{"$f":"'aligning data'!AC104","v":"K7"},{"$f":"'aligning data'!AC105","v":"L7"},{"$error":"#DIV/0!"},0,null,{"$f":"'aligning data'!AF103","v":"J7"},{"$f":"'aligning data'!AF104","v":"K7"},{"$f":"'aligning data'!AF105","v":"L7"},{"$error":"#DIV/0!"},0,null,{"$f":"'aligning data'!AI103","v":"J7"},{"$f":"'aligning data'!AI104","v":"K7"},{"$f":"'aligning data'!AI105","v":"L7"},{"$error":"#DIV/0!"},0,null,{"$f":"'aligning data'!AL103","v":"J7"},{"$f":"'aligning data'!AL104","v":"K7"},{"$f":"'aligning data'!AL105","v":"L7"},{"$error":"#DIV/0!"},0,null,{"$f":"'aligning data'!AO103","v":"J7"},{"$f":"'aligning data'!AO104","v":"K7"},{"$f":"'aligning data'!AO105","v":"L7"},{"$error":"#DIV/0!"},0,null,{"$f":"'aligning data'!AR103","v":"J7"},{"$f":"'aligning data'!AR104","v":"K7"},{"$f":"'aligning data'!AR105","v":"L7"},{"$error":"#DIV/0!"},0,null,{"$f":"'aligning data'!AU103","v":"J7"},{"$f":"'aligning data'!AU104","v":"K7"},{"$f":"'aligning data'!AU105","v":"L7"},{"$error":"#DIV/0!"},0]
["P51",null,{"$f":"'aligning data'!B106","v":"M7"},{"$f":"'aligning data'!B107","v":"N7"},{"$f":"'aligning data'!B108","v":"O7"},{"$error":"#DIV/0!"},0,null,{"$f":"'aligning data'!E106","v":"M7"},{"$f":"'aligning data'!E107","v":"N7"},{"$f":"'aligning data'!E108","v":"O7"},{"$error":"#DIV/0!"},0,null,{"$f":"'aligning data'!H106","v":"M7"},{"$f":"'aligning data'!H107","v":"N7"},{"$f":"'aligning data'!H108","v":"O7"},{"$error":"#DIV/0!"},0,null,{"$f":"'aligning data'!K106","v":"M7"},{"$f":"'aligning data'!K107","v":"N7"},{"$f":"'aligning data'!K108","v":"O7"},{"$error":"#DIV/0!"},0,null,{"$f":"'aligning data'!N106","v":"M7"},{"$f":"'aligning data'!N107","v":"N7"},{"$f":"'aligning data'!N108","v":"O7"},{"$error":"#DIV/0!"},0,null,{"$f":"'aligning data'!Q106","v":"M7"},{"$f":"'aligning data'!Q107","v":"N7"},{"$f":"'aligning data'!Q108","v":"O7"},{"$error":"#DIV/0!"},0,null,{"$f":"'aligning data'!T106","v":"M7"},{"$f":"'aligning data'!T107","v":"N7"},{"$f":"'aligning data'!T108","v":"O7"},{"$error":"#DIV/0!"},0,null,{"$f":"'aligning data'!W106","v":"M7"},{"$f":"'aligning data'!W107","v":"N7"},{"$f":"'aligning data'!W108","v":"O7"},{"$error":"#DIV/0!"},0,null,{"$f":"'aligning data'!Z106","v":"M7"},{"$f":"'aligning data'!Z107","v":"N7"},{"$f":"'aligning data'!Z108","v":"O7"},{"$error":"#DIV/0!"},0,null,{"$f":"'aligning data'!AC106","v":"M7"},{"$f":"'aligning data'!AC107","v":"N7"},{"$f":"'aligning data'!AC108","v":"O7"},{"$error":"#DIV/0!"},0,null,{"$f":"'aligning data'!AF106","v":"M7"},{"$f":"'aligning data'!AF107","v":"N7"},{"$f":"'aligning data'!AF108","v":"O7"},{"$error":"#DIV/0!"},0,null,{"$f":"'aligning data'!AI106","v":"M7"},{"$f":"'aligning data'!AI107","v":"N7"},{"$f":"'aligning data'!AI108","v":"O7"},{"$error":"#DIV/0!"},0,null,{"$f":"'aligning data'!AL106","v":"M7"},{"$f":"'aligning data'!AL107","v":"N7"},{"$f":"'aligning data'!AL108","v":"O7"},{"$error":"#DIV/0!"},0,null,{"$f":"'aligning data'!AO106","v":"M7"},{"$f":"'aligning data'!AO107","v":"N7"},{"$f":"'aligning data'!AO108","v":"O7"},{"$error":"#DIV/0!"},0,null,{"$f":"'aligning data'!AR106","v":"M7"},{"$f":"'aligning data'!AR107","v":"N7"},{"$f":"'aligning data'!AR108","v":"O7"},{"$error":"#DIV/0!"},0,null,{"$f":"'aligning data'!AU106","v":"M7"},{"$f":"'aligning data'!AU107","v":"N7"},{"$f":"'aligning data'!AU108","v":"O7"},{"$error":"#DIV/0!"},0]
["P6",null,{"$f":"'aligning data'!B109","v":"A8"},{"$f":"'aligning data'!B110","v":"B8"},{"$f":"'aligning data'!B111","v":"C8"},{"$error":"#DIV/0!"},0,null,{"$f":"'aligning data'!E109","v":"A8"},{"$f":"'aligning data'!E110","v":"B8"},{"$f":"'aligning data'!E111","v":"C8"},{"$error":"#DIV/0!"},0,null,{"$f":"'aligning data'!H109","v":"A8"},{"$f":"'aligning data'!H110","v":"B8"},{"$f":"'aligning data'!H111","v":"C8"},{"$error":"#DIV/0!"},0,null,{"$f":"'aligning data'!K109","v":"A8"},{"$f":"'aligning data'!K110","v":"B8"},{"$f":"'aligning data'!K111","v":"C8"},{"$error":"#DIV/0!"},0,null,{"$f":"'aligning data'!N109","v":"A8"},{"$f":"'aligning data'!N110","v":"B8"},{"$f":"'aligning data'!N111","v":"C8"},{"$error":"#DIV/0!"},0,null,{"$f":"'aligning data'!Q109","v":"A8"},{"$f":"'aligning data'!Q110","v":"B8"},{"$f":"'aligning data'!Q111","v":"C8"},{"$error":"#DIV/0!"},0,null,{"$f":"'aligning data'!T109","v":"A8"},{"$f":"'aligning data'!T110","v":"B8"},{"$f":"'aligning data'!T111","v":"C8"},{"$error":"#DIV/0!"},0,null,{"$f":"'aligning data'!W109","v":"A8"},{"$f":"'aligning data'!W110","v":"B8"},{"$f":"'aligning data'!W111","v":"C8"},{"$error":"#DIV/0!"},0,null,{"$f":"'aligning data'!Z109","v":"A8"},{"$f":"'aligning data'!Z110","v":"B8"},{"$f":"'aligning data'!Z111","v":"C8"},{"$error":"#DIV/0!"},0,null,{"$f":"'aligning data'!AC109","v":"A8"},{"$f":"'aligning data'!AC110","v":"B8"},{"$f":"'aligning data'!AC111","v":"C8"},{"$error":"#DIV/0!"},0,null,{"$f":"'aligning data'!AF109","v":"A8"},{"$f":"'aligning data'!AF110","v":"B8"},{"$f":"'aligning data'!AF111","v":"C8"},{"$error":"#DIV/0!"},0,null,{"$f":"'aligning data'!AI109","v":"A8"},{"$f":"'aligning data'!AI110","v":"B8"},{"$f":"'aligning data'!AI111","v":"C8"},{"$error":"#DIV/0!"},0,null,{"$f":"'aligning data'!AL109","v":"A8"},{"$f":"'aligning data'!AL110","v":"B8"},{"$f":"'aligning data'!AL111","v":"C8"},{"$error":"#DIV/0!"},0,null,{"$f":"'aligning data'!AO109","v":"A8"},{"$f":"'aligning data'!AO110","v":"B8"},{"$f":"'aligning data'!AO111","v":"C8"},{"$error":"#DIV/0!"},0,null,{"$f":"'aligning data'!AR109","v":"A8"},{"$f":"'aligning data'!AR110","v":"B8"},{"$f":"'aligning data'!AR111","v":"C8"},{"$error":"#DIV/0!"},0,null,{"$f":"'aligning data'!AU109","v":"A8"},{"$f":"'aligning data'!AU110","v":"B8"},{"$f":"'aligning data'!AU111","v":"C8"},{"$error":"#DIV/0!"},0]
["P18",null,{"$f":"'aligning data'!B112","v":"D8"},{"$f":"'aligning data'!B113","v":"E8"},{"$f":"'aligning data'!B114","v":"F8"},{"$error":"#DIV/0!"},0,null,{"$f":"'aligning data'!E112","v":"D8"},{"$f":"'aligning data'!E113","v":"E8"},{"$f":"'aligning data'!E114","v":"F8"},{"$error":"#DIV/0!"},0,null,{"$f":"'aligning data'!H112","v":"D8"},{"$f":"'aligning data'!H113","v":"E8"},{"$f":"'aligning data'!H114","v":"F8"},{"$error":"#DIV/0!"},0,null,{"$f":"'aligning data'!K112","v":"D8"},{"$f":"'aligning data'!K113","v":"E8"},{"$f":"'aligning data'!K114","v":"F8"},{"$error":"#DIV/0!"},0,null,{"$f":"'aligning data'!N112","v":"D8"},{"$f":"'aligning data'!N113","v":"E8"},{"$f":"'aligning data'!N114","v":"F8"},{"$error":"#DIV/0!"},0,null,{"$f":"'aligning data'!Q112","v":"D8"},{"$f":"'aligning data'!Q113","v":"E8"},{"$f":"'aligning data'!Q114","v":"F8"},{"$error":"#DIV/0!"},0,null,{"$f":"'aligning data'!T112","v":"D8"},{"$f":"'aligning data'!T113","v":"E8"},{"$f":"'aligning data'!T114","v":"F8"},{"$error":"#DIV/0!"},0,null,{"$f":"'aligning data'!W112","v":"D8"},{"$f":"'aligning data'!W113","v":"E8"},{"$f":"'aligning data'!W114","v":"F8"},{"$error":"#DIV/0!"},0,null,{"$f":"'aligning data'!Z112","v":"D8"},{"$f":"'aligning data'!Z113","v":"E8"},{"$f":"'aligning data'!Z114","v":"F8"},{"$error":"#DIV/0!"},0,null,{"$f":"'aligning data'!AC112","v":"D8"},{"$f":"'aligning data'!AC113","v":"E8"},{"$f":"'aligning data'!AC114","v":"F8"},{"$error":"#DIV/0!"},0,null,{"$f":"'aligning data'!AF112","v":"D8"},{"$f":"'aligning data'!AF113","v":"E8"},{"$f":"'aligning data'!AF114","v":"F8"},{"$error":"#DIV/0!"},0,null,{"$f":"'aligning data'!AI112","v":"D8"},{"$f":"'aligning data'!AI113","v":"E8"},{"$f":"'aligning data'!AI114","v":"F8"},{"$error":"#DIV/0!"},0,null,{"$f":"'aligning data'!AL112","v":"D8"},{"$f":"'aligning data'!AL113","v":"E8"},{"$f":"'aligning data'!AL114","v":"F8"},{"$error":"#DIV/0!"},0,null,{"$f":"'aligning data'!AO112","v":"D8"},{"$f":"'aligning data'!AO113","v":"E8"},{"$f":"'aligning data'!AO114","v":"F8"},{"$error":"#DIV/0!"},0,null,{"$f":"'aligning data'!AR112","v":"D8"},{"$f":"'aligning data'!AR113","v":"E8"},{"$f":"'aligning data'!AR114","v":"F8"},{"$error":"#DIV/0!"},0,null,{"$f":"'aligning data'!AU112","v":"D8"},{"$f":"'aligning data'!AU113","v":"E8"},{"$f":"'aligning data'!AU114","v":"F8"},{"$error":"#DIV/0!"},0]
["P28",null,{"$f":"'aligning data'!B115","v":"G8"},{"$f":"'aligning data'!B116","v":"H8"},{"$f":"'aligning data'!B117","v":"I8"},{"$error":"#DIV/0!"},0,null,{"$f":"'aligning data'!E115","v":"G8"},{"$f":"'aligning data'!E116","v":"H8"},{"$f":"'aligning data'!E117","v":"I8"},{"$error":"#DIV/0!"},0,null,{"$f":"'aligning data'!H115","v":"G8"},{"$f":"'aligning data'!H116","v":"H8"},{"$f":"'aligning data'!H117","v":"I8"},{"$error":"#DIV/0!"},0,null,{"$f":"'aligning data'!K115","v":"G8"},{"$f":"'aligning data'!K116","v":"H8"},{"$f":"'aligning data'!K117","v":"I8"},{"$error":"#DIV/0!"},0,null,{"$f":"'aligning data'!N115","v":"G8"},{"$f":"'aligning data'!N116","v":"H8"},{"$f":"'aligning data'!N117","v":"I8"},{"$error":"#DIV/0!"},0,null,{"$f":"'aligning data'!Q115","v":"G8"},{"$f":"'aligning data'!Q116","v":"H8"},{"$f":"'aligning data'!Q117","v":"I8"},{"$error":"#DIV/0!"},0,null,{"$f":"'aligning data'!T115","v":"G8"},{"$f":"'aligning data'!T116","v":"H8"},{"$f":"'aligning data'!T117","v":"I8"},{"$error":"#DIV/0!"},0,null,{"$f":"'aligning data'!W115","v":"G8"},{"$f":"'aligning data'!W116","v":"H8"},{"$f":"'aligning data'!W117","v":"I8"},{"$error":"#DIV/0!"},0,null,{"$f":"'aligning data'!Z115","v":"G8"},{"$f":"'aligning data'!Z116","v":"H8"},{"$f":"'aligning data'!Z117","v":"I8"},{"$error":"#DIV/0!"},0,null,{"$f":"'aligning data'!AC115","v":"G8"},{"$f":"'aligning data'!AC116","v":"H8"},{"$f":"'aligning data'!AC117","v":"I8"},{"$error":"#DIV/0!"},0,null,{"$f":"'aligning data'!AF115","v":"G8"},{"$f":"'aligning data'!AF116","v":"H8"},{"$f":"'aligning data'!AF117","v":"I8"},{"$error":"#DIV/0!"},0,null,{"$f":"'aligning data'!AI115","v":"G8"},{"$f":"'aligning data'!AI116","v":"H8"},{"$f":"'aligning data'!AI117","v":"I8"},{"$error":"#DIV/0!"},0,null,{"$f":"'aligning data'!AL115","v":"G8"},{"$f":"'aligning data'!AL116","v":"H8"},{"$f":"'aligning data'!AL117","v":"I8"},{"$error":"#DIV/0!"},0,null,{"$f":"'aligning data'!AO115","v":"G8"},{"$f":"'aligning data'!AO116","v":"H8"},{"$f":"'aligning data'!AO117","v":"I8"},{"$error":"#DIV/0!"},0,null,{"$f":"'aligning data'!AR115","v":"G8"},{"$f":"'aligning data'!AR116","v":"H8"},{"$f":"'aligning data'!AR117","v":"I8"},{"$error":"#DIV/0!"},0,null,{"$f":"'aligning data'!AU115","v":"G8"},{"$f":"'aligning data'!AU116","v":"H8"},{"$f":"'aligning data'!AU117","v":"I8"},{"$error":"#DIV/0!"},0]
["P40",null,{"$f":"'aligning data'!B118","v":"J8"},{"$f":"'aligning data'!B119","v":"K8"},{"$f":"'aligning data'!B120","v":"L8"},{"$error":"#DIV/0!"},0,null,{"$f":"'aligning data'!E118","v":"J8"},{"$f":"'aligning data'!E119","v":"K8"},{"$f":"'aligning data'!E120","v":"L8"},{"$error":"#DIV/0!"},0,null,{"$f":"'aligning data'!H118","v":"J8"},{"$f":"'aligning data'!H119","v":"K8"},{"$f":"'aligning data'!H120","v":"L8"},{"$error":"#DIV/0!"},0,null,{"$f":"'aligning data'!K118","v":"J8"},{"$f":"'aligning data'!K119","v":"K8"},{"$f":"'aligning data'!K120","v":"L8"},{"$error":"#DIV/0!"},0,null,{"$f":"'aligning data'!N118","v":"J8"},{"$f":"'aligning data'!N119","v":"K8"},{"$f":"'aligning data'!N120","v":"L8"},{"$error":"#DIV/0!"},0,null,{"$f":"'aligning data'!Q118","v":"J8"},{"$f":"'aligning data'!Q119","v":"K8"},{"$f":"'aligning data'!Q120","v":"L8"},{"$error":"#DIV/0!"},0,null,{"$f":"'aligning data'!T118","v":"J8"},{"$f":"'aligning data'!T119","v":"K8"},{"$f":"'aligning data'!T120","v":"L8"},{"$error":"#DIV/0!"},0,null,{"$f":"'aligning data'!W118","v":"J8"},{"$f":"'aligning data'!W119","v":"K8"},{"$f":"'aligning data'!W120","v":"L8"},{"$error":"#DIV/0!"},0,null,{"$f":"'aligning data'!Z118","v":"J8"},{"$f":"'aligning data'!Z119","v":"K8"},{"$f":"'aligning data'!Z120","v":"L8"},{"$error":"#DIV/0!"},0,null,{"$f":"'aligning data'!AC118","v":"J8"},{"$f":"'aligning data'!AC119","v":"K8"},{"$f":"'aligning data'!AC120","v":"L8"},{"$error":"#DIV/0!"},0,null,{"$f":"'aligning data'!AF118","v":"J8"},{"$f":"'aligning data'!AF119","v":"K8"},{"$f":"'aligning data'!AF120","v":"L8"},{"$error":"#DIV/0!"},0,null,{"$f":"'aligning data'!AI118","v":"J8"},{"$f":"'aligning data'!AI119","v":"K8"},{"$f":"'aligning data'!AI120","v":"L8"},{"$error":"#DIV/0!"},0,null,{"$f":"'aligning data'!AL118","v":"J8"},{"$f":"'aligning data'!AL119","v":"K8"},{"$f":"'aligning data'!AL120","v":"L8"},{"$error":"#DIV/0!"},0,null,{"$f":"'aligning data'!AO118","v":"J8"},{"$f":"'aligning data'!AO119","v":"K8"},{"$f":"'aligning data'!AO120","v":"L8"},{"$error":"#DIV/0!"},0,null,{"$f":"'aligning data'!AR118","v":"J8"},{"$f":"'aligning data'!AR119","v":"K8"},{"$f":"'aligning data'!AR120","v":"L8"},{"$error":"#DIV/0!"},0,null,{"$f":"'aligning data'!AU118","v":"J8"},{"$f":"'aligning data'!AU119","v":"K8"},{"$f":"'aligning data'!AU120","v":"L8"},{"$error":"#DIV/0!"},0]
["P7",null,{"$f":"'aligning data'!B124","v":"A9"},{"$f":"'aligning data'!B125","v":"B9"},{"$f":"'aligning data'!B126","v":"C9"},{"$error":"#DIV/0!"},0,null,{"$f":"'aligning data'!E124","v":"A9"},{"$f":"'aligning data'!E125","v":"B9"},{"$f":"'aligning data'!E126","v":"C9"},{"$error":"#DIV/0!"},0,null,{"$f":"'aligning data'!H124","v":"A9"},{"$f":"'aligning data'!H125","v":"B9"},{"$f":"'aligning data'!H126","v":"C9"},{"$error":"#DIV/0!"},0,null,{"$f":"'aligning data'!K124","v":"A9"},{"$f":"'aligning data'!K125","v":"B9"},{"$f":"'aligning data'!K126","v":"C9"},{"$error":"#DIV/0!"},0,null,{"$f":"'aligning data'!N124","v":"A9"},{"$f":"'aligning data'!N125","v":"B9"},{"$f":"'aligning data'!N126","v":"C9"},{"$error":"#DIV/0!"},0,null,{"$f":"'aligning data'!Q124","v":"A9"},{"$f":"'aligning data'!Q125","v":"B9"},{"$f":"'aligning data'!Q126","v":"C9"},{"$error":"#DIV/0!"},0,null,{"$f":"'aligning data'!T124","v":"A9"},{"$f":"'aligning data'!T125","v":"B9"},{"$f":"'aligning data'!T126","v":"C9"},{"$error":"#DIV/0!"},0,null,{"$f":"'aligning data'!W124","v":"A9"},{"$f":"'aligning data'!W125","v":"B9"},{"$f":"'aligning data'!W126","v":"C9"},{"$error":"#DIV/0!"},0,null,{"$f":"'aligning data'!Z124","v":"A9"},{"$f":"'aligning data'!Z125","v":"B9"},{"$f":"'aligning data'!Z126","v":"C9"},{"$error":"#DIV/0!"},0,null,{"$f":"'aligning data'!AC124","v":"A9"},{"$f":"'aligning data'!AC125","v":"B9"},{"$f":"'aligning data'!AC126","v":"C9"},{"$error":"#DIV/0!"},0,null,{"$f":"'aligning data'!AF124","v":"A9"},{"$f":"'aligning data'!AF125","v":"B9"},{"$f":"'aligning data'!AF126","v":"C9"},{"$error":"#DIV/0!"},0,null,{"$f":"'aligning data'!AI124","v":"A9"},{"$f":"'aligning data'!AI125","v":"B9"},{"$f":"'aligning data'!AI126","v":"C9"},{"$error":"#DIV/0!"},0,null,{"$f":"'aligning data'!AL124","v":"A9"},{"$f":"'aligning data'!AL125","v":"B9"},{"$f":"'aligning data'!AL126","v":"C9"},{"$error":"#DIV/0!"},0,null,{"$f":"'aligning data'!AO124","v":"A9"},{"$f":"'aligning data'!AO125","v":"B9"},{"$f":"'aligning data'!AO126","v":"C9"},{"$error":"#DIV/0!"},0,null,{"$f":"'aligning data'!AR124","v":"A9"},{"$f":"'aligning data'!AR125","v":"B9"},{"$f":"'aligning data'!AR126","v":"C9"},{"$error":"#DIV/0!"},0,null,{"$f":"'aligning data'!AU124","v":"A9"},{"$f":"'aligning data'!AU125","v":"B9"},{"$f":"'aligning data'!AU126","v":"C9"},{"$error":"#DIV/0!"},0]
["P19",null,{"$f":"'aligning data'!B127","v":"D9"},{"$f":"'aligning data'!B128","v":"E9"},{"$f":"'aligning data'!B129","v":"F9"},{"$error":"#DIV/0!"},0,null,{"$f":"'aligning data'!E127","v":"D9"},{"$f":"'aligning data'!E128","v":"E9"},{"$f":"'aligning data'!E129","v":"F9"},{"$error":"#DIV/0!"},0,null,{"$f":"'aligning data'!H127","v":"D9"},{"$f":"'aligning data'!H128","v":"E9"},{"$f":"'aligning data'!H129","v":"F9"},{"$error":"#DIV/0!"},0,null,{"$f":"'aligning data'!K127","v":"D9"},{"$f":"'aligning data'!K128","v":"E9"},{"$f":"'aligning data'!K129","v":"F9"},{"$error":"#DIV/0!"},0,null,{"$f":"'aligning data'!N127","v":"D9"},{"$f":"'aligning data'!N128","v":"E9"},{"$f":"'aligning data'!N129","v":"F9"},{"$error":"#DIV/0!"},0,null,{"$f":"'aligning data'!Q127","v":"D9"},{"$f":"'aligning data'!Q128","v":"E9"},{"$f":"'aligning data'!Q129","v":"F9"},{"$error":"#DIV/0!"},0,null,{"$f":"'aligning data'!T127","v":"D9"},{"$f":"'aligning data'!T128","v":"E9"},{"$f":"'aligning data'!T129","v":"F9"},{"$error":"#DIV/0!"},0,null,{"$f":"'aligning data'!W127","v":"D9"},{"$f":"'aligning data'!W128","v":"E9"},{"$f":"'aligning data'!W129","v":"F9"},{"$error":"#DIV/0!"},0,null,{"$f":"'aligning data'!Z127","v":"D9"},{"$f":"'aligning data'!Z128","v":"E9"},{"$f":"'aligning data'!Z129","v":"F9"},{"$error":"#DIV/0!"},0,null,{"$f":"'aligning data'!AC127","v":"D9"},{"$f":"'aligning data'!AC128","v":"E9"},{"$f":"'aligning data'!AC129","v":"F9"},{"$error":"#DIV/0!"},0,null,{"$f":"'aligning data'!AF127","v":"D9"},{"$f":"'aligning data'!AF128","v":"E9"},{"$f":"'aligning data'!AF129","v":"F9"},{"$error":"#DIV/0!"},0,null,{"$f":"'aligning data'!AI127","v":"D9"},{"$f":"'aligning data'!AI128","v":"E9"},{"$f":"'aligning data'!AI129","v":"F9"},{"$error":"#DIV/0!"},0,null,{"$f":"'aligning data'!AL127","v":"D9"},{"$f":"'aligning data'!AL128","v":"E9"},{"$f":"'aligning data'!AL129","v":"F9"},{"$error":"#DIV/0!"},0,null,{"$f":"'aligning data'!AO127","v":"D9"},{"$f":"'aligning data'!AO128","v":"E9"},{"$f":"'aligning data'!AO129","v":"F9"},{"$error":"#DIV/0!"},0,null,{"$f":"'aligning data'!AR127","v":"D9"},{"$f":"'aligning data'!AR128","v":"E9"},{"$f":"'aligning data'!AR129","v":"F9"},{"$error":"#DIV/0!"},0,null,{"$f":"'aligning data'!AU127","v":"D9"},{"$f":"'aligning data'!AU128","v":"E9"},{"$f":"'aligning data'!AU129","v":"F9"},{"$error":"#DIV/0!"},0]
["P29",null,{"$f":"'aligning data'!B130","v":"G9"},{"$f":"'aligning data'!B131","v":"H9"},{"$f":"'aligning data'!B132","v":"I9"},{"$error":"#DIV/0!"},0,null,{"$f":"'aligning data'!E130","v":"G9"},{"$f":"'aligning data'!E131","v":"H9"},{"$f":"'aligning data'!E132","v":"I9"},{"$error":"#DIV/0!"},0,null,{"$f":"'aligning data'!H130","v":"G9"},{"$f":"'aligning data'!H131","v":"H9"},{"$f":"'aligning data'!H132","v":"I9"},{"$error":"#DIV/0!"},0,null,{"$f":"'aligning data'!K130","v":"G9"},{"$f":"'aligning data'!K131","v":"H9"},{"$f":"'aligning data'!K132","v":"I9"},{"$error":"#DIV/0!"},0,null,{"$f":"'aligning data'!N130","v":"G9"},{"$f":"'aligning data'!N131","v":"H9"},{"$f":"'aligning data'!N132","v":"I9"},{"$error":"#DIV/0!"},0,null,{"$f":"'aligning data'!Q130","v":"G9"},{"$f":"'aligning data'!Q131","v":"H9"},{"$f":"'aligning data'!Q132","v":"I9"},{"$error":"#DIV/0!"},0,null,{"$f":"'aligning data'!T130","v":"G9"},{"$f":"'aligning data'!T131","v":"H9"},{"$f":"'aligning data'!T132","v":"I9"},{"$error":"#DIV/0!"},0,null,{"$f":"'aligning data'!W130","v":"G9"},{"$f":"'aligning data'!W131","v":"H9"},{"$f":"'aligning data'!W132","v":"I9"},{"$error":"#DIV/0!"},0,null,{"$f":"'aligning data'!Z130","v":"G9"},{"$f":"'aligning data'!Z131","v":"H9"},{"$f":"'aligning data'!Z132","v":"I9"},{"$error":"#DIV/0!"},0,null,{"$f":"'aligning data'!AC130","v":"G9"},{"$f":"'aligning data'!AC131","v":"H9"},{"$f":"'aligning data'!AC132","v":"I9"},{"$error":"#DIV/0!"},0,null,{"$f":"'aligning data'!AF130","v":"G9"},{"$f":"'aligning data'!AF131","v":"H9"},{"$f":"'aligning data'!AF132","v":"I9"},{"$error":"#DIV/0!"},0,null,{"$f":"'aligning data'!AI130","v":"G9"},{"$f":"'aligning data'!AI131","v":"H9"},{"$f":"'aligning data'!AI132","v":"I9"},{"$error":"#DIV/0!"},0,null,{"$f":"'aligning data'!AL130","v":"G9"},{"$f":"'aligning data'!AL131","v":"H9"},{"$f":"'aligning data'!AL132","v":"I9"},{"$error":"#DIV/0!"},0,null,{"$f":"'aligning data'!AO130","v":"G9"},{"$f":"'aligning data'!AO131","v":"H9"},{"$f":"'aligning data'!AO132","v":"I9"},{"$error":"#DIV/0!"},0,null,{"$f":"'aligning data'!AR130","v":"G9"},{"$f":"'aligning data'!AR131","v":"H9"},{"$f":"'aligning data'!AR132","v":"I9"},{"$error":"#DIV/0!"},0,null,{"$f":"'aligning data'!AU130","v":"G9"},{"$f":"'aligning data'!AU131","v":"H9"},{"$f":"'aligning data'!AU132","v":"I9"},{"$error":"#DIV/0!"},0]
["P41",null,{"$f":"'aligning data'!B133","v":"J9"},{"$f":"'aligning data'!B134","v":"K9"},{"$f":"'aligning data'!B135","v":"L9"},{"$error":"#DIV/0!"},0,null,{"$f":"'aligning data'!E133","v":"J9"},{"$f":"'aligning data'!E134","v":"K9"},{"$f":"'aligning data'!E135","v":"L9"},{"$error":"#DIV/0!"},0,null,{"$f":"'aligning data'!H133","v":"J9"},{"$f":"'aligning data'!H134","v":"K9"},{"$f":"'aligning data'!H135","v":"L9"},{"$error":"#DIV/0!"},0,null,{"$f":"'aligning data'!K133","v":"J9"},{"$f":"'aligning data'!K134","v":"K9"},{"$f":"'aligning data'!K135","v":"L9"},{"$error":"#DIV/0!"},0,null,{"$f":"'aligning data'!N133","v":"J9"},{"$f":"'aligning data'!N134","v":"K9"},{"$f":"'aligning data'!N135","v":"L9"},{"$error":"#DIV/0!"},0,null,{"$f":"'aligning data'!Q133","v":"J9"},{"$f":"'aligning data'!Q134","v":"K9"},{"$f":"'aligning data'!Q135","v":"L9"},{"$error":"#DIV/0!"},0,null,{"$f":"'aligning data'!T133","v":"J9"},{"$f":"'aligning data'!T134","v":"K9"},{"$f":"'aligning data'!T135","v":"L9"},{"$error":"#DIV/0!"},0,null,{"$f":"'aligning data'!W133","v":"J9"},{"$f":"'aligning data'!W134","v":"K9"},{"$f":"'aligning data'!W135","v":"L9"},{"$error":"#DIV/0!"},0,null,{"$f":"'aligning data'!Z133","v":"J9"},{"$f":"'aligning data'!Z134","v":"K9"},{"$f":"'aligning data'!Z135","v":"L9"},{"$error":"#DIV/0!"},0,null,{"$f":"'aligning data'!AC133","v":"J9"},{"$f":"'aligning data'!AC134","v":"K9"},{"$f":"'aligning data'!AC135","v":"L9"},{"$error":"#DIV/0!"},0,null,{"$f":"'aligning data'!AF133","v":"J9"},{"$f":"'aligning data'!AF134","v":"K9"},{"$f":"'aligning data'!AF135","v":"L9"},{"$error":"#DIV/0!"},0,null,{"$f":"'aligning data'!AI133","v":"J9"},{"$f":"'aligning data'!AI134","v":"K9"},{"$f":"'aligning data'!AI135","v":"L9"},{"$error":"#DIV/0!"},0,null,{"$f":"'aligning data'!AL133","v":"J9"},{"$f":"'aligning data'!AL134","v":"K9"},{"$f":"'aligning data'!AL135","v":"L9"},{"$error":"#DIV/0!"},0,null,{"$f":"'aligning data'!AO133","v":"J9"},{"$f":"'aligning data'!AO134","v":"K9"},{"$f":"'aligning data'!AO135","v":"L9"},{"$error":"#DIV/0!"},0,null,{"$f":"'aligning data'!AR133","v":"J9"},{"$f":"'aligning data'!AR134","v":"K9"},{"$f":"'aligning data'!AR135","v":"L9"},{"$error":"#DIV/0!"},0,null,{"$f":"'aligning data'!AU133","v":"J9"},{"$f":"'aligning data'!AU134","v":"K9"},{"$f":"'aligning data'!AU135","v":"L9"},{"$error":"#DIV/0!"},0]
["Pig IgG",null,{"$f":"'aligning data'!B136","v":"M9"},{"$f":"'aligning data'!B137","v":"N9"},{"$f":"'aligning data'!B138","v":"O9"},{"$error":"#DIV/0!"},0,null,{"$f":"'aligning data'!E136","v":"M9"},{"$f":"'aligning data'!E137","v":"N9"},{"$f":"'aligning data'!E138","v":"O9"},{"$error":"#DIV/0!"},0,null,{"$f":"'aligning data'!H136","v":"M9"},{"$f":"'aligning data'!H137","v":"N9"},{"$f":"'aligning data'!H138","v":"O9"},{"$error":"#DIV/0!"},0,null,{"$f":"'aligning data'!K136","v":"M9"},{"$f":"'aligning data'!K137","v":"N9"},{"$f":"'aligning data'!K138","v":"O9"},{"$error":"#DIV/0!"},0,null,{"$f":"'aligning data'!N136","v":"M9"},{"$f":"'aligning data'!N137","v":"N9"},{"$f":"'aligning data'!N138","v":"O9"},{"$error":"#DIV/0!"},0,null,{"$f":"'aligning data'!Q136","v":"M9"},{"$f":"'aligning data'!Q137","v":"N9"},{"$f":"'aligning data'!Q138","v":"O9"},{"$error":"#DIV/0!"},0,null,{"$f":"'aligning data'!T136","v":"M9"},{"$f":"'aligning data'!T137","v":"N9"},{"$f":"'aligning data'!T138","v":"O9"},{"$error":"#DIV/0!"},0,null,{"$f":"'aligning data'!W136","v":"M9"},{"$f":"'aligning data'!W137","v":"N9"},{"$f":"'aligning data'!W138","v":"O9"},{"$error":"#DIV/0!"},0,null,{"$f":"'aligning data'!Z136","v":"M9"},{"$f":"'aligning data'!Z137","v":"N9"},{"$f":"'aligning data'!Z138","v":"O9"},{"$error":"#DIV/0!"},0,null,{"$f":"'aligning data'!AC136","v":"M9"},{"$f":"'aligning data'!AC137","v":"N9"},{"$f":"'aligning data'!AC138","v":"O9"},{"$error":"#DIV/0!"},0,null,{"$f":"'aligning data'!AF136","v":"M9"},{"$f":"'aligning data'!AF137","v":"N9"},{"$f":"'aligning data'!AF138","v":"O9"},{"$error":"#DIV/0!"},0,null,{"$f":"'aligning data'!AI136","v":"M9"},{"$f":"'aligning data'!AI137","v":"N9"},{"$f":"'aligning data'!AI138","v":"O9"},{"$error":"#DIV/0!"},0,null,{"$f":"'aligning data'!AL136","v":"M9"},{"$f":"'aligning data'!AL137","v":"N9"},{"$f":"'aligning data'!AL138","v":"O9"},{"$error":"#DIV/0!"},0,null,{"$f":"'aligning data'!AO136","v":"M9"},{"$f":"'aligning data'!AO137","v":"N9"},{"$f":"'aligning data'!AO138","v":"O9"},{"$error":"#DIV/0!"},0,null,{"$f":"'aligning data'!AR136","v":"M9"},{"$f":"'aligning data'!AR137","v":"N9"},{"$f":"'aligning data'!AR138","v":"O9"},{"$error":"#DIV/0!"},0,null,{"$f":"'aligning data'!AU136","v":"M9"},{"$f":"'aligning data'!AU137","v":"N9"},{"$f":"'aligning data'!AU138","v":"O9"},{"$error":"#DIV/0!"},0]
["P8",null,{"$f":"'aligning data'!B139","v":"A10"},{"$f":"'aligning data'!B140","v":"B10"},{"$f":"'aligning data'!B141","v":"C10"},{"$error":"#DIV/0!"},0,null,{"$f":"'aligning data'!E139","v":"A10"},{"$f":"'aligning data'!E140","v":"B10"},{"$f":"'aligning data'!E141","v":"C10"},{"$error":"#DIV/0!"},0,null,{"$f":"'aligning data'!H139","v":"A10"},{"$f":"'aligning data'!H140","v":"B10"},{"$f":"'aligning data'!H141","v":"C10"},{"$error":"#DIV/0!"},0,null,{"$f":"'aligning data'!K139","v":"A10"},{"$f":"'aligning data'!K140","v":"B10"},{"$f":"'aligning data'!K141","v":"C10"},{"$error":"#DIV/0!"},0,null,{"$f":"'aligning data'!N139","v":"A10"},{"$f":"'aligning data'!N140","v":"B10"},{"$f":"'aligning data'!N141","v":"C10"},{"$error":"#DIV/0!"},0,null,{"$f":"'aligning data'!Q139","v":"A10"},{"$f":"'aligning data'!Q140","v":"B10"},{"$f":"'aligning data'!Q141","v":"C10"},{"$error":"#DIV/0!"},0,null,{"$f":"'aligning data'!T139","v":"A10"},{"$f":"'aligning data'!T140","v":"B10"},{"$f":"'aligning data'!T141","v":"C10"},{"$error":"#DIV/0!"},0,null,{"$f":"'aligning data'!W139","v":"A10"},{"$f":"'aligning data'!W140","v":"B10"},{"$f":"'aligning data'!W141","v":"C10"},{"$error":"#DIV/0!"},0,null,{"$f":"'aligning data'!Z139","v":"A10"},{"$f":"'aligning data'!Z140","v":"B10"},{"$f":"'aligning data'!Z141","v":"C10"},{"$error":"#DIV/0!"},0,null,{"$f":"'aligning data'!AC139","v":"A10"},{"$f":"'aligning data'!AC140","v":"B10"},{"$f":"'aligning data'!AC141","v":"C10"},{"$error":"#DIV/0!"},0,null,{"$f":"'aligning data'!AF139","v":"A10"},{"$f":"'aligning data'!AF140","v":"B10"},{"$f":"'aligning data'!AF141","v":"C10"},{"$error":"#DIV/0!"},0,null,{"$f":"'aligning data'!AI139","v":"A10"},{"$f":"'aligning data'!AI140","v":"B10"},{"$f":"'aligning data'!AI141","v":"C10"},{"$error":"#DIV/0!"},0,null,{"$f":"'aligning data'!AL139","v":"A10"},{"$f":"'aligning data'!AL140","v":"B10"},{"$f":"'aligning data'!AL141","v":"C10"},{"$error":"#DIV/0!"},0,null,{"$f":"'aligning data'!AO139","v":"A10"},{"$f":"'aligning data'!AO140","v":"B10"},{"$f":"'aligning data'!AO141","v":"C10"},{"$error":"#DIV/0!"},0,null,{"$f":"'aligning data'!AR139","v":"A10"},{"$f":"'aligning data'!AR140","v":"B10"},{"$f":"'aligning data'!AR141","v":"C10"},{"$error":"#DIV/0!"},0,null,{"$f":"'aligning data'!AU139","v":"A10"},{"$f":"'aligning data'!AU140","v":"B10"},{"$f":"'aligning data'!AU141","v":"C10"},{"$error":"#DIV/0!"},0]
["P20",null,{"$f":"'aligning data'!B142","v":"D10"},{"$f":"'aligning data'!B143","v":"E10"},{"$f":"'aligning data'!B144","v":"F10"},{"$error":"#DIV/0!"},0,null,{"$f":"'aligning data'!E142","v":"D10"},{"$f":"'aligning data'!E143","v":"E10"},{"$f":"'aligning data'!E144","v":"F10"},{"$error":"#DIV/0!"},0,null,{"$f":"'aligning data'!H142","v":"D10"},{"$f":"'aligning data'!H143","v":"E10"},{"$f":"'aligning data'!H144","v":"F10"},{"$error":"#DIV/0!"},0,null,{"$f":"'aligning data'!K142","v":"D10"},{"$f":"'aligning data'!K143","v":"E10"},{"$f":"'aligning data'!K144","v":"F10"},{"$error":"#DIV/0!"},0,null,{"$f":"'aligning data'!N142","v":"D10"},{"$f":"'aligning data'!N143","v":"E10"},{"$f":"'aligning data'!N144","v":"F10"},{"$error":"#DIV/0!"},0,null,{"$f":"'aligning data'!Q142","v":"D10"},{"$f":"'aligning data'!Q143","v":"E10"},{"$f":"'aligning data'!Q144","v":"F10"},{"$error":"#DIV/0!"},0,null,{"$f":"'aligning data'!T142","v":"D10"},{"$f":"'aligning data'!T143","v":"E10"},{"$f":"'aligning data'!T144","v":"F10"},{"$error":"#DIV/0!"},0,null,{"$f":"'aligning data'!W142","v":"D10"},{"$f":"'aligning data'!W143","v":"E10"},{"$f":"'aligning data'!W144","v":"F10"},{"$error":"#DIV/0!"},0,null,{"$f":"'aligning data'!Z142","v":"D10"},{"$f":"'aligning data'!Z143","v":"E10"},{"$f":"'aligning data'!Z144","v":"F10"},{"$error":"#DIV/0!"},0,null,{"$f":"'aligning data'!AC142","v":"D10"},{"$f":"'aligning data'!AC143","v":"E10"},{"$f":"'aligning data'!AC144","v":"F10"},{"$error":"#DIV/0!"},0,null,{"$f":"'aligning data'!AF142","v":"D10"},{"$f":"'aligning data'!AF143","v":"E10"},{"$f":"'aligning data'!AF144","v":"F10"},{"$error":"#DIV/0!"},0,null,{"$f":"'aligning data'!AI142","v":"D10"},{"$f":"'aligning data'!AI143","v":"E10"},{"$f":"'aligning data'!AI144","v":"F10"},{"$error":"#DIV/0!"},0,null,{"$f":"'aligning data'!AL142","v":"D10"},{"$f":"'aligning data'!AL143","v":"E10"},{"$f":"'aligning data'!AL144","v":"F10"},{"$error":"#DIV/0!"},0,null,{"$f":"'aligning data'!AO142","v":"D10"},{"$f":"'aligning data'!AO143","v":"E10"},{"$f":"'aligning data'!AO144","v":"F10"},{"$error":"#DIV/0!"},0,null,{"$f":"'aligning data'!AR142","v":"D10"},{"$f":"'aligning data'!AR143","v":"E10"},{"$f":"'aligning data'!AR144","v":"F10"},{"$error":"#DIV/0!"},0,null,{"$f":"'aligning data'!AU142","v":"D10"},{"$f":"'aligning data'!AU143","v":"E10"},{"$f":"'aligning data'!AU144","v":"F10"},{"$error":"#DIV/0!"},0]
["P30",null,{"$f":"'aligning data'!B145","v":"G10"},{"$f":"'aligning data'!B146","v":"H10"},{"$f":"'aligning data'!B147","v":"I10"},{"$error":"#DIV/0!"},0,null,{"$f":"'aligning data'!E145","v":"G10"},{"$f":"'aligning data'!E146","v":"H10"},{"$f":"'aligning data'!E147","v":"I10"},{"$error":"#DIV/0!"},0,null,{"$f":"'aligning data'!H145","v":"G10"},{"$f":"'aligning data'!H146","v":"H10"},{"$f":"'aligning data'!H147","v":"I10"},{"$error":"#DIV/0!"},0,null,{"$f":"'aligning data'!K145","v":"G10"},{"$f":"'aligning data'!K146","v":"H10"},{"$f":"'aligning data'!K147","v":"I10"},{"$error":"#DIV/0!"},0,null,{"$f":"'aligning data'!N145","v":"G10"},{"$f":"'aligning data'!N146","v":"H10"},{"$f":"'aligning data'!N147","v":"I10"},{"$error":"#DIV/0!"},0,null,{"$f":"'aligning data'!Q145","v":"G10"},{"$f":"'aligning data'!Q146","v":"H10"},{"$f":"'aligning data'!Q147","v":"I10"},{"$error":"#DIV/0!"},0,null,{"$f":"'aligning data'!T145","v":"G10"},{"$f":"'aligning data'!T146","v":"H10"},{"$f":"'aligning data'!T147","v":"I10"},{"$error":"#DIV/0!"},0,null,{"$f":"'aligning data'!W145","v":"G10"},{"$f":"'aligning data'!W146","v":"H10"},{"$f":"'aligning data'!W147","v":"I10"},{"$error":"#DIV/0!"},0,null,{"$f":"'aligning data'!Z145","v":"G10"},{"$f":"'aligning data'!Z146","v":"H10"},{"$f":"'aligning data'!Z147","v":"I10"},{"$error":"#DIV/0!"},0,null,{"$f":"'aligning data'!AC145","v":"G10"},{"$f":"'aligning data'!AC146","v":"H10"},{"$f":"'aligning data'!AC147","v":"I10"},{"$error":"#DIV/0!"},0,null,{"$f":"'aligning data'!AF145","v":"G10"},{"$f":"'aligning data'!AF146","v":"H10"},{"$f":"'aligning data'!AF147","v":"I10"},{"$error":"#DIV/0!"},0,null,{"$f":"'aligning data'!AI145","v":"G10"},{"$f":"'aligning data'!AI146","v":"H10"},{"$f":"'aligning data'!AI147","v":"I10"},{"$error":"#DIV/0!"},0,null,{"$f":"'aligning data'!AL145","v":"G10"},{"$f":"'aligning data'!AL146","v":"H10"},{"$f":"'aligning data'!AL147","v":"I10"},{"$error":"#DIV/0!"},0,null,{"$f":"'aligning data'!AO145","v":"G10"},{"$f":"'aligning data'!AO146","v":"H10"},{"$f":"'aligning data'!AO147","v":"I10"},{"$error":"#DIV/0!"},0,null,{"$f":"'aligning data'!AR145","v":"G10"},{"$f":"'aligning data'!AR146","v":"H10"},{"$f":"'aligning data'!AR147","v":"I10"},{"$error":"#DIV/0!"},0,null,{"$f":"'aligning data'!AU145","v":"G10"},{"$f":"'aligning data'!AU146","v":"H10"},{"$f":"'aligning data'!AU147","v":"I10"},{"$error":"#DIV/0!"},0]
["P42",null,{"$f":"'aligning data'!B148","v":"J10"},{"$f":"'aligning data'!B149","v":"K10"},{"$f":"'aligning data'!B150","v":"L10"},{"$error":"#DIV/0!"},0,null,{"$f":"'aligning data'!E148","v":"J10"},{"$f":"'aligning data'!E149","v":"K10"},{"$f":"'aligning data'!E150","v":"L10"},{"$error":"#DIV/0!"},0,null,{"$f":"'aligning data'!H148","v":"J10"},{"$f":"'aligning data'!H149","v":"K10"},{"$f":"'aligning data'!H150","v":"L10"},{"$error":"#DIV/0!"},0,null,{"$f":"'aligning data'!K148","v":"J10"},{"$f":"'aligning data'!K149","v":"K10"},{"$f":"'aligning data'!K150","v":"L10"},{"$error":"#DIV/0!"},0,null,{"$f":"'aligning data'!N148","v":"J10"},{"$f":"'aligning data'!N149","v":"K10"},{"$f":"'aligning data'!N150","v":"L10"},{"$error":"#DIV/0!"},0,null,{"$f":"'aligning data'!Q148","v":"J10"},{"$f":"'aligning data'!Q149","v":"K10"},{"$f":"'aligning data'!Q150","v":"L10"},{"$error":"#DIV/0!"},0,null,{"$f":"'aligning data'!T148","v":"J10"},{"$f":"'aligning data'!T149","v":"K10"},{"$f":"'aligning data'!T150","v":"L10"},{"$error":"#DIV/0!"},0,null,{"$f":"'aligning data'!W148","v":"J10"},{"$f":"'aligning data'!W149","v":"K10"},{"$f":"'aligning data'!W150","v":"L10"},{"$error":"#DIV/0!"},0,null,{"$f":"'aligning data'!Z148","v":"J10"},{"$f":"'aligning data'!Z149","v":"K10"},{"$f":"'aligning data'!Z150","v":"L10"},{"$error":"#DIV/0!"},0,null,{"$f":"'aligning data'!AC148","v":"J10"},{"$f":"'aligning data'!AC149","v":"K10"},{"$f":"'aligning data'!AC150","v":"L10"},{"$error":"#DIV/0!"},0,null,{"$f":"'aligning data'!AF148","v":"J10"},{"$f":"'aligning data'!AF149","v":"K10"},{"$f":"'aligning data'!AF150","v":"L10"},{"$error":"#DIV/0!"},0,null,{"$f":"'aligning data'!AI148","v":"J10"},{"$f":"'aligning data'!AI149","v":"K10"},{"$f":"'aligning data'!AI150","v":"L10"},{"$error":"#DIV/0!"},0,null,{"$f":"'aligning data'!AL148","v":"J10"},{"$f":"'aligning data'!AL149","v":"K10"},{"$f":"'aligning data'!AL150","v":"L10"},{"$error":"#DIV/0!"},0,null,{"$f":"'aligning data'!AO148","v":"J10"},{"$f":"'aligning data'!AO149","v":"K10"},{"$f":"'aligning data'!AO150","v":"L10"},{"$error":"#DIV/0!"},0,null,{"$f":"'aligning data'!AR148","v":"J10"},{"$f":"'aligning data'!AR149","v":"K10"},{"$f":"'aligning data'!AR150","v":"L10"},{"$error":"#DIV/0!"},0,null,{"$f":"'aligning data'!AU148","v":"J10"},{"$f":"'aligning data'!AU149","v":"K10"},{"$f":"'aligning data'!AU150","v":"L10"},{"$error":"#DIV/0!"},0]
["Pig IgA",null,{"$f":"'aligning data'!B151","v":"M10"},{"$f":"'aligning data'!B152","v":"N10"},{"$f":"'aligning data'!B153","v":"O10"},{"$error":"#DIV/0!"},0,null,{"$f":"'aligning data'!E151","v":"M10"},{"$f":"'aligning data'!E152","v":"N10"},{"$f":"'aligning data'!E153","v":"O10"},{"$error":"#DIV/0!"},0,null,{"$f":"'aligning data'!H151","v":"M10"},{"$f":"'aligning data'!H152","v":"N10"},{"$f":"'aligning data'!H153","v":"O10"},{"$error":"#DIV/0!"},0,null,{"$f":"'aligning data'!K151","v":"M10"},{"$f":"'aligning data'!K152","v":"N10"},{"$f":"'aligning data'!K153","v":"O10"},{"$error":"#DIV/0!"},0,null,{"$f":"'aligning data'!N151","v":"M10"},{"$f":"'aligning data'!N152","v":"N10"},{"$f":"'aligning data'!N153","v":"O10"},{"$error":"#DIV/0!"},0,null,{"$f":"'aligning data'!Q151","v":"M10"},{"$f":"'aligning data'!Q152","v":"N10"},{"$f":"'aligning data'!Q153","v":"O10"},{"$error":"#DIV/0!"},0,null,{"$f":"'aligning data'!T151","v":"M10"},{"$f":"'aligning data'!T152","v":"N10"},{"$f":"'aligning data'!T153","v":"O10"},{"$error":"#DIV/0!"},0,null,{"$f":"'aligning data'!W151","v":"M10"},{"$f":"'aligning data'!W152","v":"N10"},{"$f":"'aligning data'!W153","v":"O10"},{"$error":"#DIV/0!"},0,null,{"$f":"'aligning data'!Z151","v":"M10"},{"$f":"'aligning data'!Z152","v":"N10"},{"$f":"'aligning data'!Z153","v":"O10"},{"$error":"#DIV/0!"},0,null,{"$f":"'aligning data'!AC151","v":"M10"},{"$f":"'aligning data'!AC152","v":"N10"},{"$f":"'aligning data'!AC153","v":"O10"},{"$error":"#DIV/0!"},0,null,{"$f":"'aligning data'!AF151","v":"M10"},{"$f":"'aligning data'!AF152","v":"N10"},{"$f":"'aligning data'!AF153","v":"O10"},{"$error":"#DIV/0!"},0,null,{"$f":"'aligning data'!AI151","v":"M10"},{"$f":"'aligning data'!AI152","v":"N10"},{"$f":"'aligning data'!AI153","v":"O10"},{"$error":"#DIV/0!"},0,null,{"$f":"'aligning data'!AL151","v":"M10"},{"$f":"'aligning data'!AL152","v":"N10"},{"$f":"'aligning data'!AL153","v":"O10"},{"$error":"#DIV/0!"},0,null,{"$f":"'aligning data'!AO151","v":"M10"},{"$f":"'aligning data'!AO152","v":"N10"},{"$f":"'aligning data'!AO153","v":"O10"},{"$error":"#DIV/0!"},0,null,{"$f":"'aligning data'!AR151","v":"M10"},{"$f":"'aligning data'!AR152","v":"N10"},{"$f":"'aligning data'!AR153","v":"O10"},{"$error":"#DIV/0!"},0,null,{"$f":"'aligning data'!AU151","v":"M10"},{"$f":"'aligning data'!AU152","v":"N10"},{"$f":"'aligning data'!AU153","v":"O10"},{"$error":"#DIV/0!"},0]
["P9",null,{"$f":"'aligning data'!B154","v":"A11"},{"$f":"'aligning data'!B155","v":"B11"},{"$f":"'aligning data'!B156","v":"C11"},{"$error":"#DIV/0!"},0,null,{"$f":"'aligning data'!E154","v":"A11"},{"$f":"'aligning data'!E155","v":"B11"},{"$f":"'aligning data'!E156","v":"C11"},{"$error":"#DIV/0!"},0,null,{"$f":"'aligning data'!H154","v":"A11"},{"$f":"'aligning data'!H155","v":"B11"},{"$f":"'aligning data'!H156","v":"C11"},{"$error":"#DIV/0!"},0,null,{"$f":"'aligning data'!K154","v":"A11"},{"$f":"'aligning data'!K155","v":"B11"},{"$f":"'aligning data'!K156","v":"C11"},{"$error":"#DIV/0!"},0,null,{"$f":"'aligning data'!N154","v":"A11"},{"$f":"'aligning data'!N155","v":"B11"},{"$f":"'aligning data'!N156","v":"C11"},{"$error":"#DIV/0!"},0,null,{"$f":"'aligning data'!Q154","v":"A11"},{"$f":"'aligning data'!Q155","v":"B11"},{"$f":"'aligning data'!Q156","v":"C11"},{"$error":"#DIV/0!"},0,null,{"$f":"'aligning data'!T154","v":"A11"},{"$f":"'aligning data'!T155","v":"B11"},{"$f":"'aligning data'!T156","v":"C11"},{"$error":"#DIV/0!"},0,null,{"$f":"'aligning data'!W154","v":"A11"},{"$f":"'aligning data'!W155","v":"B11"},{"$f":"'aligning data'!W156","v":"C11"},{"$error":"#DIV/0!"},0,null,{"$f":"'aligning data'!Z154","v":"A11"},{"$f":"'aligning data'!Z155","v":"B11"},{"$f":"'aligning data'!Z156","v":"C11"},{"$error":"#DIV/0!"},0,null,{"$f":"'aligning data'!AC154","v":"A11"},{"$f":"'aligning data'!AC155","v":"B11"},{"$f":"'aligning data'!AC156","v":"C11"},{"$error":"#DIV/0!"},0,null,{"$f":"'aligning data'!AF154","v":"A11"},{"$f":"'aligning data'!AF155","v":"B11"},{"$f":"'aligning data'!AF156","v":"C11"},{"$error":"#DIV/0!"},0,null,{"$f":"'aligning data'!AI154","v":"A11"},{"$f":"'aligning data'!AI155","v":"B11"},{"$f":"'aligning data'!AI156","v":"C11"},{"$error":"#DIV/0!"},0,null,{"$f":"'aligning data'!AL154","v":"A11"},{"$f":"'aligning data'!AL155","v":"B11"},{"$f":"'aligning data'!AL156","v":"C11"},{"$error":"#DIV/0!"},0,null,{"$f":"'aligning data'!AO154","v":"A11"},{"$f":"'aligning data'!AO155","v":"B11"},{"$f":"'aligning data'!AO156","v":"C11"},{"$error":"#DIV/0!"},0,null,{"$f":"'aligning data'!AR154","v":"A11"},{"$f":"'aligning data'!AR155","v":"B11"},{"$f":"'aligning data'!AR156","v":"C11"},{"$error":"#DIV/0!"},0,null,{"$f":"'aligning data'!AU154","v":"A11"},{"$f":"'aligning data'!AU155","v":"B11"},{"$f":"'aligning data'!AU156","v":"C11"},{"$error":"#DIV/0!"},0]
["P21",null,{"$f":"'aligning data'!B157","v":"D11"},{"$f":"'aligning data'!B158","v":"E11"},{"$f":"'aligning data'!B159","v":"F11"},{"$error":"#DIV/0!"},0,null,{"$f":"'aligning data'!E157","v":"D11"},{"$f":"'aligning data'!E158","v":"E11"},{"$f":"'aligning data'!E159","v":"F11"},{"$error":"#DIV/0!"},0,null,{"$f":"'aligning data'!H157","v":"D11"},{"$f":"'aligning data'!H158","v":"E11"},{"$f":"'aligning data'!H159","v":"F11"},{"$error":"#DIV/0!"},0,null,{"$f":"'aligning data'!K157","v":"D11"},{"$f":"'aligning data'!K158","v":"E11"},{"$f":"'aligning data'!K159","v":"F11"},{"$error":"#DIV/0!"},0,null,{"$f":"'aligning data'!N157","v":"D11"},{"$f":"'aligning data'!N158","v":"E11"},{"$f":"'aligning data'!N159","v":"F11"},{"$error":"#DIV/0!"},0,null,{"$f":"'aligning data'!Q157","v":"D11"},{"$f":"'aligning data'!Q158","v":"E11"},{"$f":"'aligning data'!Q159","v":"F11"},{"$error":"#DIV/0!"},0,null,{"$f":"'aligning data'!T157","v":"D11"},{"$f":"'aligning data'!T158","v":"E11"},{"$f":"'aligning data'!T159","v":"F11"},{"$error":"#DIV/0!"},0,null,{"$f":"'aligning data'!W157","v":"D11"},{"$f":"'aligning data'!W158","v":"E11"},{"$f":"'aligning data'!W159","v":"F11"},{"$error":"#DIV/0!"},0,null,{"$f":"'aligning data'!Z157","v":"D11"},{"$f":"'aligning data'!Z158","v":"E11"},{"$f":"'aligning data'!Z159","v":"F11"},{"$error":"#DIV/0!"},0,null,{"$f":"'aligning data'!AC157","v":"D11"},{"$f":"'aligning data'!AC158","v":"E11"},{"$f":"'aligning data'!AC159","v":"F11"},{"$error":"#DIV/0!"},0,null,{"$f":"'aligning data'!AF157","v":"D11"},{"$f":"'aligning data'!AF158","v":"E11"},{"$f":"'aligning data'!AF159","v":"F11"},{"$error":"#DIV/0!"},0,null,{"$f":"'aligning data'!AI157","v":"D11"},{"$f":"'aligning data'!AI158","v":"E11"},{"$f":"'aligning data'!AI159","v":"F11"},{"$error":"#DIV/0!"},0,null,{"$f":"'aligning data'!AL157","v":"D11"},{"$f":"'aligning data'!AL158","v":"E11"},{"$f":"'aligning data'!AL159","v":"F11"},{"$error":"#DIV/0!"},0,null,{"$f":"'aligning data'!AO157","v":"D11"},{"$f":"'aligning data'!AO158","v":"E11"},{"$f":"'aligning data'!AO159","v":"F11"},{"$error":"#DIV/0!"},0,null,{"$f":"'aligning data'!AR157","v":"D11"},{"$f":"'aligning data'!AR158","v":"E11"},{"$f":"'aligning data'!AR159","v":"F11"},{"$error":"#DIV/0!"},0,null,{"$f":"'aligning data'!AU157","v":"D11"},{"$f":"'aligning data'!AU158","v":"E11"},{"$f":"'aligning data'!AU159","v":"F11"},{"$error":"#DIV/0!"},0]
["P31",null,{"$f":"'aligning data'!B160","v":"G11"},{"$f":"'aligning data'!B161","v":"H11"},{"$f":"'aligning data'!B162","v":"I11"},{"$error":"#DIV/0!"},0,null,{"$f":"'aligning data'!E160","v":"G11"},{"$f":"'aligning data'!E161","v":"H11"},{"$f":"'aligning data'!E162","v":"I11"},{"$error":"#DIV/0!"},0,null,{"$f":"'aligning data'!H160","v":"G11"},{"$f":"'aligning data'!H161","v":"H11"},{"$f":"'aligning data'!H162","v":"I11"},{"$error":"#DIV/0!"},0,null,{"$f":"'aligning data'!K160","v":"G11"},{"$f":"'aligning data'!K161","v":"H11"},{"$f":"'aligning data'!K162","v":"I11"},{"$error":"#DIV/0!"},0,null,{"$f":"'aligning data'!N160","v":"G11"},{"$f":"'aligning data'!N161","v":"H11"},{"$f":"'aligning data'!N162","v":"I11"},{"$error":"#DIV/0!"},0,null,{"$f":"'aligning data'!Q160","v":"G11"},{"$f":"'aligning data'!Q161","v":"H11"},{"$f":"'aligning data'!Q162","v":"I11"},{"$error":"#DIV/0!"},0,null,{"$f":"'aligning data'!T160","v":"G11"},{"$f":"'aligning data'!T161","v":"H11"},{"$f":"'aligning data'!T162","v":"I11"},{"$error":"#DIV/0!"},0,null,{"$f":"'aligning data'!W160","v":"G11"},{"$f":"'aligning data'!W161","v":"H11"},{"$f":"'aligning data'!W162","v":"I11"},{"$error":"#DIV/0!"},0,null,{"$f":"'aligning data'!Z160","v":"G11"},{"$f":"'aligning data'!Z161","v":"H11"},{"$f":"'aligning data'!Z162","v":"I11"},{"$error":"#DIV/0!"},0,null,{"$f":"'aligning data'!AC160","v":"G11"},{"$f":"'aligning data'!AC161","v":"H11"},{"$f":"'aligning data'!AC162","v":"I11"},{"$error":"#DIV/0!"},0,null,{"$f":"'aligning data'!AF160","v":"G11"},{"$f":"'aligning data'!AF161","v":"H11"},{"$f":"'aligning data'!AF162","v":"I11"},{"$error":"#DIV/0!"},0,null,{"$f":"'aligning data'!AI160","v":"G11"},{"$f":"'aligning data'!AI161","v":"H11"},{"$f":"'aligning data'!AI162","v":"I11"},{"$error":"#DIV/0!"},0,null,{"$f":"'aligning data'!AL160","v":"G11"},{"$f":"'aligning data'!AL161","v":"H11"},{"$f":"'aligning data'!AL162","v":"I11"},{"$error":"#DIV/0!"},0,null,{"$f":"'aligning data'!AO160","v":"G11"},{"$f":"'aligning data'!AO161","v":"H11"},{"$f":"'aligning data'!AO162","v":"I11"},{"$error":"#DIV/0!"},0,null,{"$f":"'aligning data'!AR160","v":"G11"},{"$f":"'aligning data'!AR161","v":"H11"},{"$f":"'aligning data'!AR162","v":"I11"},{"$error":"#DIV/0!"},0,null,{"$f":"'aligning data'!AU160","v":"G11"},{"$f":"'aligning data'!AU161","v":"H11"},{"$f":"'aligning data'!AU162","v":"I11"},{"$error":"#DIV/0!"},0]
["P43",null,{"$f":"'aligning data'!B163","v":"J11"},{"$f":"'aligning data'!B164","v":"K11"},{"$f":"'aligning data'!B165","v":"L11"},{"$error":"#DIV/0!"},0,null,{"$f":"'aligning data'!E163","v":"J11"},{"$f":"'aligning data'!E164","v":"K11"},{"$f":"'aligning data'!E165","v":"L11"},{"$error":"#DIV/0!"},0,null,{"$f":"'aligning data'!H163","v":"J11"},{"$f":"'aligning data'!H164","v":"K11"},{"$f":"'aligning data'!H165","v":"L11"},{"$error":"#DIV/0!"},0,null,{"$f":"'aligning data'!K163","v":"J11"},{"$f":"'aligning data'!K164","v":"K11"},{"$f":"'aligning data'!K165","v":"L11"},{"$error":"#DIV/0!"},0,null,{"$f":"'aligning data'!N163","v":"J11"},{"$f":"'aligning data'!N164","v":"K11"},{"$f":"'aligning data'!N165","v":"L11"},{"$error":"#DIV/0!"},0,null,{"$f":"'aligning data'!Q163","v":"J11"},{"$f":"'aligning data'!Q164","v":"K11"},{"$f":"'aligning data'!Q165","v":"L11"},{"$error":"#DIV/0!"},0,null,{"$f":"'aligning data'!T163","v":"J11"},{"$f":"'aligning data'!T164","v":"K11"},{"$f":"'aligning data'!T165","v":"L11"},{"$error":"#DIV/0!"},0,null,{"$f":"'aligning data'!W163","v":"J11"},{"$f":"'aligning data'!W164","v":"K11"},{"$f":"'aligning data'!W165","v":"L11"},{"$error":"#DIV/0!"},0,null,{"$f":"'aligning data'!Z163","v":"J11"},{"$f":"'aligning data'!Z164","v":"K11"},{"$f":"'aligning data'!Z165","v":"L11"},{"$error":"#DIV/0!"},0,null,{"$f":"'aligning data'!AC163","v":"J11"},{"$f":"'aligning data'!AC164","v":"K11"},{"$f":"'aligning data'!AC165","v":"L11"},{"$error":"#DIV/0!"},0,null,{"$f":"'aligning data'!AF163","v":"J11"},{"$f":"'aligning data'!AF164","v":"K11"},{"$f":"'aligning data'!AF165","v":"L11"},{"$error":"#DIV/0!"},0,null,{"$f":"'aligning data'!AI163","v":"J11"},{"$f":"'aligning data'!AI164","v":"K11"},{"$f":"'aligning data'!AI165","v":"L11"},{"$error":"#DIV/0!"},0,null,{"$f":"'aligning data'!AL163","v":"J11"},{"$f":"'aligning data'!AL164","v":"K11"},{"$f":"'aligning data'!AL165","v":"L11"},{"$error":"#DIV/0!"},0,null,{"$f":"'aligning data'!AO163","v":"J11"},{"$f":"'aligning data'!AO164","v":"K11"},{"$f":"'aligning data'!AO165","v":"L11"},{"$error":"#DIV/0!"},0,null,{"$f":"'aligning data'!AR163","v":"J11"},{"$f":"'aligning data'!AR164","v":"K11"},{"$f":"'aligning data'!AR165","v":"L11"},{"$error":"#DIV/0!"},0,null,{"$f":"'aligning data'!AU163","v":"J11"},{"$f":"'aligning data'!AU164","v":"K11"},{"$f":"'aligning data'!AU165","v":"L11"},{"$error":"#DIV/0!"},0]
["P10",null,{"$f":"'aligning data'!B169","v":"A12"},{"$f":"'aligning data'!B170","v":"B12"},{"$f":"'aligning data'!B171","v":"C12"},{"$error":"#DIV/0!"},0,null,{"$f":"'aligning data'!E169","v":"A12"},{"$f":"'aligning data'!E170","v":"B12"},{"$f":"'aligning data'!E171","v":"C12"},{"$error":"#DIV/0!"},0,null,{"$f":"'aligning data'!H169","v":"A12"},{"$f":"'aligning data'!H170","v":"B12"},{"$f":"'aligning data'!H171","v":"C12"},{"$error":"#DIV/0!"},0,null,{"$f":"'aligning data'!K169","v":"A12"},{"$f":"'aligning data'!K170","v":"B12"},{"$f":"'aligning data'!K171","v":"C12"},{"$error":"#DIV/0!"},0,null,{"$f":"'aligning data'!N169","v":"A12"},{"$f":"'aligning data'!N170","v":"B12"},{"$f":"'aligning data'!N171","v":"C12"},{"$error":"#DIV/0!"},0,null,{"$f":"'aligning data'!Q169","v":"A12"},{"$f":"'aligning data'!Q170","v":"B12"},{"$f":"'aligning data'!Q171","v":"C12"},{"$error":"#DIV/0!"},0,null,{"$f":"'aligning data'!T169","v":"A12"},{"$f":"'aligning data'!T170","v":"B12"},{"$f":"'aligning data'!T171","v":"C12"},{"$error":"#DIV/0!"},0,null,{"$f":"'aligning data'!W169","v":"A12"},{"$f":"'aligning data'!W170","v":"B12"},{"$f":"'aligning data'!W171","v":"C12"},{"$error":"#DIV/0!"},0,null,{"$f":"'aligning data'!Z169","v":"A12"},{"$f":"'aligning data'!Z170","v":"B12"},{"$f":"'aligning data'!Z171","v":"C12"},{"$error":"#DIV/0!"},0,null,{"$f":"'aligning data'!AC169","v":"A12"},{"$f":"'aligning data'!AC170","v":"B12"},{"$f":"'aligning data'!AC171","v":"C12"},{"$error":"#DIV/0!"},0,null,{"$f":"'aligning data'!AF169","v":"A12"},{"$f":"'aligning data'!AF170","v":"B12"},{"$f":"'aligning data'!AF171","v":"C12"},{"$error":"#DIV/0!"},0,null,{"$f":"'aligning data'!AI169","v":"A12"},{"$f":"'aligning data'!AI170","v":"B12"},{"$f":"'aligning data'!AI171","v":"C12"},{"$error":"#DIV/0!"},0,null,{"$f":"'aligning data'!AL169","v":"A12"},{"$f":"'aligning data'!AL170","v":"B12"},{"$f":"'aligning data'!AL171","v":"C12"},{"$error":"#DIV/0!"},0,null,{"$f":"'aligning data'!AO169","v":"A12"},{"$f":"'aligning data'!AO170","v":"B12"},{"$f":"'aligning data'!AO171","v":"C12"},{"$error":"#DIV/0!"},0,null,{"$f":"'aligning data'!AR169","v":"A12"},{"$f":"'aligning data'!AR170","v":"B12"},{"$f":"'aligning data'!AR171","v":"C12"},{"$error":"#DIV/0!"},0,null,{"$f":"'aligning data'!AU169","v":"A12"},{"$f":"'aligning data'!AU170","v":"B12"},{"$f":"'aligning data'!AU171","v":"C12"},{"$error":"#DIV/0!"},0]
["P32",null,{"$f":"'aligning data'!B175","v":"G12"},{"$f":"'aligning data'!B176","v":"H12"},{"$f":"'aligning data'!B177","v":"I12"},{"$error":"#DIV/0!"},0,null,{"$f":"'aligning data'!E175","v":"G12"},{"$f":"'aligning data'!E176","v":"H12"},{"$f":"'aligning data'!E177","v":"I12"},{"$error":"#DIV/0!"},0,null,{"$f":"'aligning data'!H175","v":"G12"},{"$f":"'aligning data'!H176","v":"H12"},{"$f":"'aligning data'!H177","v":"I12"},{"$error":"#DIV/0!"},0,null,{"$f":"'aligning data'!K175","v":"G12"},{"$f":"'aligning data'!K176","v":"H12"},{"$f":"'aligning data'!K177","v":"I12"},{"$error":"#DIV/0!"},0,null,{"$f":"'aligning data'!N175","v":"G12"},{"$f":"'aligning data'!N176","v":"H12"},{"$f":"'aligning data'!N177","v":"I12"},{"$error":"#DIV/0!"},0,null,{"$f":"'aligning data'!Q175","v":"G12"},{"$f":"'aligning data'!Q176","v":"H12"},{"$f":"'aligning data'!Q177","v":"I12"},{"$error":"#DIV/0!"},0,null,{"$f":"'aligning data'!T175","v":"G12"},{"$f":"'aligning data'!T176","v":"H12"},{"$f":"'aligning data'!T177","v":"I12"},{"$error":"#DIV/0!"},0,null,{"$f":"'aligning data'!W175","v":"G12"},{"$f":"'aligning data'!W176","v":"H12"},{"$f":"'aligning data'!W177","v":"I12"},{"$error":"#DIV/0!"},0,null,{"$f":"'aligning data'!Z175","v":"G12"},{"$f":"'aligning data'!Z176","v":"H12"},{"$f":"'aligning data'!Z177","v":"I12"},{"$error":"#DIV/0!"},0,null,{"$f":"'aligning data'!AC175","v":"G12"},{"$f":"'aligning data'!AC176","v":"H12"},{"$f":"'aligning data'!AC177","v":"I12"},{"$error":"#DIV/0!"},0,null,{"$f":"'aligning data'!AF175","v":"G12"},{"$f":"'aligning data'!AF176","v":"H12"},{"$f":"'aligning data'!AF177","v":"I12"},{"$error":"#DIV/0!"},0,null,{"$f":"'aligning data'!AI175","v":"G12"},{"$f":"'aligning data'!AI176","v":"H12"},{"$f":"'aligning data'!AI177","v":"I12"},{"$error":"#DIV/0!"},0,null,{"$f":"'aligning data'!AL175","v":"G12"},{"$f":"'aligning data'!AL176","v":"H12"},{"$f":"'aligning data'!AL177","v":"I12"},{"$error":"#DIV/0!"},0,null,{"$f":"'aligning data'!AO175","v":"G12"},{"$f":"'aligning data'!AO176","v":"H12"},{"$f":"'aligning data'!AO177","v":"I12"},{"$error":"#DIV/0!"},0,null,{"$f":"'aligning data'!AR175","v":"G12"},{"$f":"'aligning data'!AR176","v":"H12"},{"$f":"'aligning data'!AR177","v":"I12"},{"$error":"#DIV/0!"},0,null,{"$f":"'aligning data'!AU175","v":"G12"},{"$f":"'aligning data'!AU176","v":"H12"},{"$f":"'aligning data'!AU177","v":"I12"},{"$error":"#DIV/0!"},0]
["P44",null,{"$f":"'aligning data'!B178","v":"J12"},{"$f":"'aligning data'!B179","v":"K12"},{"$f":"'aligning data'!B180","v":"L12"},{"$error":"#DIV/0!"},0,null,{"$f":"'aligning data'!E178","v":"J12"},{"$f":"'aligning data'!E179","v":"K12"},{"$f":"'aligning data'!E180","v":"L12"},{"$error":"#DIV/0!"},0,null,{"$f":"'aligning data'!H178","v":"J12"},{"$f":"'aligning data'!H179","v":"K12"},{"$f":"'aligning data'!H180","v":"L12"},{"$error":"#DIV/0!"},0,null,{"$f":"'aligning data'!K178","v":"J12"},{"$f":"'aligning data'!K179","v":"K12"},{"$f":"'aligning data'!K180","v":"L12"},{"$error":"#DIV/0!"},0,null,{"$f":"'aligning data'!N178","v":"J12"},{"$f":"'aligning data'!N179","v":"K12"},{"$f":"'aligning data'!N180","v":"L12"},{"$error":"#DIV/0!"},0,null,{"$f":"'aligning data'!Q178","v":"J12"},{"$f":"'aligning data'!Q179","v":"K12"},{"$f":"'aligning data'!Q180","v":"L12"},{"$error":"#DIV/0!"},0,null,{"$f":"'aligning data'!T178","v":"J12"},{"$f":"'aligning data'!T179","v":"K12"},{"$f":"'aligning data'!T180","v":"L12"},{"$error":"#DIV/0!"},0,null,{"$f":"'aligning data'!W178","v":"J12"},{"$f":"'aligning data'!W179","v":"K12"},{"$f":"'aligning data'!W180","v":"L12"},{"$error":"#DIV/0!"},0,null,{"$f":"'aligning data'!Z178","v":"J12"},{"$f":"'aligning data'!Z179","v":"K12"},{"$f":"'aligning data'!Z180","v":"L12"},{"$error":"#DIV/0!"},0,null,{"$f":"'aligning data'!AC178","v":"J12"},{"$f":"'aligning data'!AC179","v":"K12"},{"$f":"'aligning data'!AC180","v":"L12"},{"$error":"#DIV/0!"},0,null,{"$f":"'aligning data'!AF178","v":"J12"},{"$f":"'aligning data'!AF179","v":"K12"},{"$f":"'aligning data'!AF180","v":"L12"},{"$error":"#DIV/0!"},0,null,{"$f":"'aligning data'!AI178","v":"J12"},{"$f":"'aligning data'!AI179","v":"K12"},{"$f":"'aligning data'!AI180","v":"L12"},{"$error":"#DIV/0!"},0,null,{"$f":"'aligning data'!AL178","v":"J12"},{"$f":"'aligning data'!AL179","v":"K12"},{"$f":"'aligning data'!AL180","v":"L12"},{"$error":"#DIV/0!"},0,null,{"$f":"'aligning data'!AO178","v":"J12"},{"$f":"'aligning data'!AO179","v":"K12"},{"$f":"'aligning data'!AO180","v":"L12"},{"$error":"#DIV/0!"},0,null,{"$f":"'aligning data'!AR178","v":"J12"},{"$f":"'aligning data'!AR179","v":"K12"},{"$f":"'aligning data'!AR180","v":"L12"},{"$error":"#DIV/0!"},0,null,{"$f":"'aligning data'!AU178","v":"J12"},{"$f":"'aligning data'!AU179","v":"K12"},{"$f":"'aligning data'!AU180","v":"L12"},{"$error":"#DIV/0!"},0]
["P44",null,{"$f":"'aligning data'!B178","v":"J12"},{"$f":"'aligning data'!B179","v":"K12"},{"$f":"'aligning data'!B180","v":"L12"},{"$f":"AVERAGE(C61:E61)","v":{"$error":"#DIV/0!"}},{"$f":"STDEVA(C61:E61)","v":0},null,{"$f":"'aligning data'!E178","v":"J12"},{"$f":"'aligning data'!E179","v":"K12"},{"$f":"'aligning data'!E180","v":"L12"},{"$f":"AVERAGE(I61:K61)","v":{"$error":"#DIV/0!"}},{"$f":"STDEVA(I61:K61)","v":0},null,{"$f":"'aligning data'!H178","v":"J12"},{"$f":"'aligning data'!H179","v":"K12"},{"$f":"'aligning data'!H180","v":"L12"},{"$f":"AVERAGE(O61:Q61)","v":{"$error":"#DIV/0!"}},{"$f":"STDEVA(O61:Q61)","v":0},null,{"$f":"'aligning data'!K178","v":"J12"},{"$f":"'aligning data'!K179","v":"K12"},{"$f":"'aligning data'!K180","v":"L12"},{"$f":"AVERAGE(U61:W61)","v":{"$error":"#DIV/0!"}},{"$f":"STDEVA(U61:W61)","v":0},null,{"$f":"'aligning data'!N178","v":"J12"},{"$f":"'aligning data'!N179","v":"K12"},{"$f":"'aligning data'!N180","v":"L12"},{"$f":"AVERAGE(AA61:AC61)","v":{"$error":"#DIV/0!"}},{"$f":"STDEVA(AA61:AC61)","v":0},null,{"$f":"'aligning data'!Q178","v":"J12"},{"$f":"'aligning data'!Q179","v":"K12"},{"$f":"'aligning data'!Q180","v":"L12"},{"$f":"AVERAGE(AG61:AI61)","v":{"$error":"#DIV/0!"}},{"$f":"STDEVA(AG61:AI61)","v":0},null,{"$f":"'aligning data'!T178","v":"J12"},{"$f":"'aligning data'!T179","v":"K12"},{"$f":"'aligning data'!T180","v":"L12"},{"$f":"AVERAGE(AM61:AO61)","v":{"$error":"#DIV/0!"}},{"$f":"STDEVA(AM61:AO61)","v":0},null,{"$f":"'aligning data'!W178","v":"J12"},{"$f":"'aligning data'!W179","v":"K12"},{"$f":"'aligning data'!W180","v":"L12"},{"$f":"AVERAGE(AS61:AU61)","v":{"$error":"#DIV/0!"}},{"$f":"STDEVA(AS61:AU61)","v":0},null,{"$f":"'aligning data'!Z178","v":"J12"},{"$f":"'aligning data'!Z179","v":"K12"},{"$f":"'aligning data'!Z180","v":"L12"},{"$f":"AVERAGE(AY61:BA61)","v":{"$error":"#DIV/0!"}},{"$f":"STDEVA(AY61:BA61)","v":0},null,{"$f":"'aligning data'!AC178","v":"J12"},{"$f":"'aligning data'!AC179","v":"K12"},{"$f":"'aligning data'!AC180","v":"L12"},{"$f":"AVERAGE(BE61:BG61)","v":{"$error":"#DIV/0!"}},{"$f":"STDEVA(BE61:BG61)","v":0},null,{"$f":"'aligning data'!AF178","v":"J12"},{"$f":"'aligning data'!AF179","v":"K12"},{"$f":"'aligning data'!AF180","v":"L12"},{"$f":"AVERAGE(BK61:BM61)","v":{"$error":"#DIV/0!"}},{"$f":"STDEVA(BK61:BM61)","v":0},null,{"$f":"'aligning data'!AI178","v":"J12"},{"$f":"'aligning data'!AI179","v":"K12"},{"$f":"'aligning data'!AI180","v":"L12"},{"$f":"AVERAGE(BQ61:BS61)","v":{"$error":"#DIV/0!"}},{"$f":"STDEVA(BQ61:BS61)","v":0},null,{"$f":"'aligning data'!AL178","v":"J12"},{"$f":"'aligning data'!AL179","v":"K12"},{"$f":"'aligning data'!AL180","v":"L12"},{"$f":"AVERAGE(BW61:BY61)","v":{"$error":"#DIV/0!"}},{"$f":"STDEVA(BW61:BY61)","v":0},null,{"$f":"'aligning data'!AO178","v":"J12"},{"$f":"'aligning data'!AO179","v":"K12"},{"$f":"'aligning data'!AO180","v":"L12"},{"$f":"AVERAGE(CC61:CE61)","v":{"$error":"#DIV/0!"}},{"$f":"STDEVA(CC61:CE61)","v":0},null,{"$f":"'aligning data'!AR178","v":"J12"},{"$f":"'aligning data'!AR179","v":"K12"},{"$f":"'aligning data'!AR180","v":"L12"},{"$f":"AVERAGE(CI61:CK61)","v":{"$error":"#DIV/0!"}},{"$f":"STDEVA(CI61:CK61)","v":0},null,{"$f":"'aligning data'!AU178","v":"J12"},{"$f":"'aligning data'!AU179","v":"K12"},{"$f":"'aligning data'!AU180","v":"L12"},{"$f":"AVERAGE(CO61:CQ61)","v":{"$error":"#DIV/0!"}},{"$f":"STDEVA(CO61:CQ61)","v":0}]

{"sheet":"Averages 1","index":11,"n_rows":60,"n_cols":17,"rows_kept":60,"cut":false,"hidden":true,"merged":[]}
[]
["RayBio® Pig Cytokine Protein Array G1 Analysis Tool - Average With Background"]
[]
["Target",{"$f":"'Sorting 1'!C4","v":"Sample 1"},{"$f":"'Sorting 1'!I4","v":"Sample 2"},{"$f":"'Sorting 1'!O4","v":"Sample 3"},{"$f":"'Sorting 1'!U4","v":"Sample 4"},{"$f":"'Sorting 1'!AA4","v":"Sample 5"},{"$f":"'Sorting 1'!AG4","v":"Sample 6"},{"$f":"'Sorting 1'!AM4","v":"Sample 7"},{"$f":"'Sorting 1'!AS4","v":"Sample 8"},{"$f":"'Sorting 1'!AY4","v":"Sample 9"},{"$f":"'Sorting 1'!BE4","v":"Sample 10"},{"$f":"'Sorting 1'!BK4","v":"Sample 11"},{"$f":"'Sorting 1'!BQ4","v":"Sample 12"},{"$f":"'Sorting 1'!BW4","v":"Sample 13"},{"$f":"'Sorting 1'!CC4","v":"Sample 14"},{"$f":"'Sorting 1'!CI4","v":"Sample 15"},{"$f":"'Sorting 1'!CO4","v":"Sample 16"}]
[{"$f":"'Sorting 1'!A6","v":"POS"},{"$f":"'Sorting 1'!F6","v":0},{"$f":"'Sorting 1'!L6","v":0},{"$f":"'Sorting 1'!R6","v":0},{"$f":"'Sorting 1'!X6","v":0},{"$f":"'Sorting 1'!AD6","v":0},{"$f":"'Sorting 1'!AJ6","v":0},{"$f":"'Sorting 1'!AP6","v":0},{"$f":"'Sorting 1'!AV6","v":0},{"$f":"'Sorting 1'!BB6","v":0},{"$f":"'Sorting 1'!BH6","v":0},{"$f":"'Sorting 1'!BN6","v":0},{"$f":"'Sorting 1'!BT6","v":0},{"$f":"'Sorting 1'!BZ6","v":0},{"$f":"'Sorting 1'!CF6","v":0},{"$f":"'Sorting 1'!CL6","v":0},{"$f":"'Sorting 1'!CR6","v":0}]
[{"$f":"'Sorting 1'!A7","v":"NEG"},{"$f":"'Sorting 1'!F7","v":0},{"$f":"'Sorting 1'!L7","v":0},{"$f":"'Sorting 1'!R7","v":0},{"$f":"'Sorting 1'!X7","v":0},{"$f":"'Sorting 1'!AD7","v":0},{"$f":"'Sorting 1'!AJ7","v":0},{"$f":"'Sorting 1'!AP7","v":0},{"$f":"'Sorting 1'!AV7","v":0},{"$f":"'Sorting 1'!BB7","v":0},{"$f":"'Sorting 1'!BH7","v":0},{"$f":"'Sorting 1'!BN7","v":0},{"$f":"'Sorting 1'!BT7","v":0},{"$f":"'Sorting 1'!BZ7","v":0},{"$f":"'Sorting 1'!CF7","v":0},{"$f":"'Sorting 1'!CL7","v":0},{"$f":"'Sorting 1'!CR7","v":0}]
[{"$f":"'Sorting 1'!A8","v":"P11"},{"$f":"'Sorting 1'!F8","v":{"$error":"#DIV/0!"}},{"$f":"'Sorting 1'!L8","v":{"$error":"#DIV/0!"}},{"$f":"'Sorting 1'!R8","v":{"$error":"#DIV/0!"}},{"$f":"'Sorting 1'!X8","v":{"$error":"#DIV/0!"}},{"$f":"'Sorting 1'!AD8","v":{"$error":"#DIV/0!"}},{"$f":"'Sorting 1'!AJ8","v":{"$error":"#DIV/0!"}},{"$f":"'Sorting 1'!AP8","v":{"$error":"#DIV/0!"}},{"$f":"'Sorting 1'!AV8","v":{"$error":"#DIV/0!"}},{"$f":"'Sorting 1'!BB8","v":{"$error":"#DIV/0!"}},{"$f":"'Sorting 1'!BH8","v":{"$error":"#DIV/0!"}},{"$f":"'Sorting 1'!BN8","v":{"$error":"#DIV/0!"}},{"$f":"'Sorting 1'!BT8","v":{"$error":"#DIV/0!"}},{"$f":"'Sorting 1'!BZ8","v":{"$error":"#DIV/0!"}},{"$f":"'Sorting 1'!CF8","v":{"$error":"#DIV/0!"}},{"$f":"'Sorting 1'!CL8","v":{"$error":"#DIV/0!"}},{"$f":"'Sorting 1'!CR8","v":{"$error":"#DIV/0!"}}]
[{"$f":"'Sorting 1'!A9","v":"P33"},{"$f":"'Sorting 1'!F9","v":{"$error":"#DIV/0!"}},{"$f":"'Sorting 1'!L9","v":{"$error":"#DIV/0!"}},{"$f":"'Sorting 1'!R9","v":{"$error":"#DIV/0!"}},{"$f":"'Sorting 1'!X9","v":{"$error":"#DIV/0!"}},{"$f":"'Sorting 1'!AD9","v":{"$error":"#DIV/0!"}},{"$f":"'Sorting 1'!AJ9","v":{"$error":"#DIV/0!"}},{"$f":"'Sorting 1'!AP9","v":{"$error":"#DIV/0!"}},{"$f":"'Sorting 1'!AV9","v":{"$error":"#DIV/0!"}},{"$f":"'Sorting 1'!BB9","v":{"$error":"#DIV/0!"}},{"$f":"'Sorting 1'!BH9","v":{"$error":"#DIV/0!"}},{"$f":"'Sorting 1'!BN9","v":{"$error":"#DIV/0!"}},{"$f":"'Sorting 1'!BT9","v":{"$error":"#DIV/0!"}},{"$f":"'Sorting 1'!BZ9","v":{"$error":"#DIV/0!"}},{"$f":"'Sorting 1'!CF9","v":{"$error":"#DIV/0!"}},{"$f":"'Sorting 1'!CL9","v":{"$error":"#DIV/0!"}},{"$f":"'Sorting 1'!CR9","v":{"$error":"#DIV/0!"}}]
[{"$f":"'Sorting 1'!A10","v":"P45"},{"$f":"'Sorting 1'!F10","v":{"$error":"#DIV/0!"}},{"$f":"'Sorting 1'!L10","v":{"$error":"#DIV/0!"}},{"$f":"'Sorting 1'!R10","v":{"$error":"#DIV/0!"}},{"$f":"'Sorting 1'!X10","v":{"$error":"#DIV/0!"}},{"$f":"'Sorting 1'!AD10","v":{"$error":"#DIV/0!"}},{"$f":"'Sorting 1'!AJ10","v":{"$error":"#DIV/0!"}},{"$f":"'Sorting 1'!AP10","v":{"$error":"#DIV/0!"}},{"$f":"'Sorting 1'!AV10","v":{"$error":"#DIV/0!"}},{"$f":"'Sorting 1'!BB10","v":{"$error":"#DIV/0!"}},{"$f":"'Sorting 1'!BH10","v":{"$error":"#DIV/0!"}},{"$f":"'Sorting 1'!BN10","v":{"$error":"#DIV/0!"}},{"$f":"'Sorting 1'!BT10","v":{"$error":"#DIV/0!"}},{"$f":"'Sorting 1'!BZ10","v":{"$error":"#DIV/0!"}},{"$f":"'Sorting 1'!CF10","v":{"$error":"#DIV/0!"}},{"$f":"'Sorting 1'!CL10","v":{"$error":"#DIV/0!"}},{"$f":"'Sorting 1'!CR10","v":{"$error":"#DIV/0!"}}]
[{"$f":"'Sorting 1'!A11","v":"P12"},{"$f":"'Sorting 1'!F11","v":{"$error":"#DIV/0!"}},{"$f":"'Sorting 1'!L11","v":{"$error":"#DIV/0!"}},{"$f":"'Sorting 1'!R11","v":{"$error":"#DIV/0!"}},{"$f":"'Sorting 1'!X11","v":{"$error":"#DIV/0!"}},{"$f":"'Sorting 1'!AD11","v":{"$error":"#DIV/0!"}},{"$f":"'Sorting 1'!AJ11","v":{"$error":"#DIV/0!"}},{"$f":"'Sorting 1'!AP11","v":{"$error":"#DIV/0!"}},{"$f":"'Sorting 1'!AV11","v":{"$error":"#DIV/0!"}},{"$f":"'Sorting 1'!BB11","v":{"$error":"#DIV/0!"}},{"$f":"'Sorting 1'!BH11","v":{"$error":"#DIV/0!"}},{"$f":"'Sorting 1'!BN11","v":{"$error":"#DIV/0!"}},{"$f":"'Sorting 1'!BT11","v":{"$error":"#DIV/0!"}},{"$f":"'Sorting 1'!BZ11","v":{"$error":"#DIV/0!"}},{"$f":"'Sorting 1'!CF11","v":{"$error":"#DIV/0!"}},{"$f":"'Sorting 1'!CL11","v":{"$error":"#DIV/0!"}},{"$f":"'Sorting 1'!CR11","v":{"$error":"#DIV/0!"}}]
[{"$f":"'Sorting 1'!A12","v":"P22"},{"$f":"'Sorting 1'!F12","v":{"$error":"#DIV/0!"}},{"$f":"'Sorting 1'!L12","v":{"$error":"#DIV/0!"}},{"$f":"'Sorting 1'!R12","v":{"$error":"#DIV/0!"}},{"$f":"'Sorting 1'!X12","v":{"$error":"#DIV/0!"}},{"$f":"'Sorting 1'!AD12","v":{"$error":"#DIV/0!"}},{"$f":"'Sorting 1'!AJ12","v":{"$error":"#DIV/0!"}},{"$f":"'Sorting 1'!AP12","v":{"$error":"#DIV/0!"}},{"$f":"'Sorting 1'!AV12","v":{"$error":"#DIV/0!"}},{"$f":"'Sorting 1'!BB12","v":{"$error":"#DIV/0!"}},{"$f":"'Sorting 1'!BH12","v":{"$error":"#DIV/0!"}},{"$f":"'Sorting 1'!BN12","v":{"$error":"#DIV/0!"}},{"$f":"'Sorting 1'!BT12","v":{"$error":"#DIV/0!"}},{"$f":"'Sorting 1'!BZ12","v":{"$error":"#DIV/0!"}},{"$f":"'Sorting 1'!CF12","v":{"$error":"#DIV/0!"}},{"$f":"'Sorting 1'!CL12","v":{"$error":"#DIV/0!"}},{"$f":"'Sorting 1'!CR12","v":{"$error":"#DIV/0!"}}]
[{"$f":"'Sorting 1'!A13","v":"P34"},{"$f":"'Sorting 1'!F13","v":{"$error":"#DIV/0!"}},{"$f":"'Sorting 1'!L13","v":{"$error":"#DIV/0!"}},{"$f":"'Sorting 1'!R13","v":{"$error":"#DIV/0!"}},{"$f":"'Sorting 1'!X13","v":{"$error":"#DIV/0!"}},{"$f":"'Sorting 1'!AD13","v":{"$error":"#DIV/0!"}},{"$f":"'Sorting 1'!AJ13","v":{"$error":"#DIV/0!"}},{"$f":"'Sorting 1'!AP13","v":{"$error":"#DIV/0!"}},{"$f":"'Sorting 1'!AV13","v":{"$error":"#DIV/0!"}},{"$f":"'Sorting 1'!BB13","v":{"$error":"#DIV/0!"}},{"$f":"'Sorting 1'!BH13","v":{"$error":"#DIV/0!"}},{"$f":"'Sorting 1'!BN13","v":{"$error":"#DIV/0!"}},{"$f":"'Sorting 1'!BT13","v":{"$error":"#DIV/0!"}},{"$f":"'Sorting 1'!BZ13","v":{"$error":"#DIV/0!"}},{"$f":"'Sorting 1'!CF13","v":{"$error":"#DIV/0!"}},{"$f":"'Sorting 1'!CL13","v":{"$error":"#DIV/0!"}},{"$f":"'Sorting 1'!CR13","v":{"$error":"#DIV/0!"}}]
[{"$f":"'Sorting 1'!A14","v":"P46"},{"$f":"'Sorting 1'!F14","v":{"$error":"#DIV/0!"}},{"$f":"'Sorting 1'!L14","v":{"$error":"#DIV/0!"}},{"$f":"'Sorting 1'!R14","v":{"$error":"#DIV/0!"}},{"$f":"'Sorting 1'!X14","v":{"$error":"#DIV/0!"}},{"$f":"'Sorting 1'!AD14","v":{"$error":"#DIV/0!"}},{"$f":"'Sorting 1'!AJ14","v":{"$error":"#DIV/0!"}},{"$f":"'Sorting 1'!AP14","v":{"$error":"#DIV/0!"}},{"$f":"'Sorting 1'!AV14","v":{"$error":"#DIV/0!"}},{"$f":"'Sorting 1'!BB14","v":{"$error":"#DIV/0!"}},{"$f":"'Sorting 1'!BH14","v":{"$error":"#DIV/0!"}},{"$f":"'Sorting 1'!BN14","v":{"$error":"#DIV/0!"}},{"$f":"'Sorting 1'!BT14","v":{"$error":"#DIV/0!"}},{"$f":"'Sorting 1'!BZ14","v":{"$error":"#DIV/0!"}},{"$f":"'Sorting 1'!CF14","v":{"$error":"#DIV/0!"}},{"$f":"'Sorting 1'!CL14","v":{"$error":"#DIV/0!"}},{"$f":"'Sorting 1'!CR14","v":{"$error":"#DIV/0!"}}]
[{"$f":"'Sorting 1'!A15","v":"P1"},{"$f":"'Sorting 1'!F15","v":{"$error":"#DIV/0!"}},{"$f":"'Sorting 1'!L15","v":{"$error":"#DIV/0!"}},{"$f":"'Sorting 1'!R15","v":{"$error":"#DIV/0!"}},{"$f":"'Sorting 1'!X15","v":{"$error":"#DIV/0!"}},{"$f":"'Sorting 1'!AD15","v":{"$error":"#DIV/0!"}},{"$f":"'Sorting 1'!AJ15","v":{"$error":"#DIV/0!"}},{"$f":"'Sorting 1'!AP15","v":{"$error":"#DIV/0!"}},{"$f":"'Sorting 1'!AV15","v":{"$error":"#DIV/0!"}},{"$f":"'Sorting 1'!BB15","v":{"$error":"#DIV/0!"}},{"$f":"'Sorting 1'!BH15","v":{"$error":"#DIV/0!"}},{"$f":"'Sorting 1'!BN15","v":{"$error":"#DIV/0!"}},{"$f":"'Sorting 1'!BT15","v":{"$error":"#DIV/0!"}},{"$f":"'Sorting 1'!BZ15","v":{"$error":"#DIV/0!"}},{"$f":"'Sorting 1'!CF15","v":{"$error":"#DIV/0!"}},{"$f":"'Sorting 1'!CL15","v":{"$error":"#DIV/0!"}},{"$f":"'Sorting 1'!CR15","v":{"$error":"#DIV/0!"}}]
[{"$f":"'Sorting 1'!A16","v":"P13"},{"$f":"'Sorting 1'!F16","v":{"$error":"#DIV/0!"}},{"$f":"'Sorting 1'!L16","v":{"$error":"#DIV/0!"}},{"$f":"'Sorting 1'!R16","v":{"$error":"#DIV/0!"}},{"$f":"'Sorting 1'!X16","v":{"$error":"#DIV/0!"}},{"$f":"'Sorting 1'!AD16","v":{"$error":"#DIV/0!"}},{"$f":"'Sorting 1'!AJ16","v":{"$error":"#DIV/0!"}},{"$f":"'Sorting 1'!AP16","v":{"$error":"#DIV/0!"}},{"$f":"'Sorting 1'!AV16","v":{"$error":"#DIV/0!"}},{"$f":"'Sorting 1'!BB16","v":{"$error":"#DIV/0!"}},{"$f":"'Sorting 1'!BH16","v":{"$error":"#DIV/0!"}},{"$f":"'Sorting 1'!BN16","v":{"$error":"#DIV/0!"}},{"$f":"'Sorting 1'!BT16","v":{"$error":"#DIV/0!"}},{"$f":"'Sorting 1'!BZ16","v":{"$error":"#DIV/0!"}},{"$f":"'Sorting 1'!CF16","v":{"$error":"#DIV/0!"}},{"$f":"'Sorting 1'!CL16","v":{"$error":"#DIV/0!"}},{"$f":"'Sorting 1'!CR16","v":{"$error":"#DIV/0!"}}]
[{"$f":"'Sorting 1'!A17","v":"P23"},{"$f":"'Sorting 1'!F17","v":{"$error":"#DIV/0!"}},{"$f":"'Sorting 1'!L17","v":{"$error":"#DIV/0!"}},{"$f":"'Sorting 1'!R17","v":{"$error":"#DIV/0!"}},{"$f":"'Sorting 1'!X17","v":{"$error":"#DIV/0!"}},{"$f":"'Sorting 1'!AD17","v":{"$error":"#DIV/0!"}},{"$f":"'Sorting 1'!AJ17","v":{"$error":"#DIV/0!"}},{"$f":"'Sorting 1'!AP17","v":{"$error":"#DIV/0!"}},{"$f":"'Sorting 1'!AV17","v":{"$error":"#DIV/0!"}},{"$f":"'Sorting 1'!BB17","v":{"$error":"#DIV/0!"}},{"$f":"'Sorting 1'!BH17","v":{"$error":"#DIV/0!"}},{"$f":"'Sorting 1'!BN17","v":{"$error":"#DIV/0!"}},{"$f":"'Sorting 1'!BT17","v":{"$error":"#DIV/0!"}},{"$f":"'Sorting 1'!BZ17","v":{"$error":"#DIV/0!"}},{"$f":"'Sorting 1'!CF17","v":{"$error":"#DIV/0!"}},{"$f":"'Sorting 1'!CL17","v":{"$error":"#DIV/0!"}},{"$f":"'Sorting 1'!CR17","v":{"$error":"#DIV/0!"}}]
[{"$f":"'Sorting 1'!A18","v":"P35"},{"$f":"'Sorting 1'!F18","v":{"$error":"#DIV/0!"}},{"$f":"'Sorting 1'!L18","v":{"$error":"#DIV/0!"}},{"$f":"'Sorting 1'!R18","v":{"$error":"#DIV/0!"}},{"$f":"'Sorting 1'!X18","v":{"$error":"#DIV/0!"}},{"$f":"'Sorting 1'!AD18","v":{"$error":"#DIV/0!"}},{"$f":"'Sorting 1'!AJ18","v":{"$error":"#DIV/0!"}},{"$f":"'Sorting 1'!AP18","v":{"$error":"#DIV/0!"}},{"$f":"'Sorting 1'!AV18","v":{"$error":"#DIV/0!"}},{"$f":"'Sorting 1'!BB18","v":{"$error":"#DIV/0!"}},{"$f":"'Sorting 1'!BH18","v":{"$error":"#DIV/0!"}},{"$f":"'Sorting 1'!BN18","v":{"$error":"#DIV/0!"}},{"$f":"'Sorting 1'!BT18","v":{"$error":"#DIV/0!"}},{"$f":"'Sorting 1'!BZ18","v":{"$error":"#DIV/0!"}},{"$f":"'Sorting 1'!CF18","v":{"$error":"#DIV/0!"}},{"$f":"'Sorting 1'!CL18","v":{"$error":"#DIV/0!"}},{"$f":"'Sorting 1'!CR18","v":{"$error":"#DIV/0!"}}]
[{"$f":"'Sorting 1'!A19","v":"P47"},{"$f":"'Sorting 1'!F19","v":{"$error":"#DIV/0!"}},{"$f":"'Sorting 1'!L19","v":{"$error":"#DIV/0!"}},{"$f":"'Sorting 1'!R19","v":{"$error":"#DIV/0!"}},{"$f":"'Sorting 1'!X19","v":{"$error":"#DIV/0!"}},{"$f":"'Sorting 1'!AD19","v":{"$error":"#DIV/0!"}},{"$f":"'Sorting 1'!AJ19","v":{"$error":"#DIV/0!"}},{"$f":"'Sorting 1'!AP19","v":{"$error":"#DIV/0!"}},{"$f":"'Sorting 1'!AV19","v":{"$error":"#DIV/0!"}},{"$f":"'Sorting 1'!BB19","v":{"$error":"#DIV/0!"}},{"$f":"'Sorting 1'!BH19","v":{"$error":"#DIV/0!"}},{"$f":"'Sorting 1'!BN19","v":{"$error":"#DIV/0!"}},{"$f":"'Sorting 1'!BT19","v":{"$error":"#DIV/0!"}},{"$f":"'Sorting 1'!BZ19","v":{"$error":"#DIV/0!"}},{"$f":"'Sorting 1'!CF19","v":{"$error":"#DIV/0!"}},{"$f":"'Sorting 1'!CL19","v":{"$error":"#DIV/0!"}},{"$f":"'Sorting 1'!CR19","v":{"$error":"#DIV/0!"}}]
[{"$f":"'Sorting 1'!A20","v":"P2"},{"$f":"'Sorting 1'!F20","v":{"$error":"#DIV/0!"}},{"$f":"'Sorting 1'!L20","v":{"$error":"#DIV/0!"}},{"$f":"'Sorting 1'!R20","v":{"$error":"#DIV/0!"}},{"$f":"'Sorting 1'!X20","v":{"$error":"#DIV/0!"}},{"$f":"'Sorting 1'!AD20","v":{"$error":"#DIV/0!"}},{"$f":"'Sorting 1'!AJ20","v":{"$error":"#DIV/0!"}},{"$f":"'Sorting 1'!AP20","v":{"$error":"#DIV/0!"}},{"$f":"'Sorting 1'!AV20","v":{"$error":"#DIV/0!"}},{"$f":"'Sorting 1'!BB20","v":{"$error":"#DIV/0!"}},{"$f":"'Sorting 1'!BH20","v":{"$error":"#DIV/0!"}},{"$f":"'Sorting 1'!BN20","v":{"$error":"#DIV/0!"}},{"$f":"'Sorting 1'!BT20","v":{"$error":"#DIV/0!"}},{"$f":"'Sorting 1'!BZ20","v":{"$error":"#DIV/0!"}},{"$f":"'Sorting 1'!CF20","v":{"$error":"#DIV/0!"}},{"$f":"'Sorting 1'!CL20","v":{"$error":"#DIV/0!"}},{"$f":"'Sorting 1'!CR20","v":{"$error":"#DIV/0!"}}]
[{"$f":"'Sorting 1'!A21","v":"P14"},{"$f":"'Sorting 1'!F21","v":{"$error":"#DIV/0!"}},{"$f":"'Sorting 1'!L21","v":{"$error":"#DIV/0!"}},{"$f":"'Sorting 1'!R21","v":{"$error":"#DIV/0!"}},{"$f":"'Sorting 1'!X21","v":{"$error":"#DIV/0!"}},{"$f":"'Sorting 1'!AD21","v":{"$error":"#DIV/0!"}},{"$f":"'Sorting 1'!AJ21","v":{"$error":"#DIV/0!"}},{"$f":"'Sorting 1'!AP21","v":{"$error":"#DIV/0!"}},{"$f":"'Sorting 1'!AV21","v":{"$error":"#DIV/0!"}},{"$f":"'Sorting 1'!BB21","v":{"$error":"#DIV/0!"}},{"$f":"'Sorting 1'!BH21","v":{"$error":"#DIV/0!"}},{"$f":"'Sorting 1'!BN21","v":{"$error":"#DIV/0!"}},{"$f":"'Sorting 1'!BT21","v":{"$error":"#DIV/0!"}},{"$f":"'Sorting 1'!BZ21","v":{"$error":"#DIV/0!"}},{"$f":"'Sorting 1'!CF21","v":{"$error":"#DIV/0!"}},{"$f":"'Sorting 1'!CL21","v":{"$error":"#DIV/0!"}},{"$f":"'Sorting 1'!CR21","v":{"$error":"#DIV/0!"}}]
[{"$f":"'Sorting 1'!A22","v":"P24"},{"$f":"'Sorting 1'!F22","v":{"$error":"#DIV/0!"}},{"$f":"'Sorting 1'!L22","v":{"$error":"#DIV/0!"}},{"$f":"'Sorting 1'!R22","v":{"$error":"#DIV/0!"}},{"$f":"'Sorting 1'!X22","v":{"$error":"#DIV/0!"}},{"$f":"'Sorting 1'!AD22","v":{"$error":"#DIV/0!"}},{"$f":"'Sorting 1'!AJ22","v":{"$error":"#DIV/0!"}},{"$f":"'Sorting 1'!AP22","v":{"$error":"#DIV/0!"}},{"$f":"'Sorting 1'!AV22","v":{"$error":"#DIV/0!"}},{"$f":"'Sorting 1'!BB22","v":{"$error":"#DIV/0!"}},{"$f":"'Sorting 1'!BH22","v":{"$error":"#DIV/0!"}},{"$f":"'Sorting 1'!BN22","v":{"$error":"#DIV/0!"}},{"$f":"'Sorting 1'!BT22","v":{"$error":"#DIV/0!"}},{"$f":"'Sorting 1'!BZ22","v":{"$error":"#DIV/0!"}},{"$f":"'Sorting 1'!CF22","v":{"$error":"#DIV/0!"}},{"$f":"'Sorting 1'!CL22","v":{"$error":"#DIV/0!"}},{"$f":"'Sorting 1'!CR22","v":{"$error":"#DIV/0!"}}]
[{"$f":"'Sorting 1'!A23","v":"P36"},{"$f":"'Sorting 1'!F23","v":{"$error":"#DIV/0!"}},{"$f":"'Sorting 1'!L23","v":{"$error":"#DIV/0!"}},{"$f":"'Sorting 1'!R23","v":{"$error":"#DIV/0!"}},{"$f":"'Sorting 1'!X23","v":{"$error":"#DIV/0!"}},{"$f":"'Sorting 1'!AD23","v":{"$error":"#DIV/0!"}},{"$f":"'Sorting 1'!AJ23","v":{"$error":"#DIV/0!"}},{"$f":"'Sorting 1'!AP23","v":{"$error":"#DIV/0!"}},{"$f":"'Sorting 1'!AV23","v":{"$error":"#DIV/0!"}},{"$f":"'Sorting 1'!BB23","v":{"$error":"#DIV/0!"}},{"$f":"'Sorting 1'!BH23","v":{"$error":"#DIV/0!"}},{"$f":"'Sorting 1'!BN23","v":{"$error":"#DIV/0!"}},{"$f":"'Sorting 1'!BT23","v":{"$error":"#DIV/0!"}},{"$f":"'Sorting 1'!BZ23","v":{"$error":"#DIV/0!"}},{"$f":"'Sorting 1'!CF23","v":{"$error":"#DIV/0!"}},{"$f":"'Sorting 1'!CL23","v":{"$error":"#DIV/0!"}},{"$f":"'Sorting 1'!CR23","v":{"$error":"#DIV/0!"}}]
[{"$f":"'Sorting 1'!A24","v":"P48"},{"$f":"'Sorting 1'!F24","v":{"$error":"#DIV/0!"}},{"$f":"'Sorting 1'!L24","v":{"$error":"#DIV/0!"}},{"$f":"'Sorting 1'!R24","v":{"$error":"#DIV/0!"}},{"$f":"'Sorting 1'!X24","v":{"$error":"#DIV/0!"}},{"$f":"'Sorting 1'!AD24","v":{"$error":"#DIV/0!"}},{"$f":"'Sorting 1'!AJ24","v":{"$error":"#DIV/0!"}},{"$f":"'Sorting 1'!AP24","v":{"$error":"#DIV/0!"}},{"$f":"'Sorting 1'!AV24","v":{"$error":"#DIV/0!"}},{"$f":"'Sorting 1'!BB24","v":{"$error":"#DIV/0!"}},{"$f":"'Sorting 1'!BH24","v":{"$error":"#DIV/0!"}},{"$f":"'Sorting 1'!BN24","v":{"$error":"#DIV/0!"}},{"$f":"'Sorting 1'!BT24","v":{"$error":"#DIV/0!"}},{"$f":"'Sorting 1'!BZ24","v":{"$error":"#DIV/0!"}},{"$f":"'Sorting 1'!CF24","v":{"$error":"#DIV/0!"}},{"$f":"'Sorting 1'!CL24","v":{"$error":"#DIV/0!"}},{"$f":"'Sorting 1'!CR24","v":{"$error":"#DIV/0!"}}]
[{"$f":"'Sorting 1'!A25","v":"P3"},{"$f":"'Sorting 1'!F25","v":{"$error":"#DIV/0!"}},{"$f":"'Sorting 1'!L25","v":{"$error":"#DIV/0!"}},{"$f":"'Sorting 1'!R25","v":{"$error":"#DIV/0!"}},{"$f":"'Sorting 1'!X25","v":{"$error":"#DIV/0!"}},{"$f":"'Sorting 1'!AD25","v":{"$error":"#DIV/0!"}},{"$f":"'Sorting 1'!AJ25","v":{"$error":"#DIV/0!"}},{"$f":"'Sorting 1'!AP25","v":{"$error":"#DIV/0!"}},{"$f":"'Sorting 1'!AV25","v":{"$error":"#DIV/0!"}},{"$f":"'Sorting 1'!BB25","v":{"$error":"#DIV/0!"}},{"$f":"'Sorting 1'!BH25","v":{"$error":"#DIV/0!"}},{"$f":"'Sorting 1'!BN25","v":{"$error":"#DIV/0!"}},{"$f":"'Sorting 1'!BT25","v":{"$error":"#DIV/0!"}},{"$f":"'Sorting 1'!BZ25","v":{"$error":"#DIV/0!"}},{"$f":"'Sorting 1'!CF25","v":{"$error":"#DIV/0!"}},{"$f":"'Sorting 1'!CL25","v":{"$error":"#DIV/0!"}},{"$f":"'Sorting 1'!CR25","v":{"$error":"#DIV/0!"}}]
[{"$f":"'Sorting 1'!A26","v":"P15"},{"$f":"'Sorting 1'!F26","v":{"$error":"#DIV/0!"}},{"$f":"'Sorting 1'!L26","v":{"$error":"#DIV/0!"}},{"$f":"'Sorting 1'!R26","v":{"$error":"#DIV/0!"}},{"$f":"'Sorting 1'!X26","v":{"$error":"#DIV/0!"}},{"$f":"'Sorting 1'!AD26","v":{"$error":"#DIV/0!"}},{"$f":"'Sorting 1'!AJ26","v":{"$error":"#DIV/0!"}},{"$f":"'Sorting 1'!AP26","v":{"$error":"#DIV/0!"}},{"$f":"'Sorting 1'!AV26","v":{"$error":"#DIV/0!"}},{"$f":"'Sorting 1'!BB26","v":{"$error":"#DIV/0!"}},{"$f":"'Sorting 1'!BH26","v":{"$error":"#DIV/0!"}},{"$f":"'Sorting 1'!BN26","v":{"$error":"#DIV/0!"}},{"$f":"'Sorting 1'!BT26","v":{"$error":"#DIV/0!"}},{"$f":"'Sorting 1'!BZ26","v":{"$error":"#DIV/0!"}},{"$f":"'Sorting 1'!CF26","v":{"$error":"#DIV/0!"}},{"$f":"'Sorting 1'!CL26","v":{"$error":"#DIV/0!"}},{"$f":"'Sorting 1'!CR26","v":{"$error":"#DIV/0!"}}]
[{"$f":"'Sorting 1'!A27","v":"P25"},{"$f":"'Sorting 1'!F27","v":{"$error":"#DIV/0!"}},{"$f":"'Sorting 1'!L27","v":{"$error":"#DIV/0!"}},{"$f":"'Sorting 1'!R27","v":{"$error":"#DIV/0!"}},{"$f":"'Sorting 1'!X27","v":{"$error":"#DIV/0!"}},{"$f":"'Sorting 1'!AD27","v":{"$error":"#DIV/0!"}},{"$f":"'Sorting 1'!AJ27","v":{"$error":"#DIV/0!"}},{"$f":"'Sorting 1'!AP27","v":{"$error":"#DIV/0!"}},{"$f":"'Sorting 1'!AV27","v":{"$error":"#DIV/0!"}},{"$f":"'Sorting 1'!BB27","v":{"$error":"#DIV/0!"}},{"$f":"'Sorting 1'!BH27","v":{"$error":"#DIV/0!"}},{"$f":"'Sorting 1'!BN27","v":{"$error":"#DIV/0!"}},{"$f":"'Sorting 1'!BT27","v":{"$error":"#DIV/0!"}},{"$f":"'Sorting 1'!BZ27","v":{"$error":"#DIV/0!"}},{"$f":"'Sorting 1'!CF27","v":{"$error":"#DIV/0!"}},{"$f":"'Sorting 1'!CL27","v":{"$error":"#DIV/0!"}},{"$f":"'Sorting 1'!CR27","v":{"$error":"#DIV/0!"}}]
[{"$f":"'Sorting 1'!A28","v":"P37"},{"$f":"'Sorting 1'!F28","v":{"$error":"#DIV/0!"}},{"$f":"'Sorting 1'!L28","v":{"$error":"#DIV/0!"}},{"$f":"'Sorting 1'!R28","v":{"$error":"#DIV/0!"}},{"$f":"'Sorting 1'!X28","v":{"$error":"#DIV/0!"}},{"$f":"'Sorting 1'!AD28","v":{"$error":"#DIV/0!"}},{"$f":"'Sorting 1'!AJ28","v":{"$error":"#DIV/0!"}},{"$f":"'Sorting 1'!AP28","v":{"$error":"#DIV/0!"}},{"$f":"'Sorting 1'!AV28","v":{"$error":"#DIV/0!"}},{"$f":"'Sorting 1'!BB28","v":{"$error":"#DIV/0!"}},{"$f":"'Sorting 1'!BH28","v":{"$error":"#DIV/0!"}},{"$f":"'Sorting 1'!BN28","v":{"$error":"#DIV/0!"}},{"$f":"'Sorting 1'!BT28","v":{"$error":"#DIV/0!"}},{"$f":"'Sorting 1'!BZ28","v":{"$error":"#DIV/0!"}},{"$f":"'Sorting 1'!CF28","v":{"$error":"#DIV/0!"}},{"$f":"'Sorting 1'!CL28","v":{"$error":"#DIV/0!"}},{"$f":"'Sorting 1'!CR28","v":{"$error":"#DIV/0!"}}]
[{"$f":"'Sorting 1'!A29","v":"P49"},{"$f":"'Sorting 1'!F29","v":{"$error":"#DIV/0!"}},{"$f":"'Sorting 1'!L29","v":{"$error":"#DIV/0!"}},{"$f":"'Sorting 1'!R29","v":{"$error":"#DIV/0!"}},{"$f":"'Sorting 1'!X29","v":{"$error":"#DIV/0!"}},{"$f":"'Sorting 1'!AD29","v":{"$error":"#DIV/0!"}},{"$f":"'Sorting 1'!AJ29","v":{"$error":"#DIV/0!"}},{"$f":"'Sorting 1'!AP29","v":{"$error":"#DIV/0!"}},{"$f":"'Sorting 1'!AV29","v":{"$error":"#DIV/0!"}},{"$f":"'Sorting 1'!BB29","v":{"$error":"#DIV/0!"}},{"$f":"'Sorting 1'!BH29","v":{"$error":"#DIV/0!"}},{"$f":"'Sorting 1'!BN29","v":{"$error":"#DIV/0!"}},{"$f":"'Sorting 1'!BT29","v":{"$error":"#DIV/0!"}},{"$f":"'Sorting 1'!BZ29","v":{"$error":"#DIV/0!"}},{"$f":"'Sorting 1'!CF29","v":{"$error":"#DIV/0!"}},{"$f":"'Sorting 1'!CL29","v":{"$error":"#DIV/0!"}},{"$f":"'Sorting 1'!CR29","v":{"$error":"#DIV/0!"}}]
[{"$f":"'Sorting 1'!A30","v":"P4"},{"$f":"'Sorting 1'!F30","v":{"$error":"#DIV/0!"}},{"$f":"'Sorting 1'!L30","v":{"$error":"#DIV/0!"}},{"$f":"'Sorting 1'!R30","v":{"$error":"#DIV/0!"}},{"$f":"'Sorting 1'!X30","v":{"$error":"#DIV/0!"}},{"$f":"'Sorting 1'!AD30","v":{"$error":"#DIV/0!"}},{"$f":"'Sorting 1'!AJ30","v":{"$error":"#DIV/0!"}},{"$f":"'Sorting 1'!AP30","v":{"$error":"#DIV/0!"}},{"$f":"'Sorting 1'!AV30","v":{"$error":"#DIV/0!"}},{"$f":"'Sorting 1'!BB30","v":{"$error":"#DIV/0!"}},{"$f":"'Sorting 1'!BH30","v":{"$error":"#DIV/0!"}},{"$f":"'Sorting 1'!BN30","v":{"$error":"#DIV/0!"}},{"$f":"'Sorting 1'!BT30","v":{"$error":"#DIV/0!"}},{"$f":"'Sorting 1'!BZ30","v":{"$error":"#DIV/0!"}},{"$f":"'Sorting 1'!CF30","v":{"$error":"#DIV/0!"}},{"$f":"'Sorting 1'!CL30","v":{"$error":"#DIV/0!"}},{"$f":"'Sorting 1'!CR30","v":{"$error":"#DIV/0!"}}]
[{"$f":"'Sorting 1'!A31","v":"P16"},{"$f":"'Sorting 1'!F31","v":{"$error":"#DIV/0!"}},{"$f":"'Sorting 1'!L31","v":{"$error":"#DIV/0!"}},{"$f":"'Sorting 1'!R31","v":{"$error":"#DIV/0!"}},{"$f":"'Sorting 1'!X31","v":{"$error":"#DIV/0!"}},{"$f":"'Sorting 1'!AD31","v":{"$error":"#DIV/0!"}},{"$f":"'Sorting 1'!AJ31","v":{"$error":"#DIV/0!"}},{"$f":"'Sorting 1'!AP31","v":{"$error":"#DIV/0!"}},{"$f":"'Sorting 1'!AV31","v":{"$error":"#DIV/0!"}},{"$f":"'Sorting 1'!BB31","v":{"$error":"#DIV/0!"}},{"$f":"'Sorting 1'!BH31","v":{"$error":"#DIV/0!"}},{"$f":"'Sorting 1'!BN31","v":{"$error":"#DIV/0!"}},{"$f":"'Sorting 1'!BT31","v":{"$error":"#DIV/0!"}},{"$f":"'Sorting 1'!BZ31","v":{"$error":"#DIV/0!"}},{"$f":"'Sorting 1'!CF31","v":{"$error":"#DIV/0!"}},{"$f":"'Sorting 1'!CL31","v":{"$error":"#DIV/0!"}},{"$f":"'Sorting 1'!CR31","v":{"$error":"#DIV/0!"}}]
[{"$f":"'Sorting 1'!A32","v":"P26"},{"$f":"'Sorting 1'!F32","v":{"$error":"#DIV/0!"}},{"$f":"'Sorting 1'!L32","v":{"$error":"#DIV/0!"}},{"$f":"'Sorting 1'!R32","v":{"$error":"#DIV/0!"}},{"$f":"'Sorting 1'!X32","v":{"$error":"#DIV/0!"}},{"$f":"'Sorting 1'!AD32","v":{"$error":"#DIV/0!"}},{"$f":"'Sorting 1'!AJ32","v":{"$error":"#DIV/0!"}},{"$f":"'Sorting 1'!AP32","v":{"$error":"#DIV/0!"}},{"$f":"'Sorting 1'!AV32","v":{"$error":"#DIV/0!"}},{"$f":"'Sorting 1'!BB32","v":{"$error":"#DIV/0!"}},{"$f":"'Sorting 1'!BH32","v":{"$error":"#DIV/0!"}},{"$f":"'Sorting 1'!BN32","v":{"$error":"#DIV/0!"}},{"$f":"'Sorting 1'!BT32","v":{"$error":"#DIV/0!"}},{"$f":"'Sorting 1'!BZ32","v":{"$error":"#DIV/0!"}},{"$f":"'Sorting 1'!CF32","v":{"$error":"#DIV/0!"}},{"$f":"'Sorting 1'!CL32","v":{"$error":"#DIV/0!"}},{"$f":"'Sorting 1'!CR32","v":{"$error":"#DIV/0!"}}]
[{"$f":"'Sorting 1'!A33","v":"P38"},{"$f":"'Sorting 1'!F33","v":{"$error":"#DIV/0!"}},{"$f":"'Sorting 1'!L33","v":{"$error":"#DIV/0!"}},{"$f":"'Sorting 1'!R33","v":{"$error":"#DIV/0!"}},{"$f":"'Sorting 1'!X33","v":{"$error":"#DIV/0!"}},{"$f":"'Sorting 1'!AD33","v":{"$error":"#DIV/0!"}},{"$f":"'Sorting 1'!AJ33","v":{"$error":"#DIV/0!"}},{"$f":"'Sorting 1'!AP33","v":{"$error":"#DIV/0!"}},{"$f":"'Sorting 1'!AV33","v":{"$error":"#DIV/0!"}},{"$f":"'Sorting 1'!BB33","v":{"$error":"#DIV/0!"}},{"$f":"'Sorting 1'!BH33","v":{"$error":"#DIV/0!"}},{"$f":"'Sorting 1'!BN33","v":{"$error":"#DIV/0!"}},{"$f":"'Sorting 1'!BT33","v":{"$error":"#DIV/0!"}},{"$f":"'Sorting 1'!BZ33","v":{"$error":"#DIV/0!"}},{"$f":"'Sorting 1'!CF33","v":{"$error":"#DIV/0!"}},{"$f":"'Sorting 1'!CL33","v":{"$error":"#DIV/0!"}},{"$f":"'Sorting 1'!CR33","v":{"$error":"#DIV/0!"}}]
[{"$f":"'Sorting 1'!A34","v":"P50"},{"$f":"'Sorting 1'!F34","v":{"$error":"#DIV/0!"}},{"$f":"'Sorting 1'!L34","v":{"$error":"#DIV/0!"}},{"$f":"'Sorting 1'!R34","v":{"$error":"#DIV/0!"}},{"$f":"'Sorting 1'!X34","v":{"$error":"#DIV/0!"}},{"$f":"'Sorting 1'!AD34","v":{"$error":"#DIV/0!"}},{"$f":"'Sorting 1'!AJ34","v":{"$error":"#DIV/0!"}},{"$f":"'Sorting 1'!AP34","v":{"$error":"#DIV/0!"}},{"$f":"'Sorting 1'!AV34","v":{"$error":"#DIV/0!"}},{"$f":"'Sorting 1'!BB34","v":{"$error":"#DIV/0!"}},{"$f":"'Sorting 1'!BH34","v":{"$error":"#DIV/0!"}},{"$f":"'Sorting 1'!BN34","v":{"$error":"#DIV/0!"}},{"$f":"'Sorting 1'!BT34","v":{"$error":"#DIV/0!"}},{"$f":"'Sorting 1'!BZ34","v":{"$error":"#DIV/0!"}},{"$f":"'Sorting 1'!CF34","v":{"$error":"#DIV/0!"}},{"$f":"'Sorting 1'!CL34","v":{"$error":"#DIV/0!"}},{"$f":"'Sorting 1'!CR34","v":{"$error":"#DIV/0!"}}]
[{"$f":"'Sorting 1'!A35","v":"P5"},{"$f":"'Sorting 1'!F35","v":{"$error":"#DIV/0!"}},{"$f":"'Sorting 1'!L35","v":{"$error":"#DIV/0!"}},{"$f":"'Sorting 1'!R35","v":{"$error":"#DIV/0!"}},{"$f":"'Sorting 1'!X35","v":{"$error":"#DIV/0!"}},{"$f":"'Sorting 1'!AD35","v":{"$error":"#DIV/0!"}},{"$f":"'Sorting 1'!AJ35","v":{"$error":"#DIV/0!"}},{"$f":"'Sorting 1'!AP35","v":{"$error":"#DIV/0!"}},{"$f":"'Sorting 1'!AV35","v":{"$error":"#DIV/0!"}},{"$f":"'Sorting 1'!BB35","v":{"$error":"#DIV/0!"}},{"$f":"'Sorting 1'!BH35","v":{"$error":"#DIV/0!"}},{"$f":"'Sorting 1'!BN35","v":{"$error":"#DIV/0!"}},{"$f":"'Sorting 1'!BT35","v":{"$error":"#DIV/0!"}},{"$f":"'Sorting 1'!BZ35","v":{"$error":"#DIV/0!"}},{"$f":"'Sorting 1'!CF35","v":{"$error":"#DIV/0!"}},{"$f":"'Sorting 1'!CL35","v":{"$error":"#DIV/0!"}},{"$f":"'Sorting 1'!CR35","v":{"$error":"#DIV/0!"}}]
[{"$f":"'Sorting 1'!A36","v":"P17"},{"$f":"'Sorting 1'!F36","v":{"$error":"#DIV/0!"}},{"$f":"'Sorting 1'!L36","v":{"$error":"#DIV/0!"}},{"$f":"'Sorting 1'!R36","v":{"$error":"#DIV/0!"}},{"$f":"'Sorting 1'!X36","v":{"$error":"#DIV/0!"}},{"$f":"'Sorting 1'!AD36","v":{"$error":"#DIV/0!"}},{"$f":"'Sorting 1'!AJ36","v":{"$error":"#DIV/0!"}},{"$f":"'Sorting 1'!AP36","v":{"$error":"#DIV/0!"}},{"$f":"'Sorting 1'!AV36","v":{"$error":"#DIV/0!"}},{"$f":"'Sorting 1'!BB36","v":{"$error":"#DIV/0!"}},{"$f":"'Sorting 1'!BH36","v":{"$error":"#DIV/0!"}},{"$f":"'Sorting 1'!BN36","v":{"$error":"#DIV/0!"}},{"$f":"'Sorting 1'!BT36","v":{"$error":"#DIV/0!"}},{"$f":"'Sorting 1'!BZ36","v":{"$error":"#DIV/0!"}},{"$f":"'Sorting 1'!CF36","v":{"$error":"#DIV/0!"}},{"$f":"'Sorting 1'!CL36","v":{"$error":"#DIV/0!"}},{"$f":"'Sorting 1'!CR36","v":{"$error":"#DIV/0!"}}]
[{"$f":"'Sorting 1'!A37","v":"P27"},{"$f":"'Sorting 1'!F37","v":{"$error":"#DIV/0!"}},{"$f":"'Sorting 1'!L37","v":{"$error":"#DIV/0!"}},{"$f":"'Sorting 1'!R37","v":{"$error":"#DIV/0!"}},{"$f":"'Sorting 1'!X37","v":{"$error":"#DIV/0!"}},{"$f":"'Sorting 1'!AD37","v":{"$error":"#DIV/0!"}},{"$f":"'Sorting 1'!AJ37","v":{"$error":"#DIV/0!"}},{"$f":"'Sorting 1'!AP37","v":{"$error":"#DIV/0!"}},{"$f":"'Sorting 1'!AV37","v":{"$error":"#DIV/0!"}},{"$f":"'Sorting 1'!BB37","v":{"$error":"#DIV/0!"}},{"$f":"'Sorting 1'!BH37","v":{"$error":"#DIV/0!"}},{"$f":"'Sorting 1'!BN37","v":{"$error":"#DIV/0!"}},{"$f":"'Sorting 1'!BT37","v":{"$error":"#DIV/0!"}},{"$f":"'Sorting 1'!BZ37","v":{"$error":"#DIV/0!"}},{"$f":"'Sorting 1'!CF37","v":{"$error":"#DIV/0!"}},{"$f":"'Sorting 1'!CL37","v":{"$error":"#DIV/0!"}},{"$f":"'Sorting 1'!CR37","v":{"$error":"#DIV/0!"}}]
[{"$f":"'Sorting 1'!A38","v":"P39"},{"$f":"'Sorting 1'!F38","v":{"$error":"#DIV/0!"}},{"$f":"'Sorting 1'!L38","v":{"$error":"#DIV/0!"}},{"$f":"'Sorting 1'!R38","v":{"$error":"#DIV/0!"}},{"$f":"'Sorting 1'!X38","v":{"$error":"#DIV/0!"}},{"$f":"'Sorting 1'!AD38","v":{"$error":"#DIV/0!"}},{"$f":"'Sorting 1'!AJ38","v":{"$error":"#DIV/0!"}},{"$f":"'Sorting 1'!AP38","v":{"$error":"#DIV/0!"}},{"$f":"'Sorting 1'!AV38","v":{"$error":"#DIV/0!"}},{"$f":"'Sorting 1'!BB38","v":{"$error":"#DIV/0!"}},{"$f":"'Sorting 1'!BH38","v":{"$error":"#DIV/0!"}},{"$f":"'Sorting 1'!BN38","v":{"$error":"#DIV/0!"}},{"$f":"'Sorting 1'!BT38","v":{"$error":"#DIV/0!"}},{"$f":"'Sorting 1'!BZ38","v":{"$error":"#DIV/0!"}},{"$f":"'Sorting 1'!CF38","v":{"$error":"#DIV/0!"}},{"$f":"'Sorting 1'!CL38","v":{"$error":"#DIV/0!"}},{"$f":"'Sorting 1'!CR38","v":{"$error":"#DIV/0!"}}]
[{"$f":"'Sorting 1'!A39","v":"P51"},{"$f":"'Sorting 1'!F39","v":{"$error":"#DIV/0!"}},{"$f":"'Sorting 1'!L39","v":{"$error":"#DIV/0!"}},{"$f":"'Sorting 1'!R39","v":{"$error":"#DIV/0!"}},{"$f":"'Sorting 1'!X39","v":{"$error":"#DIV/0!"}},{"$f":"'Sorting 1'!AD39","v":{"$error":"#DIV/0!"}},{"$f":"'Sorting 1'!AJ39","v":{"$error":"#DIV/0!"}},{"$f":"'Sorting 1'!AP39","v":{"$error":"#DIV/0!"}},{"$f":"'Sorting 1'!AV39","v":{"$error":"#DIV/0!"}},{"$f":"'Sorting 1'!BB39","v":{"$error":"#DIV/0!"}},{"$f":"'Sorting 1'!BH39","v":{"$error":"#DIV/0!"}},{"$f":"'Sorting 1'!BN39","v":{"$error":"#DIV/0!"}},{"$f":"'Sorting 1'!BT39","v":{"$error":"#DIV/0!"}},{"$f":"'Sorting 1'!BZ39","v":{"$error":"#DIV/0!"}},{"$f":"'Sorting 1'!CF39","v":{"$error":"#DIV/0!"}},{"$f":"'Sorting 1'!CL39","v":{"$error":"#DIV/0!"}},{"$f":"'Sorting 1'!CR39","v":{"$error":"#DIV/0!"}}]
[{"$f":"'Sorting 1'!A40","v":"P6"},{"$f":"'Sorting 1'!F40","v":{"$error":"#DIV/0!"}},{"$f":"'Sorting 1'!L40","v":{"$error":"#DIV/0!"}},{"$f":"'Sorting 1'!R40","v":{"$error":"#DIV/0!"}},{"$f":"'Sorting 1'!X40","v":{"$error":"#DIV/0!"}},{"$f":"'Sorting 1'!AD40","v":{"$error":"#DIV/0!"}},{"$f":"'Sorting 1'!AJ40","v":{"$error":"#DIV/0!"}},{"$f":"'Sorting 1'!AP40","v":{"$error":"#DIV/0!"}},{"$f":"'Sorting 1'!AV40","v":{"$error":"#DIV/0!"}},{"$f":"'Sorting 1'!BB40","v":{"$error":"#DIV/0!"}},{"$f":"'Sorting 1'!BH40","v":{"$error":"#DIV/0!"}},{"$f":"'Sorting 1'!BN40","v":{"$error":"#DIV/0!"}},{"$f":"'Sorting 1'!BT40","v":{"$error":"#DIV/0!"}},{"$f":"'Sorting 1'!BZ40","v":{"$error":"#DIV/0!"}},{"$f":"'Sorting 1'!CF40","v":{"$error":"#DIV/0!"}},{"$f":"'Sorting 1'!CL40","v":{"$error":"#DIV/0!"}},{"$f":"'Sorting 1'!CR40","v":{"$error":"#DIV/0!"}}]
[{"$f":"'Sorting 1'!A41","v":"P18"},{"$f":"'Sorting 1'!F41","v":{"$error":"#DIV/0!"}},{"$f":"'Sorting 1'!L41","v":{"$error":"#DIV/0!"}},{"$f":"'Sorting 1'!R41","v":{"$error":"#DIV/0!"}},{"$f":"'Sorting 1'!X41","v":{"$error":"#DIV/0!"}},{"$f":"'Sorting 1'!AD41","v":{"$error":"#DIV/0!"}},{"$f":"'Sorting 1'!AJ41","v":{"$error":"#DIV/0!"}},{"$f":"'Sorting 1'!AP41","v":{"$error":"#DIV/0!"}},{"$f":"'Sorting 1'!AV41","v":{"$error":"#DIV/0!"}},{"$f":"'Sorting 1'!BB41","v":{"$error":"#DIV/0!"}},{"$f":"'Sorting 1'!BH41","v":{"$error":"#DIV/0!"}},{"$f":"'Sorting 1'!BN41","v":{"$error":"#DIV/0!"}},{"$f":"'Sorting 1'!BT41","v":{"$error":"#DIV/0!"}},{"$f":"'Sorting 1'!BZ41","v":{"$error":"#DIV/0!"}},{"$f":"'Sorting 1'!CF41","v":{"$error":"#DIV/0!"}},{"$f":"'Sorting 1'!CL41","v":{"$error":"#DIV/0!"}},{"$f":"'Sorting 1'!CR41","v":{"$error":"#DIV/0!"}}]
[{"$f":"'Sorting 1'!A42","v":"P28"},{"$f":"'Sorting 1'!F42","v":{"$error":"#DIV/0!"}},{"$f":"'Sorting 1'!L42","v":{"$error":"#DIV/0!"}},{"$f":"'Sorting 1'!R42","v":{"$error":"#DIV/0!"}},{"$f":"'Sorting 1'!X42","v":{"$error":"#DIV/0!"}},{"$f":"'Sorting 1'!AD42","v":{"$error":"#DIV/0!"}},{"$f":"'Sorting 1'!AJ42","v":{"$error":"#DIV/0!"}},{"$f":"'Sorting 1'!AP42","v":{"$error":"#DIV/0!"}},{"$f":"'Sorting 1'!AV42","v":{"$error":"#DIV/0!"}},{"$f":"'Sorting 1'!BB42","v":{"$error":"#DIV/0!"}},{"$f":"'Sorting 1'!BH42","v":{"$error":"#DIV/0!"}},{"$f":"'Sorting 1'!BN42","v":{"$error":"#DIV/0!"}},{"$f":"'Sorting 1'!BT42","v":{"$error":"#DIV/0!"}},{"$f":"'Sorting 1'!BZ42","v":{"$error":"#DIV/0!"}},{"$f":"'Sorting 1'!CF42","v":{"$error":"#DIV/0!"}},{"$f":"'Sorting 1'!CL42","v":{"$error":"#DIV/0!"}},{"$f":"'Sorting 1'!CR42","v":{"$error":"#DIV/0!"}}]
[{"$f":"'Sorting 1'!A43","v":"P40"},{"$f":"'Sorting 1'!F43","v":{"$error":"#DIV/0!"}},{"$f":"'Sorting 1'!L43","v":{"$error":"#DIV/0!"}},{"$f":"'Sorting 1'!R43","v":{"$error":"#DIV/0!"}},{"$f":"'Sorting 1'!X43","v":{"$error":"#DIV/0!"}},{"$f":"'Sorting 1'!AD43","v":{"$error":"#DIV/0!"}},{"$f":"'Sorting 1'!AJ43","v":{"$error":"#DIV/0!"}},{"$f":"'Sorting 1'!AP43","v":{"$error":"#DIV/0!"}},{"$f":"'Sorting 1'!AV43","v":{"$error":"#DIV/0!"}},{"$f":"'Sorting 1'!BB43","v":{"$error":"#DIV/0!"}},{"$f":"'Sorting 1'!BH43","v":{"$error":"#DIV/0!"}},{"$f":"'Sorting 1'!BN43","v":{"$error":"#DIV/0!"}},{"$f":"'Sorting 1'!BT43","v":{"$error":"#DIV/0!"}},{"$f":"'Sorting 1'!BZ43","v":{"$error":"#DIV/0!"}},{"$f":"'Sorting 1'!CF43","v":{"$error":"#DIV/0!"}},{"$f":"'Sorting 1'!CL43","v":{"$error":"#DIV/0!"}},{"$f":"'Sorting 1'!CR43","v":{"$error":"#DIV/0!"}}]
[{"$f":"'Sorting 1'!A44","v":"P7"},{"$f":"'Sorting 1'!F44","v":{"$error":"#DIV/0!"}},{"$f":"'Sorting 1'!L44","v":{"$error":"#DIV/0!"}},{"$f":"'Sorting 1'!R44","v":{"$error":"#DIV/0!"}},{"$f":"'Sorting 1'!X44","v":{"$error":"#DIV/0!"}},{"$f":"'Sorting 1'!AD44","v":{"$error":"#DIV/0!"}},{"$f":"'Sorting 1'!AJ44","v":{"$error":"#DIV/0!"}},{"$f":"'Sorting 1'!AP44","v":{"$error":"#DIV/0!"}},{"$f":"'Sorting 1'!AV44","v":{"$error":"#DIV/0!"}},{"$f":"'Sorting 1'!BB44","v":{"$error":"#DIV/0!"}},{"$f":"'Sorting 1'!BH44","v":{"$error":"#DIV/0!"}},{"$f":"'Sorting 1'!BN44","v":{"$error":"#DIV/0!"}},{"$f":"'Sorting 1'!BT44","v":{"$error":"#DIV/0!"}},{"$f":"'Sorting 1'!BZ44","v":{"$error":"#DIV/0!"}},{"$f":"'Sorting 1'!CF44","v":{"$error":"#DIV/0!"}},{"$f":"'Sorting 1'!CL44","v":{"$error":"#DIV/0!"}},{"$f":"'Sorting 1'!CR44","v":{"$error":"#DIV/0!"}}]
[{"$f":"'Sorting 1'!A45","v":"P19"},{"$f":"'Sorting 1'!F45","v":{"$error":"#DIV/0!"}},{"$f":"'Sorting 1'!L45","v":{"$error":"#DIV/0!"}},{"$f":"'Sorting 1'!R45","v":{"$error":"#DIV/0!"}},{"$f":"'Sorting 1'!X45","v":{"$error":"#DIV/0!"}},{"$f":"'Sorting 1'!AD45","v":{"$error":"#DIV/0!"}},{"$f":"'Sorting 1'!AJ45","v":{"$error":"#DIV/0!"}},{"$f":"'Sorting 1'!AP45","v":{"$error":"#DIV/0!"}},{"$f":"'Sorting 1'!AV45","v":{"$error":"#DIV/0!"}},{"$f":"'Sorting 1'!BB45","v":{"$error":"#DIV/0!"}},{"$f":"'Sorting 1'!BH45","v":{"$error":"#DIV/0!"}},{"$f":"'Sorting 1'!BN45","v":{"$error":"#DIV/0!"}},{"$f":"'Sorting 1'!BT45","v":{"$error":"#DIV/0!"}},{"$f":"'Sorting 1'!BZ45","v":{"$error":"#DIV/0!"}},{"$f":"'Sorting 1'!CF45","v":{"$error":"#DIV/0!"}},{"$f":"'Sorting 1'!CL45","v":{"$error":"#DIV/0!"}},{"$f":"'Sorting 1'!CR45","v":{"$error":"#DIV/0!"}}]
[{"$f":"'Sorting 1'!A46","v":"P29"},{"$f":"'Sorting 1'!F46","v":{"$error":"#DIV/0!"}},{"$f":"'Sorting 1'!L46","v":{"$error":"#DIV/0!"}},{"$f":"'Sorting 1'!R46","v":{"$error":"#DIV/0!"}},{"$f":"'Sorting 1'!X46","v":{"$error":"#DIV/0!"}},{"$f":"'Sorting 1'!AD46","v":{"$error":"#DIV/0!"}},{"$f":"'Sorting 1'!AJ46","v":{"$error":"#DIV/0!"}},{"$f":"'Sorting 1'!AP46","v":{"$error":"#DIV/0!"}},{"$f":"'Sorting 1'!AV46","v":{"$error":"#DIV/0!"}},{"$f":"'Sorting 1'!BB46","v":{"$error":"#DIV/0!"}},{"$f":"'Sorting 1'!BH46","v":{"$error":"#DIV/0!"}},{"$f":"'Sorting 1'!BN46","v":{"$error":"#DIV/0!"}},{"$f":"'Sorting 1'!BT46","v":{"$error":"#DIV/0!"}},{"$f":"'Sorting 1'!BZ46","v":{"$error":"#DIV/0!"}},{"$f":"'Sorting 1'!CF46","v":{"$error":"#DIV/0!"}},{"$f":"'Sorting 1'!CL46","v":{"$error":"#DIV/0!"}},{"$f":"'Sorting 1'!CR46","v":{"$error":"#DIV/0!"}}]
[{"$f":"'Sorting 1'!A47","v":"P41"},{"$f":"'Sorting 1'!F47","v":{"$error":"#DIV/0!"}},{"$f":"'Sorting 1'!L47","v":{"$error":"#DIV/0!"}},{"$f":"'Sorting 1'!R47","v":{"$error":"#DIV/0!"}},{"$f":"'Sorting 1'!X47","v":{"$error":"#DIV/0!"}},{"$f":"'Sorting 1'!AD47","v":{"$error":"#DIV/0!"}},{"$f":"'Sorting 1'!AJ47","v":{"$error":"#DIV/0!"}},{"$f":"'Sorting 1'!AP47","v":{"$error":"#DIV/0!"}},{"$f":"'Sorting 1'!AV47","v":{"$error":"#DIV/0!"}},{"$f":"'Sorting 1'!BB47","v":{"$error":"#DIV/0!"}},{"$f":"'Sorting 1'!BH47","v":{"$error":"#DIV/0!"}},{"$f":"'Sorting 1'!BN47","v":{"$error":"#DIV/0!"}},{"$f":"'Sorting 1'!BT47","v":{"$error":"#DIV/0!"}},{"$f":"'Sorting 1'!BZ47","v":{"$error":"#DIV/0!"}},{"$f":"'Sorting 1'!CF47","v":{"$error":"#DIV/0!"}},{"$f":"'Sorting 1'!CL47","v":{"$error":"#DIV/0!"}},{"$f":"'Sorting 1'!CR47","v":{"$error":"#DIV/0!"}}]
[{"$f":"'Sorting 1'!A48","v":"Pig IgG"},{"$f":"'Sorting 1'!F48","v":{"$error":"#DIV/0!"}},{"$f":"'Sorting 1'!L48","v":{"$error":"#DIV/0!"}},{"$f":"'Sorting 1'!R48","v":{"$error":"#DIV/0!"}},{"$f":"'Sorting 1'!X48","v":{"$error":"#DIV/0!"}},{"$f":"'Sorting 1'!AD48","v":{"$error":"#DIV/0!"}},{"$f":"'Sorting 1'!AJ48","v":{"$error":"#DIV/0!"}},{"$f":"'Sorting 1'!AP48","v":{"$error":"#DIV/0!"}},{"$f":"'Sorting 1'!AV48","v":{"$error":"#DIV/0!"}},{"$f":"'Sorting 1'!BB48","v":{"$error":"#DIV/0!"}},{"$f":"'Sorting 1'!BH48","v":{"$error":"#DIV/0!"}},{"$f":"'Sorting 1'!BN48","v":{"$error":"#DIV/0!"}},{"$f":"'Sorting 1'!BT48","v":{"$error":"#DIV/0!"}},{"$f":"'Sorting 1'!BZ48","v":{"$error":"#DIV/0!"}},{"$f":"'Sorting 1'!CF48","v":{"$error":"#DIV/0!"}},{"$f":"'Sorting 1'!CL48","v":{"$error":"#DIV/0!"}},{"$f":"'Sorting 1'!CR48","v":{"$error":"#DIV/0!"}}]
[{"$f":"'Sorting 1'!A49","v":"P8"},{"$f":"'Sorting 1'!F49","v":{"$error":"#DIV/0!"}},{"$f":"'Sorting 1'!L49","v":{"$error":"#DIV/0!"}},{"$f":"'Sorting 1'!R49","v":{"$error":"#DIV/0!"}},{"$f":"'Sorting 1'!X49","v":{"$error":"#DIV/0!"}},{"$f":"'Sorting 1'!AD49","v":{"$error":"#DIV/0!"}},{"$f":"'Sorting 1'!AJ49","v":{"$error":"#DIV/0!"}},{"$f":"'Sorting 1'!AP49","v":{"$error":"#DIV/0!"}},{"$f":"'Sorting 1'!AV49","v":{"$error":"#DIV/0!"}},{"$f":"'Sorting 1'!BB49","v":{"$error":"#DIV/0!"}},{"$f":"'Sorting 1'!BH49","v":{"$error":"#DIV/0!"}},{"$f":"'Sorting 1'!BN49","v":{"$error":"#DIV/0!"}},{"$f":"'Sorting 1'!BT49","v":{"$error":"#DIV/0!"}},{"$f":"'Sorting 1'!BZ49","v":{"$error":"#DIV/0!"}},{"$f":"'Sorting 1'!CF49","v":{"$error":"#DIV/0!"}},{"$f":"'Sorting 1'!CL49","v":{"$error":"#DIV/0!"}},{"$f":"'Sorting 1'!CR49","v":{"$error":"#DIV/0!"}}]
[{"$f":"'Sorting 1'!A50","v":"P20"},{"$f":"'Sorting 1'!F50","v":{"$error":"#DIV/0!"}},{"$f":"'Sorting 1'!L50","v":{"$error":"#DIV/0!"}},{"$f":"'Sorting 1'!R50","v":{"$error":"#DIV/0!"}},{"$f":"'Sorting 1'!X50","v":{"$error":"#DIV/0!"}},{"$f":"'Sorting 1'!AD50","v":{"$error":"#DIV/0!"}},{"$f":"'Sorting 1'!AJ50","v":{"$error":"#DIV/0!"}},{"$f":"'Sorting 1'!AP50","v":{"$error":"#DIV/0!"}},{"$f":"'Sorting 1'!AV50","v":{"$error":"#DIV/0!"}},{"$f":"'Sorting 1'!BB50","v":{"$error":"#DIV/0!"}},{"$f":"'Sorting 1'!BH50","v":{"$error":"#DIV/0!"}},{"$f":"'Sorting 1'!BN50","v":{"$error":"#DIV/0!"}},{"$f":"'Sorting 1'!BT50","v":{"$error":"#DIV/0!"}},{"$f":"'Sorting 1'!BZ50","v":{"$error":"#DIV/0!"}},{"$f":"'Sorting 1'!CF50","v":{"$error":"#DIV/0!"}},{"$f":"'Sorting 1'!CL50","v":{"$error":"#DIV/0!"}},{"$f":"'Sorting 1'!CR50","v":{"$error":"#DIV/0!"}}]
[{"$f":"'Sorting 1'!A51","v":"P30"},{"$f":"'Sorting 1'!F51","v":{"$error":"#DIV/0!"}},{"$f":"'Sorting 1'!L51","v":{"$error":"#DIV/0!"}},{"$f":"'Sorting 1'!R51","v":{"$error":"#DIV/0!"}},{"$f":"'Sorting 1'!X51","v":{"$error":"#DIV/0!"}},{"$f":"'Sorting 1'!AD51","v":{"$error":"#DIV/0!"}},{"$f":"'Sorting 1'!AJ51","v":{"$error":"#DIV/0!"}},{"$f":"'Sorting 1'!AP51","v":{"$error":"#DIV/0!"}},{"$f":"'Sorting 1'!AV51","v":{"$error":"#DIV/0!"}},{"$f":"'Sorting 1'!BB51","v":{"$error":"#DIV/0!"}},{"$f":"'Sorting 1'!BH51","v":{"$error":"#DIV/0!"}},{"$f":"'Sorting 1'!BN51","v":{"$error":"#DIV/0!"}},{"$f":"'Sorting 1'!BT51","v":{"$error":"#DIV/0!"}},{"$f":"'Sorting 1'!BZ51","v":{"$error":"#DIV/0!"}},{"$f":"'Sorting 1'!CF51","v":{"$error":"#DIV/0!"}},{"$f":"'Sorting 1'!CL51","v":{"$error":"#DIV/0!"}},{"$f":"'Sorting 1'!CR51","v":{"$error":"#DIV/0!"}}]
[{"$f":"'Sorting 1'!A52","v":"P42"},{"$f":"'Sorting 1'!F52","v":{"$error":"#DIV/0!"}},{"$f":"'Sorting 1'!L52","v":{"$error":"#DIV/0!"}},{"$f":"'Sorting 1'!R52","v":{"$error":"#DIV/0!"}},{"$f":"'Sorting 1'!X52","v":{"$error":"#DIV/0!"}},{"$f":"'Sorting 1'!AD52","v":{"$error":"#DIV/0!"}},{"$f":"'Sorting 1'!AJ52","v":{"$error":"#DIV/0!"}},{"$f":"'Sorting 1'!AP52","v":{"$error":"#DIV/0!"}},{"$f":"'Sorting 1'!AV52","v":{"$error":"#DIV/0!"}},{"$f":"'Sorting 1'!BB52","v":{"$error":"#DIV/0!"}},{"$f":"'Sorting 1'!BH52","v":{"$error":"#DIV/0!"}},{"$f":"'Sorting 1'!BN52","v":{"$error":"#DIV/0!"}},{"$f":"'Sorting 1'!BT52","v":{"$error":"#DIV/0!"}},{"$f":"'Sorting 1'!BZ52","v":{"$error":"#DIV/0!"}},{"$f":"'Sorting 1'!CF52","v":{"$error":"#DIV/0!"}},{"$f":"'Sorting 1'!CL52","v":{"$error":"#DIV/0!"}},{"$f":"'Sorting 1'!CR52","v":{"$error":"#DIV/0!"}}]
[{"$f":"'Sorting 1'!A53","v":"Pig IgA"},{"$f":"'Sorting 1'!F53","v":{"$error":"#DIV/0!"}},{"$f":"'Sorting 1'!L53","v":{"$error":"#DIV/0!"}},{"$f":"'Sorting 1'!R53","v":{"$error":"#DIV/0!"}},{"$f":"'Sorting 1'!X53","v":{"$error":"#DIV/0!"}},{"$f":"'Sorting 1'!AD53","v":{"$error":"#DIV/0!"}},{"$f":"'Sorting 1'!AJ53","v":{"$error":"#DIV/0!"}},{"$f":"'Sorting 1'!AP53","v":{"$error":"#DIV/0!"}},{"$f":"'Sorting 1'!AV53","v":{"$error":"#DIV/0!"}},{"$f":"'Sorting 1'!BB53","v":{"$error":"#DIV/0!"}},{"$f":"'Sorting 1'!BH53","v":{"$error":"#DIV/0!"}},{"$f":"'Sorting 1'!BN53","v":{"$error":"#DIV/0!"}},{"$f":"'Sorting 1'!BT53","v":{"$error":"#DIV/0!"}},{"$f":"'Sorting 1'!BZ53","v":{"$error":"#DIV/0!"}},{"$f":"'Sorting 1'!CF53","v":{"$error":"#DIV/0!"}},{"$f":"'Sorting 1'!CL53","v":{"$error":"#DIV/0!"}},{"$f":"'Sorting 1'!CR53","v":{"$error":"#DIV/0!"}}]
[{"$f":"'Sorting 1'!A54","v":"P9"},{"$f":"'Sorting 1'!F54","v":{"$error":"#DIV/0!"}},{"$f":"'Sorting 1'!L54","v":{"$error":"#DIV/0!"}},{"$f":"'Sorting 1'!R54","v":{"$error":"#DIV/0!"}},{"$f":"'Sorting 1'!X54","v":{"$error":"#DIV/0!"}},{"$f":"'Sorting 1'!AD54","v":{"$error":"#DIV/0!"}},{"$f":"'Sorting 1'!AJ54","v":{"$error":"#DIV/0!"}},{"$f":"'Sorting 1'!AP54","v":{"$error":"#DIV/0!"}},{"$f":"'Sorting 1'!AV54","v":{"$error":"#DIV/0!"}},{"$f":"'Sorting 1'!BB54","v":{"$error":"#DIV/0!"}},{"$f":"'Sorting 1'!BH54","v":{"$error":"#DIV/0!"}},{"$f":"'Sorting 1'!BN54","v":{"$error":"#DIV/0!"}},{"$f":"'Sorting 1'!BT54","v":{"$error":"#DIV/0!"}},{"$f":"'Sorting 1'!BZ54","v":{"$error":"#DIV/0!"}},{"$f":"'Sorting 1'!CF54","v":{"$error":"#DIV/0!"}},{"$f":"'Sorting 1'!CL54","v":{"$error":"#DIV/0!"}},{"$f":"'Sorting 1'!CR54","v":{"$error":"#DIV/0!"}}]
[{"$f":"'Sorting 1'!A55","v":"P21"},{"$f":"'Sorting 1'!F55","v":{"$error":"#DIV/0!"}},{"$f":"'Sorting 1'!L55","v":{"$error":"#DIV/0!"}},{"$f":"'Sorting 1'!R55","v":{"$error":"#DIV/0!"}},{"$f":"'Sorting 1'!X55","v":{"$error":"#DIV/0!"}},{"$f":"'Sorting 1'!AD55","v":{"$error":"#DIV/0!"}},{"$f":"'Sorting 1'!AJ55","v":{"$error":"#DIV/0!"}},{"$f":"'Sorting 1'!AP55","v":{"$error":"#DIV/0!"}},{"$f":"'Sorting 1'!AV55","v":{"$error":"#DIV/0!"}},{"$f":"'Sorting 1'!BB55","v":{"$error":"#DIV/0!"}},{"$f":"'Sorting 1'!BH55","v":{"$error":"#DIV/0!"}},{"$f":"'Sorting 1'!BN55","v":{"$error":"#DIV/0!"}},{"$f":"'Sorting 1'!BT55","v":{"$error":"#DIV/0!"}},{"$f":"'Sorting 1'!BZ55","v":{"$error":"#DIV/0!"}},{"$f":"'Sorting 1'!CF55","v":{"$error":"#DIV/0!"}},{"$f":"'Sorting 1'!CL55","v":{"$error":"#DIV/0!"}},{"$f":"'Sorting 1'!CR55","v":{"$error":"#DIV/0!"}}]
[{"$f":"'Sorting 1'!A56","v":"P31"},{"$f":"'Sorting 1'!F56","v":{"$error":"#DIV/0!"}},{"$f":"'Sorting 1'!L56","v":{"$error":"#DIV/0!"}},{"$f":"'Sorting 1'!R56","v":{"$error":"#DIV/0!"}},{"$f":"'Sorting 1'!X56","v":{"$error":"#DIV/0!"}},{"$f":"'Sorting 1'!AD56","v":{"$error":"#DIV/0!"}},{"$f":"'Sorting 1'!AJ56","v":{"$error":"#DIV/0!"}},{"$f":"'Sorting 1'!AP56","v":{"$error":"#DIV/0!"}},{"$f":"'Sorting 1'!AV56","v":{"$error":"#DIV/0!"}},{"$f":"'Sorting 1'!BB56","v":{"$error":"#DIV/0!"}},{"$f":"'Sorting 1'!BH56","v":{"$error":"#DIV/0!"}},{"$f":"'Sorting 1'!BN56","v":{"$error":"#DIV/0!"}},{"$f":"'Sorting 1'!BT56","v":{"$error":"#DIV/0!"}},{"$f":"'Sorting 1'!BZ56","v":{"$error":"#DIV/0!"}},{"$f":"'Sorting 1'!CF56","v":{"$error":"#DIV/0!"}},{"$f":"'Sorting 1'!CL56","v":{"$error":"#DIV/0!"}},{"$f":"'Sorting 1'!CR56","v":{"$error":"#DIV/0!"}}]
[{"$f":"'Sorting 1'!A57","v":"P43"},{"$f":"'Sorting 1'!F57","v":{"$error":"#DIV/0!"}},{"$f":"'Sorting 1'!L57","v":{"$error":"#DIV/0!"}},{"$f":"'Sorting 1'!R57","v":{"$error":"#DIV/0!"}},{"$f":"'Sorting 1'!X57","v":{"$error":"#DIV/0!"}},{"$f":"'Sorting 1'!AD57","v":{"$error":"#DIV/0!"}},{"$f":"'Sorting 1'!AJ57","v":{"$error":"#DIV/0!"}},{"$f":"'Sorting 1'!AP57","v":{"$error":"#DIV/0!"}},{"$f":"'Sorting 1'!AV57","v":{"$error":"#DIV/0!"}},{"$f":"'Sorting 1'!BB57","v":{"$error":"#DIV/0!"}},{"$f":"'Sorting 1'!BH57","v":{"$error":"#DIV/0!"}},{"$f":"'Sorting 1'!BN57","v":{"$error":"#DIV/0!"}},{"$f":"'Sorting 1'!BT57","v":{"$error":"#DIV/0!"}},{"$f":"'Sorting 1'!BZ57","v":{"$error":"#DIV/0!"}},{"$f":"'Sorting 1'!CF57","v":{"$error":"#DIV/0!"}},{"$f":"'Sorting 1'!CL57","v":{"$error":"#DIV/0!"}},{"$f":"'Sorting 1'!CR57","v":{"$error":"#DIV/0!"}}]
[{"$f":"'Sorting 1'!A58","v":"P10"},{"$f":"'Sorting 1'!F58","v":{"$error":"#DIV/0!"}},{"$f":"'Sorting 1'!L58","v":{"$error":"#DIV/0!"}},{"$f":"'Sorting 1'!R58","v":{"$error":"#DIV/0!"}},{"$f":"'Sorting 1'!X58","v":{"$error":"#DIV/0!"}},{"$f":"'Sorting 1'!AD58","v":{"$error":"#DIV/0!"}},{"$f":"'Sorting 1'!AJ58","v":{"$error":"#DIV/0!"}},{"$f":"'Sorting 1'!AP58","v":{"$error":"#DIV/0!"}},{"$f":"'Sorting 1'!AV58","v":{"$error":"#DIV/0!"}},{"$f":"'Sorting 1'!BB58","v":{"$error":"#DIV/0!"}},{"$f":"'Sorting 1'!BH58","v":{"$error":"#DIV/0!"}},{"$f":"'Sorting 1'!BN58","v":{"$error":"#DIV/0!"}},{"$f":"'Sorting 1'!BT58","v":{"$error":"#DIV/0!"}},{"$f":"'Sorting 1'!BZ58","v":{"$error":"#DIV/0!"}},{"$f":"'Sorting 1'!CF58","v":{"$error":"#DIV/0!"}},{"$f":"'Sorting 1'!CL58","v":{"$error":"#DIV/0!"}},{"$f":"'Sorting 1'!CR58","v":{"$error":"#DIV/0!"}}]
[{"$f":"'Sorting 1'!A59","v":"P32"},{"$f":"'Sorting 1'!F59","v":{"$error":"#DIV/0!"}},{"$f":"'Sorting 1'!L59","v":{"$error":"#DIV/0!"}},{"$f":"'Sorting 1'!R59","v":{"$error":"#DIV/0!"}},{"$f":"'Sorting 1'!X59","v":{"$error":"#DIV/0!"}},{"$f":"'Sorting 1'!AD59","v":{"$error":"#DIV/0!"}},{"$f":"'Sorting 1'!AJ59","v":{"$error":"#DIV/0!"}},{"$f":"'Sorting 1'!AP59","v":{"$error":"#DIV/0!"}},{"$f":"'Sorting 1'!AV59","v":{"$error":"#DIV/0!"}},{"$f":"'Sorting 1'!BB59","v":{"$error":"#DIV/0!"}},{"$f":"'Sorting 1'!BH59","v":{"$error":"#DIV/0!"}},{"$f":"'Sorting 1'!BN59","v":{"$error":"#DIV/0!"}},{"$f":"'Sorting 1'!BT59","v":{"$error":"#DIV/0!"}},{"$f":"'Sorting 1'!BZ59","v":{"$error":"#DIV/0!"}},{"$f":"'Sorting 1'!CF59","v":{"$error":"#DIV/0!"}},{"$f":"'Sorting 1'!CL59","v":{"$error":"#DIV/0!"}},{"$f":"'Sorting 1'!CR59","v":{"$error":"#DIV/0!"}}]
[{"$f":"'Sorting 1'!A60","v":"P44"},{"$f":"'Sorting 1'!F60","v":{"$error":"#DIV/0!"}},{"$f":"'Sorting 1'!L60","v":{"$error":"#DIV/0!"}},{"$f":"'Sorting 1'!R60","v":{"$error":"#DIV/0!"}},{"$f":"'Sorting 1'!X60","v":{"$error":"#DIV/0!"}},{"$f":"'Sorting 1'!AD60","v":{"$error":"#DIV/0!"}},{"$f":"'Sorting 1'!AJ60","v":{"$error":"#DIV/0!"}},{"$f":"'Sorting 1'!AP60","v":{"$error":"#DIV/0!"}},{"$f":"'Sorting 1'!AV60","v":{"$error":"#DIV/0!"}},{"$f":"'Sorting 1'!BB60","v":{"$error":"#DIV/0!"}},{"$f":"'Sorting 1'!BH60","v":{"$error":"#DIV/0!"}},{"$f":"'Sorting 1'!BN60","v":{"$error":"#DIV/0!"}},{"$f":"'Sorting 1'!BT60","v":{"$error":"#DIV/0!"}},{"$f":"'Sorting 1'!BZ60","v":{"$error":"#DIV/0!"}},{"$f":"'Sorting 1'!CF60","v":{"$error":"#DIV/0!"}},{"$f":"'Sorting 1'!CL60","v":{"$error":"#DIV/0!"}},{"$f":"'Sorting 1'!CR60","v":{"$error":"#DIV/0!"}}]
[{"$f":"'Sorting 1'!A61","v":"P44"},{"$f":"'Sorting 1'!F61","v":{"$error":"#DIV/0!"}},{"$f":"'Sorting 1'!L61","v":{"$error":"#DIV/0!"}},{"$f":"'Sorting 1'!R61","v":{"$error":"#DIV/0!"}},{"$f":"'Sorting 1'!X61","v":{"$error":"#DIV/0!"}},{"$f":"'Sorting 1'!AD61","v":{"$error":"#DIV/0!"}},{"$f":"'Sorting 1'!AJ61","v":{"$error":"#DIV/0!"}},{"$f":"'Sorting 1'!AP61","v":{"$error":"#DIV/0!"}},{"$f":"'Sorting 1'!AV61","v":{"$error":"#DIV/0!"}},{"$f":"'Sorting 1'!BB61","v":{"$error":"#DIV/0!"}},{"$f":"'Sorting 1'!BH61","v":{"$error":"#DIV/0!"}},{"$f":"'Sorting 1'!BN61","v":{"$error":"#DIV/0!"}},{"$f":"'Sorting 1'!BT61","v":{"$error":"#DIV/0!"}},{"$f":"'Sorting 1'!BZ61","v":{"$error":"#DIV/0!"}},{"$f":"'Sorting 1'!CF61","v":{"$error":"#DIV/0!"}},{"$f":"'Sorting 1'!CL61","v":{"$error":"#DIV/0!"}},{"$f":"'Sorting 1'!CR61","v":{"$error":"#DIV/0!"}}]

{"sheet":"Average-w-bkg","index":12,"n_rows":60,"n_cols":17,"rows_kept":60,"cut":false,"hidden":true,"merged":[]}
[]
["RayBio® Pig Cytokine Protein Array G1 Analysis Tool - Average With Background"]
[]
["Target",{"$f":"'Averages 1'!B4","v":"Sample 1"},{"$f":"'Averages 1'!C4","v":"Sample 2"},{"$f":"'Averages 1'!D4","v":"Sample 3"},{"$f":"'Averages 1'!E4","v":"Sample 4"},{"$f":"'Averages 1'!F4","v":"Sample 5"},{"$f":"'Averages 1'!G4","v":"Sample 6"},{"$f":"'Averages 1'!H4","v":"Sample 7"},{"$f":"'Averages 1'!I4","v":"Sample 8"},{"$f":"'Averages 1'!J4","v":"Sample 9"},{"$f":"'Averages 1'!K4","v":"Sample 10"},{"$f":"'Averages 1'!L4","v":"Sample 11"},{"$f":"'Averages 1'!M4","v":"Sample 12"},{"$f":"'Averages 1'!N4","v":"Sample 13"},{"$f":"'Averages 1'!O4","v":"Sample 14"},{"$f":"'Averages 1'!P4","v":"Sample 15"},{"$f":"'Averages 1'!Q4","v":"Sample 16"}]
[{"$f":"'Sorting 1'!A6","v":"POS"},{"$f":"IF('Averages 1'!B5<1,1,'Averages 1'!B5)","v":1},{"$f":"IF('Averages 1'!C5<1,1,'Averages 1'!C5)","v":1},{"$f":"IF('Averages 1'!D5<1,1,'Averages 1'!D5)","v":1},{"$f":"IF('Averages 1'!E5<1,1,'Averages 1'!E5)","v":1},{"$f":"IF('Averages 1'!F5<1,1,'Averages 1'!F5)","v":1},{"$f":"IF('Averages 1'!G5<1,1,'Averages 1'!G5)","v":1},{"$f":"IF('Averages 1'!H5<1,1,'Averages 1'!H5)","v":1},{"$f":"IF('Averages 1'!I5<1,1,'Averages 1'!I5)","v":1},{"$f":"IF('Averages 1'!J5<1,1,'Averages 1'!J5)","v":1},{"$f":"IF('Averages 1'!K5<1,1,'Averages 1'!K5)","v":1},{"$f":"IF('Averages 1'!L5<1,1,'Averages 1'!L5)","v":1},{"$f":"IF('Averages 1'!M5<1,1,'Averages 1'!M5)","v":1},{"$f":"IF('Averages 1'!N5<1,1,'Averages 1'!N5)","v":1},{"$f":"IF('Averages 1'!O5<1,1,'Averages 1'!O5)","v":1},{"$f":"IF('Averages 1'!P5<1,1,'Averages 1'!P5)","v":1},{"$f":"IF('Averages 1'!Q5<1,1,'Averages 1'!Q5)","v":1}]
[{"$f":"'Sorting 1'!A7","v":"NEG"},{"$f":"IF('Averages 1'!B6<1,1,'Averages 1'!B6)","v":1},{"$f":"IF('Averages 1'!C6<1,1,'Averages 1'!C6)","v":1},{"$f":"IF('Averages 1'!D6<1,1,'Averages 1'!D6)","v":1},{"$f":"IF('Averages 1'!E6<1,1,'Averages 1'!E6)","v":1},{"$f":"IF('Averages 1'!F6<1,1,'Averages 1'!F6)","v":1},{"$f":"IF('Averages 1'!G6<1,1,'Averages 1'!G6)","v":1},{"$f":"IF('Averages 1'!H6<1,1,'Averages 1'!H6)","v":1},{"$f":"IF('Averages 1'!I6<1,1,'Averages 1'!I6)","v":1},{"$f":"IF('Averages 1'!J6<1,1,'Averages 1'!J6)","v":1},{"$f":"IF('Averages 1'!K6<1,1,'Averages 1'!K6)","v":1},{"$f":"IF('Averages 1'!L6<1,1,'Averages 1'!L6)","v":1},{"$f":"IF('Averages 1'!M6<1,1,'Averages 1'!M6)","v":1},{"$f":"IF('Averages 1'!N6<1,1,'Averages 1'!N6)","v":1},{"$f":"IF('Averages 1'!O6<1,1,'Averages 1'!O6)","v":1},{"$f":"IF('Averages 1'!P6<1,1,'Averages 1'!P6)","v":1},{"$f":"IF('Averages 1'!Q6<1,1,'Averages 1'!Q6)","v":1}]
[{"$f":"'Sorting 1'!A8","v":"P11"},{"$f":"IF('Averages 1'!B7<1,1,'Averages 1'!B7)","v":{"$error":"#DIV/0!"}},{"$f":"IF('Averages 1'!C7<1,1,'Averages 1'!C7)","v":{"$error":"#DIV/0!"}},{"$f":"IF('Averages 1'!D7<1,1,'Averages 1'!D7)","v":{"$error":"#DIV/0!"}},{"$f":"IF('Averages 1'!E7<1,1,'Averages 1'!E7)","v":{"$error":"#DIV/0!"}},{"$f":"IF('Averages 1'!F7<1,1,'Averages 1'!F7)","v":{"$error":"#DIV/0!"}},{"$f":"IF('Averages 1'!G7<1,1,'Averages 1'!G7)","v":{"$error":"#DIV/0!"}},{"$f":"IF('Averages 1'!H7<1,1,'Averages 1'!H7)","v":{"$error":"#DIV/0!"}},{"$f":"IF('Averages 1'!I7<1,1,'Averages 1'!I7)","v":{"$error":"#DIV/0!"}},{"$f":"IF('Averages 1'!J7<1,1,'Averages 1'!J7)","v":{"$error":"#DIV/0!"}},{"$f":"IF('Averages 1'!K7<1,1,'Averages 1'!K7)","v":{"$error":"#DIV/0!"}},{"$f":"IF('Averages 1'!L7<1,1,'Averages 1'!L7)","v":{"$error":"#DIV/0!"}},{"$f":"IF('Averages 1'!M7<1,1,'Averages 1'!M7)","v":{"$error":"#DIV/0!"}},{"$f":"IF('Averages 1'!N7<1,1,'Averages 1'!N7)","v":{"$error":"#DIV/0!"}},{"$f":"IF('Averages 1'!O7<1,1,'Averages 1'!O7)","v":{"$error":"#DIV/0!"}},{"$f":"IF('Averages 1'!P7<1,1,'Averages 1'!P7)","v":{"$error":"#DIV/0!"}},{"$f":"IF('Averages 1'!Q7<1,1,'Averages 1'!Q7)","v":{"$error":"#DIV/0!"}}]
[{"$f":"'Sorting 1'!A9","v":"P33"},{"$f":"IF('Averages 1'!B8<1,1,'Averages 1'!B8)","v":{"$error":"#DIV/0!"}},{"$f":"IF('Averages 1'!C8<1,1,'Averages 1'!C8)","v":{"$error":"#DIV/0!"}},{"$f":"IF('Averages 1'!D8<1,1,'Averages 1'!D8)","v":{"$error":"#DIV/0!"}},{"$f":"IF('Averages 1'!E8<1,1,'Averages 1'!E8)","v":{"$error":"#DIV/0!"}},{"$f":"IF('Averages 1'!F8<1,1,'Averages 1'!F8)","v":{"$error":"#DIV/0!"}},{"$f":"IF('Averages 1'!G8<1,1,'Averages 1'!G8)","v":{"$error":"#DIV/0!"}},{"$f":"IF('Averages 1'!H8<1,1,'Averages 1'!H8)","v":{"$error":"#DIV/0!"}},{"$f":"IF('Averages 1'!I8<1,1,'Averages 1'!I8)","v":{"$error":"#DIV/0!"}},{"$f":"IF('Averages 1'!J8<1,1,'Averages 1'!J8)","v":{"$error":"#DIV/0!"}},{"$f":"IF('Averages 1'!K8<1,1,'Averages 1'!K8)","v":{"$error":"#DIV/0!"}},{"$f":"IF('Averages 1'!L8<1,1,'Averages 1'!L8)","v":{"$error":"#DIV/0!"}},{"$f":"IF('Averages 1'!M8<1,1,'Averages 1'!M8)","v":{"$error":"#DIV/0!"}},{"$f":"IF('Averages 1'!N8<1,1,'Averages 1'!N8)","v":{"$error":"#DIV/0!"}},{"$f":"IF('Averages 1'!O8<1,1,'Averages 1'!O8)","v":{"$error":"#DIV/0!"}},{"$f":"IF('Averages 1'!P8<1,1,'Averages 1'!P8)","v":{"$error":"#DIV/0!"}},{"$f":"IF('Averages 1'!Q8<1,1,'Averages 1'!Q8)","v":{"$error":"#DIV/0!"}}]
[{"$f":"'Sorting 1'!A10","v":"P45"},{"$f":"IF('Averages 1'!B9<1,1,'Averages 1'!B9)","v":{"$error":"#DIV/0!"}},{"$f":"IF('Averages 1'!C9<1,1,'Averages 1'!C9)","v":{"$error":"#DIV/0!"}},{"$f":"IF('Averages 1'!D9<1,1,'Averages 1'!D9)","v":{"$error":"#DIV/0!"}},{"$f":"IF('Averages 1'!E9<1,1,'Averages 1'!E9)","v":{"$error":"#DIV/0!"}},{"$f":"IF('Averages 1'!F9<1,1,'Averages 1'!F9)","v":{"$error":"#DIV/0!"}},{"$f":"IF('Averages 1'!G9<1,1,'Averages 1'!G9)","v":{"$error":"#DIV/0!"}},{"$f":"IF('Averages 1'!H9<1,1,'Averages 1'!H9)","v":{"$error":"#DIV/0!"}},{"$f":"IF('Averages 1'!I9<1,1,'Averages 1'!I9)","v":{"$error":"#DIV/0!"}},{"$f":"IF('Averages 1'!J9<1,1,'Averages 1'!J9)","v":{"$error":"#DIV/0!"}},{"$f":"IF('Averages 1'!K9<1,1,'Averages 1'!K9)","v":{"$error":"#DIV/0!"}},{"$f":"IF('Averages 1'!L9<1,1,'Averages 1'!L9)","v":{"$error":"#DIV/0!"}},{"$f":"IF('Averages 1'!M9<1,1,'Averages 1'!M9)","v":{"$error":"#DIV/0!"}},{"$f":"IF('Averages 1'!N9<1,1,'Averages 1'!N9)","v":{"$error":"#DIV/0!"}},{"$f":"IF('Averages 1'!O9<1,1,'Averages 1'!O9)","v":{"$error":"#DIV/0!"}},{"$f":"IF('Averages 1'!P9<1,1,'Averages 1'!P9)","v":{"$error":"#DIV/0!"}},{"$f":"IF('Averages 1'!Q9<1,1,'Averages 1'!Q9)","v":{"$error":"#DIV/0!"}}]
[{"$f":"'Sorting 1'!A11","v":"P12"},{"$f":"IF('Averages 1'!B10<1,1,'Averages 1'!B10)","v":{"$error":"#DIV/0!"}},{"$f":"IF('Averages 1'!C10<1,1,'Averages 1'!C10)","v":{"$error":"#DIV/0!"}},{"$f":"IF('Averages 1'!D10<1,1,'Averages 1'!D10)","v":{"$error":"#DIV/0!"}},{"$f":"IF('Averages 1'!E10<1,1,'Averages 1'!E10)","v":{"$error":"#DIV/0!"}},{"$f":"IF('Averages 1'!F10<1,1,'Averages 1'!F10)","v":{"$error":"#DIV/0!"}},{"$f":"IF('Averages 1'!G10<1,1,'Averages 1'!G10)","v":{"$error":"#DIV/0!"}},{"$f":"IF('Averages 1'!H10<1,1,'Averages 1'!H10)","v":{"$error":"#DIV/0!"}},{"$f":"IF('Averages 1'!I10<1,1,'Averages 1'!I10)","v":{"$error":"#DIV/0!"}},{"$f":"IF('Averages 1'!J10<1,1,'Averages 1'!J10)","v":{"$error":"#DIV/0!"}},{"$f":"IF('Averages 1'!K10<1,1,'Averages 1'!K10)","v":{"$error":"#DIV/0!"}},{"$f":"IF('Averages 1'!L10<1,1,'Averages 1'!L10)","v":{"$error":"#DIV/0!"}},{"$f":"IF('Averages 1'!M10<1,1,'Averages 1'!M10)","v":{"$error":"#DIV/0!"}},{"$f":"IF('Averages 1'!N10<1,1,'Averages 1'!N10)","v":{"$error":"#DIV/0!"}},{"$f":"IF('Averages 1'!O10<1,1,'Averages 1'!O10)","v":{"$error":"#DIV/0!"}},{"$f":"IF('Averages 1'!P10<1,1,'Averages 1'!P10)","v":{"$error":"#DIV/0!"}},{"$f":"IF('Averages 1'!Q10<1,1,'Averages 1'!Q10)","v":{"$error":"#DIV/0!"}}]
[{"$f":"'Sorting 1'!A12","v":"P22"},{"$f":"IF('Averages 1'!B11<1,1,'Averages 1'!B11)","v":{"$error":"#DIV/0!"}},{"$f":"IF('Averages 1'!C11<1,1,'Averages 1'!C11)","v":{"$error":"#DIV/0!"}},{"$f":"IF('Averages 1'!D11<1,1,'Averages 1'!D11)","v":{"$error":"#DIV/0!"}},{"$f":"IF('Averages 1'!E11<1,1,'Averages 1'!E11)","v":{"$error":"#DIV/0!"}},{"$f":"IF('Averages 1'!F11<1,1,'Averages 1'!F11)","v":{"$error":"#DIV/0!"}},{"$f":"IF('Averages 1'!G11<1,1,'Averages 1'!G11)","v":{"$error":"#DIV/0!"}},{"$f":"IF('Averages 1'!H11<1,1,'Averages 1'!H11)","v":{"$error":"#DIV/0!"}},{"$f":"IF('Averages 1'!I11<1,1,'Averages 1'!I11)","v":{"$error":"#DIV/0!"}},{"$f":"IF('Averages 1'!J11<1,1,'Averages 1'!J11)","v":{"$error":"#DIV/0!"}},{"$f":"IF('Averages 1'!K11<1,1,'Averages 1'!K11)","v":{"$error":"#DIV/0!"}},{"$f":"IF('Averages 1'!L11<1,1,'Averages 1'!L11)","v":{"$error":"#DIV/0!"}},{"$f":"IF('Averages 1'!M11<1,1,'Averages 1'!M11)","v":{"$error":"#DIV/0!"}},{"$f":"IF('Averages 1'!N11<1,1,'Averages 1'!N11)","v":{"$error":"#DIV/0!"}},{"$f":"IF('Averages 1'!O11<1,1,'Averages 1'!O11)","v":{"$error":"#DIV/0!"}},{"$f":"IF('Averages 1'!P11<1,1,'Averages 1'!P11)","v":{"$error":"#DIV/0!"}},{"$f":"IF('Averages 1'!Q11<1,1,'Averages 1'!Q11)","v":{"$error":"#DIV/0!"}}]
[{"$f":"'Sorting 1'!A13","v":"P34"},{"$f":"IF('Averages 1'!B12<1,1,'Averages 1'!B12)","v":{"$error":"#DIV/0!"}},{"$f":"IF('Averages 1'!C12<1,1,'Averages 1'!C12)","v":{"$error":"#DIV/0!"}},{"$f":"IF('Averages 1'!D12<1,1,'Averages 1'!D12)","v":{"$error":"#DIV/0!"}},{"$f":"IF('Averages 1'!E12<1,1,'Averages 1'!E12)","v":{"$error":"#DIV/0!"}},{"$f":"IF('Averages 1'!F12<1,1,'Averages 1'!F12)","v":{"$error":"#DIV/0!"}},{"$f":"IF('Averages 1'!G12<1,1,'Averages 1'!G12)","v":{"$error":"#DIV/0!"}},{"$f":"IF('Averages 1'!H12<1,1,'Averages 1'!H12)","v":{"$error":"#DIV/0!"}},{"$f":"IF('Averages 1'!I12<1,1,'Averages 1'!I12)","v":{"$error":"#DIV/0!"}},{"$f":"IF('Averages 1'!J12<1,1,'Averages 1'!J12)","v":{"$error":"#DIV/0!"}},{"$f":"IF('Averages 1'!K12<1,1,'Averages 1'!K12)","v":{"$error":"#DIV/0!"}},{"$f":"IF('Averages 1'!L12<1,1,'Averages 1'!L12)","v":{"$error":"#DIV/0!"}},{"$f":"IF('Averages 1'!M12<1,1,'Averages 1'!M12)","v":{"$error":"#DIV/0!"}},{"$f":"IF('Averages 1'!N12<1,1,'Averages 1'!N12)","v":{"$error":"#DIV/0!"}},{"$f":"IF('Averages 1'!O12<1,1,'Averages 1'!O12)","v":{"$error":"#DIV/0!"}},{"$f":"IF('Averages 1'!P12<1,1,'Averages 1'!P12)","v":{"$error":"#DIV/0!"}},{"$f":"IF('Averages 1'!Q12<1,1,'Averages 1'!Q12)","v":{"$error":"#DIV/0!"}}]
[{"$f":"'Sorting 1'!A14","v":"P46"},{"$f":"IF('Averages 1'!B13<1,1,'Averages 1'!B13)","v":{"$error":"#DIV/0!"}},{"$f":"IF('Averages 1'!C13<1,1,'Averages 1'!C13)","v":{"$error":"#DIV/0!"}},{"$f":"IF('Averages 1'!D13<1,1,'Averages 1'!D13)","v":{"$error":"#DIV/0!"}},{"$f":"IF('Averages 1'!E13<1,1,'Averages 1'!E13)","v":{"$error":"#DIV/0!"}},{"$f":"IF('Averages 1'!F13<1,1,'Averages 1'!F13)","v":{"$error":"#DIV/0!"}},{"$f":"IF('Averages 1'!G13<1,1,'Averages 1'!G13)","v":{"$error":"#DIV/0!"}},{"$f":"IF('Averages 1'!H13<1,1,'Averages 1'!H13)","v":{"$error":"#DIV/0!"}},{"$f":"IF('Averages 1'!I13<1,1,'Averages 1'!I13)","v":{"$error":"#DIV/0!"}},{"$f":"IF('Averages 1'!J13<1,1,'Averages 1'!J13)","v":{"$error":"#DIV/0!"}},{"$f":"IF('Averages 1'!K13<1,1,'Averages 1'!K13)","v":{"$error":"#DIV/0!"}},{"$f":"IF('Averages 1'!L13<1,1,'Averages 1'!L13)","v":{"$error":"#DIV/0!"}},{"$f":"IF('Averages 1'!M13<1,1,'Averages 1'!M13)","v":{"$error":"#DIV/0!"}},{"$f":"IF('Averages 1'!N13<1,1,'Averages 1'!N13)","v":{"$error":"#DIV/0!"}},{"$f":"IF('Averages 1'!O13<1,1,'Averages 1'!O13)","v":{"$error":"#DIV/0!"}},{"$f":"IF('Averages 1'!P13<1,1,'Averages 1'!P13)","v":{"$error":"#DIV/0!"}},{"$f":"IF('Averages 1'!Q13<1,1,'Averages 1'!Q13)","v":{"$error":"#DIV/0!"}}]
[{"$f":"'Sorting 1'!A15","v":"P1"},{"$f":"IF('Averages 1'!B14<1,1,'Averages 1'!B14)","v":{"$error":"#DIV/0!"}},{"$f":"IF('Averages 1'!C14<1,1,'Averages 1'!C14)","v":{"$error":"#DIV/0!"}},{"$f":"IF('Averages 1'!D14<1,1,'Averages 1'!D14)","v":{"$error":"#DIV/0!"}},{"$f":"IF('Averages 1'!E14<1,1,'Averages 1'!E14)","v":{"$error":"#DIV/0!"}},{"$f":"IF('Averages 1'!F14<1,1,'Averages 1'!F14)","v":{"$error":"#DIV/0!"}},{"$f":"IF('Averages 1'!G14<1,1,'Averages 1'!G14)","v":{"$error":"#DIV/0!"}},{"$f":"IF('Averages 1'!H14<1,1,'Averages 1'!H14)","v":{"$error":"#DIV/0!"}},{"$f":"IF('Averages 1'!I14<1,1,'Averages 1'!I14)","v":{"$error":"#DIV/0!"}},{"$f":"IF('Averages 1'!J14<1,1,'Averages 1'!J14)","v":{"$error":"#DIV/0!"}},{"$f":"IF('Averages 1'!K14<1,1,'Averages 1'!K14)","v":{"$error":"#DIV/0!"}},{"$f":"IF('Averages 1'!L14<1,1,'Averages 1'!L14)","v":{"$error":"#DIV/0!"}},{"$f":"IF('Averages 1'!M14<1,1,'Averages 1'!M14)","v":{"$error":"#DIV/0!"}},{"$f":"IF('Averages 1'!N14<1,1,'Averages 1'!N14)","v":{"$error":"#DIV/0!"}},{"$f":"IF('Averages 1'!O14<1,1,'Averages 1'!O14)","v":{"$error":"#DIV/0!"}},{"$f":"IF('Averages 1'!P14<1,1,'Averages 1'!P14)","v":{"$error":"#DIV/0!"}},{"$f":"IF('Averages 1'!Q14<1,1,'Averages 1'!Q14)","v":{"$error":"#DIV/0!"}}]
[{"$f":"'Sorting 1'!A16","v":"P13"},{"$f":"IF('Averages 1'!B15<1,1,'Averages 1'!B15)","v":{"$error":"#DIV/0!"}},{"$f":"IF('Averages 1'!C15<1,1,'Averages 1'!C15)","v":{"$error":"#DIV/0!"}},{"$f":"IF('Averages 1'!D15<1,1,'Averages 1'!D15)","v":{"$error":"#DIV/0!"}},{"$f":"IF('Averages 1'!E15<1,1,'Averages 1'!E15)","v":{"$error":"#DIV/0!"}},{"$f":"IF('Averages 1'!F15<1,1,'Averages 1'!F15)","v":{"$error":"#DIV/0!"}},{"$f":"IF('Averages 1'!G15<1,1,'Averages 1'!G15)","v":{"$error":"#DIV/0!"}},{"$f":"IF('Averages 1'!H15<1,1,'Averages 1'!H15)","v":{"$error":"#DIV/0!"}},{"$f":"IF('Averages 1'!I15<1,1,'Averages 1'!I15)","v":{"$error":"#DIV/0!"}},{"$f":"IF('Averages 1'!J15<1,1,'Averages 1'!J15)","v":{"$error":"#DIV/0!"}},{"$f":"IF('Averages 1'!K15<1,1,'Averages 1'!K15)","v":{"$error":"#DIV/0!"}},{"$f":"IF('Averages 1'!L15<1,1,'Averages 1'!L15)","v":{"$error":"#DIV/0!"}},{"$f":"IF('Averages 1'!M15<1,1,'Averages 1'!M15)","v":{"$error":"#DIV/0!"}},{"$f":"IF('Averages 1'!N15<1,1,'Averages 1'!N15)","v":{"$error":"#DIV/0!"}},{"$f":"IF('Averages 1'!O15<1,1,'Averages 1'!O15)","v":{"$error":"#DIV/0!"}},{"$f":"IF('Averages 1'!P15<1,1,'Averages 1'!P15)","v":{"$error":"#DIV/0!"}},{"$f":"IF('Averages 1'!Q15<1,1,'Averages 1'!Q15)","v":{"$error":"#DIV/0!"}}]
[{"$f":"'Sorting 1'!A17","v":"P23"},{"$f":"IF('Averages 1'!B16<1,1,'Averages 1'!B16)","v":{"$error":"#DIV/0!"}},{"$f":"IF('Averages 1'!C16<1,1,'Averages 1'!C16)","v":{"$error":"#DIV/0!"}},{"$f":"IF('Averages 1'!D16<1,1,'Averages 1'!D16)","v":{"$error":"#DIV/0!"}},{"$f":"IF('Averages 1'!E16<1,1,'Averages 1'!E16)","v":{"$error":"#DIV/0!"}},{"$f":"IF('Averages 1'!F16<1,1,'Averages 1'!F16)","v":{"$error":"#DIV/0!"}},{"$f":"IF('Averages 1'!G16<1,1,'Averages 1'!G16)","v":{"$error":"#DIV/0!"}},{"$f":"IF('Averages 1'!H16<1,1,'Averages 1'!H16)","v":{"$error":"#DIV/0!"}},{"$f":"IF('Averages 1'!I16<1,1,'Averages 1'!I16)","v":{"$error":"#DIV/0!"}},{"$f":"IF('Averages 1'!J16<1,1,'Averages 1'!J16)","v":{"$error":"#DIV/0!"}},{"$f":"IF('Averages 1'!K16<1,1,'Averages 1'!K16)","v":{"$error":"#DIV/0!"}},{"$f":"IF('Averages 1'!L16<1,1,'Averages 1'!L16)","v":{"$error":"#DIV/0!"}},{"$f":"IF('Averages 1'!M16<1,1,'Averages 1'!M16)","v":{"$error":"#DIV/0!"}},{"$f":"IF('Averages 1'!N16<1,1,'Averages 1'!N16)","v":{"$error":"#DIV/0!"}},{"$f":"IF('Averages 1'!O16<1,1,'Averages 1'!O16)","v":{"$error":"#DIV/0!"}},{"$f":"IF('Averages 1'!P16<1,1,'Averages 1'!P16)","v":{"$error":"#DIV/0!"}},{"$f":"IF('Averages 1'!Q16<1,1,'Averages 1'!Q16)","v":{"$error":"#DIV/0!"}}]
[{"$f":"'Sorting 1'!A18","v":"P35"},{"$f":"IF('Averages 1'!B17<1,1,'Averages 1'!B17)","v":{"$error":"#DIV/0!"}},{"$f":"IF('Averages 1'!C17<1,1,'Averages 1'!C17)","v":{"$error":"#DIV/0!"}},{"$f":"IF('Averages 1'!D17<1,1,'Averages 1'!D17)","v":{"$error":"#DIV/0!"}},{"$f":"IF('Averages 1'!E17<1,1,'Averages 1'!E17)","v":{"$error":"#DIV/0!"}},{"$f":"IF('Averages 1'!F17<1,1,'Averages 1'!F17)","v":{"$error":"#DIV/0!"}},{"$f":"IF('Averages 1'!G17<1,1,'Averages 1'!G17)","v":{"$error":"#DIV/0!"}},{"$f":"IF('Averages 1'!H17<1,1,'Averages 1'!H17)","v":{"$error":"#DIV/0!"}},{"$f":"IF('Averages 1'!I17<1,1,'Averages 1'!I17)","v":{"$error":"#DIV/0!"}},{"$f":"IF('Averages 1'!J17<1,1,'Averages 1'!J17)","v":{"$error":"#DIV/0!"}},{"$f":"IF('Averages 1'!K17<1,1,'Averages 1'!K17)","v":{"$error":"#DIV/0!"}},{"$f":"IF('Averages 1'!L17<1,1,'Averages 1'!L17)","v":{"$error":"#DIV/0!"}},{"$f":"IF('Averages 1'!M17<1,1,'Averages 1'!M17)","v":{"$error":"#DIV/0!"}},{"$f":"IF('Averages 1'!N17<1,1,'Averages 1'!N17)","v":{"$error":"#DIV/0!"}},{"$f":"IF('Averages 1'!O17<1,1,'Averages 1'!O17)","v":{"$error":"#DIV/0!"}},{"$f":"IF('Averages 1'!P17<1,1,'Averages 1'!P17)","v":{"$error":"#DIV/0!"}},{"$f":"IF('Averages 1'!Q17<1,1,'Averages 1'!Q17)","v":{"$error":"#DIV/0!"}}]
[{"$f":"'Sorting 1'!A19","v":"P47"},{"$f":"IF('Averages 1'!B18<1,1,'Averages 1'!B18)","v":{"$error":"#DIV/0!"}},{"$f":"IF('Averages 1'!C18<1,1,'Averages 1'!C18)","v":{"$error":"#DIV/0!"}},{"$f":"IF('Averages 1'!D18<1,1,'Averages 1'!D18)","v":{"$error":"#DIV/0!"}},{"$f":"IF('Averages 1'!E18<1,1,'Averages 1'!E18)","v":{"$error":"#DIV/0!"}},{"$f":"IF('Averages 1'!F18<1,1,'Averages 1'!F18)","v":{"$error":"#DIV/0!"}},{"$f":"IF('Averages 1'!G18<1,1,'Averages 1'!G18)","v":{"$error":"#DIV/0!"}},{"$f":"IF('Averages 1'!H18<1,1,'Averages 1'!H18)","v":{"$error":"#DIV/0!"}},{"$f":"IF('Averages 1'!I18<1,1,'Averages 1'!I18)","v":{"$error":"#DIV/0!"}},{"$f":"IF('Averages 1'!J18<1,1,'Averages 1'!J18)","v":{"$error":"#DIV/0!"}},{"$f":"IF('Averages 1'!K18<1,1,'Averages 1'!K18)","v":{"$error":"#DIV/0!"}},{"$f":"IF('Averages 1'!L18<1,1,'Averages 1'!L18)","v":{"$error":"#DIV/0!"}},{"$f":"IF('Averages 1'!M18<1,1,'Averages 1'!M18)","v":{"$error":"#DIV/0!"}},{"$f":"IF('Averages 1'!N18<1,1,'Averages 1'!N18)","v":{"$error":"#DIV/0!"}},{"$f":"IF('Averages 1'!O18<1,1,'Averages 1'!O18)","v":{"$error":"#DIV/0!"}},{"$f":"IF('Averages 1'!P18<1,1,'Averages 1'!P18)","v":{"$error":"#DIV/0!"}},{"$f":"IF('Averages 1'!Q18<1,1,'Averages 1'!Q18)","v":{"$error":"#DIV/0!"}}]
[{"$f":"'Sorting 1'!A20","v":"P2"},{"$f":"IF('Averages 1'!B19<1,1,'Averages 1'!B19)","v":{"$error":"#DIV/0!"}},{"$f":"IF('Averages 1'!C19<1,1,'Averages 1'!C19)","v":{"$error":"#DIV/0!"}},{"$f":"IF('Averages 1'!D19<1,1,'Averages 1'!D19)","v":{"$error":"#DIV/0!"}},{"$f":"IF('Averages 1'!E19<1,1,'Averages 1'!E19)","v":{"$error":"#DIV/0!"}},{"$f":"IF('Averages 1'!F19<1,1,'Averages 1'!F19)","v":{"$error":"#DIV/0!"}},{"$f":"IF('Averages 1'!G19<1,1,'Averages 1'!G19)","v":{"$error":"#DIV/0!"}},{"$f":"IF('Averages 1'!H19<1,1,'Averages 1'!H19)","v":{"$error":"#DIV/0!"}},{"$f":"IF('Averages 1'!I19<1,1,'Averages 1'!I19)","v":{"$error":"#DIV/0!"}},{"$f":"IF('Averages 1'!J19<1,1,'Averages 1'!J19)","v":{"$error":"#DIV/0!"}},{"$f":"IF('Averages 1'!K19<1,1,'Averages 1'!K19)","v":{"$error":"#DIV/0!"}},{"$f":"IF('Averages 1'!L19<1,1,'Averages 1'!L19)","v":{"$error":"#DIV/0!"}},{"$f":"IF('Averages 1'!M19<1,1,'Averages 1'!M19)","v":{"$error":"#DIV/0!"}},{"$f":"IF('Averages 1'!N19<1,1,'Averages 1'!N19)","v":{"$error":"#DIV/0!"}},{"$f":"IF('Averages 1'!O19<1,1,'Averages 1'!O19)","v":{"$error":"#DIV/0!"}},{"$f":"IF('Averages 1'!P19<1,1,'Averages 1'!P19)","v":{"$error":"#DIV/0!"}},{"$f":"IF('Averages 1'!Q19<1,1,'Averages 1'!Q19)","v":{"$error":"#DIV/0!"}}]
[{"$f":"'Sorting 1'!A21","v":"P14"},{"$f":"IF('Averages 1'!B20<1,1,'Averages 1'!B20)","v":{"$error":"#DIV/0!"}},{"$f":"IF('Averages 1'!C20<1,1,'Averages 1'!C20)","v":{"$error":"#DIV/0!"}},{"$f":"IF('Averages 1'!D20<1,1,'Averages 1'!D20)","v":{"$error":"#DIV/0!"}},{"$f":"IF('Averages 1'!E20<1,1,'Averages 1'!E20)","v":{"$error":"#DIV/0!"}},{"$f":"IF('Averages 1'!F20<1,1,'Averages 1'!F20)","v":{"$error":"#DIV/0!"}},{"$f":"IF('Averages 1'!G20<1,1,'Averages 1'!G20)","v":{"$error":"#DIV/0!"}},{"$f":"IF('Averages 1'!H20<1,1,'Averages 1'!H20)","v":{"$error":"#DIV/0!"}},{"$f":"IF('Averages 1'!I20<1,1,'Averages 1'!I20)","v":{"$error":"#DIV/0!"}},{"$f":"IF('Averages 1'!J20<1,1,'Averages 1'!J20)","v":{"$error":"#DIV/0!"}},{"$f":"IF('Averages 1'!K20<1,1,'Averages 1'!K20)","v":{"$error":"#DIV/0!"}},{"$f":"IF('Averages 1'!L20<1,1,'Averages 1'!L20)","v":{"$error":"#DIV/0!"}},{"$f":"IF('Averages 1'!M20<1,1,'Averages 1'!M20)","v":{"$error":"#DIV/0!"}},{"$f":"IF('Averages 1'!N20<1,1,'Averages 1'!N20)","v":{"$error":"#DIV/0!"}},{"$f":"IF('Averages 1'!O20<1,1,'Averages 1'!O20)","v":{"$error":"#DIV/0!"}},{"$f":"IF('Averages 1'!P20<1,1,'Averages 1'!P20)","v":{"$error":"#DIV/0!"}},{"$f":"IF('Averages 1'!Q20<1,1,'Averages 1'!Q20)","v":{"$error":"#DIV/0!"}}]
[{"$f":"'Sorting 1'!A22","v":"P24"},{"$f":"IF('Averages 1'!B21<1,1,'Averages 1'!B21)","v":{"$error":"#DIV/0!"}},{"$f":"IF('Averages 1'!C21<1,1,'Averages 1'!C21)","v":{"$error":"#DIV/0!"}},{"$f":"IF('Averages 1'!D21<1,1,'Averages 1'!D21)","v":{"$error":"#DIV/0!"}},{"$f":"IF('Averages 1'!E21<1,1,'Averages 1'!E21)","v":{"$error":"#DIV/0!"}},{"$f":"IF('Averages 1'!F21<1,1,'Averages 1'!F21)","v":{"$error":"#DIV/0!"}},{"$f":"IF('Averages 1'!G21<1,1,'Averages 1'!G21)","v":{"$error":"#DIV/0!"}},{"$f":"IF('Averages 1'!H21<1,1,'Averages 1'!H21)","v":{"$error":"#DIV/0!"}},{"$f":"IF('Averages 1'!I21<1,1,'Averages 1'!I21)","v":{"$error":"#DIV/0!"}},{"$f":"IF('Averages 1'!J21<1,1,'Averages 1'!J21)","v":{"$error":"#DIV/0!"}},{"$f":"IF('Averages 1'!K21<1,1,'Averages 1'!K21)","v":{"$error":"#DIV/0!"}},{"$f":"IF('Averages 1'!L21<1,1,'Averages 1'!L21)","v":{"$error":"#DIV/0!"}},{"$f":"IF('Averages 1'!M21<1,1,'Averages 1'!M21)","v":{"$error":"#DIV/0!"}},{"$f":"IF('Averages 1'!N21<1,1,'Averages 1'!N21)","v":{"$error":"#DIV/0!"}},{"$f":"IF('Averages 1'!O21<1,1,'Averages 1'!O21)","v":{"$error":"#DIV/0!"}},{"$f":"IF('Averages 1'!P21<1,1,'Averages 1'!P21)","v":{"$error":"#DIV/0!"}},{"$f":"IF('Averages 1'!Q21<1,1,'Averages 1'!Q21)","v":{"$error":"#DIV/0!"}}]
[{"$f":"'Sorting 1'!A23","v":"P36"},{"$f":"IF('Averages 1'!B22<1,1,'Averages 1'!B22)","v":{"$error":"#DIV/0!"}},{"$f":"IF('Averages 1'!C22<1,1,'Averages 1'!C22)","v":{"$error":"#DIV/0!"}},{"$f":"IF('Averages 1'!D22<1,1,'Averages 1'!D22)","v":{"$error":"#DIV/0!"}},{"$f":"IF('Averages 1'!E22<1,1,'Averages 1'!E22)","v":{"$error":"#DIV/0!"}},{"$f":"IF('Averages 1'!F22<1,1,'Averages 1'!F22)","v":{"$error":"#DIV/0!"}},{"$f":"IF('Averages 1'!G22<1,1,'Averages 1'!G22)","v":{"$error":"#DIV/0!"}},{"$f":"IF('Averages 1'!H22<1,1,'Averages 1'!H22)","v":{"$error":"#DIV/0!"}},{"$f":"IF('Averages 1'!I22<1,1,'Averages 1'!I22)","v":{"$error":"#DIV/0!"}},{"$f":"IF('Averages 1'!J22<1,1,'Averages 1'!J22)","v":{"$error":"#DIV/0!"}},{"$f":"IF('Averages 1'!K22<1,1,'Averages 1'!K22)","v":{"$error":"#DIV/0!"}},{"$f":"IF('Averages 1'!L22<1,1,'Averages 1'!L22)","v":{"$error":"#DIV/0!"}},{"$f":"IF('Averages 1'!M22<1,1,'Averages 1'!M22)","v":{"$error":"#DIV/0!"}},{"$f":"IF('Averages 1'!N22<1,1,'Averages 1'!N22)","v":{"$error":"#DIV/0!"}},{"$f":"IF('Averages 1'!O22<1,1,'Averages 1'!O22)","v":{"$error":"#DIV/0!"}},{"$f":"IF('Averages 1'!P22<1,1,'Averages 1'!P22)","v":{"$error":"#DIV/0!"}},{"$f":"IF('Averages 1'!Q22<1,1,'Averages 1'!Q22)","v":{"$error":"#DIV/0!"}}]
[{"$f":"'Sorting 1'!A24","v":"P48"},{"$f":"IF('Averages 1'!B23<1,1,'Averages 1'!B23)","v":{"$error":"#DIV/0!"}},{"$f":"IF('Averages 1'!C23<1,1,'Averages 1'!C23)","v":{"$error":"#DIV/0!"}},{"$f":"IF('Averages 1'!D23<1,1,'Averages 1'!D23)","v":{"$error":"#DIV/0!"}},{"$f":"IF('Averages 1'!E23<1,1,'Averages 1'!E23)","v":{"$error":"#DIV/0!"}},{"$f":"IF('Averages 1'!F23<1,1,'Averages 1'!F23)","v":{"$error":"#DIV/0!"}},{"$f":"IF('Averages 1'!G23<1,1,'Averages 1'!G23)","v":{"$error":"#DIV/0!"}},{"$f":"IF('Averages 1'!H23<1,1,'Averages 1'!H23)","v":{"$error":"#DIV/0!"}},{"$f":"IF('Averages 1'!I23<1,1,'Averages 1'!I23)","v":{"$error":"#DIV/0!"}},{"$f":"IF('Averages 1'!J23<1,1,'Averages 1'!J23)","v":{"$error":"#DIV/0!"}},{"$f":"IF('Averages 1'!K23<1,1,'Averages 1'!K23)","v":{"$error":"#DIV/0!"}},{"$f":"IF('Averages 1'!L23<1,1,'Averages 1'!L23)","v":{"$error":"#DIV/0!"}},{"$f":"IF('Averages 1'!M23<1,1,'Averages 1'!M23)","v":{"$error":"#DIV/0!"}},{"$f":"IF('Averages 1'!N23<1,1,'Averages 1'!N23)","v":{"$error":"#DIV/0!"}},{"$f":"IF('Averages 1'!O23<1,1,'Averages 1'!O23)","v":{"$error":"#DIV/0!"}},{"$f":"IF('Averages 1'!P23<1,1,'Averages 1'!P23)","v":{"$error":"#DIV/0!"}},{"$f":"IF('Averages 1'!Q23<1,1,'Averages 1'!Q23)","v":{"$error":"#DIV/0!"}}]
[{"$f":"'Sorting 1'!A25","v":"P3"},{"$f":"IF('Averages 1'!B24<1,1,'Averages 1'!B24)","v":{"$error":"#DIV/0!"}},{"$f":"IF('Averages 1'!C24<1,1,'Averages 1'!C24)","v":{"$error":"#DIV/0!"}},{"$f":"IF('Averages 1'!D24<1,1,'Averages 1'!D24)","v":{"$error":"#DIV/0!"}},{"$f":"IF('Averages 1'!E24<1,1,'Averages 1'!E24)","v":{"$error":"#DIV/0!"}},{"$f":"IF('Averages 1'!F24<1,1,'Averages 1'!F24)","v":{"$error":"#DIV/0!"}},{"$f":"IF('Averages 1'!G24<1,1,'Averages 1'!G24)","v":{"$error":"#DIV/0!"}},{"$f":"IF('Averages 1'!H24<1,1,'Averages 1'!H24)","v":{"$error":"#DIV/0!"}},{"$f":"IF('Averages 1'!I24<1,1,'Averages 1'!I24)","v":{"$error":"#DIV/0!"}},{"$f":"IF('Averages 1'!J24<1,1,'Averages 1'!J24)","v":{"$error":"#DIV/0!"}},{"$f":"IF('Averages 1'!K24<1,1,'Averages 1'!K24)","v":{"$error":"#DIV/0!"}},{"$f":"IF('Averages 1'!L24<1,1,'Averages 1'!L24)","v":{"$error":"#DIV/0!"}},{"$f":"IF('Averages 1'!M24<1,1,'Averages 1'!M24)","v":{"$error":"#DIV/0!"}},{"$f":"IF('Averages 1'!N24<1,1,'Averages 1'!N24)","v":{"$error":"#DIV/0!"}},{"$f":"IF('Averages 1'!O24<1,1,'Averages 1'!O24)","v":{"$error":"#DIV/0!"}},{"$f":"IF('Averages 1'!P24<1,1,'Averages 1'!P24)","v":{"$error":"#DIV/0!"}},{"$f":"IF('Averages 1'!Q24<1,1,'Averages 1'!Q24)","v":{"$error":"#DIV/0!"}}]
[{"$f":"'Sorting 1'!A26","v":"P15"},{"$f":"IF('Averages 1'!B25<1,1,'Averages 1'!B25)","v":{"$error":"#DIV/0!"}},{"$f":"IF('Averages 1'!C25<1,1,'Averages 1'!C25)","v":{"$error":"#DIV/0!"}},{"$f":"IF('Averages 1'!D25<1,1,'Averages 1'!D25)","v":{"$error":"#DIV/0!"}},{"$f":"IF('Averages 1'!E25<1,1,'Averages 1'!E25)","v":{"$error":"#DIV/0!"}},{"$f":"IF('Averages 1'!F25<1,1,'Averages 1'!F25)","v":{"$error":"#DIV/0!"}},{"$f":"IF('Averages 1'!G25<1,1,'Averages 1'!G25)","v":{"$error":"#DIV/0!"}},{"$f":"IF('Averages 1'!H25<1,1,'Averages 1'!H25)","v":{"$error":"#DIV/0!"}},{"$f":"IF('Averages 1'!I25<1,1,'Averages 1'!I25)","v":{"$error":"#DIV/0!"}},{"$f":"IF('Averages 1'!J25<1,1,'Averages 1'!J25)","v":{"$error":"#DIV/0!"}},{"$f":"IF('Averages 1'!K25<1,1,'Averages 1'!K25)","v":{"$error":"#DIV/0!"}},{"$f":"IF('Averages 1'!L25<1,1,'Averages 1'!L25)","v":{"$error":"#DIV/0!"}},{"$f":"IF('Averages 1'!M25<1,1,'Averages 1'!M25)","v":{"$error":"#DIV/0!"}},{"$f":"IF('Averages 1'!N25<1,1,'Averages 1'!N25)","v":{"$error":"#DIV/0!"}},{"$f":"IF('Averages 1'!O25<1,1,'Averages 1'!O25)","v":{"$error":"#DIV/0!"}},{"$f":"IF('Averages 1'!P25<1,1,'Averages 1'!P25)","v":{"$error":"#DIV/0!"}},{"$f":"IF('Averages 1'!Q25<1,1,'Averages 1'!Q25)","v":{"$error":"#DIV/0!"}}]
[{"$f":"'Sorting 1'!A27","v":"P25"},{"$f":"IF('Averages 1'!B26<1,1,'Averages 1'!B26)","v":{"$error":"#DIV/0!"}},{"$f":"IF('Averages 1'!C26<1,1,'Averages 1'!C26)","v":{"$error":"#DIV/0!"}},{"$f":"IF('Averages 1'!D26<1,1,'Averages 1'!D26)","v":{"$error":"#DIV/0!"}},{"$f":"IF('Averages 1'!E26<1,1,'Averages 1'!E26)","v":{"$error":"#DIV/0!"}},{"$f":"IF('Averages 1'!F26<1,1,'Averages 1'!F26)","v":{"$error":"#DIV/0!"}},{"$f":"IF('Averages 1'!G26<1,1,'Averages 1'!G26)","v":{"$error":"#DIV/0!"}},{"$f":"IF('Averages 1'!H26<1,1,'Averages 1'!H26)","v":{"$error":"#DIV/0!"}},{"$f":"IF('Averages 1'!I26<1,1,'Averages 1'!I26)","v":{"$error":"#DIV/0!"}},{"$f":"IF('Averages 1'!J26<1,1,'Averages 1'!J26)","v":{"$error":"#DIV/0!"}},{"$f":"IF('Averages 1'!K26<1,1,'Averages 1'!K26)","v":{"$error":"#DIV/0!"}},{"$f":"IF('Averages 1'!L26<1,1,'Averages 1'!L26)","v":{"$error":"#DIV/0!"}},{"$f":"IF('Averages 1'!M26<1,1,'Averages 1'!M26)","v":{"$error":"#DIV/0!"}},{"$f":"IF('Averages 1'!N26<1,1,'Averages 1'!N26)","v":{"$error":"#DIV/0!"}},{"$f":"IF('Averages 1'!O26<1,1,'Averages 1'!O26)","v":{"$error":"#DIV/0!"}},{"$f":"IF('Averages 1'!P26<1,1,'Averages 1'!P26)","v":{"$error":"#DIV/0!"}},{"$f":"IF('Averages 1'!Q26<1,1,'Averages 1'!Q26)","v":{"$error":"#DIV/0!"}}]
[{"$f":"'Sorting 1'!A28","v":"P37"},{"$f":"IF('Averages 1'!B27<1,1,'Averages 1'!B27)","v":{"$error":"#DIV/0!"}},{"$f":"IF('Averages 1'!C27<1,1,'Averages 1'!C27)","v":{"$error":"#DIV/0!"}},{"$f":"IF('Averages 1'!D27<1,1,'Averages 1'!D27)","v":{"$error":"#DIV/0!"}},{"$f":"IF('Averages 1'!E27<1,1,'Averages 1'!E27)","v":{"$error":"#DIV/0!"}},{"$f":"IF('Averages 1'!F27<1,1,'Averages 1'!F27)","v":{"$error":"#DIV/0!"}},{"$f":"IF('Averages 1'!G27<1,1,'Averages 1'!G27)","v":{"$error":"#DIV/0!"}},{"$f":"IF('Averages 1'!H27<1,1,'Averages 1'!H27)","v":{"$error":"#DIV/0!"}},{"$f":"IF('Averages 1'!I27<1,1,'Averages 1'!I27)","v":{"$error":"#DIV/0!"}},{"$f":"IF('Averages 1'!J27<1,1,'Averages 1'!J27)","v":{"$error":"#DIV/0!"}},{"$f":"IF('Averages 1'!K27<1,1,'Averages 1'!K27)","v":{"$error":"#DIV/0!"}},{"$f":"IF('Averages 1'!L27<1,1,'Averages 1'!L27)","v":{"$error":"#DIV/0!"}},{"$f":"IF('Averages 1'!M27<1,1,'Averages 1'!M27)","v":{"$error":"#DIV/0!"}},{"$f":"IF('Averages 1'!N27<1,1,'Averages 1'!N27)","v":{"$error":"#DIV/0!"}},{"$f":"IF('Averages 1'!O27<1,1,'Averages 1'!O27)","v":{"$error":"#DIV/0!"}},{"$f":"IF('Averages 1'!P27<1,1,'Averages 1'!P27)","v":{"$error":"#DIV/0!"}},{"$f":"IF('Averages 1'!Q27<1,1,'Averages 1'!Q27)","v":{"$error":"#DIV/0!"}}]
[{"$f":"'Sorting 1'!A29","v":"P49"},{"$f":"IF('Averages 1'!B28<1,1,'Averages 1'!B28)","v":{"$error":"#DIV/0!"}},{"$f":"IF('Averages 1'!C28<1,1,'Averages 1'!C28)","v":{"$error":"#DIV/0!"}},{"$f":"IF('Averages 1'!D28<1,1,'Averages 1'!D28)","v":{"$error":"#DIV/0!"}},{"$f":"IF('Averages 1'!E28<1,1,'Averages 1'!E28)","v":{"$error":"#DIV/0!"}},{"$f":"IF('Averages 1'!F28<1,1,'Averages 1'!F28)","v":{"$error":"#DIV/0!"}},{"$f":"IF('Averages 1'!G28<1,1,'Averages 1'!G28)","v":{"$error":"#DIV/0!"}},{"$f":"IF('Averages 1'!H28<1,1,'Averages 1'!H28)","v":{"$error":"#DIV/0!"}},{"$f":"IF('Averages 1'!I28<1,1,'Averages 1'!I28)","v":{"$error":"#DIV/0!"}},{"$f":"IF('Averages 1'!J28<1,1,'Averages 1'!J28)","v":{"$error":"#DIV/0!"}},{"$f":"IF('Averages 1'!K28<1,1,'Averages 1'!K28)","v":{"$error":"#DIV/0!"}},{"$f":"IF('Averages 1'!L28<1,1,'Averages 1'!L28)","v":{"$error":"#DIV/0!"}},{"$f":"IF('Averages 1'!M28<1,1,'Averages 1'!M28)","v":{"$error":"#DIV/0!"}},{"$f":"IF('Averages 1'!N28<1,1,'Averages 1'!N28)","v":{"$error":"#DIV/0!"}},{"$f":"IF('Averages 1'!O28<1,1,'Averages 1'!O28)","v":{"$error":"#DIV/0!"}},{"$f":"IF('Averages 1'!P28<1,1,'Averages 1'!P28)","v":{"$error":"#DIV/0!"}},{"$f":"IF('Averages 1'!Q28<1,1,'Averages 1'!Q28)","v":{"$error":"#DIV/0!"}}]
[{"$f":"'Sorting 1'!A30","v":"P4"},{"$f":"IF('Averages 1'!B29<1,1,'Averages 1'!B29)","v":{"$error":"#DIV/0!"}},{"$f":"IF('Averages 1'!C29<1,1,'Averages 1'!C29)","v":{"$error":"#DIV/0!"}},{"$f":"IF('Averages 1'!D29<1,1,'Averages 1'!D29)","v":{"$error":"#DIV/0!"}},{"$f":"IF('Averages 1'!E29<1,1,'Averages 1'!E29)","v":{"$error":"#DIV/0!"}},{"$f":"IF('Averages 1'!F29<1,1,'Averages 1'!F29)","v":{"$error":"#DIV/0!"}},{"$f":"IF('Averages 1'!G29<1,1,'Averages 1'!G29)","v":{"$error":"#DIV/0!"}},{"$f":"IF('Averages 1'!H29<1,1,'Averages 1'!H29)","v":{"$error":"#DIV/0!"}},{"$f":"IF('Averages 1'!I29<1,1,'Averages 1'!I29)","v":{"$error":"#DIV/0!"}},{"$f":"IF('Averages 1'!J29<1,1,'Averages 1'!J29)","v":{"$error":"#DIV/0!"}},{"$f":"IF('Averages 1'!K29<1,1,'Averages 1'!K29)","v":{"$error":"#DIV/0!"}},{"$f":"IF('Averages 1'!L29<1,1,'Averages 1'!L29)","v":{"$error":"#DIV/0!"}},{"$f":"IF('Averages 1'!M29<1,1,'Averages 1'!M29)","v":{"$error":"#DIV/0!"}},{"$f":"IF('Averages 1'!N29<1,1,'Averages 1'!N29)","v":{"$error":"#DIV/0!"}},{"$f":"IF('Averages 1'!O29<1,1,'Averages 1'!O29)","v":{"$error":"#DIV/0!"}},{"$f":"IF('Averages 1'!P29<1,1,'Averages 1'!P29)","v":{"$error":"#DIV/0!"}},{"$f":"IF('Averages 1'!Q29<1,1,'Averages 1'!Q29)","v":{"$error":"#DIV/0!"}}]
[{"$f":"'Sorting 1'!A31","v":"P16"},{"$f":"IF('Averages 1'!B30<1,1,'Averages 1'!B30)","v":{"$error":"#DIV/0!"}},{"$f":"IF('Averages 1'!C30<1,1,'Averages 1'!C30)","v":{"$error":"#DIV/0!"}},{"$f":"IF('Averages 1'!D30<1,1,'Averages 1'!D30)","v":{"$error":"#DIV/0!"}},{"$f":"IF('Averages 1'!E30<1,1,'Averages 1'!E30)","v":{"$error":"#DIV/0!"}},{"$f":"IF('Averages 1'!F30<1,1,'Averages 1'!F30)","v":{"$error":"#DIV/0!"}},{"$f":"IF('Averages 1'!G30<1,1,'Averages 1'!G30)","v":{"$error":"#DIV/0!"}},{"$f":"IF('Averages 1'!H30<1,1,'Averages 1'!H30)","v":{"$error":"#DIV/0!"}},{"$f":"IF('Averages 1'!I30<1,1,'Averages 1'!I30)","v":{"$error":"#DIV/0!"}},{"$f":"IF('Averages 1'!J30<1,1,'Averages 1'!J30)","v":{"$error":"#DIV/0!"}},{"$f":"IF('Averages 1'!K30<1,1,'Averages 1'!K30)","v":{"$error":"#DIV/0!"}},{"$f":"IF('Averages 1'!L30<1,1,'Averages 1'!L30)","v":{"$error":"#DIV/0!"}},{"$f":"IF('Averages 1'!M30<1,1,'Averages 1'!M30)","v":{"$error":"#DIV/0!"}},{"$f":"IF('Averages 1'!N30<1,1,'Averages 1'!N30)","v":{"$error":"#DIV/0!"}},{"$f":"IF('Averages 1'!O30<1,1,'Averages 1'!O30)","v":{"$error":"#DIV/0!"}},{"$f":"IF('Averages 1'!P30<1,1,'Averages 1'!P30)","v":{"$error":"#DIV/0!"}},{"$f":"IF('Averages 1'!Q30<1,1,'Averages 1'!Q30)","v":{"$error":"#DIV/0!"}}]
[{"$f":"'Sorting 1'!A32","v":"P26"},{"$f":"IF('Averages 1'!B31<1,1,'Averages 1'!B31)","v":{"$error":"#DIV/0!"}},{"$f":"IF('Averages 1'!C31<1,1,'Averages 1'!C31)","v":{"$error":"#DIV/0!"}},{"$f":"IF('Averages 1'!D31<1,1,'Averages 1'!D31)","v":{"$error":"#DIV/0!"}},{"$f":"IF('Averages 1'!E31<1,1,'Averages 1'!E31)","v":{"$error":"#DIV/0!"}},{"$f":"IF('Averages 1'!F31<1,1,'Averages 1'!F31)","v":{"$error":"#DIV/0!"}},{"$f":"IF('Averages 1'!G31<1,1,'Averages 1'!G31)","v":{"$error":"#DIV/0!"}},{"$f":"IF('Averages 1'!H31<1,1,'Averages 1'!H31)","v":{"$error":"#DIV/0!"}},{"$f":"IF('Averages 1'!I31<1,1,'Averages 1'!I31)","v":{"$error":"#DIV/0!"}},{"$f":"IF('Averages 1'!J31<1,1,'Averages 1'!J31)","v":{"$error":"#DIV/0!"}},{"$f":"IF('Averages 1'!K31<1,1,'Averages 1'!K31)","v":{"$error":"#DIV/0!"}},{"$f":"IF('Averages 1'!L31<1,1,'Averages 1'!L31)","v":{"$error":"#DIV/0!"}},{"$f":"IF('Averages 1'!M31<1,1,'Averages 1'!M31)","v":{"$error":"#DIV/0!"}},{"$f":"IF('Averages 1'!N31<1,1,'Averages 1'!N31)","v":{"$error":"#DIV/0!"}},{"$f":"IF('Averages 1'!O31<1,1,'Averages 1'!O31)","v":{"$error":"#DIV/0!"}},{"$f":"IF('Averages 1'!P31<1,1,'Averages 1'!P31)","v":{"$error":"#DIV/0!"}},{"$f":"IF('Averages 1'!Q31<1,1,'Averages 1'!Q31)","v":{"$error":"#DIV/0!"}}]
[{"$f":"'Sorting 1'!A33","v":"P38"},{"$f":"IF('Averages 1'!B32<1,1,'Averages 1'!B32)","v":{"$error":"#DIV/0!"}},{"$f":"IF('Averages 1'!C32<1,1,'Averages 1'!C32)","v":{"$error":"#DIV/0!"}},{"$f":"IF('Averages 1'!D32<1,1,'Averages 1'!D32)","v":{"$error":"#DIV/0!"}},{"$f":"IF('Averages 1'!E32<1,1,'Averages 1'!E32)","v":{"$error":"#DIV/0!"}},{"$f":"IF('Averages 1'!F32<1,1,'Averages 1'!F32)","v":{"$error":"#DIV/0!"}},{"$f":"IF('Averages 1'!G32<1,1,'Averages 1'!G32)","v":{"$error":"#DIV/0!"}},{"$f":"IF('Averages 1'!H32<1,1,'Averages 1'!H32)","v":{"$error":"#DIV/0!"}},{"$f":"IF('Averages 1'!I32<1,1,'Averages 1'!I32)","v":{"$error":"#DIV/0!"}},{"$f":"IF('Averages 1'!J32<1,1,'Averages 1'!J32)","v":{"$error":"#DIV/0!"}},{"$f":"IF('Averages 1'!K32<1,1,'Averages 1'!K32)","v":{"$error":"#DIV/0!"}},{"$f":"IF('Averages 1'!L32<1,1,'Averages 1'!L32)","v":{"$error":"#DIV/0!"}},{"$f":"IF('Averages 1'!M32<1,1,'Averages 1'!M32)","v":{"$error":"#DIV/0!"}},{"$f":"IF('Averages 1'!N32<1,1,'Averages 1'!N32)","v":{"$error":"#DIV/0!"}},{"$f":"IF('Averages 1'!O32<1,1,'Averages 1'!O32)","v":{"$error":"#DIV/0!"}},{"$f":"IF('Averages 1'!P32<1,1,'Averages 1'!P32)","v":{"$error":"#DIV/0!"}},{"$f":"IF('Averages 1'!Q32<1,1,'Averages 1'!Q32)","v":{"$error":"#DIV/0!"}}]
[{"$f":"'Sorting 1'!A34","v":"P50"},{"$f":"IF('Averages 1'!B33<1,1,'Averages 1'!B33)","v":{"$error":"#DIV/0!"}},{"$f":"IF('Averages 1'!C33<1,1,'Averages 1'!C33)","v":{"$error":"#DIV/0!"}},{"$f":"IF('Averages 1'!D33<1,1,'Averages 1'!D33)","v":{"$error":"#DIV/0!"}},{"$f":"IF('Averages 1'!E33<1,1,'Averages 1'!E33)","v":{"$error":"#DIV/0!"}},{"$f":"IF('Averages 1'!F33<1,1,'Averages 1'!F33)","v":{"$error":"#DIV/0!"}},{"$f":"IF('Averages 1'!G33<1,1,'Averages 1'!G33)","v":{"$error":"#DIV/0!"}},{"$f":"IF('Averages 1'!H33<1,1,'Averages 1'!H33)","v":{"$error":"#DIV/0!"}},{"$f":"IF('Averages 1'!I33<1,1,'Averages 1'!I33)","v":{"$error":"#DIV/0!"}},{"$f":"IF('Averages 1'!J33<1,1,'Averages 1'!J33)","v":{"$error":"#DIV/0!"}},{"$f":"IF('Averages 1'!K33<1,1,'Averages 1'!K33)","v":{"$error":"#DIV/0!"}},{"$f":"IF('Averages 1'!L33<1,1,'Averages 1'!L33)","v":{"$error":"#DIV/0!"}},{"$f":"IF('Averages 1'!M33<1,1,'Averages 1'!M33)","v":{"$error":"#DIV/0!"}},{"$f":"IF('Averages 1'!N33<1,1,'Averages 1'!N33)","v":{"$error":"#DIV/0!"}},{"$f":"IF('Averages 1'!O33<1,1,'Averages 1'!O33)","v":{"$error":"#DIV/0!"}},{"$f":"IF('Averages 1'!P33<1,1,'Averages 1'!P33)","v":{"$error":"#DIV/0!"}},{"$f":"IF('Averages 1'!Q33<1,1,'Averages 1'!Q33)","v":{"$error":"#DIV/0!"}}]
[{"$f":"'Sorting 1'!A35","v":"P5"},{"$f":"IF('Averages 1'!B34<1,1,'Averages 1'!B34)","v":{"$error":"#DIV/0!"}},{"$f":"IF('Averages 1'!C34<1,1,'Averages 1'!C34)","v":{"$error":"#DIV/0!"}},{"$f":"IF('Averages 1'!D34<1,1,'Averages 1'!D34)","v":{"$error":"#DIV/0!"}},{"$f":"IF('Averages 1'!E34<1,1,'Averages 1'!E34)","v":{"$error":"#DIV/0!"}},{"$f":"IF('Averages 1'!F34<1,1,'Averages 1'!F34)","v":{"$error":"#DIV/0!"}},{"$f":"IF('Averages 1'!G34<1,1,'Averages 1'!G34)","v":{"$error":"#DIV/0!"}},{"$f":"IF('Averages 1'!H34<1,1,'Averages 1'!H34)","v":{"$error":"#DIV/0!"}},{"$f":"IF('Averages 1'!I34<1,1,'Averages 1'!I34)","v":{"$error":"#DIV/0!"}},{"$f":"IF('Averages 1'!J34<1,1,'Averages 1'!J34)","v":{"$error":"#DIV/0!"}},{"$f":"IF('Averages 1'!K34<1,1,'Averages 1'!K34)","v":{"$error":"#DIV/0!"}},{"$f":"IF('Averages 1'!L34<1,1,'Averages 1'!L34)","v":{"$error":"#DIV/0!"}},{"$f":"IF('Averages 1'!M34<1,1,'Averages 1'!M34)","v":{"$error":"#DIV/0!"}},{"$f":"IF('Averages 1'!N34<1,1,'Averages 1'!N34)","v":{"$error":"#DIV/0!"}},{"$f":"IF('Averages 1'!O34<1,1,'Averages 1'!O34)","v":{"$error":"#DIV/0!"}},{"$f":"IF('Averages 1'!P34<1,1,'Averages 1'!P34)","v":{"$error":"#DIV/0!"}},{"$f":"IF('Averages 1'!Q34<1,1,'Averages 1'!Q34)","v":{"$error":"#DIV/0!"}}]
[{"$f":"'Sorting 1'!A36","v":"P17"},{"$f":"IF('Averages 1'!B35<1,1,'Averages 1'!B35)","v":{"$error":"#DIV/0!"}},{"$f":"IF('Averages 1'!C35<1,1,'Averages 1'!C35)","v":{"$error":"#DIV/0!"}},{"$f":"IF('Averages 1'!D35<1,1,'Averages 1'!D35)","v":{"$error":"#DIV/0!"}},{"$f":"IF('Averages 1'!E35<1,1,'Averages 1'!E35)","v":{"$error":"#DIV/0!"}},{"$f":"IF('Averages 1'!F35<1,1,'Averages 1'!F35)","v":{"$error":"#DIV/0!"}},{"$f":"IF('Averages 1'!G35<1,1,'Averages 1'!G35)","v":{"$error":"#DIV/0!"}},{"$f":"IF('Averages 1'!H35<1,1,'Averages 1'!H35)","v":{"$error":"#DIV/0!"}},{"$f":"IF('Averages 1'!I35<1,1,'Averages 1'!I35)","v":{"$error":"#DIV/0!"}},{"$f":"IF('Averages 1'!J35<1,1,'Averages 1'!J35)","v":{"$error":"#DIV/0!"}},{"$f":"IF('Averages 1'!K35<1,1,'Averages 1'!K35)","v":{"$error":"#DIV/0!"}},{"$f":"IF('Averages 1'!L35<1,1,'Averages 1'!L35)","v":{"$error":"#DIV/0!"}},{"$f":"IF('Averages 1'!M35<1,1,'Averages 1'!M35)","v":{"$error":"#DIV/0!"}},{"$f":"IF('Averages 1'!N35<1,1,'Averages 1'!N35)","v":{"$error":"#DIV/0!"}},{"$f":"IF('Averages 1'!O35<1,1,'Averages 1'!O35)","v":{"$error":"#DIV/0!"}},{"$f":"IF('Averages 1'!P35<1,1,'Averages 1'!P35)","v":{"$error":"#DIV/0!"}},{"$f":"IF('Averages 1'!Q35<1,1,'Averages 1'!Q35)","v":{"$error":"#DIV/0!"}}]
[{"$f":"'Sorting 1'!A37","v":"P27"},{"$f":"IF('Averages 1'!B36<1,1,'Averages 1'!B36)","v":{"$error":"#DIV/0!"}},{"$f":"IF('Averages 1'!C36<1,1,'Averages 1'!C36)","v":{"$error":"#DIV/0!"}},{"$f":"IF('Averages 1'!D36<1,1,'Averages 1'!D36)","v":{"$error":"#DIV/0!"}},{"$f":"IF('Averages 1'!E36<1,1,'Averages 1'!E36)","v":{"$error":"#DIV/0!"}},{"$f":"IF('Averages 1'!F36<1,1,'Averages 1'!F36)","v":{"$error":"#DIV/0!"}},{"$f":"IF('Averages 1'!G36<1,1,'Averages 1'!G36)","v":{"$error":"#DIV/0!"}},{"$f":"IF('Averages 1'!H36<1,1,'Averages 1'!H36)","v":{"$error":"#DIV/0!"}},{"$f":"IF('Averages 1'!I36<1,1,'Averages 1'!I36)","v":{"$error":"#DIV/0!"}},{"$f":"IF('Averages 1'!J36<1,1,'Averages 1'!J36)","v":{"$error":"#DIV/0!"}},{"$f":"IF('Averages 1'!K36<1,1,'Averages 1'!K36)","v":{"$error":"#DIV/0!"}},{"$f":"IF('Averages 1'!L36<1,1,'Averages 1'!L36)","v":{"$error":"#DIV/0!"}},{"$f":"IF('Averages 1'!M36<1,1,'Averages 1'!M36)","v":{"$error":"#DIV/0!"}},{"$f":"IF('Averages 1'!N36<1,1,'Averages 1'!N36)","v":{"$error":"#DIV/0!"}},{"$f":"IF('Averages 1'!O36<1,1,'Averages 1'!O36)","v":{"$error":"#DIV/0!"}},{"$f":"IF('Averages 1'!P36<1,1,'Averages 1'!P36)","v":{"$error":"#DIV/0!"}},{"$f":"IF('Averages 1'!Q36<1,1,'Averages 1'!Q36)","v":{"$error":"#DIV/0!"}}]
[{"$f":"'Sorting 1'!A38","v":"P39"},{"$f":"IF('Averages 1'!B37<1,1,'Averages 1'!B37)","v":{"$error":"#DIV/0!"}},{"$f":"IF('Averages 1'!C37<1,1,'Averages 1'!C37)","v":{"$error":"#DIV/0!"}},{"$f":"IF('Averages 1'!D37<1,1,'Averages 1'!D37)","v":{"$error":"#DIV/0!"}},{"$f":"IF('Averages 1'!E37<1,1,'Averages 1'!E37)","v":{"$error":"#DIV/0!"}},{"$f":"IF('Averages 1'!F37<1,1,'Averages 1'!F37)","v":{"$error":"#DIV/0!"}},{"$f":"IF('Averages 1'!G37<1,1,'Averages 1'!G37)","v":{"$error":"#DIV/0!"}},{"$f":"IF('Averages 1'!H37<1,1,'Averages 1'!H37)","v":{"$error":"#DIV/0!"}},{"$f":"IF('Averages 1'!I37<1,1,'Averages 1'!I37)","v":{"$error":"#DIV/0!"}},{"$f":"IF('Averages 1'!J37<1,1,'Averages 1'!J37)","v":{"$error":"#DIV/0!"}},{"$f":"IF('Averages 1'!K37<1,1,'Averages 1'!K37)","v":{"$error":"#DIV/0!"}},{"$f":"IF('Averages 1'!L37<1,1,'Averages 1'!L37)","v":{"$error":"#DIV/0!"}},{"$f":"IF('Averages 1'!M37<1,1,'Averages 1'!M37)","v":{"$error":"#DIV/0!"}},{"$f":"IF('Averages 1'!N37<1,1,'Averages 1'!N37)","v":{"$error":"#DIV/0!"}},{"$f":"IF('Averages 1'!O37<1,1,'Averages 1'!O37)","v":{"$error":"#DIV/0!"}},{"$f":"IF('Averages 1'!P37<1,1,'Averages 1'!P37)","v":{"$error":"#DIV/0!"}},{"$f":"IF('Averages 1'!Q37<1,1,'Averages 1'!Q37)","v":{"$error":"#DIV/0!"}}]
[{"$f":"'Sorting 1'!A39","v":"P51"},{"$f":"IF('Averages 1'!B38<1,1,'Averages 1'!B38)","v":{"$error":"#DIV/0!"}},{"$f":"IF('Averages 1'!C38<1,1,'Averages 1'!C38)","v":{"$error":"#DIV/0!"}},{"$f":"IF('Averages 1'!D38<1,1,'Averages 1'!D38)","v":{"$error":"#DIV/0!"}},{"$f":"IF('Averages 1'!E38<1,1,'Averages 1'!E38)","v":{"$error":"#DIV/0!"}},{"$f":"IF('Averages 1'!F38<1,1,'Averages 1'!F38)","v":{"$error":"#DIV/0!"}},{"$f":"IF('Averages 1'!G38<1,1,'Averages 1'!G38)","v":{"$error":"#DIV/0!"}},{"$f":"IF('Averages 1'!H38<1,1,'Averages 1'!H38)","v":{"$error":"#DIV/0!"}},{"$f":"IF('Averages 1'!I38<1,1,'Averages 1'!I38)","v":{"$error":"#DIV/0!"}},{"$f":"IF('Averages 1'!J38<1,1,'Averages 1'!J38)","v":{"$error":"#DIV/0!"}},{"$f":"IF('Averages 1'!K38<1,1,'Averages 1'!K38)","v":{"$error":"#DIV/0!"}},{"$f":"IF('Averages 1'!L38<1,1,'Averages 1'!L38)","v":{"$error":"#DIV/0!"}},{"$f":"IF('Averages 1'!M38<1,1,'Averages 1'!M38)","v":{"$error":"#DIV/0!"}},{"$f":"IF('Averages 1'!N38<1,1,'Averages 1'!N38)","v":{"$error":"#DIV/0!"}},{"$f":"IF('Averages 1'!O38<1,1,'Averages 1'!O38)","v":{"$error":"#DIV/0!"}},{"$f":"IF('Averages 1'!P38<1,1,'Averages 1'!P38)","v":{"$error":"#DIV/0!"}},{"$f":"IF('Averages 1'!Q38<1,1,'Averages 1'!Q38)","v":{"$error":"#DIV/0!"}}]
[{"$f":"'Sorting 1'!A40","v":"P6"},{"$f":"IF('Averages 1'!B39<1,1,'Averages 1'!B39)","v":{"$error":"#DIV/0!"}},{"$f":"IF('Averages 1'!C39<1,1,'Averages 1'!C39)","v":{"$error":"#DIV/0!"}},{"$f":"IF('Averages 1'!D39<1,1,'Averages 1'!D39)","v":{"$error":"#DIV/0!"}},{"$f":"IF('Averages 1'!E39<1,1,'Averages 1'!E39)","v":{"$error":"#DIV/0!"}},{"$f":"IF('Averages 1'!F39<1,1,'Averages 1'!F39)","v":{"$error":"#DIV/0!"}},{"$f":"IF('Averages 1'!G39<1,1,'Averages 1'!G39)","v":{"$error":"#DIV/0!"}},{"$f":"IF('Averages 1'!H39<1,1,'Averages 1'!H39)","v":{"$error":"#DIV/0!"}},{"$f":"IF('Averages 1'!I39<1,1,'Averages 1'!I39)","v":{"$error":"#DIV/0!"}},{"$f":"IF('Averages 1'!J39<1,1,'Averages 1'!J39)","v":{"$error":"#DIV/0!"}},{"$f":"IF('Averages 1'!K39<1,1,'Averages 1'!K39)","v":{"$error":"#DIV/0!"}},{"$f":"IF('Averages 1'!L39<1,1,'Averages 1'!L39)","v":{"$error":"#DIV/0!"}},{"$f":"IF('Averages 1'!M39<1,1,'Averages 1'!M39)","v":{"$error":"#DIV/0!"}},{"$f":"IF('Averages 1'!N39<1,1,'Averages 1'!N39)","v":{"$error":"#DIV/0!"}},{"$f":"IF('Averages 1'!O39<1,1,'Averages 1'!O39)","v":{"$error":"#DIV/0!"}},{"$f":"IF('Averages 1'!P39<1,1,'Averages 1'!P39)","v":{"$error":"#DIV/0!"}},{"$f":"IF('Averages 1'!Q39<1,1,'Averages 1'!Q39)","v":{"$error":"#DIV/0!"}}]
[{"$f":"'Sorting 1'!A41","v":"P18"},{"$f":"IF('Averages 1'!B40<1,1,'Averages 1'!B40)","v":{"$error":"#DIV/0!"}},{"$f":"IF('Averages 1'!C40<1,1,'Averages 1'!C40)","v":{"$error":"#DIV/0!"}},{"$f":"IF('Averages 1'!D40<1,1,'Averages 1'!D40)","v":{"$error":"#DIV/0!"}},{"$f":"IF('Averages 1'!E40<1,1,'Averages 1'!E40)","v":{"$error":"#DIV/0!"}},{"$f":"IF('Averages 1'!F40<1,1,'Averages 1'!F40)","v":{"$error":"#DIV/0!"}},{"$f":"IF('Averages 1'!G40<1,1,'Averages 1'!G40)","v":{"$error":"#DIV/0!"}},{"$f":"IF('Averages 1'!H40<1,1,'Averages 1'!H40)","v":{"$error":"#DIV/0!"}},{"$f":"IF('Averages 1'!I40<1,1,'Averages 1'!I40)","v":{"$error":"#DIV/0!"}},{"$f":"IF('Averages 1'!J40<1,1,'Averages 1'!J40)","v":{"$error":"#DIV/0!"}},{"$f":"IF('Averages 1'!K40<1,1,'Averages 1'!K40)","v":{"$error":"#DIV/0!"}},{"$f":"IF('Averages 1'!L40<1,1,'Averages 1'!L40)","v":{"$error":"#DIV/0!"}},{"$f":"IF('Averages 1'!M40<1,1,'Averages 1'!M40)","v":{"$error":"#DIV/0!"}},{"$f":"IF('Averages 1'!N40<1,1,'Averages 1'!N40)","v":{"$error":"#DIV/0!"}},{"$f":"IF('Averages 1'!O40<1,1,'Averages 1'!O40)","v":{"$error":"#DIV/0!"}},{"$f":"IF('Averages 1'!P40<1,1,'Averages 1'!P40)","v":{"$error":"#DIV/0!"}},{"$f":"IF('Averages 1'!Q40<1,1,'Averages 1'!Q40)","v":{"$error":"#DIV/0!"}}]
[{"$f":"'Sorting 1'!A42","v":"P28"},{"$f":"IF('Averages 1'!B41<1,1,'Averages 1'!B41)","v":{"$error":"#DIV/0!"}},{"$f":"IF('Averages 1'!C41<1,1,'Averages 1'!C41)","v":{"$error":"#DIV/0!"}},{"$f":"IF('Averages 1'!D41<1,1,'Averages 1'!D41)","v":{"$error":"#DIV/0!"}},{"$f":"IF('Averages 1'!E41<1,1,'Averages 1'!E41)","v":{"$error":"#DIV/0!"}},{"$f":"IF('Averages 1'!F41<1,1,'Averages 1'!F41)","v":{"$error":"#DIV/0!"}},{"$f":"IF('Averages 1'!G41<1,1,'Averages 1'!G41)","v":{"$error":"#DIV/0!"}},{"$f":"IF('Averages 1'!H41<1,1,'Averages 1'!H41)","v":{"$error":"#DIV/0!"}},{"$f":"IF('Averages 1'!I41<1,1,'Averages 1'!I41)","v":{"$error":"#DIV/0!"}},{"$f":"IF('Averages 1'!J41<1,1,'Averages 1'!J41)","v":{"$error":"#DIV/0!"}},{"$f":"IF('Averages 1'!K41<1,1,'Averages 1'!K41)","v":{"$error":"#DIV/0!"}},{"$f":"IF('Averages 1'!L41<1,1,'Averages 1'!L41)","v":{"$error":"#DIV/0!"}},{"$f":"IF('Averages 1'!M41<1,1,'Averages 1'!M41)","v":{"$error":"#DIV/0!"}},{"$f":"IF('Averages 1'!N41<1,1,'Averages 1'!N41)","v":{"$error":"#DIV/0!"}},{"$f":"IF('Averages 1'!O41<1,1,'Averages 1'!O41)","v":{"$error":"#DIV/0!"}},{"$f":"IF('Averages 1'!P41<1,1,'Averages 1'!P41)","v":{"$error":"#DIV/0!"}},{"$f":"IF('Averages 1'!Q41<1,1,'Averages 1'!Q41)","v":{"$error":"#DIV/0!"}}]
[{"$f":"'Sorting 1'!A43","v":"P40"},{"$f":"IF('Averages 1'!B42<1,1,'Averages 1'!B42)","v":{"$error":"#DIV/0!"}},{"$f":"IF('Averages 1'!C42<1,1,'Averages 1'!C42)","v":{"$error":"#DIV/0!"}},{"$f":"IF('Averages 1'!D42<1,1,'Averages 1'!D42)","v":{"$error":"#DIV/0!"}},{"$f":"IF('Averages 1'!E42<1,1,'Averages 1'!E42)","v":{"$error":"#DIV/0!"}},{"$f":"IF('Averages 1'!F42<1,1,'Averages 1'!F42)","v":{"$error":"#DIV/0!"}},{"$f":"IF('Averages 1'!G42<1,1,'Averages 1'!G42)","v":{"$error":"#DIV/0!"}},{"$f":"IF('Averages 1'!H42<1,1,'Averages 1'!H42)","v":{"$error":"#DIV/0!"}},{"$f":"IF('Averages 1'!I42<1,1,'Averages 1'!I42)","v":{"$error":"#DIV/0!"}},{"$f":"IF('Averages 1'!J42<1,1,'Averages 1'!J42)","v":{"$error":"#DIV/0!"}},{"$f":"IF('Averages 1'!K42<1,1,'Averages 1'!K42)","v":{"$error":"#DIV/0!"}},{"$f":"IF('Averages 1'!L42<1,1,'Averages 1'!L42)","v":{"$error":"#DIV/0!"}},{"$f":"IF('Averages 1'!M42<1,1,'Averages 1'!M42)","v":{"$error":"#DIV/0!"}},{"$f":"IF('Averages 1'!N42<1,1,'Averages 1'!N42)","v":{"$error":"#DIV/0!"}},{"$f":"IF('Averages 1'!O42<1,1,'Averages 1'!O42)","v":{"$error":"#DIV/0!"}},{"$f":"IF('Averages 1'!P42<1,1,'Averages 1'!P42)","v":{"$error":"#DIV/0!"}},{"$f":"IF('Averages 1'!Q42<1,1,'Averages 1'!Q42)","v":{"$error":"#DIV/0!"}}]
[{"$f":"'Sorting 1'!A44","v":"P7"},{"$f":"IF('Averages 1'!B43<1,1,'Averages 1'!B43)","v":{"$error":"#DIV/0!"}},{"$f":"IF('Averages 1'!C43<1,1,'Averages 1'!C43)","v":{"$error":"#DIV/0!"}},{"$f":"IF('Averages 1'!D43<1,1,'Averages 1'!D43)","v":{"$error":"#DIV/0!"}},{"$f":"IF('Averages 1'!E43<1,1,'Averages 1'!E43)","v":{"$error":"#DIV/0!"}},{"$f":"IF('Averages 1'!F43<1,1,'Averages 1'!F43)","v":{"$error":"#DIV/0!"}},{"$f":"IF('Averages 1'!G43<1,1,'Averages 1'!G43)","v":{"$error":"#DIV/0!"}},{"$f":"IF('Averages 1'!H43<1,1,'Averages 1'!H43)","v":{"$error":"#DIV/0!"}},{"$f":"IF('Averages 1'!I43<1,1,'Averages 1'!I43)","v":{"$error":"#DIV/0!"}},{"$f":"IF('Averages 1'!J43<1,1,'Averages 1'!J43)","v":{"$error":"#DIV/0!"}},{"$f":"IF('Averages 1'!K43<1,1,'Averages 1'!K43)","v":{"$error":"#DIV/0!"}},{"$f":"IF('Averages 1'!L43<1,1,'Averages 1'!L43)","v":{"$error":"#DIV/0!"}},{"$f":"IF('Averages 1'!M43<1,1,'Averages 1'!M43)","v":{"$error":"#DIV/0!"}},{"$f":"IF('Averages 1'!N43<1,1,'Averages 1'!N43)","v":{"$error":"#DIV/0!"}},{"$f":"IF('Averages 1'!O43<1,1,'Averages 1'!O43)","v":{"$error":"#DIV/0!"}},{"$f":"IF('Averages 1'!P43<1,1,'Averages 1'!P43)","v":{"$error":"#DIV/0!"}},{"$f":"IF('Averages 1'!Q43<1,1,'Averages 1'!Q43)","v":{"$error":"#DIV/0!"}}]
[{"$f":"'Sorting 1'!A45","v":"P19"},{"$f":"IF('Averages 1'!B44<1,1,'Averages 1'!B44)","v":{"$error":"#DIV/0!"}},{"$f":"IF('Averages 1'!C44<1,1,'Averages 1'!C44)","v":{"$error":"#DIV/0!"}},{"$f":"IF('Averages 1'!D44<1,1,'Averages 1'!D44)","v":{"$error":"#DIV/0!"}},{"$f":"IF('Averages 1'!E44<1,1,'Averages 1'!E44)","v":{"$error":"#DIV/0!"}},{"$f":"IF('Averages 1'!F44<1,1,'Averages 1'!F44)","v":{"$error":"#DIV/0!"}},{"$f":"IF('Averages 1'!G44<1,1,'Averages 1'!G44)","v":{"$error":"#DIV/0!"}},{"$f":"IF('Averages 1'!H44<1,1,'Averages 1'!H44)","v":{"$error":"#DIV/0!"}},{"$f":"IF('Averages 1'!I44<1,1,'Averages 1'!I44)","v":{"$error":"#DIV/0!"}},{"$f":"IF('Averages 1'!J44<1,1,'Averages 1'!J44)","v":{"$error":"#DIV/0!"}},{"$f":"IF('Averages 1'!K44<1,1,'Averages 1'!K44)","v":{"$error":"#DIV/0!"}},{"$f":"IF('Averages 1'!L44<1,1,'Averages 1'!L44)","v":{"$error":"#DIV/0!"}},{"$f":"IF('Averages 1'!M44<1,1,'Averages 1'!M44)","v":{"$error":"#DIV/0!"}},{"$f":"IF('Averages 1'!N44<1,1,'Averages 1'!N44)","v":{"$error":"#DIV/0!"}},{"$f":"IF('Averages 1'!O44<1,1,'Averages 1'!O44)","v":{"$error":"#DIV/0!"}},{"$f":"IF('Averages 1'!P44<1,1,'Averages 1'!P44)","v":{"$error":"#DIV/0!"}},{"$f":"IF('Averages 1'!Q44<1,1,'Averages 1'!Q44)","v":{"$error":"#DIV/0!"}}]
[{"$f":"'Sorting 1'!A46","v":"P29"},{"$f":"IF('Averages 1'!B45<1,1,'Averages 1'!B45)","v":{"$error":"#DIV/0!"}},{"$f":"IF('Averages 1'!C45<1,1,'Averages 1'!C45)","v":{"$error":"#DIV/0!"}},{"$f":"IF('Averages 1'!D45<1,1,'Averages 1'!D45)","v":{"$error":"#DIV/0!"}},{"$f":"IF('Averages 1'!E45<1,1,'Averages 1'!E45)","v":{"$error":"#DIV/0!"}},{"$f":"IF('Averages 1'!F45<1,1,'Averages 1'!F45)","v":{"$error":"#DIV/0!"}},{"$f":"IF('Averages 1'!G45<1,1,'Averages 1'!G45)","v":{"$error":"#DIV/0!"}},{"$f":"IF('Averages 1'!H45<1,1,'Averages 1'!H45)","v":{"$error":"#DIV/0!"}},{"$f":"IF('Averages 1'!I45<1,1,'Averages 1'!I45)","v":{"$error":"#DIV/0!"}},{"$f":"IF('Averages 1'!J45<1,1,'Averages 1'!J45)","v":{"$error":"#DIV/0!"}},{"$f":"IF('Averages 1'!K45<1,1,'Averages 1'!K45)","v":{"$error":"#DIV/0!"}},{"$f":"IF('Averages 1'!L45<1,1,'Averages 1'!L45)","v":{"$error":"#DIV/0!"}},{"$f":"IF('Averages 1'!M45<1,1,'Averages 1'!M45)","v":{"$error":"#DIV/0!"}},{"$f":"IF('Averages 1'!N45<1,1,'Averages 1'!N45)","v":{"$error":"#DIV/0!"}},{"$f":"IF('Averages 1'!O45<1,1,'Averages 1'!O45)","v":{"$error":"#DIV/0!"}},{"$f":"IF('Averages 1'!P45<1,1,'Averages 1'!P45)","v":{"$error":"#DIV/0!"}},{"$f":"IF('Averages 1'!Q45<1,1,'Averages 1'!Q45)","v":{"$error":"#DIV/0!"}}]
[{"$f":"'Sorting 1'!A47","v":"P41"},{"$f":"IF('Averages 1'!B46<1,1,'Averages 1'!B46)","v":{"$error":"#DIV/0!"}},{"$f":"IF('Averages 1'!C46<1,1,'Averages 1'!C46)","v":{"$error":"#DIV/0!"}},{"$f":"IF('Averages 1'!D46<1,1,'Averages 1'!D46)","v":{"$error":"#DIV/0!"}},{"$f":"IF('Averages 1'!E46<1,1,'Averages 1'!E46)","v":{"$error":"#DIV/0!"}},{"$f":"IF('Averages 1'!F46<1,1,'Averages 1'!F46)","v":{"$error":"#DIV/0!"}},{"$f":"IF('Averages 1'!G46<1,1,'Averages 1'!G46)","v":{"$error":"#DIV/0!"}},{"$f":"IF('Averages 1'!H46<1,1,'Averages 1'!H46)","v":{"$error":"#DIV/0!"}},{"$f":"IF('Averages 1'!I46<1,1,'Averages 1'!I46)","v":{"$error":"#DIV/0!"}},{"$f":"IF('Averages 1'!J46<1,1,'Averages 1'!J46)","v":{"$error":"#DIV/0!"}},{"$f":"IF('Averages 1'!K46<1,1,'Averages 1'!K46)","v":{"$error":"#DIV/0!"}},{"$f":"IF('Averages 1'!L46<1,1,'Averages 1'!L46)","v":{"$error":"#DIV/0!"}},{"$f":"IF('Averages 1'!M46<1,1,'Averages 1'!M46)","v":{"$error":"#DIV/0!"}},{"$f":"IF('Averages 1'!N46<1,1,'Averages 1'!N46)","v":{"$error":"#DIV/0!"}},{"$f":"IF('Averages 1'!O46<1,1,'Averages 1'!O46)","v":{"$error":"#DIV/0!"}},{"$f":"IF('Averages 1'!P46<1,1,'Averages 1'!P46)","v":{"$error":"#DIV/0!"}},{"$f":"IF('Averages 1'!Q46<1,1,'Averages 1'!Q46)","v":{"$error":"#DIV/0!"}}]
[{"$f":"'Sorting 1'!A48","v":"Pig IgG"},{"$f":"IF('Averages 1'!B47<1,1,'Averages 1'!B47)","v":{"$error":"#DIV/0!"}},{"$f":"IF('Averages 1'!C47<1,1,'Averages 1'!C47)","v":{"$error":"#DIV/0!"}},{"$f":"IF('Averages 1'!D47<1,1,'Averages 1'!D47)","v":{"$error":"#DIV/0!"}},{"$f":"IF('Averages 1'!E47<1,1,'Averages 1'!E47)","v":{"$error":"#DIV/0!"}},{"$f":"IF('Averages 1'!F47<1,1,'Averages 1'!F47)","v":{"$error":"#DIV/0!"}},{"$f":"IF('Averages 1'!G47<1,1,'Averages 1'!G47)","v":{"$error":"#DIV/0!"}},{"$f":"IF('Averages 1'!H47<1,1,'Averages 1'!H47)","v":{"$error":"#DIV/0!"}},{"$f":"IF('Averages 1'!I47<1,1,'Averages 1'!I47)","v":{"$error":"#DIV/0!"}},{"$f":"IF('Averages 1'!J47<1,1,'Averages 1'!J47)","v":{"$error":"#DIV/0!"}},{"$f":"IF('Averages 1'!K47<1,1,'Averages 1'!K47)","v":{"$error":"#DIV/0!"}},{"$f":"IF('Averages 1'!L47<1,1,'Averages 1'!L47)","v":{"$error":"#DIV/0!"}},{"$f":"IF('Averages 1'!M47<1,1,'Averages 1'!M47)","v":{"$error":"#DIV/0!"}},{"$f":"IF('Averages 1'!N47<1,1,'Averages 1'!N47)","v":{"$error":"#DIV/0!"}},{"$f":"IF('Averages 1'!O47<1,1,'Averages 1'!O47)","v":{"$error":"#DIV/0!"}},{"$f":"IF('Averages 1'!P47<1,1,'Averages 1'!P47)","v":{"$error":"#DIV/0!"}},{"$f":"IF('Averages 1'!Q47<1,1,'Averages 1'!Q47)","v":{"$error":"#DIV/0!"}}]
[{"$f":"'Sorting 1'!A49","v":"P8"},{"$f":"IF('Averages 1'!B48<1,1,'Averages 1'!B48)","v":{"$error":"#DIV/0!"}},{"$f":"IF('Averages 1'!C48<1,1,'Averages 1'!C48)","v":{"$error":"#DIV/0!"}},{"$f":"IF('Averages 1'!D48<1,1,'Averages 1'!D48)","v":{"$error":"#DIV/0!"}},{"$f":"IF('Averages 1'!E48<1,1,'Averages 1'!E48)","v":{"$error":"#DIV/0!"}},{"$f":"IF('Averages 1'!F48<1,1,'Averages 1'!F48)","v":{"$error":"#DIV/0!"}},{"$f":"IF('Averages 1'!G48<1,1,'Averages 1'!G48)","v":{"$error":"#DIV/0!"}},{"$f":"IF('Averages 1'!H48<1,1,'Averages 1'!H48)","v":{"$error":"#DIV/0!"}},{"$f":"IF('Averages 1'!I48<1,1,'Averages 1'!I48)","v":{"$error":"#DIV/0!"}},{"$f":"IF('Averages 1'!J48<1,1,'Averages 1'!J48)","v":{"$error":"#DIV/0!"}},{"$f":"IF('Averages 1'!K48<1,1,'Averages 1'!K48)","v":{"$error":"#DIV/0!"}},{"$f":"IF('Averages 1'!L48<1,1,'Averages 1'!L48)","v":{"$error":"#DIV/0!"}},{"$f":"IF('Averages 1'!M48<1,1,'Averages 1'!M48)","v":{"$error":"#DIV/0!"}},{"$f":"IF('Averages 1'!N48<1,1,'Averages 1'!N48)","v":{"$error":"#DIV/0!"}},{"$f":"IF('Averages 1'!O48<1,1,'Averages 1'!O48)","v":{"$error":"#DIV/0!"}},{"$f":"IF('Averages 1'!P48<1,1,'Averages 1'!P48)","v":{"$error":"#DIV/0!"}},{"$f":"IF('Averages 1'!Q48<1,1,'Averages 1'!Q48)","v":{"$error":"#DIV/0!"}}]
[{"$f":"'Sorting 1'!A50","v":"P20"},{"$f":"IF('Averages 1'!B49<1,1,'Averages 1'!B49)","v":{"$error":"#DIV/0!"}},{"$f":"IF('Averages 1'!C49<1,1,'Averages 1'!C49)","v":{"$error":"#DIV/0!"}},{"$f":"IF('Averages 1'!D49<1,1,'Averages 1'!D49)","v":{"$error":"#DIV/0!"}},{"$f":"IF('Averages 1'!E49<1,1,'Averages 1'!E49)","v":{"$error":"#DIV/0!"}},{"$f":"IF('Averages 1'!F49<1,1,'Averages 1'!F49)","v":{"$error":"#DIV/0!"}},{"$f":"IF('Averages 1'!G49<1,1,'Averages 1'!G49)","v":{"$error":"#DIV/0!"}},{"$f":"IF('Averages 1'!H49<1,1,'Averages 1'!H49)","v":{"$error":"#DIV/0!"}},{"$f":"IF('Averages 1'!I49<1,1,'Averages 1'!I49)","v":{"$error":"#DIV/0!"}},{"$f":"IF('Averages 1'!J49<1,1,'Averages 1'!J49)","v":{"$error":"#DIV/0!"}},{"$f":"IF('Averages 1'!K49<1,1,'Averages 1'!K49)","v":{"$error":"#DIV/0!"}},{"$f":"IF('Averages 1'!L49<1,1,'Averages 1'!L49)","v":{"$error":"#DIV/0!"}},{"$f":"IF('Averages 1'!M49<1,1,'Averages 1'!M49)","v":{"$error":"#DIV/0!"}},{"$f":"IF('Averages 1'!N49<1,1,'Averages 1'!N49)","v":{"$error":"#DIV/0!"}},{"$f":"IF('Averages 1'!O49<1,1,'Averages 1'!O49)","v":{"$error":"#DIV/0!"}},{"$f":"IF('Averages 1'!P49<1,1,'Averages 1'!P49)","v":{"$error":"#DIV/0!"}},{"$f":"IF('Averages 1'!Q49<1,1,'Averages 1'!Q49)","v":{"$error":"#DIV/0!"}}]
[{"$f":"'Sorting 1'!A51","v":"P30"},{"$f":"IF('Averages 1'!B50<1,1,'Averages 1'!B50)","v":{"$error":"#DIV/0!"}},{"$f":"IF('Averages 1'!C50<1,1,'Averages 1'!C50)","v":{"$error":"#DIV/0!"}},{"$f":"IF('Averages 1'!D50<1,1,'Averages 1'!D50)","v":{"$error":"#DIV/0!"}},{"$f":"IF('Averages 1'!E50<1,1,'Averages 1'!E50)","v":{"$error":"#DIV/0!"}},{"$f":"IF('Averages 1'!F50<1,1,'Averages 1'!F50)","v":{"$error":"#DIV/0!"}},{"$f":"IF('Averages 1'!G50<1,1,'Averages 1'!G50)","v":{"$error":"#DIV/0!"}},{"$f":"IF('Averages 1'!H50<1,1,'Averages 1'!H50)","v":{"$error":"#DIV/0!"}},{"$f":"IF('Averages 1'!I50<1,1,'Averages 1'!I50)","v":{"$error":"#DIV/0!"}},{"$f":"IF('Averages 1'!J50<1,1,'Averages 1'!J50)","v":{"$error":"#DIV/0!"}},{"$f":"IF('Averages 1'!K50<1,1,'Averages 1'!K50)","v":{"$error":"#DIV/0!"}},{"$f":"IF('Averages 1'!L50<1,1,'Averages 1'!L50)","v":{"$error":"#DIV/0!"}},{"$f":"IF('Averages 1'!M50<1,1,'Averages 1'!M50)","v":{"$error":"#DIV/0!"}},{"$f":"IF('Averages 1'!N50<1,1,'Averages 1'!N50)","v":{"$error":"#DIV/0!"}},{"$f":"IF('Averages 1'!O50<1,1,'Averages 1'!O50)","v":{"$error":"#DIV/0!"}},{"$f":"IF('Averages 1'!P50<1,1,'Averages 1'!P50)","v":{"$error":"#DIV/0!"}},{"$f":"IF('Averages 1'!Q50<1,1,'Averages 1'!Q50)","v":{"$error":"#DIV/0!"}}]
[{"$f":"'Sorting 1'!A52","v":"P42"},{"$f":"IF('Averages 1'!B51<1,1,'Averages 1'!B51)","v":{"$error":"#DIV/0!"}},{"$f":"IF('Averages 1'!C51<1,1,'Averages 1'!C51)","v":{"$error":"#DIV/0!"}},{"$f":"IF('Averages 1'!D51<1,1,'Averages 1'!D51)","v":{"$error":"#DIV/0!"}},{"$f":"IF('Averages 1'!E51<1,1,'Averages 1'!E51)","v":{"$error":"#DIV/0!"}},{"$f":"IF('Averages 1'!F51<1,1,'Averages 1'!F51)","v":{"$error":"#DIV/0!"}},{"$f":"IF('Averages 1'!G51<1,1,'Averages 1'!G51)","v":{"$error":"#DIV/0!"}},{"$f":"IF('Averages 1'!H51<1,1,'Averages 1'!H51)","v":{"$error":"#DIV/0!"}},{"$f":"IF('Averages 1'!I51<1,1,'Averages 1'!I51)","v":{"$error":"#DIV/0!"}},{"$f":"IF('Averages 1'!J51<1,1,'Averages 1'!J51)","v":{"$error":"#DIV/0!"}},{"$f":"IF('Averages 1'!K51<1,1,'Averages 1'!K51)","v":{"$error":"#DIV/0!"}},{"$f":"IF('Averages 1'!L51<1,1,'Averages 1'!L51)","v":{"$error":"#DIV/0!"}},{"$f":"IF('Averages 1'!M51<1,1,'Averages 1'!M51)","v":{"$error":"#DIV/0!"}},{"$f":"IF('Averages 1'!N51<1,1,'Averages 1'!N51)","v":{"$error":"#DIV/0!"}},{"$f":"IF('Averages 1'!O51<1,1,'Averages 1'!O51)","v":{"$error":"#DIV/0!"}},{"$f":"IF('Averages 1'!P51<1,1,'Averages 1'!P51)","v":{"$error":"#DIV/0!"}},{"$f":"IF('Averages 1'!Q51<1,1,'Averages 1'!Q51)","v":{"$error":"#DIV/0!"}}]
[{"$f":"'Sorting 1'!A53","v":"Pig IgA"},{"$f":"IF('Averages 1'!B52<1,1,'Averages 1'!B52)","v":{"$error":"#DIV/0!"}},{"$f":"IF('Averages 1'!C52<1,1,'Averages 1'!C52)","v":{"$error":"#DIV/0!"}},{"$f":"IF('Averages 1'!D52<1,1,'Averages 1'!D52)","v":{"$error":"#DIV/0!"}},{"$f":"IF('Averages 1'!E52<1,1,'Averages 1'!E52)","v":{"$error":"#DIV/0!"}},{"$f":"IF('Averages 1'!F52<1,1,'Averages 1'!F52)","v":{"$error":"#DIV/0!"}},{"$f":"IF('Averages 1'!G52<1,1,'Averages 1'!G52)","v":{"$error":"#DIV/0!"}},{"$f":"IF('Averages 1'!H52<1,1,'Averages 1'!H52)","v":{"$error":"#DIV/0!"}},{"$f":"IF('Averages 1'!I52<1,1,'Averages 1'!I52)","v":{"$error":"#DIV/0!"}},{"$f":"IF('Averages 1'!J52<1,1,'Averages 1'!J52)","v":{"$error":"#DIV/0!"}},{"$f":"IF('Averages 1'!K52<1,1,'Averages 1'!K52)","v":{"$error":"#DIV/0!"}},{"$f":"IF('Averages 1'!L52<1,1,'Averages 1'!L52)","v":{"$error":"#DIV/0!"}},{"$f":"IF('Averages 1'!M52<1,1,'Averages 1'!M52)","v":{"$error":"#DIV/0!"}},{"$f":"IF('Averages 1'!N52<1,1,'Averages 1'!N52)","v":{"$error":"#DIV/0!"}},{"$f":"IF('Averages 1'!O52<1,1,'Averages 1'!O52)","v":{"$error":"#DIV/0!"}},{"$f":"IF('Averages 1'!P52<1,1,'Averages 1'!P52)","v":{"$error":"#DIV/0!"}},{"$f":"IF('Averages 1'!Q52<1,1,'Averages 1'!Q52)","v":{"$error":"#DIV/0!"}}]
[{"$f":"'Sorting 1'!A54","v":"P9"},{"$f":"IF('Averages 1'!B53<1,1,'Averages 1'!B53)","v":{"$error":"#DIV/0!"}},{"$f":"IF('Averages 1'!C53<1,1,'Averages 1'!C53)","v":{"$error":"#DIV/0!"}},{"$f":"IF('Averages 1'!D53<1,1,'Averages 1'!D53)","v":{"$error":"#DIV/0!"}},{"$f":"IF('Averages 1'!E53<1,1,'Averages 1'!E53)","v":{"$error":"#DIV/0!"}},{"$f":"IF('Averages 1'!F53<1,1,'Averages 1'!F53)","v":{"$error":"#DIV/0!"}},{"$f":"IF('Averages 1'!G53<1,1,'Averages 1'!G53)","v":{"$error":"#DIV/0!"}},{"$f":"IF('Averages 1'!H53<1,1,'Averages 1'!H53)","v":{"$error":"#DIV/0!"}},{"$f":"IF('Averages 1'!I53<1,1,'Averages 1'!I53)","v":{"$error":"#DIV/0!"}},{"$f":"IF('Averages 1'!J53<1,1,'Averages 1'!J53)","v":{"$error":"#DIV/0!"}},{"$f":"IF('Averages 1'!K53<1,1,'Averages 1'!K53)","v":{"$error":"#DIV/0!"}},{"$f":"IF('Averages 1'!L53<1,1,'Averages 1'!L53)","v":{"$error":"#DIV/0!"}},{"$f":"IF('Averages 1'!M53<1,1,'Averages 1'!M53)","v":{"$error":"#DIV/0!"}},{"$f":"IF('Averages 1'!N53<1,1,'Averages 1'!N53)","v":{"$error":"#DIV/0!"}},{"$f":"IF('Averages 1'!O53<1,1,'Averages 1'!O53)","v":{"$error":"#DIV/0!"}},{"$f":"IF('Averages 1'!P53<1,1,'Averages 1'!P53)","v":{"$error":"#DIV/0!"}},{"$f":"IF('Averages 1'!Q53<1,1,'Averages 1'!Q53)","v":{"$error":"#DIV/0!"}}]
[{"$f":"'Sorting 1'!A55","v":"P21"},{"$f":"IF('Averages 1'!B54<1,1,'Averages 1'!B54)","v":{"$error":"#DIV/0!"}},{"$f":"IF('Averages 1'!C54<1,1,'Averages 1'!C54)","v":{"$error":"#DIV/0!"}},{"$f":"IF('Averages 1'!D54<1,1,'Averages 1'!D54)","v":{"$error":"#DIV/0!"}},{"$f":"IF('Averages 1'!E54<1,1,'Averages 1'!E54)","v":{"$error":"#DIV/0!"}},{"$f":"IF('Averages 1'!F54<1,1,'Averages 1'!F54)","v":{"$error":"#DIV/0!"}},{"$f":"IF('Averages 1'!G54<1,1,'Averages 1'!G54)","v":{"$error":"#DIV/0!"}},{"$f":"IF('Averages 1'!H54<1,1,'Averages 1'!H54)","v":{"$error":"#DIV/0!"}},{"$f":"IF('Averages 1'!I54<1,1,'Averages 1'!I54)","v":{"$error":"#DIV/0!"}},{"$f":"IF('Averages 1'!J54<1,1,'Averages 1'!J54)","v":{"$error":"#DIV/0!"}},{"$f":"IF('Averages 1'!K54<1,1,'Averages 1'!K54)","v":{"$error":"#DIV/0!"}},{"$f":"IF('Averages 1'!L54<1,1,'Averages 1'!L54)","v":{"$error":"#DIV/0!"}},{"$f":"IF('Averages 1'!M54<1,1,'Averages 1'!M54)","v":{"$error":"#DIV/0!"}},{"$f":"IF('Averages 1'!N54<1,1,'Averages 1'!N54)","v":{"$error":"#DIV/0!"}},{"$f":"IF('Averages 1'!O54<1,1,'Averages 1'!O54)","v":{"$error":"#DIV/0!"}},{"$f":"IF('Averages 1'!P54<1,1,'Averages 1'!P54)","v":{"$error":"#DIV/0!"}},{"$f":"IF('Averages 1'!Q54<1,1,'Averages 1'!Q54)","v":{"$error":"#DIV/0!"}}]
[{"$f":"'Sorting 1'!A56","v":"P31"},{"$f":"IF('Averages 1'!B55<1,1,'Averages 1'!B55)","v":{"$error":"#DIV/0!"}},{"$f":"IF('Averages 1'!C55<1,1,'Averages 1'!C55)","v":{"$error":"#DIV/0!"}},{"$f":"IF('Averages 1'!D55<1,1,'Averages 1'!D55)","v":{"$error":"#DIV/0!"}},{"$f":"IF('Averages 1'!E55<1,1,'Averages 1'!E55)","v":{"$error":"#DIV/0!"}},{"$f":"IF('Averages 1'!F55<1,1,'Averages 1'!F55)","v":{"$error":"#DIV/0!"}},{"$f":"IF('Averages 1'!G55<1,1,'Averages 1'!G55)","v":{"$error":"#DIV/0!"}},{"$f":"IF('Averages 1'!H55<1,1,'Averages 1'!H55)","v":{"$error":"#DIV/0!"}},{"$f":"IF('Averages 1'!I55<1,1,'Averages 1'!I55)","v":{"$error":"#DIV/0!"}},{"$f":"IF('Averages 1'!J55<1,1,'Averages 1'!J55)","v":{"$error":"#DIV/0!"}},{"$f":"IF('Averages 1'!K55<1,1,'Averages 1'!K55)","v":{"$error":"#DIV/0!"}},{"$f":"IF('Averages 1'!L55<1,1,'Averages 1'!L55)","v":{"$error":"#DIV/0!"}},{"$f":"IF('Averages 1'!M55<1,1,'Averages 1'!M55)","v":{"$error":"#DIV/0!"}},{"$f":"IF('Averages 1'!N55<1,1,'Averages 1'!N55)","v":{"$error":"#DIV/0!"}},{"$f":"IF('Averages 1'!O55<1,1,'Averages 1'!O55)","v":{"$error":"#DIV/0!"}},{"$f":"IF('Averages 1'!P55<1,1,'Averages 1'!P55)","v":{"$error":"#DIV/0!"}},{"$f":"IF('Averages 1'!Q55<1,1,'Averages 1'!Q55)","v":{"$error":"#DIV/0!"}}]
[{"$f":"'Sorting 1'!A57","v":"P43"},{"$f":"IF('Averages 1'!B56<1,1,'Averages 1'!B56)","v":{"$error":"#DIV/0!"}},{"$f":"IF('Averages 1'!C56<1,1,'Averages 1'!C56)","v":{"$error":"#DIV/0!"}},{"$f":"IF('Averages 1'!D56<1,1,'Averages 1'!D56)","v":{"$error":"#DIV/0!"}},{"$f":"IF('Averages 1'!E56<1,1,'Averages 1'!E56)","v":{"$error":"#DIV/0!"}},{"$f":"IF('Averages 1'!F56<1,1,'Averages 1'!F56)","v":{"$error":"#DIV/0!"}},{"$f":"IF('Averages 1'!G56<1,1,'Averages 1'!G56)","v":{"$error":"#DIV/0!"}},{"$f":"IF('Averages 1'!H56<1,1,'Averages 1'!H56)","v":{"$error":"#DIV/0!"}},{"$f":"IF('Averages 1'!I56<1,1,'Averages 1'!I56)","v":{"$error":"#DIV/0!"}},{"$f":"IF('Averages 1'!J56<1,1,'Averages 1'!J56)","v":{"$error":"#DIV/0!"}},{"$f":"IF('Averages 1'!K56<1,1,'Averages 1'!K56)","v":{"$error":"#DIV/0!"}},{"$f":"IF('Averages 1'!L56<1,1,'Averages 1'!L56)","v":{"$error":"#DIV/0!"}},{"$f":"IF('Averages 1'!M56<1,1,'Averages 1'!M56)","v":{"$error":"#DIV/0!"}},{"$f":"IF('Averages 1'!N56<1,1,'Averages 1'!N56)","v":{"$error":"#DIV/0!"}},{"$f":"IF('Averages 1'!O56<1,1,'Averages 1'!O56)","v":{"$error":"#DIV/0!"}},{"$f":"IF('Averages 1'!P56<1,1,'Averages 1'!P56)","v":{"$error":"#DIV/0!"}},{"$f":"IF('Averages 1'!Q56<1,1,'Averages 1'!Q56)","v":{"$error":"#DIV/0!"}}]
[{"$f":"'Sorting 1'!A58","v":"P10"},{"$f":"IF('Averages 1'!B57<1,1,'Averages 1'!B57)","v":{"$error":"#DIV/0!"}},{"$f":"IF('Averages 1'!C57<1,1,'Averages 1'!C57)","v":{"$error":"#DIV/0!"}},{"$f":"IF('Averages 1'!D57<1,1,'Averages 1'!D57)","v":{"$error":"#DIV/0!"}},{"$f":"IF('Averages 1'!E57<1,1,'Averages 1'!E57)","v":{"$error":"#DIV/0!"}},{"$f":"IF('Averages 1'!F57<1,1,'Averages 1'!F57)","v":{"$error":"#DIV/0!"}},{"$f":"IF('Averages 1'!G57<1,1,'Averages 1'!G57)","v":{"$error":"#DIV/0!"}},{"$f":"IF('Averages 1'!H57<1,1,'Averages 1'!H57)","v":{"$error":"#DIV/0!"}},{"$f":"IF('Averages 1'!I57<1,1,'Averages 1'!I57)","v":{"$error":"#DIV/0!"}},{"$f":"IF('Averages 1'!J57<1,1,'Averages 1'!J57)","v":{"$error":"#DIV/0!"}},{"$f":"IF('Averages 1'!K57<1,1,'Averages 1'!K57)","v":{"$error":"#DIV/0!"}},{"$f":"IF('Averages 1'!L57<1,1,'Averages 1'!L57)","v":{"$error":"#DIV/0!"}},{"$f":"IF('Averages 1'!M57<1,1,'Averages 1'!M57)","v":{"$error":"#DIV/0!"}},{"$f":"IF('Averages 1'!N57<1,1,'Averages 1'!N57)","v":{"$error":"#DIV/0!"}},{"$f":"IF('Averages 1'!O57<1,1,'Averages 1'!O57)","v":{"$error":"#DIV/0!"}},{"$f":"IF('Averages 1'!P57<1,1,'Averages 1'!P57)","v":{"$error":"#DIV/0!"}},{"$f":"IF('Averages 1'!Q57<1,1,'Averages 1'!Q57)","v":{"$error":"#DIV/0!"}}]
[{"$f":"'Sorting 1'!A59","v":"P32"},{"$f":"IF('Averages 1'!B58<1,1,'Averages 1'!B58)","v":{"$error":"#DIV/0!"}},{"$f":"IF('Averages 1'!C58<1,1,'Averages 1'!C58)","v":{"$error":"#DIV/0!"}},{"$f":"IF('Averages 1'!D58<1,1,'Averages 1'!D58)","v":{"$error":"#DIV/0!"}},{"$f":"IF('Averages 1'!E58<1,1,'Averages 1'!E58)","v":{"$error":"#DIV/0!"}},{"$f":"IF('Averages 1'!F58<1,1,'Averages 1'!F58)","v":{"$error":"#DIV/0!"}},{"$f":"IF('Averages 1'!G58<1,1,'Averages 1'!G58)","v":{"$error":"#DIV/0!"}},{"$f":"IF('Averages 1'!H58<1,1,'Averages 1'!H58)","v":{"$error":"#DIV/0!"}},{"$f":"IF('Averages 1'!I58<1,1,'Averages 1'!I58)","v":{"$error":"#DIV/0!"}},{"$f":"IF('Averages 1'!J58<1,1,'Averages 1'!J58)","v":{"$error":"#DIV/0!"}},{"$f":"IF('Averages 1'!K58<1,1,'Averages 1'!K58)","v":{"$error":"#DIV/0!"}},{"$f":"IF('Averages 1'!L58<1,1,'Averages 1'!L58)","v":{"$error":"#DIV/0!"}},{"$f":"IF('Averages 1'!M58<1,1,'Averages 1'!M58)","v":{"$error":"#DIV/0!"}},{"$f":"IF('Averages 1'!N58<1,1,'Averages 1'!N58)","v":{"$error":"#DIV/0!"}},{"$f":"IF('Averages 1'!O58<1,1,'Averages 1'!O58)","v":{"$error":"#DIV/0!"}},{"$f":"IF('Averages 1'!P58<1,1,'Averages 1'!P58)","v":{"$error":"#DIV/0!"}},{"$f":"IF('Averages 1'!Q58<1,1,'Averages 1'!Q58)","v":{"$error":"#DIV/0!"}}]
[{"$f":"'Sorting 1'!A60","v":"P44"},{"$f":"IF('Averages 1'!B59<1,1,'Averages 1'!B59)","v":{"$error":"#DIV/0!"}},{"$f":"IF('Averages 1'!C59<1,1,'Averages 1'!C59)","v":{"$error":"#DIV/0!"}},{"$f":"IF('Averages 1'!D59<1,1,'Averages 1'!D59)","v":{"$error":"#DIV/0!"}},{"$f":"IF('Averages 1'!E59<1,1,'Averages 1'!E59)","v":{"$error":"#DIV/0!"}},{"$f":"IF('Averages 1'!F59<1,1,'Averages 1'!F59)","v":{"$error":"#DIV/0!"}},{"$f":"IF('Averages 1'!G59<1,1,'Averages 1'!G59)","v":{"$error":"#DIV/0!"}},{"$f":"IF('Averages 1'!H59<1,1,'Averages 1'!H59)","v":{"$error":"#DIV/0!"}},{"$f":"IF('Averages 1'!I59<1,1,'Averages 1'!I59)","v":{"$error":"#DIV/0!"}},{"$f":"IF('Averages 1'!J59<1,1,'Averages 1'!J59)","v":{"$error":"#DIV/0!"}},{"$f":"IF('Averages 1'!K59<1,1,'Averages 1'!K59)","v":{"$error":"#DIV/0!"}},{"$f":"IF('Averages 1'!L59<1,1,'Averages 1'!L59)","v":{"$error":"#DIV/0!"}},{"$f":"IF('Averages 1'!M59<1,1,'Averages 1'!M59)","v":{"$error":"#DIV/0!"}},{"$f":"IF('Averages 1'!N59<1,1,'Averages 1'!N59)","v":{"$error":"#DIV/0!"}},{"$f":"IF('Averages 1'!O59<1,1,'Averages 1'!O59)","v":{"$error":"#DIV/0!"}},{"$f":"IF('Averages 1'!P59<1,1,'Averages 1'!P59)","v":{"$error":"#DIV/0!"}},{"$f":"IF('Averages 1'!Q59<1,1,'Averages 1'!Q59)","v":{"$error":"#DIV/0!"}}]
[{"$f":"'Sorting 1'!A61","v":"P44"},{"$f":"IF('Averages 1'!B60<1,1,'Averages 1'!B60)","v":{"$error":"#DIV/0!"}},{"$f":"IF('Averages 1'!C60<1,1,'Averages 1'!C60)","v":{"$error":"#DIV/0!"}},{"$f":"IF('Averages 1'!D60<1,1,'Averages 1'!D60)","v":{"$error":"#DIV/0!"}},{"$f":"IF('Averages 1'!E60<1,1,'Averages 1'!E60)","v":{"$error":"#DIV/0!"}},{"$f":"IF('Averages 1'!F60<1,1,'Averages 1'!F60)","v":{"$error":"#DIV/0!"}},{"$f":"IF('Averages 1'!G60<1,1,'Averages 1'!G60)","v":{"$error":"#DIV/0!"}},{"$f":"IF('Averages 1'!H60<1,1,'Averages 1'!H60)","v":{"$error":"#DIV/0!"}},{"$f":"IF('Averages 1'!I60<1,1,'Averages 1'!I60)","v":{"$error":"#DIV/0!"}},{"$f":"IF('Averages 1'!J60<1,1,'Averages 1'!J60)","v":{"$error":"#DIV/0!"}},{"$f":"IF('Averages 1'!K60<1,1,'Averages 1'!K60)","v":{"$error":"#DIV/0!"}},{"$f":"IF('Averages 1'!L60<1,1,'Averages 1'!L60)","v":{"$error":"#DIV/0!"}},{"$f":"IF('Averages 1'!M60<1,1,'Averages 1'!M60)","v":{"$error":"#DIV/0!"}},{"$f":"IF('Averages 1'!N60<1,1,'Averages 1'!N60)","v":{"$error":"#DIV/0!"}},{"$f":"IF('Averages 1'!O60<1,1,'Averages 1'!O60)","v":{"$error":"#DIV/0!"}},{"$f":"IF('Averages 1'!P60<1,1,'Averages 1'!P60)","v":{"$error":"#DIV/0!"}},{"$f":"IF('Averages 1'!Q60<1,1,'Averages 1'!Q60)","v":{"$error":"#DIV/0!"}}]

{"sheet":"Pos Normalization 1","index":13,"n_rows":60,"n_cols":17,"rows_kept":60,"cut":false,"hidden":true,"merged":[[1,4,2,4],[1,5,2,5]]}
["Positive Control Normalization With Background"]
["RayBio® Pig Cytokine Protein Array G1 Analysis Tool",null,null,null,"Normalization Constant",{"$f":"'Average-w-bkg'!B5","v":1}]
[]
["Target Name",{"$f":"'Averages 1'!B4","v":"Sample 1"},{"$f":"'Averages 1'!C4","v":"Sample 2"},{"$f":"'Averages 1'!D4","v":"Sample 3"},{"$f":"'Averages 1'!E4","v":"Sample 4"},{"$f":"'Averages 1'!F4","v":"Sample 5"},{"$f":"'Averages 1'!G4","v":"Sample 6"},{"$f":"'Averages 1'!H4","v":"Sample 7"},{"$f":"'Averages 1'!I4","v":"Sample 8"},{"$f":"'Averages 1'!J4","v":"Sample 9"},{"$f":"'Averages 1'!K4","v":"Sample 10"},{"$f":"'Averages 1'!L4","v":"Sample 11"},{"$f":"'Averages 1'!M4","v":"Sample 12"},{"$f":"'Averages 1'!N4","v":"Sample 13"},{"$f":"'Averages 1'!O4","v":"Sample 14"},{"$f":"'Averages 1'!P4","v":"Sample 15"},{"$f":"'Averages 1'!Q4","v":"Sample 16"}]
[{"$f":"'Sorting 1'!A6","v":"POS"},{"$f":"'Average-w-bkg'!B5*$F$2/'Average-w-bkg'!B$5","v":1},{"$f":"'Average-w-bkg'!C5*$F$2/'Average-w-bkg'!C$5","v":1},{"$f":"'Average-w-bkg'!D5*$F$2/'Average-w-bkg'!D$5","v":1},{"$f":"'Average-w-bkg'!E5*$F$2/'Average-w-bkg'!E$5","v":1},{"$f":"'Average-w-bkg'!F5*$F$2/'Average-w-bkg'!F$5","v":1},{"$f":"'Average-w-bkg'!G5*$F$2/'Average-w-bkg'!G$5","v":1},{"$f":"'Average-w-bkg'!H5*$F$2/'Average-w-bkg'!H$5","v":1},{"$f":"'Average-w-bkg'!I5*$F$2/'Average-w-bkg'!I$5","v":1},{"$f":"'Average-w-bkg'!J5*$F$2/'Average-w-bkg'!J$5","v":1},{"$f":"'Average-w-bkg'!K5*$F$2/'Average-w-bkg'!K$5","v":1},{"$f":"'Average-w-bkg'!L5*$F$2/'Average-w-bkg'!L$5","v":1},{"$f":"'Average-w-bkg'!M5*$F$2/'Average-w-bkg'!M$5","v":1},{"$f":"'Average-w-bkg'!N5*$F$2/'Average-w-bkg'!N$5","v":1},{"$f":"'Average-w-bkg'!O5*$F$2/'Average-w-bkg'!O$5","v":1},{"$f":"'Average-w-bkg'!P5*$F$2/'Average-w-bkg'!P$5","v":1},{"$f":"'Average-w-bkg'!Q5*$F$2/'Average-w-bkg'!Q$5","v":1}]
[{"$f":"'Sorting 1'!A7","v":"NEG"},{"$f":"'Average-w-bkg'!B6*$F$2/'Average-w-bkg'!B$5","v":1},{"$f":"'Average-w-bkg'!C6*$F$2/'Average-w-bkg'!C$5","v":1},{"$f":"'Average-w-bkg'!D6*$F$2/'Average-w-bkg'!D$5","v":1},{"$f":"'Average-w-bkg'!E6*$F$2/'Average-w-bkg'!E$5","v":1},{"$f":"'Average-w-bkg'!F6*$F$2/'Average-w-bkg'!F$5","v":1},{"$f":"'Average-w-bkg'!G6*$F$2/'Average-w-bkg'!G$5","v":1},{"$f":"'Average-w-bkg'!H6*$F$2/'Average-w-bkg'!H$5","v":1},{"$f":"'Average-w-bkg'!I6*$F$2/'Average-w-bkg'!I$5","v":1},{"$f":"'Average-w-bkg'!J6*$F$2/'Average-w-bkg'!J$5","v":1},{"$f":"'Average-w-bkg'!K6*$F$2/'Average-w-bkg'!K$5","v":1},{"$f":"'Average-w-bkg'!L6*$F$2/'Average-w-bkg'!L$5","v":1},{"$f":"'Average-w-bkg'!M6*$F$2/'Average-w-bkg'!M$5","v":1},{"$f":"'Average-w-bkg'!N6*$F$2/'Average-w-bkg'!N$5","v":1},{"$f":"'Average-w-bkg'!O6*$F$2/'Average-w-bkg'!O$5","v":1},{"$f":"'Average-w-bkg'!P6*$F$2/'Average-w-bkg'!P$5","v":1},{"$f":"'Average-w-bkg'!Q6*$F$2/'Average-w-bkg'!Q$5","v":1}]
[{"$f":"'Sorting 1'!A8","v":"P11"},{"$f":"'Average-w-bkg'!B7*$F$2/'Average-w-bkg'!B$5","v":{"$error":"#DIV/0!"}},{"$f":"'Average-w-bkg'!C7*$F$2/'Average-w-bkg'!C$5","v":{"$error":"#DIV/0!"}},{"$f":"'Average-w-bkg'!D7*$F$2/'Average-w-bkg'!D$5","v":{"$error":"#DIV/0!"}},{"$f":"'Average-w-bkg'!E7*$F$2/'Average-w-bkg'!E$5","v":{"$error":"#DIV/0!"}},{"$f":"'Average-w-bkg'!F7*$F$2/'Average-w-bkg'!F$5","v":{"$error":"#DIV/0!"}},{"$f":"'Average-w-bkg'!G7*$F$2/'Average-w-bkg'!G$5","v":{"$error":"#DIV/0!"}},{"$f":"'Average-w-bkg'!H7*$F$2/'Average-w-bkg'!H$5","v":{"$error":"#DIV/0!"}},{"$f":"'Average-w-bkg'!I7*$F$2/'Average-w-bkg'!I$5","v":{"$error":"#DIV/0!"}},{"$f":"'Average-w-bkg'!J7*$F$2/'Average-w-bkg'!J$5","v":{"$error":"#DIV/0!"}},{"$f":"'Average-w-bkg'!K7*$F$2/'Average-w-bkg'!K$5","v":{"$error":"#DIV/0!"}},{"$f":"'Average-w-bkg'!L7*$F$2/'Average-w-bkg'!L$5","v":{"$error":"#DIV/0!"}},{"$f":"'Average-w-bkg'!M7*$F$2/'Average-w-bkg'!M$5","v":{"$error":"#DIV/0!"}},{"$f":"'Average-w-bkg'!N7*$F$2/'Average-w-bkg'!N$5","v":{"$error":"#DIV/0!"}},{"$f":"'Average-w-bkg'!O7*$F$2/'Average-w-bkg'!O$5","v":{"$error":"#DIV/0!"}},{"$f":"'Average-w-bkg'!P7*$F$2/'Average-w-bkg'!P$5","v":{"$error":"#DIV/0!"}},{"$f":"'Average-w-bkg'!Q7*$F$2/'Average-w-bkg'!Q$5","v":{"$error":"#DIV/0!"}}]
[{"$f":"'Sorting 1'!A9","v":"P33"},{"$f":"'Average-w-bkg'!B8*$F$2/'Average-w-bkg'!B$5","v":{"$error":"#DIV/0!"}},{"$f":"'Average-w-bkg'!C8*$F$2/'Average-w-bkg'!C$5","v":{"$error":"#DIV/0!"}},{"$f":"'Average-w-bkg'!D8*$F$2/'Average-w-bkg'!D$5","v":{"$error":"#DIV/0!"}},{"$f":"'Average-w-bkg'!E8*$F$2/'Average-w-bkg'!E$5","v":{"$error":"#DIV/0!"}},{"$f":"'Average-w-bkg'!F8*$F$2/'Average-w-bkg'!F$5","v":{"$error":"#DIV/0!"}},{"$f":"'Average-w-bkg'!G8*$F$2/'Average-w-bkg'!G$5","v":{"$error":"#DIV/0!"}},{"$f":"'Average-w-bkg'!H8*$F$2/'Average-w-bkg'!H$5","v":{"$error":"#DIV/0!"}},{"$f":"'Average-w-bkg'!I8*$F$2/'Average-w-bkg'!I$5","v":{"$error":"#DIV/0!"}},{"$f":"'Average-w-bkg'!J8*$F$2/'Average-w-bkg'!J$5","v":{"$error":"#DIV/0!"}},{"$f":"'Average-w-bkg'!K8*$F$2/'Average-w-bkg'!K$5","v":{"$error":"#DIV/0!"}},{"$f":"'Average-w-bkg'!L8*$F$2/'Average-w-bkg'!L$5","v":{"$error":"#DIV/0!"}},{"$f":"'Average-w-bkg'!M8*$F$2/'Average-w-bkg'!M$5","v":{"$error":"#DIV/0!"}},{"$f":"'Average-w-bkg'!N8*$F$2/'Average-w-bkg'!N$5","v":{"$error":"#DIV/0!"}},{"$f":"'Average-w-bkg'!O8*$F$2/'Average-w-bkg'!O$5","v":{"$error":"#DIV/0!"}},{"$f":"'Average-w-bkg'!P8*$F$2/'Average-w-bkg'!P$5","v":{"$error":"#DIV/0!"}},{"$f":"'Average-w-bkg'!Q8*$F$2/'Average-w-bkg'!Q$5","v":{"$error":"#DIV/0!"}}]
[{"$f":"'Sorting 1'!A10","v":"P45"},{"$f":"'Average-w-bkg'!B9*$F$2/'Average-w-bkg'!B$5","v":{"$error":"#DIV/0!"}},{"$f":"'Average-w-bkg'!C9*$F$2/'Average-w-bkg'!C$5","v":{"$error":"#DIV/0!"}},{"$f":"'Average-w-bkg'!D9*$F$2/'Average-w-bkg'!D$5","v":{"$error":"#DIV/0!"}},{"$f":"'Average-w-bkg'!E9*$F$2/'Average-w-bkg'!E$5","v":{"$error":"#DIV/0!"}},{"$f":"'Average-w-bkg'!F9*$F$2/'Average-w-bkg'!F$5","v":{"$error":"#DIV/0!"}},{"$f":"'Average-w-bkg'!G9*$F$2/'Average-w-bkg'!G$5","v":{"$error":"#DIV/0!"}},{"$f":"'Average-w-bkg'!H9*$F$2/'Average-w-bkg'!H$5","v":{"$error":"#DIV/0!"}},{"$f":"'Average-w-bkg'!I9*$F$2/'Average-w-bkg'!I$5","v":{"$error":"#DIV/0!"}},{"$f":"'Average-w-bkg'!J9*$F$2/'Average-w-bkg'!J$5","v":{"$error":"#DIV/0!"}},{"$f":"'Average-w-bkg'!K9*$F$2/'Average-w-bkg'!K$5","v":{"$error":"#DIV/0!"}},{"$f":"'Average-w-bkg'!L9*$F$2/'Average-w-bkg'!L$5","v":{"$error":"#DIV/0!"}},{"$f":"'Average-w-bkg'!M9*$F$2/'Average-w-bkg'!M$5","v":{"$error":"#DIV/0!"}},{"$f":"'Average-w-bkg'!N9*$F$2/'Average-w-bkg'!N$5","v":{"$error":"#DIV/0!"}},{"$f":"'Average-w-bkg'!O9*$F$2/'Average-w-bkg'!O$5","v":{"$error":"#DIV/0!"}},{"$f":"'Average-w-bkg'!P9*$F$2/'Average-w-bkg'!P$5","v":{"$error":"#DIV/0!"}},{"$f":"'Average-w-bkg'!Q9*$F$2/'Average-w-bkg'!Q$5","v":{"$error":"#DIV/0!"}}]
[{"$f":"'Sorting 1'!A11","v":"P12"},{"$f":"'Average-w-bkg'!B10*$F$2/'Average-w-bkg'!B$5","v":{"$error":"#DIV/0!"}},{"$f":"'Average-w-bkg'!C10*$F$2/'Average-w-bkg'!C$5","v":{"$error":"#DIV/0!"}},{"$f":"'Average-w-bkg'!D10*$F$2/'Average-w-bkg'!D$5","v":{"$error":"#DIV/0!"}},{"$f":"'Average-w-bkg'!E10*$F$2/'Average-w-bkg'!E$5","v":{"$error":"#DIV/0!"}},{"$f":"'Average-w-bkg'!F10*$F$2/'Average-w-bkg'!F$5","v":{"$error":"#DIV/0!"}},{"$f":"'Average-w-bkg'!G10*$F$2/'Average-w-bkg'!G$5","v":{"$error":"#DIV/0!"}},{"$f":"'Average-w-bkg'!H10*$F$2/'Average-w-bkg'!H$5","v":{"$error":"#DIV/0!"}},{"$f":"'Average-w-bkg'!I10*$F$2/'Average-w-bkg'!I$5","v":{"$error":"#DIV/0!"}},{"$f":"'Average-w-bkg'!J10*$F$2/'Average-w-bkg'!J$5","v":{"$error":"#DIV/0!"}},{"$f":"'Average-w-bkg'!K10*$F$2/'Average-w-bkg'!K$5","v":{"$error":"#DIV/0!"}},{"$f":"'Average-w-bkg'!L10*$F$2/'Average-w-bkg'!L$5","v":{"$error":"#DIV/0!"}},{"$f":"'Average-w-bkg'!M10*$F$2/'Average-w-bkg'!M$5","v":{"$error":"#DIV/0!"}},{"$f":"'Average-w-bkg'!N10*$F$2/'Average-w-bkg'!N$5","v":{"$error":"#DIV/0!"}},{"$f":"'Average-w-bkg'!O10*$F$2/'Average-w-bkg'!O$5","v":{"$error":"#DIV/0!"}},{"$f":"'Average-w-bkg'!P10*$F$2/'Average-w-bkg'!P$5","v":{"$error":"#DIV/0!"}},{"$f":"'Average-w-bkg'!Q10*$F$2/'Average-w-bkg'!Q$5","v":{"$error":"#DIV/0!"}}]
[{"$f":"'Sorting 1'!A12","v":"P22"},{"$f":"'Average-w-bkg'!B11*$F$2/'Average-w-bkg'!B$5","v":{"$error":"#DIV/0!"}},{"$f":"'Average-w-bkg'!C11*$F$2/'Average-w-bkg'!C$5","v":{"$error":"#DIV/0!"}},{"$f":"'Average-w-bkg'!D11*$F$2/'Average-w-bkg'!D$5","v":{"$error":"#DIV/0!"}},{"$f":"'Average-w-bkg'!E11*$F$2/'Average-w-bkg'!E$5","v":{"$error":"#DIV/0!"}},{"$f":"'Average-w-bkg'!F11*$F$2/'Average-w-bkg'!F$5","v":{"$error":"#DIV/0!"}},{"$f":"'Average-w-bkg'!G11*$F$2/'Average-w-bkg'!G$5","v":{"$error":"#DIV/0!"}},{"$f":"'Average-w-bkg'!H11*$F$2/'Average-w-bkg'!H$5","v":{"$error":"#DIV/0!"}},{"$f":"'Average-w-bkg'!I11*$F$2/'Average-w-bkg'!I$5","v":{"$error":"#DIV/0!"}},{"$f":"'Average-w-bkg'!J11*$F$2/'Average-w-bkg'!J$5","v":{"$error":"#DIV/0!"}},{"$f":"'Average-w-bkg'!K11*$F$2/'Average-w-bkg'!K$5","v":{"$error":"#DIV/0!"}},{"$f":"'Average-w-bkg'!L11*$F$2/'Average-w-bkg'!L$5","v":{"$error":"#DIV/0!"}},{"$f":"'Average-w-bkg'!M11*$F$2/'Average-w-bkg'!M$5","v":{"$error":"#DIV/0!"}},{"$f":"'Average-w-bkg'!N11*$F$2/'Average-w-bkg'!N$5","v":{"$error":"#DIV/0!"}},{"$f":"'Average-w-bkg'!O11*$F$2/'Average-w-bkg'!O$5","v":{"$error":"#DIV/0!"}},{"$f":"'Average-w-bkg'!P11*$F$2/'Average-w-bkg'!P$5","v":{"$error":"#DIV/0!"}},{"$f":"'Average-w-bkg'!Q11*$F$2/'Average-w-bkg'!Q$5","v":{"$error":"#DIV/0!"}}]
[{"$f":"'Sorting 1'!A13","v":"P34"},{"$f":"'Average-w-bkg'!B12*$F$2/'Average-w-bkg'!B$5","v":{"$error":"#DIV/0!"}},{"$f":"'Average-w-bkg'!C12*$F$2/'Average-w-bkg'!C$5","v":{"$error":"#DIV/0!"}},{"$f":"'Average-w-bkg'!D12*$F$2/'Average-w-bkg'!D$5","v":{"$error":"#DIV/0!"}},{"$f":"'Average-w-bkg'!E12*$F$2/'Average-w-bkg'!E$5","v":{"$error":"#DIV/0!"}},{"$f":"'Average-w-bkg'!F12*$F$2/'Average-w-bkg'!F$5","v":{"$error":"#DIV/0!"}},{"$f":"'Average-w-bkg'!G12*$F$2/'Average-w-bkg'!G$5","v":{"$error":"#DIV/0!"}},{"$f":"'Average-w-bkg'!H12*$F$2/'Average-w-bkg'!H$5","v":{"$error":"#DIV/0!"}},{"$f":"'Average-w-bkg'!I12*$F$2/'Average-w-bkg'!I$5","v":{"$error":"#DIV/0!"}},{"$f":"'Average-w-bkg'!J12*$F$2/'Average-w-bkg'!J$5","v":{"$error":"#DIV/0!"}},{"$f":"'Average-w-bkg'!K12*$F$2/'Average-w-bkg'!K$5","v":{"$error":"#DIV/0!"}},{"$f":"'Average-w-bkg'!L12*$F$2/'Average-w-bkg'!L$5","v":{"$error":"#DIV/0!"}},{"$f":"'Average-w-bkg'!M12*$F$2/'Average-w-bkg'!M$5","v":{"$error":"#DIV/0!"}},{"$f":"'Average-w-bkg'!N12*$F$2/'Average-w-bkg'!N$5","v":{"$error":"#DIV/0!"}},{"$f":"'Average-w-bkg'!O12*$F$2/'Average-w-bkg'!O$5","v":{"$error":"#DIV/0!"}},{"$f":"'Average-w-bkg'!P12*$F$2/'Average-w-bkg'!P$5","v":{"$error":"#DIV/0!"}},{"$f":"'Average-w-bkg'!Q12*$F$2/'Average-w-bkg'!Q$5","v":{"$error":"#DIV/0!"}}]
[{"$f":"'Sorting 1'!A14","v":"P46"},{"$f":"'Average-w-bkg'!B13*$F$2/'Average-w-bkg'!B$5","v":{"$error":"#DIV/0!"}},{"$f":"'Average-w-bkg'!C13*$F$2/'Average-w-bkg'!C$5","v":{"$error":"#DIV/0!"}},{"$f":"'Average-w-bkg'!D13*$F$2/'Average-w-bkg'!D$5","v":{"$error":"#DIV/0!"}},{"$f":"'Average-w-bkg'!E13*$F$2/'Average-w-bkg'!E$5","v":{"$error":"#DIV/0!"}},{"$f":"'Average-w-bkg'!F13*$F$2/'Average-w-bkg'!F$5","v":{"$error":"#DIV/0!"}},{"$f":"'Average-w-bkg'!G13*$F$2/'Average-w-bkg'!G$5","v":{"$error":"#DIV/0!"}},{"$f":"'Average-w-bkg'!H13*$F$2/'Average-w-bkg'!H$5","v":{"$error":"#DIV/0!"}},{"$f":"'Average-w-bkg'!I13*$F$2/'Average-w-bkg'!I$5","v":{"$error":"#DIV/0!"}},{"$f":"'Average-w-bkg'!J13*$F$2/'Average-w-bkg'!J$5","v":{"$error":"#DIV/0!"}},{"$f":"'Average-w-bkg'!K13*$F$2/'Average-w-bkg'!K$5","v":{"$error":"#DIV/0!"}},{"$f":"'Average-w-bkg'!L13*$F$2/'Average-w-bkg'!L$5","v":{"$error":"#DIV/0!"}},{"$f":"'Average-w-bkg'!M13*$F$2/'Average-w-bkg'!M$5","v":{"$error":"#DIV/0!"}},{"$f":"'Average-w-bkg'!N13*$F$2/'Average-w-bkg'!N$5","v":{"$error":"#DIV/0!"}},{"$f":"'Average-w-bkg'!O13*$F$2/'Average-w-bkg'!O$5","v":{"$error":"#DIV/0!"}},{"$f":"'Average-w-bkg'!P13*$F$2/'Average-w-bkg'!P$5","v":{"$error":"#DIV/0!"}},{"$f":"'Average-w-bkg'!Q13*$F$2/'Average-w-bkg'!Q$5","v":{"$error":"#DIV/0!"}}]
[{"$f":"'Sorting 1'!A15","v":"P1"},{"$f":"'Average-w-bkg'!B14*$F$2/'Average-w-bkg'!B$5","v":{"$error":"#DIV/0!"}},{"$f":"'Average-w-bkg'!C14*$F$2/'Average-w-bkg'!C$5","v":{"$error":"#DIV/0!"}},{"$f":"'Average-w-bkg'!D14*$F$2/'Average-w-bkg'!D$5","v":{"$error":"#DIV/0!"}},{"$f":"'Average-w-bkg'!E14*$F$2/'Average-w-bkg'!E$5","v":{"$error":"#DIV/0!"}},{"$f":"'Average-w-bkg'!F14*$F$2/'Average-w-bkg'!F$5","v":{"$error":"#DIV/0!"}},{"$f":"'Average-w-bkg'!G14*$F$2/'Average-w-bkg'!G$5","v":{"$error":"#DIV/0!"}},{"$f":"'Average-w-bkg'!H14*$F$2/'Average-w-bkg'!H$5","v":{"$error":"#DIV/0!"}},{"$f":"'Average-w-bkg'!I14*$F$2/'Average-w-bkg'!I$5","v":{"$error":"#DIV/0!"}},{"$f":"'Average-w-bkg'!J14*$F$2/'Average-w-bkg'!J$5","v":{"$error":"#DIV/0!"}},{"$f":"'Average-w-bkg'!K14*$F$2/'Average-w-bkg'!K$5","v":{"$error":"#DIV/0!"}},{"$f":"'Average-w-bkg'!L14*$F$2/'Average-w-bkg'!L$5","v":{"$error":"#DIV/0!"}},{"$f":"'Average-w-bkg'!M14*$F$2/'Average-w-bkg'!M$5","v":{"$error":"#DIV/0!"}},{"$f":"'Average-w-bkg'!N14*$F$2/'Average-w-bkg'!N$5","v":{"$error":"#DIV/0!"}},{"$f":"'Average-w-bkg'!O14*$F$2/'Average-w-bkg'!O$5","v":{"$error":"#DIV/0!"}},{"$f":"'Average-w-bkg'!P14*$F$2/'Average-w-bkg'!P$5","v":{"$error":"#DIV/0!"}},{"$f":"'Average-w-bkg'!Q14*$F$2/'Average-w-bkg'!Q$5","v":{"$error":"#DIV/0!"}}]
[{"$f":"'Sorting 1'!A16","v":"P13"},{"$f":"'Average-w-bkg'!B15*$F$2/'Average-w-bkg'!B$5","v":{"$error":"#DIV/0!"}},{"$f":"'Average-w-bkg'!C15*$F$2/'Average-w-bkg'!C$5","v":{"$error":"#DIV/0!"}},{"$f":"'Average-w-bkg'!D15*$F$2/'Average-w-bkg'!D$5","v":{"$error":"#DIV/0!"}},{"$f":"'Average-w-bkg'!E15*$F$2/'Average-w-bkg'!E$5","v":{"$error":"#DIV/0!"}},{"$f":"'Average-w-bkg'!F15*$F$2/'Average-w-bkg'!F$5","v":{"$error":"#DIV/0!"}},{"$f":"'Average-w-bkg'!G15*$F$2/'Average-w-bkg'!G$5","v":{"$error":"#DIV/0!"}},{"$f":"'Average-w-bkg'!H15*$F$2/'Average-w-bkg'!H$5","v":{"$error":"#DIV/0!"}},{"$f":"'Average-w-bkg'!I15*$F$2/'Average-w-bkg'!I$5","v":{"$error":"#DIV/0!"}},{"$f":"'Average-w-bkg'!J15*$F$2/'Average-w-bkg'!J$5","v":{"$error":"#DIV/0!"}},{"$f":"'Average-w-bkg'!K15*$F$2/'Average-w-bkg'!K$5","v":{"$error":"#DIV/0!"}},{"$f":"'Average-w-bkg'!L15*$F$2/'Average-w-bkg'!L$5","v":{"$error":"#DIV/0!"}},{"$f":"'Average-w-bkg'!M15*$F$2/'Average-w-bkg'!M$5","v":{"$error":"#DIV/0!"}},{"$f":"'Average-w-bkg'!N15*$F$2/'Average-w-bkg'!N$5","v":{"$error":"#DIV/0!"}},{"$f":"'Average-w-bkg'!O15*$F$2/'Average-w-bkg'!O$5","v":{"$error":"#DIV/0!"}},{"$f":"'Average-w-bkg'!P15*$F$2/'Average-w-bkg'!P$5","v":{"$error":"#DIV/0!"}},{"$f":"'Average-w-bkg'!Q15*$F$2/'Average-w-bkg'!Q$5","v":{"$error":"#DIV/0!"}}]
[{"$f":"'Sorting 1'!A17","v":"P23"},{"$f":"'Average-w-bkg'!B16*$F$2/'Average-w-bkg'!B$5","v":{"$error":"#DIV/0!"}},{"$f":"'Average-w-bkg'!C16*$F$2/'Average-w-bkg'!C$5","v":{"$error":"#DIV/0!"}},{"$f":"'Average-w-bkg'!D16*$F$2/'Average-w-bkg'!D$5","v":{"$error":"#DIV/0!"}},{"$f":"'Average-w-bkg'!E16*$F$2/'Average-w-bkg'!E$5","v":{"$error":"#DIV/0!"}},{"$f":"'Average-w-bkg'!F16*$F$2/'Average-w-bkg'!F$5","v":{"$error":"#DIV/0!"}},{"$f":"'Average-w-bkg'!G16*$F$2/'Average-w-bkg'!G$5","v":{"$error":"#DIV/0!"}},{"$f":"'Average-w-bkg'!H16*$F$2/'Average-w-bkg'!H$5","v":{"$error":"#DIV/0!"}},{"$f":"'Average-w-bkg'!I16*$F$2/'Average-w-bkg'!I$5","v":{"$error":"#DIV/0!"}},{"$f":"'Average-w-bkg'!J16*$F$2/'Average-w-bkg'!J$5","v":{"$error":"#DIV/0!"}},{"$f":"'Average-w-bkg'!K16*$F$2/'Average-w-bkg'!K$5","v":{"$error":"#DIV/0!"}},{"$f":"'Average-w-bkg'!L16*$F$2/'Average-w-bkg'!L$5","v":{"$error":"#DIV/0!"}},{"$f":"'Average-w-bkg'!M16*$F$2/'Average-w-bkg'!M$5","v":{"$error":"#DIV/0!"}},{"$f":"'Average-w-bkg'!N16*$F$2/'Average-w-bkg'!N$5","v":{"$error":"#DIV/0!"}},{"$f":"'Average-w-bkg'!O16*$F$2/'Average-w-bkg'!O$5","v":{"$error":"#DIV/0!"}},{"$f":"'Average-w-bkg'!P16*$F$2/'Average-w-bkg'!P$5","v":{"$error":"#DIV/0!"}},{"$f":"'Average-w-bkg'!Q16*$F$2/'Average-w-bkg'!Q$5","v":{"$error":"#DIV/0!"}}]
[{"$f":"'Sorting 1'!A18","v":"P35"},{"$f":"'Average-w-bkg'!B17*$F$2/'Average-w-bkg'!B$5","v":{"$error":"#DIV/0!"}},{"$f":"'Average-w-bkg'!C17*$F$2/'Average-w-bkg'!C$5","v":{"$error":"#DIV/0!"}},{"$f":"'Average-w-bkg'!D17*$F$2/'Average-w-bkg'!D$5","v":{"$error":"#DIV/0!"}},{"$f":"'Average-w-bkg'!E17*$F$2/'Average-w-bkg'!E$5","v":{"$error":"#DIV/0!"}},{"$f":"'Average-w-bkg'!F17*$F$2/'Average-w-bkg'!F$5","v":{"$error":"#DIV/0!"}},{"$f":"'Average-w-bkg'!G17*$F$2/'Average-w-bkg'!G$5","v":{"$error":"#DIV/0!"}},{"$f":"'Average-w-bkg'!H17*$F$2/'Average-w-bkg'!H$5","v":{"$error":"#DIV/0!"}},{"$f":"'Average-w-bkg'!I17*$F$2/'Average-w-bkg'!I$5","v":{"$error":"#DIV/0!"}},{"$f":"'Average-w-bkg'!J17*$F$2/'Average-w-bkg'!J$5","v":{"$error":"#DIV/0!"}},{"$f":"'Average-w-bkg'!K17*$F$2/'Average-w-bkg'!K$5","v":{"$error":"#DIV/0!"}},{"$f":"'Average-w-bkg'!L17*$F$2/'Average-w-bkg'!L$5","v":{"$error":"#DIV/0!"}},{"$f":"'Average-w-bkg'!M17*$F$2/'Average-w-bkg'!M$5","v":{"$error":"#DIV/0!"}},{"$f":"'Average-w-bkg'!N17*$F$2/'Average-w-bkg'!N$5","v":{"$error":"#DIV/0!"}},{"$f":"'Average-w-bkg'!O17*$F$2/'Average-w-bkg'!O$5","v":{"$error":"#DIV/0!"}},{"$f":"'Average-w-bkg'!P17*$F$2/'Average-w-bkg'!P$5","v":{"$error":"#DIV/0!"}},{"$f":"'Average-w-bkg'!Q17*$F$2/'Average-w-bkg'!Q$5","v":{"$error":"#DIV/0!"}}]
[{"$f":"'Sorting 1'!A19","v":"P47"},{"$f":"'Average-w-bkg'!B18*$F$2/'Average-w-bkg'!B$5","v":{"$error":"#DIV/0!"}},{"$f":"'Average-w-bkg'!C18*$F$2/'Average-w-bkg'!C$5","v":{"$error":"#DIV/0!"}},{"$f":"'Average-w-bkg'!D18*$F$2/'Average-w-bkg'!D$5","v":{"$error":"#DIV/0!"}},{"$f":"'Average-w-bkg'!E18*$F$2/'Average-w-bkg'!E$5","v":{"$error":"#DIV/0!"}},{"$f":"'Average-w-bkg'!F18*$F$2/'Average-w-bkg'!F$5","v":{"$error":"#DIV/0!"}},{"$f":"'Average-w-bkg'!G18*$F$2/'Average-w-bkg'!G$5","v":{"$error":"#DIV/0!"}},{"$f":"'Average-w-bkg'!H18*$F$2/'Average-w-bkg'!H$5","v":{"$error":"#DIV/0!"}},{"$f":"'Average-w-bkg'!I18*$F$2/'Average-w-bkg'!I$5","v":{"$error":"#DIV/0!"}},{"$f":"'Average-w-bkg'!J18*$F$2/'Average-w-bkg'!J$5","v":{"$error":"#DIV/0!"}},{"$f":"'Average-w-bkg'!K18*$F$2/'Average-w-bkg'!K$5","v":{"$error":"#DIV/0!"}},{"$f":"'Average-w-bkg'!L18*$F$2/'Average-w-bkg'!L$5","v":{"$error":"#DIV/0!"}},{"$f":"'Average-w-bkg'!M18*$F$2/'Average-w-bkg'!M$5","v":{"$error":"#DIV/0!"}},{"$f":"'Average-w-bkg'!N18*$F$2/'Average-w-bkg'!N$5","v":{"$error":"#DIV/0!"}},{"$f":"'Average-w-bkg'!O18*$F$2/'Average-w-bkg'!O$5","v":{"$error":"#DIV/0!"}},{"$f":"'Average-w-bkg'!P18*$F$2/'Average-w-bkg'!P$5","v":{"$error":"#DIV/0!"}},{"$f":"'Average-w-bkg'!Q18*$F$2/'Average-w-bkg'!Q$5","v":{"$error":"#DIV/0!"}}]
[{"$f":"'Sorting 1'!A20","v":"P2"},{"$f":"'Average-w-bkg'!B19*$F$2/'Average-w-bkg'!B$5","v":{"$error":"#DIV/0!"}},{"$f":"'Average-w-bkg'!C19*$F$2/'Average-w-bkg'!C$5","v":{"$error":"#DIV/0!"}},{"$f":"'Average-w-bkg'!D19*$F$2/'Average-w-bkg'!D$5","v":{"$error":"#DIV/0!"}},{"$f":"'Average-w-bkg'!E19*$F$2/'Average-w-bkg'!E$5","v":{"$error":"#DIV/0!"}},{"$f":"'Average-w-bkg'!F19*$F$2/'Average-w-bkg'!F$5","v":{"$error":"#DIV/0!"}},{"$f":"'Average-w-bkg'!G19*$F$2/'Average-w-bkg'!G$5","v":{"$error":"#DIV/0!"}},{"$f":"'Average-w-bkg'!H19*$F$2/'Average-w-bkg'!H$5","v":{"$error":"#DIV/0!"}},{"$f":"'Average-w-bkg'!I19*$F$2/'Average-w-bkg'!I$5","v":{"$error":"#DIV/0!"}},{"$f":"'Average-w-bkg'!J19*$F$2/'Average-w-bkg'!J$5","v":{"$error":"#DIV/0!"}},{"$f":"'Average-w-bkg'!K19*$F$2/'Average-w-bkg'!K$5","v":{"$error":"#DIV/0!"}},{"$f":"'Average-w-bkg'!L19*$F$2/'Average-w-bkg'!L$5","v":{"$error":"#DIV/0!"}},{"$f":"'Average-w-bkg'!M19*$F$2/'Average-w-bkg'!M$5","v":{"$error":"#DIV/0!"}},{"$f":"'Average-w-bkg'!N19*$F$2/'Average-w-bkg'!N$5","v":{"$error":"#DIV/0!"}},{"$f":"'Average-w-bkg'!O19*$F$2/'Average-w-bkg'!O$5","v":{"$error":"#DIV/0!"}},{"$f":"'Average-w-bkg'!P19*$F$2/'Average-w-bkg'!P$5","v":{"$error":"#DIV/0!"}},{"$f":"'Average-w-bkg'!Q19*$F$2/'Average-w-bkg'!Q$5","v":{"$error":"#DIV/0!"}}]
[{"$f":"'Sorting 1'!A21","v":"P14"},{"$f":"'Average-w-bkg'!B20*$F$2/'Average-w-bkg'!B$5","v":{"$error":"#DIV/0!"}},{"$f":"'Average-w-bkg'!C20*$F$2/'Average-w-bkg'!C$5","v":{"$error":"#DIV/0!"}},{"$f":"'Average-w-bkg'!D20*$F$2/'Average-w-bkg'!D$5","v":{"$error":"#DIV/0!"}},{"$f":"'Average-w-bkg'!E20*$F$2/'Average-w-bkg'!E$5","v":{"$error":"#DIV/0!"}},{"$f":"'Average-w-bkg'!F20*$F$2/'Average-w-bkg'!F$5","v":{"$error":"#DIV/0!"}},{"$f":"'Average-w-bkg'!G20*$F$2/'Average-w-bkg'!G$5","v":{"$error":"#DIV/0!"}},{"$f":"'Average-w-bkg'!H20*$F$2/'Average-w-bkg'!H$5","v":{"$error":"#DIV/0!"}},{"$f":"'Average-w-bkg'!I20*$F$2/'Average-w-bkg'!I$5","v":{"$error":"#DIV/0!"}},{"$f":"'Average-w-bkg'!J20*$F$2/'Average-w-bkg'!J$5","v":{"$error":"#DIV/0!"}},{"$f":"'Average-w-bkg'!K20*$F$2/'Average-w-bkg'!K$5","v":{"$error":"#DIV/0!"}},{"$f":"'Average-w-bkg'!L20*$F$2/'Average-w-bkg'!L$5","v":{"$error":"#DIV/0!"}},{"$f":"'Average-w-bkg'!M20*$F$2/'Average-w-bkg'!M$5","v":{"$error":"#DIV/0!"}},{"$f":"'Average-w-bkg'!N20*$F$2/'Average-w-bkg'!N$5","v":{"$error":"#DIV/0!"}},{"$f":"'Average-w-bkg'!O20*$F$2/'Average-w-bkg'!O$5","v":{"$error":"#DIV/0!"}},{"$f":"'Average-w-bkg'!P20*$F$2/'Average-w-bkg'!P$5","v":{"$error":"#DIV/0!"}},{"$f":"'Average-w-bkg'!Q20*$F$2/'Average-w-bkg'!Q$5","v":{"$error":"#DIV/0!"}}]
[{"$f":"'Sorting 1'!A22","v":"P24"},{"$f":"'Average-w-bkg'!B21*$F$2/'Average-w-bkg'!B$5","v":{"$error":"#DIV/0!"}},{"$f":"'Average-w-bkg'!C21*$F$2/'Average-w-bkg'!C$5","v":{"$error":"#DIV/0!"}},{"$f":"'Average-w-bkg'!D21*$F$2/'Average-w-bkg'!D$5","v":{"$error":"#DIV/0!"}},{"$f":"'Average-w-bkg'!E21*$F$2/'Average-w-bkg'!E$5","v":{"$error":"#DIV/0!"}},{"$f":"'Average-w-bkg'!F21*$F$2/'Average-w-bkg'!F$5","v":{"$error":"#DIV/0!"}},{"$f":"'Average-w-bkg'!G21*$F$2/'Average-w-bkg'!G$5","v":{"$error":"#DIV/0!"}},{"$f":"'Average-w-bkg'!H21*$F$2/'Average-w-bkg'!H$5","v":{"$error":"#DIV/0!"}},{"$f":"'Average-w-bkg'!I21*$F$2/'Average-w-bkg'!I$5","v":{"$error":"#DIV/0!"}},{"$f":"'Average-w-bkg'!J21*$F$2/'Average-w-bkg'!J$5","v":{"$error":"#DIV/0!"}},{"$f":"'Average-w-bkg'!K21*$F$2/'Average-w-bkg'!K$5","v":{"$error":"#DIV/0!"}},{"$f":"'Average-w-bkg'!L21*$F$2/'Average-w-bkg'!L$5","v":{"$error":"#DIV/0!"}},{"$f":"'Average-w-bkg'!M21*$F$2/'Average-w-bkg'!M$5","v":{"$error":"#DIV/0!"}},{"$f":"'Average-w-bkg'!N21*$F$2/'Average-w-bkg'!N$5","v":{"$error":"#DIV/0!"}},{"$f":"'Average-w-bkg'!O21*$F$2/'Average-w-bkg'!O$5","v":{"$error":"#DIV/0!"}},{"$f":"'Average-w-bkg'!P21*$F$2/'Average-w-bkg'!P$5","v":{"$error":"#DIV/0!"}},{"$f":"'Average-w-bkg'!Q21*$F$2/'Average-w-bkg'!Q$5","v":{"$error":"#DIV/0!"}}]
[{"$f":"'Sorting 1'!A23","v":"P36"},{"$f":"'Average-w-bkg'!B22*$F$2/'Average-w-bkg'!B$5","v":{"$error":"#DIV/0!"}},{"$f":"'Average-w-bkg'!C22*$F$2/'Average-w-bkg'!C$5","v":{"$error":"#DIV/0!"}},{"$f":"'Average-w-bkg'!D22*$F$2/'Average-w-bkg'!D$5","v":{"$error":"#DIV/0!"}},{"$f":"'Average-w-bkg'!E22*$F$2/'Average-w-bkg'!E$5","v":{"$error":"#DIV/0!"}},{"$f":"'Average-w-bkg'!F22*$F$2/'Average-w-bkg'!F$5","v":{"$error":"#DIV/0!"}},{"$f":"'Average-w-bkg'!G22*$F$2/'Average-w-bkg'!G$5","v":{"$error":"#DIV/0!"}},{"$f":"'Average-w-bkg'!H22*$F$2/'Average-w-bkg'!H$5","v":{"$error":"#DIV/0!"}},{"$f":"'Average-w-bkg'!I22*$F$2/'Average-w-bkg'!I$5","v":{"$error":"#DIV/0!"}},{"$f":"'Average-w-bkg'!J22*$F$2/'Average-w-bkg'!J$5","v":{"$error":"#DIV/0!"}},{"$f":"'Average-w-bkg'!K22*$F$2/'Average-w-bkg'!K$5","v":{"$error":"#DIV/0!"}},{"$f":"'Average-w-bkg'!L22*$F$2/'Average-w-bkg'!L$5","v":{"$error":"#DIV/0!"}},{"$f":"'Average-w-bkg'!M22*$F$2/'Average-w-bkg'!M$5","v":{"$error":"#DIV/0!"}},{"$f":"'Average-w-bkg'!N22*$F$2/'Average-w-bkg'!N$5","v":{"$error":"#DIV/0!"}},{"$f":"'Average-w-bkg'!O22*$F$2/'Average-w-bkg'!O$5","v":{"$error":"#DIV/0!"}},{"$f":"'Average-w-bkg'!P22*$F$2/'Average-w-bkg'!P$5","v":{"$error":"#DIV/0!"}},{"$f":"'Average-w-bkg'!Q22*$F$2/'Average-w-bkg'!Q$5","v":{"$error":"#DIV/0!"}}]
[{"$f":"'Sorting 1'!A24","v":"P48"},{"$f":"'Average-w-bkg'!B23*$F$2/'Average-w-bkg'!B$5","v":{"$error":"#DIV/0!"}},{"$f":"'Average-w-bkg'!C23*$F$2/'Average-w-bkg'!C$5","v":{"$error":"#DIV/0!"}},{"$f":"'Average-w-bkg'!D23*$F$2/'Average-w-bkg'!D$5","v":{"$error":"#DIV/0!"}},{"$f":"'Average-w-bkg'!E23*$F$2/'Average-w-bkg'!E$5","v":{"$error":"#DIV/0!"}},{"$f":"'Average-w-bkg'!F23*$F$2/'Average-w-bkg'!F$5","v":{"$error":"#DIV/0!"}},{"$f":"'Average-w-bkg'!G23*$F$2/'Average-w-bkg'!G$5","v":{"$error":"#DIV/0!"}},{"$f":"'Average-w-bkg'!H23*$F$2/'Average-w-bkg'!H$5","v":{"$error":"#DIV/0!"}},{"$f":"'Average-w-bkg'!I23*$F$2/'Average-w-bkg'!I$5","v":{"$error":"#DIV/0!"}},{"$f":"'Average-w-bkg'!J23*$F$2/'Average-w-bkg'!J$5","v":{"$error":"#DIV/0!"}},{"$f":"'Average-w-bkg'!K23*$F$2/'Average-w-bkg'!K$5","v":{"$error":"#DIV/0!"}},{"$f":"'Average-w-bkg'!L23*$F$2/'Average-w-bkg'!L$5","v":{"$error":"#DIV/0!"}},{"$f":"'Average-w-bkg'!M23*$F$2/'Average-w-bkg'!M$5","v":{"$error":"#DIV/0!"}},{"$f":"'Average-w-bkg'!N23*$F$2/'Average-w-bkg'!N$5","v":{"$error":"#DIV/0!"}},{"$f":"'Average-w-bkg'!O23*$F$2/'Average-w-bkg'!O$5","v":{"$error":"#DIV/0!"}},{"$f":"'Average-w-bkg'!P23*$F$2/'Average-w-bkg'!P$5","v":{"$error":"#DIV/0!"}},{"$f":"'Average-w-bkg'!Q23*$F$2/'Average-w-bkg'!Q$5","v":{"$error":"#DIV/0!"}}]
[{"$f":"'Sorting 1'!A25","v":"P3"},{"$f":"'Average-w-bkg'!B24*$F$2/'Average-w-bkg'!B$5","v":{"$error":"#DIV/0!"}},{"$f":"'Average-w-bkg'!C24*$F$2/'Average-w-bkg'!C$5","v":{"$error":"#DIV/0!"}},{"$f":"'Average-w-bkg'!D24*$F$2/'Average-w-bkg'!D$5","v":{"$error":"#DIV/0!"}},{"$f":"'Average-w-bkg'!E24*$F$2/'Average-w-bkg'!E$5","v":{"$error":"#DIV/0!"}},{"$f":"'Average-w-bkg'!F24*$F$2/'Average-w-bkg'!F$5","v":{"$error":"#DIV/0!"}},{"$f":"'Average-w-bkg'!G24*$F$2/'Average-w-bkg'!G$5","v":{"$error":"#DIV/0!"}},{"$f":"'Average-w-bkg'!H24*$F$2/'Average-w-bkg'!H$5","v":{"$error":"#DIV/0!"}},{"$f":"'Average-w-bkg'!I24*$F$2/'Average-w-bkg'!I$5","v":{"$error":"#DIV/0!"}},{"$f":"'Average-w-bkg'!J24*$F$2/'Average-w-bkg'!J$5","v":{"$error":"#DIV/0!"}},{"$f":"'Average-w-bkg'!K24*$F$2/'Average-w-bkg'!K$5","v":{"$error":"#DIV/0!"}},{"$f":"'Average-w-bkg'!L24*$F$2/'Average-w-bkg'!L$5","v":{"$error":"#DIV/0!"}},{"$f":"'Average-w-bkg'!M24*$F$2/'Average-w-bkg'!M$5","v":{"$error":"#DIV/0!"}},{"$f":"'Average-w-bkg'!N24*$F$2/'Average-w-bkg'!N$5","v":{"$error":"#DIV/0!"}},{"$f":"'Average-w-bkg'!O24*$F$2/'Average-w-bkg'!O$5","v":{"$error":"#DIV/0!"}},{"$f":"'Average-w-bkg'!P24*$F$2/'Average-w-bkg'!P$5","v":{"$error":"#DIV/0!"}},{"$f":"'Average-w-bkg'!Q24*$F$2/'Average-w-bkg'!Q$5","v":{"$error":"#DIV/0!"}}]
[{"$f":"'Sorting 1'!A26","v":"P15"},{"$f":"'Average-w-bkg'!B25*$F$2/'Average-w-bkg'!B$5","v":{"$error":"#DIV/0!"}},{"$f":"'Average-w-bkg'!C25*$F$2/'Average-w-bkg'!C$5","v":{"$error":"#DIV/0!"}},{"$f":"'Average-w-bkg'!D25*$F$2/'Average-w-bkg'!D$5","v":{"$error":"#DIV/0!"}},{"$f":"'Average-w-bkg'!E25*$F$2/'Average-w-bkg'!E$5","v":{"$error":"#DIV/0!"}},{"$f":"'Average-w-bkg'!F25*$F$2/'Average-w-bkg'!F$5","v":{"$error":"#DIV/0!"}},{"$f":"'Average-w-bkg'!G25*$F$2/'Average-w-bkg'!G$5","v":{"$error":"#DIV/0!"}},{"$f":"'Average-w-bkg'!H25*$F$2/'Average-w-bkg'!H$5","v":{"$error":"#DIV/0!"}},{"$f":"'Average-w-bkg'!I25*$F$2/'Average-w-bkg'!I$5","v":{"$error":"#DIV/0!"}},{"$f":"'Average-w-bkg'!J25*$F$2/'Average-w-bkg'!J$5","v":{"$error":"#DIV/0!"}},{"$f":"'Average-w-bkg'!K25*$F$2/'Average-w-bkg'!K$5","v":{"$error":"#DIV/0!"}},{"$f":"'Average-w-bkg'!L25*$F$2/'Average-w-bkg'!L$5","v":{"$error":"#DIV/0!"}},{"$f":"'Average-w-bkg'!M25*$F$2/'Average-w-bkg'!M$5","v":{"$error":"#DIV/0!"}},{"$f":"'Average-w-bkg'!N25*$F$2/'Average-w-bkg'!N$5","v":{"$error":"#DIV/0!"}},{"$f":"'Average-w-bkg'!O25*$F$2/'Average-w-bkg'!O$5","v":{"$error":"#DIV/0!"}},{"$f":"'Average-w-bkg'!P25*$F$2/'Average-w-bkg'!P$5","v":{"$error":"#DIV/0!"}},{"$f":"'Average-w-bkg'!Q25*$F$2/'Average-w-bkg'!Q$5","v":{"$error":"#DIV/0!"}}]
[{"$f":"'Sorting 1'!A27","v":"P25"},{"$f":"'Average-w-bkg'!B26*$F$2/'Average-w-bkg'!B$5","v":{"$error":"#DIV/0!"}},{"$f":"'Average-w-bkg'!C26*$F$2/'Average-w-bkg'!C$5","v":{"$error":"#DIV/0!"}},{"$f":"'Average-w-bkg'!D26*$F$2/'Average-w-bkg'!D$5","v":{"$error":"#DIV/0!"}},{"$f":"'Average-w-bkg'!E26*$F$2/'Average-w-bkg'!E$5","v":{"$error":"#DIV/0!"}},{"$f":"'Average-w-bkg'!F26*$F$2/'Average-w-bkg'!F$5","v":{"$error":"#DIV/0!"}},{"$f":"'Average-w-bkg'!G26*$F$2/'Average-w-bkg'!G$5","v":{"$error":"#DIV/0!"}},{"$f":"'Average-w-bkg'!H26*$F$2/'Average-w-bkg'!H$5","v":{"$error":"#DIV/0!"}},{"$f":"'Average-w-bkg'!I26*$F$2/'Average-w-bkg'!I$5","v":{"$error":"#DIV/0!"}},{"$f":"'Average-w-bkg'!J26*$F$2/'Average-w-bkg'!J$5","v":{"$error":"#DIV/0!"}},{"$f":"'Average-w-bkg'!K26*$F$2/'Average-w-bkg'!K$5","v":{"$error":"#DIV/0!"}},{"$f":"'Average-w-bkg'!L26*$F$2/'Average-w-bkg'!L$5","v":{"$error":"#DIV/0!"}},{"$f":"'Average-w-bkg'!M26*$F$2/'Average-w-bkg'!M$5","v":{"$error":"#DIV/0!"}},{"$f":"'Average-w-bkg'!N26*$F$2/'Average-w-bkg'!N$5","v":{"$error":"#DIV/0!"}},{"$f":"'Average-w-bkg'!O26*$F$2/'Average-w-bkg'!O$5","v":{"$error":"#DIV/0!"}},{"$f":"'Average-w-bkg'!P26*$F$2/'Average-w-bkg'!P$5","v":{"$error":"#DIV/0!"}},{"$f":"'Average-w-bkg'!Q26*$F$2/'Average-w-bkg'!Q$5","v":{"$error":"#DIV/0!"}}]
[{"$f":"'Sorting 1'!A28","v":"P37"},{"$f":"'Average-w-bkg'!B27*$F$2/'Average-w-bkg'!B$5","v":{"$error":"#DIV/0!"}},{"$f":"'Average-w-bkg'!C27*$F$2/'Average-w-bkg'!C$5","v":{"$error":"#DIV/0!"}},{"$f":"'Average-w-bkg'!D27*$F$2/'Average-w-bkg'!D$5","v":{"$error":"#DIV/0!"}},{"$f":"'Average-w-bkg'!E27*$F$2/'Average-w-bkg'!E$5","v":{"$error":"#DIV/0!"}},{"$f":"'Average-w-bkg'!F27*$F$2/'Average-w-bkg'!F$5","v":{"$error":"#DIV/0!"}},{"$f":"'Average-w-bkg'!G27*$F$2/'Average-w-bkg'!G$5","v":{"$error":"#DIV/0!"}},{"$f":"'Average-w-bkg'!H27*$F$2/'Average-w-bkg'!H$5","v":{"$error":"#DIV/0!"}},{"$f":"'Average-w-bkg'!I27*$F$2/'Average-w-bkg'!I$5","v":{"$error":"#DIV/0!"}},{"$f":"'Average-w-bkg'!J27*$F$2/'Average-w-bkg'!J$5","v":{"$error":"#DIV/0!"}},{"$f":"'Average-w-bkg'!K27*$F$2/'Average-w-bkg'!K$5","v":{"$error":"#DIV/0!"}},{"$f":"'Average-w-bkg'!L27*$F$2/'Average-w-bkg'!L$5","v":{"$error":"#DIV/0!"}},{"$f":"'Average-w-bkg'!M27*$F$2/'Average-w-bkg'!M$5","v":{"$error":"#DIV/0!"}},{"$f":"'Average-w-bkg'!N27*$F$2/'Average-w-bkg'!N$5","v":{"$error":"#DIV/0!"}},{"$f":"'Average-w-bkg'!O27*$F$2/'Average-w-bkg'!O$5","v":{"$error":"#DIV/0!"}},{"$f":"'Average-w-bkg'!P27*$F$2/'Average-w-bkg'!P$5","v":{"$error":"#DIV/0!"}},{"$f":"'Average-w-bkg'!Q27*$F$2/'Average-w-bkg'!Q$5","v":{"$error":"#DIV/0!"}}]
[{"$f":"'Sorting 1'!A29","v":"P49"},{"$f":"'Average-w-bkg'!B28*$F$2/'Average-w-bkg'!B$5","v":{"$error":"#DIV/0!"}},{"$f":"'Average-w-bkg'!C28*$F$2/'Average-w-bkg'!C$5","v":{"$error":"#DIV/0!"}},{"$f":"'Average-w-bkg'!D28*$F$2/'Average-w-bkg'!D$5","v":{"$error":"#DIV/0!"}},{"$f":"'Average-w-bkg'!E28*$F$2/'Average-w-bkg'!E$5","v":{"$error":"#DIV/0!"}},{"$f":"'Average-w-bkg'!F28*$F$2/'Average-w-bkg'!F$5","v":{"$error":"#DIV/0!"}},{"$f":"'Average-w-bkg'!G28*$F$2/'Average-w-bkg'!G$5","v":{"$error":"#DIV/0!"}},{"$f":"'Average-w-bkg'!H28*$F$2/'Average-w-bkg'!H$5","v":{"$error":"#DIV/0!"}},{"$f":"'Average-w-bkg'!I28*$F$2/'Average-w-bkg'!I$5","v":{"$error":"#DIV/0!"}},{"$f":"'Average-w-bkg'!J28*$F$2/'Average-w-bkg'!J$5","v":{"$error":"#DIV/0!"}},{"$f":"'Average-w-bkg'!K28*$F$2/'Average-w-bkg'!K$5","v":{"$error":"#DIV/0!"}},{"$f":"'Average-w-bkg'!L28*$F$2/'Average-w-bkg'!L$5","v":{"$error":"#DIV/0!"}},{"$f":"'Average-w-bkg'!M28*$F$2/'Average-w-bkg'!M$5","v":{"$error":"#DIV/0!"}},{"$f":"'Average-w-bkg'!N28*$F$2/'Average-w-bkg'!N$5","v":{"$error":"#DIV/0!"}},{"$f":"'Average-w-bkg'!O28*$F$2/'Average-w-bkg'!O$5","v":{"$error":"#DIV/0!"}},{"$f":"'Average-w-bkg'!P28*$F$2/'Average-w-bkg'!P$5","v":{"$error":"#DIV/0!"}},{"$f":"'Average-w-bkg'!Q28*$F$2/'Average-w-bkg'!Q$5","v":{"$error":"#DIV/0!"}}]
[{"$f":"'Sorting 1'!A30","v":"P4"},{"$f":"'Average-w-bkg'!B29*$F$2/'Average-w-bkg'!B$5","v":{"$error":"#DIV/0!"}},{"$f":"'Average-w-bkg'!C29*$F$2/'Average-w-bkg'!C$5","v":{"$error":"#DIV/0!"}},{"$f":"'Average-w-bkg'!D29*$F$2/'Average-w-bkg'!D$5","v":{"$error":"#DIV/0!"}},{"$f":"'Average-w-bkg'!E29*$F$2/'Average-w-bkg'!E$5","v":{"$error":"#DIV/0!"}},{"$f":"'Average-w-bkg'!F29*$F$2/'Average-w-bkg'!F$5","v":{"$error":"#DIV/0!"}},{"$f":"'Average-w-bkg'!G29*$F$2/'Average-w-bkg'!G$5","v":{"$error":"#DIV/0!"}},{"$f":"'Average-w-bkg'!H29*$F$2/'Average-w-bkg'!H$5","v":{"$error":"#DIV/0!"}},{"$f":"'Average-w-bkg'!I29*$F$2/'Average-w-bkg'!I$5","v":{"$error":"#DIV/0!"}},{"$f":"'Average-w-bkg'!J29*$F$2/'Average-w-bkg'!J$5","v":{"$error":"#DIV/0!"}},{"$f":"'Average-w-bkg'!K29*$F$2/'Average-w-bkg'!K$5","v":{"$error":"#DIV/0!"}},{"$f":"'Average-w-bkg'!L29*$F$2/'Average-w-bkg'!L$5","v":{"$error":"#DIV/0!"}},{"$f":"'Average-w-bkg'!M29*$F$2/'Average-w-bkg'!M$5","v":{"$error":"#DIV/0!"}},{"$f":"'Average-w-bkg'!N29*$F$2/'Average-w-bkg'!N$5","v":{"$error":"#DIV/0!"}},{"$f":"'Average-w-bkg'!O29*$F$2/'Average-w-bkg'!O$5","v":{"$error":"#DIV/0!"}},{"$f":"'Average-w-bkg'!P29*$F$2/'Average-w-bkg'!P$5","v":{"$error":"#DIV/0!"}},{"$f":"'Average-w-bkg'!Q29*$F$2/'Average-w-bkg'!Q$5","v":{"$error":"#DIV/0!"}}]
[{"$f":"'Sorting 1'!A31","v":"P16"},{"$f":"'Average-w-bkg'!B30*$F$2/'Average-w-bkg'!B$5","v":{"$error":"#DIV/0!"}},{"$f":"'Average-w-bkg'!C30*$F$2/'Average-w-bkg'!C$5","v":{"$error":"#DIV/0!"}},{"$f":"'Average-w-bkg'!D30*$F$2/'Average-w-bkg'!D$5","v":{"$error":"#DIV/0!"}},{"$f":"'Average-w-bkg'!E30*$F$2/'Average-w-bkg'!E$5","v":{"$error":"#DIV/0!"}},{"$f":"'Average-w-bkg'!F30*$F$2/'Average-w-bkg'!F$5","v":{"$error":"#DIV/0!"}},{"$f":"'Average-w-bkg'!G30*$F$2/'Average-w-bkg'!G$5","v":{"$error":"#DIV/0!"}},{"$f":"'Average-w-bkg'!H30*$F$2/'Average-w-bkg'!H$5","v":{"$error":"#DIV/0!"}},{"$f":"'Average-w-bkg'!I30*$F$2/'Average-w-bkg'!I$5","v":{"$error":"#DIV/0!"}},{"$f":"'Average-w-bkg'!J30*$F$2/'Average-w-bkg'!J$5","v":{"$error":"#DIV/0!"}},{"$f":"'Average-w-bkg'!K30*$F$2/'Average-w-bkg'!K$5","v":{"$error":"#DIV/0!"}},{"$f":"'Average-w-bkg'!L30*$F$2/'Average-w-bkg'!L$5","v":{"$error":"#DIV/0!"}},{"$f":"'Average-w-bkg'!M30*$F$2/'Average-w-bkg'!M$5","v":{"$error":"#DIV/0!"}},{"$f":"'Average-w-bkg'!N30*$F$2/'Average-w-bkg'!N$5","v":{"$error":"#DIV/0!"}},{"$f":"'Average-w-bkg'!O30*$F$2/'Average-w-bkg'!O$5","v":{"$error":"#DIV/0!"}},{"$f":"'Average-w-bkg'!P30*$F$2/'Average-w-bkg'!P$5","v":{"$error":"#DIV/0!"}},{"$f":"'Average-w-bkg'!Q30*$F$2/'Average-w-bkg'!Q$5","v":{"$error":"#DIV/0!"}}]
[{"$f":"'Sorting 1'!A32","v":"P26"},{"$f":"'Average-w-bkg'!B31*$F$2/'Average-w-bkg'!B$5","v":{"$error":"#DIV/0!"}},{"$f":"'Average-w-bkg'!C31*$F$2/'Average-w-bkg'!C$5","v":{"$error":"#DIV/0!"}},{"$f":"'Average-w-bkg'!D31*$F$2/'Average-w-bkg'!D$5","v":{"$error":"#DIV/0!"}},{"$f":"'Average-w-bkg'!E31*$F$2/'Average-w-bkg'!E$5","v":{"$error":"#DIV/0!"}},{"$f":"'Average-w-bkg'!F31*$F$2/'Average-w-bkg'!F$5","v":{"$error":"#DIV/0!"}},{"$f":"'Average-w-bkg'!G31*$F$2/'Average-w-bkg'!G$5","v":{"$error":"#DIV/0!"}},{"$f":"'Average-w-bkg'!H31*$F$2/'Average-w-bkg'!H$5","v":{"$error":"#DIV/0!"}},{"$f":"'Average-w-bkg'!I31*$F$2/'Average-w-bkg'!I$5","v":{"$error":"#DIV/0!"}},{"$f":"'Average-w-bkg'!J31*$F$2/'Average-w-bkg'!J$5","v":{"$error":"#DIV/0!"}},{"$f":"'Average-w-bkg'!K31*$F$2/'Average-w-bkg'!K$5","v":{"$error":"#DIV/0!"}},{"$f":"'Average-w-bkg'!L31*$F$2/'Average-w-bkg'!L$5","v":{"$error":"#DIV/0!"}},{"$f":"'Average-w-bkg'!M31*$F$2/'Average-w-bkg'!M$5","v":{"$error":"#DIV/0!"}},{"$f":"'Average-w-bkg'!N31*$F$2/'Average-w-bkg'!N$5","v":{"$error":"#DIV/0!"}},{"$f":"'Average-w-bkg'!O31*$F$2/'Average-w-bkg'!O$5","v":{"$error":"#DIV/0!"}},{"$f":"'Average-w-bkg'!P31*$F$2/'Average-w-bkg'!P$5","v":{"$error":"#DIV/0!"}},{"$f":"'Average-w-bkg'!Q31*$F$2/'Average-w-bkg'!Q$5","v":{"$error":"#DIV/0!"}}]
[{"$f":"'Sorting 1'!A33","v":"P38"},{"$f":"'Average-w-bkg'!B32*$F$2/'Average-w-bkg'!B$5","v":{"$error":"#DIV/0!"}},{"$f":"'Average-w-bkg'!C32*$F$2/'Average-w-bkg'!C$5","v":{"$error":"#DIV/0!"}},{"$f":"'Average-w-bkg'!D32*$F$2/'Average-w-bkg'!D$5","v":{"$error":"#DIV/0!"}},{"$f":"'Average-w-bkg'!E32*$F$2/'Average-w-bkg'!E$5","v":{"$error":"#DIV/0!"}},{"$f":"'Average-w-bkg'!F32*$F$2/'Average-w-bkg'!F$5","v":{"$error":"#DIV/0!"}},{"$f":"'Average-w-bkg'!G32*$F$2/'Average-w-bkg'!G$5","v":{"$error":"#DIV/0!"}},{"$f":"'Average-w-bkg'!H32*$F$2/'Average-w-bkg'!H$5","v":{"$error":"#DIV/0!"}},{"$f":"'Average-w-bkg'!I32*$F$2/'Average-w-bkg'!I$5","v":{"$error":"#DIV/0!"}},{"$f":"'Average-w-bkg'!J32*$F$2/'Average-w-bkg'!J$5","v":{"$error":"#DIV/0!"}},{"$f":"'Average-w-bkg'!K32*$F$2/'Average-w-bkg'!K$5","v":{"$error":"#DIV/0!"}},{"$f":"'Average-w-bkg'!L32*$F$2/'Average-w-bkg'!L$5","v":{"$error":"#DIV/0!"}},{"$f":"'Average-w-bkg'!M32*$F$2/'Average-w-bkg'!M$5","v":{"$error":"#DIV/0!"}},{"$f":"'Average-w-bkg'!N32*$F$2/'Average-w-bkg'!N$5","v":{"$error":"#DIV/0!"}},{"$f":"'Average-w-bkg'!O32*$F$2/'Average-w-bkg'!O$5","v":{"$error":"#DIV/0!"}},{"$f":"'Average-w-bkg'!P32*$F$2/'Average-w-bkg'!P$5","v":{"$error":"#DIV/0!"}},{"$f":"'Average-w-bkg'!Q32*$F$2/'Average-w-bkg'!Q$5","v":{"$error":"#DIV/0!"}}]
[{"$f":"'Sorting 1'!A34","v":"P50"},{"$f":"'Average-w-bkg'!B33*$F$2/'Average-w-bkg'!B$5","v":{"$error":"#DIV/0!"}},{"$f":"'Average-w-bkg'!C33*$F$2/'Average-w-bkg'!C$5","v":{"$error":"#DIV/0!"}},{"$f":"'Average-w-bkg'!D33*$F$2/'Average-w-bkg'!D$5","v":{"$error":"#DIV/0!"}},{"$f":"'Average-w-bkg'!E33*$F$2/'Average-w-bkg'!E$5","v":{"$error":"#DIV/0!"}},{"$f":"'Average-w-bkg'!F33*$F$2/'Average-w-bkg'!F$5","v":{"$error":"#DIV/0!"}},{"$f":"'Average-w-bkg'!G33*$F$2/'Average-w-bkg'!G$5","v":{"$error":"#DIV/0!"}},{"$f":"'Average-w-bkg'!H33*$F$2/'Average-w-bkg'!H$5","v":{"$error":"#DIV/0!"}},{"$f":"'Average-w-bkg'!I33*$F$2/'Average-w-bkg'!I$5","v":{"$error":"#DIV/0!"}},{"$f":"'Average-w-bkg'!J33*$F$2/'Average-w-bkg'!J$5","v":{"$error":"#DIV/0!"}},{"$f":"'Average-w-bkg'!K33*$F$2/'Average-w-bkg'!K$5","v":{"$error":"#DIV/0!"}},{"$f":"'Average-w-bkg'!L33*$F$2/'Average-w-bkg'!L$5","v":{"$error":"#DIV/0!"}},{"$f":"'Average-w-bkg'!M33*$F$2/'Average-w-bkg'!M$5","v":{"$error":"#DIV/0!"}},{"$f":"'Average-w-bkg'!N33*$F$2/'Average-w-bkg'!N$5","v":{"$error":"#DIV/0!"}},{"$f":"'Average-w-bkg'!O33*$F$2/'Average-w-bkg'!O$5","v":{"$error":"#DIV/0!"}},{"$f":"'Average-w-bkg'!P33*$F$2/'Average-w-bkg'!P$5","v":{"$error":"#DIV/0!"}},{"$f":"'Average-w-bkg'!Q33*$F$2/'Average-w-bkg'!Q$5","v":{"$error":"#DIV/0!"}}]
[{"$f":"'Sorting 1'!A35","v":"P5"},{"$f":"'Average-w-bkg'!B34*$F$2/'Average-w-bkg'!B$5","v":{"$error":"#DIV/0!"}},{"$f":"'Average-w-bkg'!C34*$F$2/'Average-w-bkg'!C$5","v":{"$error":"#DIV/0!"}},{"$f":"'Average-w-bkg'!D34*$F$2/'Average-w-bkg'!D$5","v":{"$error":"#DIV/0!"}},{"$f":"'Average-w-bkg'!E34*$F$2/'Average-w-bkg'!E$5","v":{"$error":"#DIV/0!"}},{"$f":"'Average-w-bkg'!F34*$F$2/'Average-w-bkg'!F$5","v":{"$error":"#DIV/0!"}},{"$f":"'Average-w-bkg'!G34*$F$2/'Average-w-bkg'!G$5","v":{"$error":"#DIV/0!"}},{"$f":"'Average-w-bkg'!H34*$F$2/'Average-w-bkg'!H$5","v":{"$error":"#DIV/0!"}},{"$f":"'Average-w-bkg'!I34*$F$2/'Average-w-bkg'!I$5","v":{"$error":"#DIV/0!"}},{"$f":"'Average-w-bkg'!J34*$F$2/'Average-w-bkg'!J$5","v":{"$error":"#DIV/0!"}},{"$f":"'Average-w-bkg'!K34*$F$2/'Average-w-bkg'!K$5","v":{"$error":"#DIV/0!"}},{"$f":"'Average-w-bkg'!L34*$F$2/'Average-w-bkg'!L$5","v":{"$error":"#DIV/0!"}},{"$f":"'Average-w-bkg'!M34*$F$2/'Average-w-bkg'!M$5","v":{"$error":"#DIV/0!"}},{"$f":"'Average-w-bkg'!N34*$F$2/'Average-w-bkg'!N$5","v":{"$error":"#DIV/0!"}},{"$f":"'Average-w-bkg'!O34*$F$2/'Average-w-bkg'!O$5","v":{"$error":"#DIV/0!"}},{"$f":"'Average-w-bkg'!P34*$F$2/'Average-w-bkg'!P$5","v":{"$error":"#DIV/0!"}},{"$f":"'Average-w-bkg'!Q34*$F$2/'Average-w-bkg'!Q$5","v":{"$error":"#DIV/0!"}}]
[{"$f":"'Sorting 1'!A36","v":"P17"},{"$f":"'Average-w-bkg'!B35*$F$2/'Average-w-bkg'!B$5","v":{"$error":"#DIV/0!"}},{"$f":"'Average-w-bkg'!C35*$F$2/'Average-w-bkg'!C$5","v":{"$error":"#DIV/0!"}},{"$f":"'Average-w-bkg'!D35*$F$2/'Average-w-bkg'!D$5","v":{"$error":"#DIV/0!"}},{"$f":"'Average-w-bkg'!E35*$F$2/'Average-w-bkg'!E$5","v":{"$error":"#DIV/0!"}},{"$f":"'Average-w-bkg'!F35*$F$2/'Average-w-bkg'!F$5","v":{"$error":"#DIV/0!"}},{"$f":"'Average-w-bkg'!G35*$F$2/'Average-w-bkg'!G$5","v":{"$error":"#DIV/0!"}},{"$f":"'Average-w-bkg'!H35*$F$2/'Average-w-bkg'!H$5","v":{"$error":"#DIV/0!"}},{"$f":"'Average-w-bkg'!I35*$F$2/'Average-w-bkg'!I$5","v":{"$error":"#DIV/0!"}},{"$f":"'Average-w-bkg'!J35*$F$2/'Average-w-bkg'!J$5","v":{"$error":"#DIV/0!"}},{"$f":"'Average-w-bkg'!K35*$F$2/'Average-w-bkg'!K$5","v":{"$error":"#DIV/0!"}},{"$f":"'Average-w-bkg'!L35*$F$2/'Average-w-bkg'!L$5","v":{"$error":"#DIV/0!"}},{"$f":"'Average-w-bkg'!M35*$F$2/'Average-w-bkg'!M$5","v":{"$error":"#DIV/0!"}},{"$f":"'Average-w-bkg'!N35*$F$2/'Average-w-bkg'!N$5","v":{"$error":"#DIV/0!"}},{"$f":"'Average-w-bkg'!O35*$F$2/'Average-w-bkg'!O$5","v":{"$error":"#DIV/0!"}},{"$f":"'Average-w-bkg'!P35*$F$2/'Average-w-bkg'!P$5","v":{"$error":"#DIV/0!"}},{"$f":"'Average-w-bkg'!Q35*$F$2/'Average-w-bkg'!Q$5","v":{"$error":"#DIV/0!"}}]
[{"$f":"'Sorting 1'!A37","v":"P27"},{"$f":"'Average-w-bkg'!B36*$F$2/'Average-w-bkg'!B$5","v":{"$error":"#DIV/0!"}},{"$f":"'Average-w-bkg'!C36*$F$2/'Average-w-bkg'!C$5","v":{"$error":"#DIV/0!"}},{"$f":"'Average-w-bkg'!D36*$F$2/'Average-w-bkg'!D$5","v":{"$error":"#DIV/0!"}},{"$f":"'Average-w-bkg'!E36*$F$2/'Average-w-bkg'!E$5","v":{"$error":"#DIV/0!"}},{"$f":"'Average-w-bkg'!F36*$F$2/'Average-w-bkg'!F$5","v":{"$error":"#DIV/0!"}},{"$f":"'Average-w-bkg'!G36*$F$2/'Average-w-bkg'!G$5","v":{"$error":"#DIV/0!"}},{"$f":"'Average-w-bkg'!H36*$F$2/'Average-w-bkg'!H$5","v":{"$error":"#DIV/0!"}},{"$f":"'Average-w-bkg'!I36*$F$2/'Average-w-bkg'!I$5","v":{"$error":"#DIV/0!"}},{"$f":"'Average-w-bkg'!J36*$F$2/'Average-w-bkg'!J$5","v":{"$error":"#DIV/0!"}},{"$f":"'Average-w-bkg'!K36*$F$2/'Average-w-bkg'!K$5","v":{"$error":"#DIV/0!"}},{"$f":"'Average-w-bkg'!L36*$F$2/'Average-w-bkg'!L$5","v":{"$error":"#DIV/0!"}},{"$f":"'Average-w-bkg'!M36*$F$2/'Average-w-bkg'!M$5","v":{"$error":"#DIV/0!"}},{"$f":"'Average-w-bkg'!N36*$F$2/'Average-w-bkg'!N$5","v":{"$error":"#DIV/0!"}},{"$f":"'Average-w-bkg'!O36*$F$2/'Average-w-bkg'!O$5","v":{"$error":"#DIV/0!"}},{"$f":"'Average-w-bkg'!P36*$F$2/'Average-w-bkg'!P$5","v":{"$error":"#DIV/0!"}},{"$f":"'Average-w-bkg'!Q36*$F$2/'Average-w-bkg'!Q$5","v":{"$error":"#DIV/0!"}}]
[{"$f":"'Sorting 1'!A38","v":"P39"},{"$f":"'Average-w-bkg'!B37*$F$2/'Average-w-bkg'!B$5","v":{"$error":"#DIV/0!"}},{"$f":"'Average-w-bkg'!C37*$F$2/'Average-w-bkg'!C$5","v":{"$error":"#DIV/0!"}},{"$f":"'Average-w-bkg'!D37*$F$2/'Average-w-bkg'!D$5","v":{"$error":"#DIV/0!"}},{"$f":"'Average-w-bkg'!E37*$F$2/'Average-w-bkg'!E$5","v":{"$error":"#DIV/0!"}},{"$f":"'Average-w-bkg'!F37*$F$2/'Average-w-bkg'!F$5","v":{"$error":"#DIV/0!"}},{"$f":"'Average-w-bkg'!G37*$F$2/'Average-w-bkg'!G$5","v":{"$error":"#DIV/0!"}},{"$f":"'Average-w-bkg'!H37*$F$2/'Average-w-bkg'!H$5","v":{"$error":"#DIV/0!"}},{"$f":"'Average-w-bkg'!I37*$F$2/'Average-w-bkg'!I$5","v":{"$error":"#DIV/0!"}},{"$f":"'Average-w-bkg'!J37*$F$2/'Average-w-bkg'!J$5","v":{"$error":"#DIV/0!"}},{"$f":"'Average-w-bkg'!K37*$F$2/'Average-w-bkg'!K$5","v":{"$error":"#DIV/0!"}},{"$f":"'Average-w-bkg'!L37*$F$2/'Average-w-bkg'!L$5","v":{"$error":"#DIV/0!"}},{"$f":"'Average-w-bkg'!M37*$F$2/'Average-w-bkg'!M$5","v":{"$error":"#DIV/0!"}},{"$f":"'Average-w-bkg'!N37*$F$2/'Average-w-bkg'!N$5","v":{"$error":"#DIV/0!"}},{"$f":"'Average-w-bkg'!O37*$F$2/'Average-w-bkg'!O$5","v":{"$error":"#DIV/0!"}},{"$f":"'Average-w-bkg'!P37*$F$2/'Average-w-bkg'!P$5","v":{"$error":"#DIV/0!"}},{"$f":"'Average-w-bkg'!Q37*$F$2/'Average-w-bkg'!Q$5","v":{"$error":"#DIV/0!"}}]
[{"$f":"'Sorting 1'!A39","v":"P51"},{"$f":"'Average-w-bkg'!B38*$F$2/'Average-w-bkg'!B$5","v":{"$error":"#DIV/0!"}},{"$f":"'Average-w-bkg'!C38*$F$2/'Average-w-bkg'!C$5","v":{"$error":"#DIV/0!"}},{"$f":"'Average-w-bkg'!D38*$F$2/'Average-w-bkg'!D$5","v":{"$error":"#DIV/0!"}},{"$f":"'Average-w-bkg'!E38*$F$2/'Average-w-bkg'!E$5","v":{"$error":"#DIV/0!"}},{"$f":"'Average-w-bkg'!F38*$F$2/'Average-w-bkg'!F$5","v":{"$error":"#DIV/0!"}},{"$f":"'Average-w-bkg'!G38*$F$2/'Average-w-bkg'!G$5","v":{"$error":"#DIV/0!"}},{"$f":"'Average-w-bkg'!H38*$F$2/'Average-w-bkg'!H$5","v":{"$error":"#DIV/0!"}},{"$f":"'Average-w-bkg'!I38*$F$2/'Average-w-bkg'!I$5","v":{"$error":"#DIV/0!"}},{"$f":"'Average-w-bkg'!J38*$F$2/'Average-w-bkg'!J$5","v":{"$error":"#DIV/0!"}},{"$f":"'Average-w-bkg'!K38*$F$2/'Average-w-bkg'!K$5","v":{"$error":"#DIV/0!"}},{"$f":"'Average-w-bkg'!L38*$F$2/'Average-w-bkg'!L$5","v":{"$error":"#DIV/0!"}},{"$f":"'Average-w-bkg'!M38*$F$2/'Average-w-bkg'!M$5","v":{"$error":"#DIV/0!"}},{"$f":"'Average-w-bkg'!N38*$F$2/'Average-w-bkg'!N$5","v":{"$error":"#DIV/0!"}},{"$f":"'Average-w-bkg'!O38*$F$2/'Average-w-bkg'!O$5","v":{"$error":"#DIV/0!"}},{"$f":"'Average-w-bkg'!P38*$F$2/'Average-w-bkg'!P$5","v":{"$error":"#DIV/0!"}},{"$f":"'Average-w-bkg'!Q38*$F$2/'Average-w-bkg'!Q$5","v":{"$error":"#DIV/0!"}}]
[{"$f":"'Sorting 1'!A40","v":"P6"},{"$f":"'Average-w-bkg'!B39*$F$2/'Average-w-bkg'!B$5","v":{"$error":"#DIV/0!"}},{"$f":"'Average-w-bkg'!C39*$F$2/'Average-w-bkg'!C$5","v":{"$error":"#DIV/0!"}},{"$f":"'Average-w-bkg'!D39*$F$2/'Average-w-bkg'!D$5","v":{"$error":"#DIV/0!"}},{"$f":"'Average-w-bkg'!E39*$F$2/'Average-w-bkg'!E$5","v":{"$error":"#DIV/0!"}},{"$f":"'Average-w-bkg'!F39*$F$2/'Average-w-bkg'!F$5","v":{"$error":"#DIV/0!"}},{"$f":"'Average-w-bkg'!G39*$F$2/'Average-w-bkg'!G$5","v":{"$error":"#DIV/0!"}},{"$f":"'Average-w-bkg'!H39*$F$2/'Average-w-bkg'!H$5","v":{"$error":"#DIV/0!"}},{"$f":"'Average-w-bkg'!I39*$F$2/'Average-w-bkg'!I$5","v":{"$error":"#DIV/0!"}},{"$f":"'Average-w-bkg'!J39*$F$2/'Average-w-bkg'!J$5","v":{"$error":"#DIV/0!"}},{"$f":"'Average-w-bkg'!K39*$F$2/'Average-w-bkg'!K$5","v":{"$error":"#DIV/0!"}},{"$f":"'Average-w-bkg'!L39*$F$2/'Average-w-bkg'!L$5","v":{"$error":"#DIV/0!"}},{"$f":"'Average-w-bkg'!M39*$F$2/'Average-w-bkg'!M$5","v":{"$error":"#DIV/0!"}},{"$f":"'Average-w-bkg'!N39*$F$2/'Average-w-bkg'!N$5","v":{"$error":"#DIV/0!"}},{"$f":"'Average-w-bkg'!O39*$F$2/'Average-w-bkg'!O$5","v":{"$error":"#DIV/0!"}},{"$f":"'Average-w-bkg'!P39*$F$2/'Average-w-bkg'!P$5","v":{"$error":"#DIV/0!"}},{"$f":"'Average-w-bkg'!Q39*$F$2/'Average-w-bkg'!Q$5","v":{"$error":"#DIV/0!"}}]
[{"$f":"'Sorting 1'!A41","v":"P18"},{"$f":"'Average-w-bkg'!B40*$F$2/'Average-w-bkg'!B$5","v":{"$error":"#DIV/0!"}},{"$f":"'Average-w-bkg'!C40*$F$2/'Average-w-bkg'!C$5","v":{"$error":"#DIV/0!"}},{"$f":"'Average-w-bkg'!D40*$F$2/'Average-w-bkg'!D$5","v":{"$error":"#DIV/0!"}},{"$f":"'Average-w-bkg'!E40*$F$2/'Average-w-bkg'!E$5","v":{"$error":"#DIV/0!"}},{"$f":"'Average-w-bkg'!F40*$F$2/'Average-w-bkg'!F$5","v":{"$error":"#DIV/0!"}},{"$f":"'Average-w-bkg'!G40*$F$2/'Average-w-bkg'!G$5","v":{"$error":"#DIV/0!"}},{"$f":"'Average-w-bkg'!H40*$F$2/'Average-w-bkg'!H$5","v":{"$error":"#DIV/0!"}},{"$f":"'Average-w-bkg'!I40*$F$2/'Average-w-bkg'!I$5","v":{"$error":"#DIV/0!"}},{"$f":"'Average-w-bkg'!J40*$F$2/'Average-w-bkg'!J$5","v":{"$error":"#DIV/0!"}},{"$f":"'Average-w-bkg'!K40*$F$2/'Average-w-bkg'!K$5","v":{"$error":"#DIV/0!"}},{"$f":"'Average-w-bkg'!L40*$F$2/'Average-w-bkg'!L$5","v":{"$error":"#DIV/0!"}},{"$f":"'Average-w-bkg'!M40*$F$2/'Average-w-bkg'!M$5","v":{"$error":"#DIV/0!"}},{"$f":"'Average-w-bkg'!N40*$F$2/'Average-w-bkg'!N$5","v":{"$error":"#DIV/0!"}},{"$f":"'Average-w-bkg'!O40*$F$2/'Average-w-bkg'!O$5","v":{"$error":"#DIV/0!"}},{"$f":"'Average-w-bkg'!P40*$F$2/'Average-w-bkg'!P$5","v":{"$error":"#DIV/0!"}},{"$f":"'Average-w-bkg'!Q40*$F$2/'Average-w-bkg'!Q$5","v":{"$error":"#DIV/0!"}}]
[{"$f":"'Sorting 1'!A42","v":"P28"},{"$f":"'Average-w-bkg'!B41*$F$2/'Average-w-bkg'!B$5","v":{"$error":"#DIV/0!"}},{"$f":"'Average-w-bkg'!C41*$F$2/'Average-w-bkg'!C$5","v":{"$error":"#DIV/0!"}},{"$f":"'Average-w-bkg'!D41*$F$2/'Average-w-bkg'!D$5","v":{"$error":"#DIV/0!"}},{"$f":"'Average-w-bkg'!E41*$F$2/'Average-w-bkg'!E$5","v":{"$error":"#DIV/0!"}},{"$f":"'Average-w-bkg'!F41*$F$2/'Average-w-bkg'!F$5","v":{"$error":"#DIV/0!"}},{"$f":"'Average-w-bkg'!G41*$F$2/'Average-w-bkg'!G$5","v":{"$error":"#DIV/0!"}},{"$f":"'Average-w-bkg'!H41*$F$2/'Average-w-bkg'!H$5","v":{"$error":"#DIV/0!"}},{"$f":"'Average-w-bkg'!I41*$F$2/'Average-w-bkg'!I$5","v":{"$error":"#DIV/0!"}},{"$f":"'Average-w-bkg'!J41*$F$2/'Average-w-bkg'!J$5","v":{"$error":"#DIV/0!"}},{"$f":"'Average-w-bkg'!K41*$F$2/'Average-w-bkg'!K$5","v":{"$error":"#DIV/0!"}},{"$f":"'Average-w-bkg'!L41*$F$2/'Average-w-bkg'!L$5","v":{"$error":"#DIV/0!"}},{"$f":"'Average-w-bkg'!M41*$F$2/'Average-w-bkg'!M$5","v":{"$error":"#DIV/0!"}},{"$f":"'Average-w-bkg'!N41*$F$2/'Average-w-bkg'!N$5","v":{"$error":"#DIV/0!"}},{"$f":"'Average-w-bkg'!O41*$F$2/'Average-w-bkg'!O$5","v":{"$error":"#DIV/0!"}},{"$f":"'Average-w-bkg'!P41*$F$2/'Average-w-bkg'!P$5","v":{"$error":"#DIV/0!"}},{"$f":"'Average-w-bkg'!Q41*$F$2/'Average-w-bkg'!Q$5","v":{"$error":"#DIV/0!"}}]
[{"$f":"'Sorting 1'!A43","v":"P40"},{"$f":"'Average-w-bkg'!B42*$F$2/'Average-w-bkg'!B$5","v":{"$error":"#DIV/0!"}},{"$f":"'Average-w-bkg'!C42*$F$2/'Average-w-bkg'!C$5","v":{"$error":"#DIV/0!"}},{"$f":"'Average-w-bkg'!D42*$F$2/'Average-w-bkg'!D$5","v":{"$error":"#DIV/0!"}},{"$f":"'Average-w-bkg'!E42*$F$2/'Average-w-bkg'!E$5","v":{"$error":"#DIV/0!"}},{"$f":"'Average-w-bkg'!F42*$F$2/'Average-w-bkg'!F$5","v":{"$error":"#DIV/0!"}},{"$f":"'Average-w-bkg'!G42*$F$2/'Average-w-bkg'!G$5","v":{"$error":"#DIV/0!"}},{"$f":"'Average-w-bkg'!H42*$F$2/'Average-w-bkg'!H$5","v":{"$error":"#DIV/0!"}},{"$f":"'Average-w-bkg'!I42*$F$2/'Average-w-bkg'!I$5","v":{"$error":"#DIV/0!"}},{"$f":"'Average-w-bkg'!J42*$F$2/'Average-w-bkg'!J$5","v":{"$error":"#DIV/0!"}},{"$f":"'Average-w-bkg'!K42*$F$2/'Average-w-bkg'!K$5","v":{"$error":"#DIV/0!"}},{"$f":"'Average-w-bkg'!L42*$F$2/'Average-w-bkg'!L$5","v":{"$error":"#DIV/0!"}},{"$f":"'Average-w-bkg'!M42*$F$2/'Average-w-bkg'!M$5","v":{"$error":"#DIV/0!"}},{"$f":"'Average-w-bkg'!N42*$F$2/'Average-w-bkg'!N$5","v":{"$error":"#DIV/0!"}},{"$f":"'Average-w-bkg'!O42*$F$2/'Average-w-bkg'!O$5","v":{"$error":"#DIV/0!"}},{"$f":"'Average-w-bkg'!P42*$F$2/'Average-w-bkg'!P$5","v":{"$error":"#DIV/0!"}},{"$f":"'Average-w-bkg'!Q42*$F$2/'Average-w-bkg'!Q$5","v":{"$error":"#DIV/0!"}}]
[{"$f":"'Sorting 1'!A44","v":"P7"},{"$f":"'Average-w-bkg'!B43*$F$2/'Average-w-bkg'!B$5","v":{"$error":"#DIV/0!"}},{"$f":"'Average-w-bkg'!C43*$F$2/'Average-w-bkg'!C$5","v":{"$error":"#DIV/0!"}},{"$f":"'Average-w-bkg'!D43*$F$2/'Average-w-bkg'!D$5","v":{"$error":"#DIV/0!"}},{"$f":"'Average-w-bkg'!E43*$F$2/'Average-w-bkg'!E$5","v":{"$error":"#DIV/0!"}},{"$f":"'Average-w-bkg'!F43*$F$2/'Average-w-bkg'!F$5","v":{"$error":"#DIV/0!"}},{"$f":"'Average-w-bkg'!G43*$F$2/'Average-w-bkg'!G$5","v":{"$error":"#DIV/0!"}},{"$f":"'Average-w-bkg'!H43*$F$2/'Average-w-bkg'!H$5","v":{"$error":"#DIV/0!"}},{"$f":"'Average-w-bkg'!I43*$F$2/'Average-w-bkg'!I$5","v":{"$error":"#DIV/0!"}},{"$f":"'Average-w-bkg'!J43*$F$2/'Average-w-bkg'!J$5","v":{"$error":"#DIV/0!"}},{"$f":"'Average-w-bkg'!K43*$F$2/'Average-w-bkg'!K$5","v":{"$error":"#DIV/0!"}},{"$f":"'Average-w-bkg'!L43*$F$2/'Average-w-bkg'!L$5","v":{"$error":"#DIV/0!"}},{"$f":"'Average-w-bkg'!M43*$F$2/'Average-w-bkg'!M$5","v":{"$error":"#DIV/0!"}},{"$f":"'Average-w-bkg'!N43*$F$2/'Average-w-bkg'!N$5","v":{"$error":"#DIV/0!"}},{"$f":"'Average-w-bkg'!O43*$F$2/'Average-w-bkg'!O$5","v":{"$error":"#DIV/0!"}},{"$f":"'Average-w-bkg'!P43*$F$2/'Average-w-bkg'!P$5","v":{"$error":"#DIV/0!"}},{"$f":"'Average-w-bkg'!Q43*$F$2/'Average-w-bkg'!Q$5","v":{"$error":"#DIV/0!"}}]
[{"$f":"'Sorting 1'!A45","v":"P19"},{"$f":"'Average-w-bkg'!B44*$F$2/'Average-w-bkg'!B$5","v":{"$error":"#DIV/0!"}},{"$f":"'Average-w-bkg'!C44*$F$2/'Average-w-bkg'!C$5","v":{"$error":"#DIV/0!"}},{"$f":"'Average-w-bkg'!D44*$F$2/'Average-w-bkg'!D$5","v":{"$error":"#DIV/0!"}},{"$f":"'Average-w-bkg'!E44*$F$2/'Average-w-bkg'!E$5","v":{"$error":"#DIV/0!"}},{"$f":"'Average-w-bkg'!F44*$F$2/'Average-w-bkg'!F$5","v":{"$error":"#DIV/0!"}},{"$f":"'Average-w-bkg'!G44*$F$2/'Average-w-bkg'!G$5","v":{"$error":"#DIV/0!"}},{"$f":"'Average-w-bkg'!H44*$F$2/'Average-w-bkg'!H$5","v":{"$error":"#DIV/0!"}},{"$f":"'Average-w-bkg'!I44*$F$2/'Average-w-bkg'!I$5","v":{"$error":"#DIV/0!"}},{"$f":"'Average-w-bkg'!J44*$F$2/'Average-w-bkg'!J$5","v":{"$error":"#DIV/0!"}},{"$f":"'Average-w-bkg'!K44*$F$2/'Average-w-bkg'!K$5","v":{"$error":"#DIV/0!"}},{"$f":"'Average-w-bkg'!L44*$F$2/'Average-w-bkg'!L$5","v":{"$error":"#DIV/0!"}},{"$f":"'Average-w-bkg'!M44*$F$2/'Average-w-bkg'!M$5","v":{"$error":"#DIV/0!"}},{"$f":"'Average-w-bkg'!N44*$F$2/'Average-w-bkg'!N$5","v":{"$error":"#DIV/0!"}},{"$f":"'Average-w-bkg'!O44*$F$2/'Average-w-bkg'!O$5","v":{"$error":"#DIV/0!"}},{"$f":"'Average-w-bkg'!P44*$F$2/'Average-w-bkg'!P$5","v":{"$error":"#DIV/0!"}},{"$f":"'Average-w-bkg'!Q44*$F$2/'Average-w-bkg'!Q$5","v":{"$error":"#DIV/0!"}}]
[{"$f":"'Sorting 1'!A46","v":"P29"},{"$f":"'Average-w-bkg'!B45*$F$2/'Average-w-bkg'!B$5","v":{"$error":"#DIV/0!"}},{"$f":"'Average-w-bkg'!C45*$F$2/'Average-w-bkg'!C$5","v":{"$error":"#DIV/0!"}},{"$f":"'Average-w-bkg'!D45*$F$2/'Average-w-bkg'!D$5","v":{"$error":"#DIV/0!"}},{"$f":"'Average-w-bkg'!E45*$F$2/'Average-w-bkg'!E$5","v":{"$error":"#DIV/0!"}},{"$f":"'Average-w-bkg'!F45*$F$2/'Average-w-bkg'!F$5","v":{"$error":"#DIV/0!"}},{"$f":"'Average-w-bkg'!G45*$F$2/'Average-w-bkg'!G$5","v":{"$error":"#DIV/0!"}},{"$f":"'Average-w-bkg'!H45*$F$2/'Average-w-bkg'!H$5","v":{"$error":"#DIV/0!"}},{"$f":"'Average-w-bkg'!I45*$F$2/'Average-w-bkg'!I$5","v":{"$error":"#DIV/0!"}},{"$f":"'Average-w-bkg'!J45*$F$2/'Average-w-bkg'!J$5","v":{"$error":"#DIV/0!"}},{"$f":"'Average-w-bkg'!K45*$F$2/'Average-w-bkg'!K$5","v":{"$error":"#DIV/0!"}},{"$f":"'Average-w-bkg'!L45*$F$2/'Average-w-bkg'!L$5","v":{"$error":"#DIV/0!"}},{"$f":"'Average-w-bkg'!M45*$F$2/'Average-w-bkg'!M$5","v":{"$error":"#DIV/0!"}},{"$f":"'Average-w-bkg'!N45*$F$2/'Average-w-bkg'!N$5","v":{"$error":"#DIV/0!"}},{"$f":"'Average-w-bkg'!O45*$F$2/'Average-w-bkg'!O$5","v":{"$error":"#DIV/0!"}},{"$f":"'Average-w-bkg'!P45*$F$2/'Average-w-bkg'!P$5","v":{"$error":"#DIV/0!"}},{"$f":"'Average-w-bkg'!Q45*$F$2/'Average-w-bkg'!Q$5","v":{"$error":"#DIV/0!"}}]
[{"$f":"'Sorting 1'!A47","v":"P41"},{"$f":"'Average-w-bkg'!B46*$F$2/'Average-w-bkg'!B$5","v":{"$error":"#DIV/0!"}},{"$f":"'Average-w-bkg'!C46*$F$2/'Average-w-bkg'!C$5","v":{"$error":"#DIV/0!"}},{"$f":"'Average-w-bkg'!D46*$F$2/'Average-w-bkg'!D$5","v":{"$error":"#DIV/0!"}},{"$f":"'Average-w-bkg'!E46*$F$2/'Average-w-bkg'!E$5","v":{"$error":"#DIV/0!"}},{"$f":"'Average-w-bkg'!F46*$F$2/'Average-w-bkg'!F$5","v":{"$error":"#DIV/0!"}},{"$f":"'Average-w-bkg'!G46*$F$2/'Average-w-bkg'!G$5","v":{"$error":"#DIV/0!"}},{"$f":"'Average-w-bkg'!H46*$F$2/'Average-w-bkg'!H$5","v":{"$error":"#DIV/0!"}},{"$f":"'Average-w-bkg'!I46*$F$2/'Average-w-bkg'!I$5","v":{"$error":"#DIV/0!"}},{"$f":"'Average-w-bkg'!J46*$F$2/'Average-w-bkg'!J$5","v":{"$error":"#DIV/0!"}},{"$f":"'Average-w-bkg'!K46*$F$2/'Average-w-bkg'!K$5","v":{"$error":"#DIV/0!"}},{"$f":"'Average-w-bkg'!L46*$F$2/'Average-w-bkg'!L$5","v":{"$error":"#DIV/0!"}},{"$f":"'Average-w-bkg'!M46*$F$2/'Average-w-bkg'!M$5","v":{"$error":"#DIV/0!"}},{"$f":"'Average-w-bkg'!N46*$F$2/'Average-w-bkg'!N$5","v":{"$error":"#DIV/0!"}},{"$f":"'Average-w-bkg'!O46*$F$2/'Average-w-bkg'!O$5","v":{"$error":"#DIV/0!"}},{"$f":"'Average-w-bkg'!P46*$F$2/'Average-w-bkg'!P$5","v":{"$error":"#DIV/0!"}},{"$f":"'Average-w-bkg'!Q46*$F$2/'Average-w-bkg'!Q$5","v":{"$error":"#DIV/0!"}}]
[{"$f":"'Sorting 1'!A48","v":"Pig IgG"},{"$f":"'Average-w-bkg'!B47*$F$2/'Average-w-bkg'!B$5","v":{"$error":"#DIV/0!"}},{"$f":"'Average-w-bkg'!C47*$F$2/'Average-w-bkg'!C$5","v":{"$error":"#DIV/0!"}},{"$f":"'Average-w-bkg'!D47*$F$2/'Average-w-bkg'!D$5","v":{"$error":"#DIV/0!"}},{"$f":"'Average-w-bkg'!E47*$F$2/'Average-w-bkg'!E$5","v":{"$error":"#DIV/0!"}},{"$f":"'Average-w-bkg'!F47*$F$2/'Average-w-bkg'!F$5","v":{"$error":"#DIV/0!"}},{"$f":"'Average-w-bkg'!G47*$F$2/'Average-w-bkg'!G$5","v":{"$error":"#DIV/0!"}},{"$f":"'Average-w-bkg'!H47*$F$2/'Average-w-bkg'!H$5","v":{"$error":"#DIV/0!"}},{"$f":"'Average-w-bkg'!I47*$F$2/'Average-w-bkg'!I$5","v":{"$error":"#DIV/0!"}},{"$f":"'Average-w-bkg'!J47*$F$2/'Average-w-bkg'!J$5","v":{"$error":"#DIV/0!"}},{"$f":"'Average-w-bkg'!K47*$F$2/'Average-w-bkg'!K$5","v":{"$error":"#DIV/0!"}},{"$f":"'Average-w-bkg'!L47*$F$2/'Average-w-bkg'!L$5","v":{"$error":"#DIV/0!"}},{"$f":"'Average-w-bkg'!M47*$F$2/'Average-w-bkg'!M$5","v":{"$error":"#DIV/0!"}},{"$f":"'Average-w-bkg'!N47*$F$2/'Average-w-bkg'!N$5","v":{"$error":"#DIV/0!"}},{"$f":"'Average-w-bkg'!O47*$F$2/'Average-w-bkg'!O$5","v":{"$error":"#DIV/0!"}},{"$f":"'Average-w-bkg'!P47*$F$2/'Average-w-bkg'!P$5","v":{"$error":"#DIV/0!"}},{"$f":"'Average-w-bkg'!Q47*$F$2/'Average-w-bkg'!Q$5","v":{"$error":"#DIV/0!"}}]
[{"$f":"'Sorting 1'!A49","v":"P8"},{"$f":"'Average-w-bkg'!B48*$F$2/'Average-w-bkg'!B$5","v":{"$error":"#DIV/0!"}},{"$f":"'Average-w-bkg'!C48*$F$2/'Average-w-bkg'!C$5","v":{"$error":"#DIV/0!"}},{"$f":"'Average-w-bkg'!D48*$F$2/'Average-w-bkg'!D$5","v":{"$error":"#DIV/0!"}},{"$f":"'Average-w-bkg'!E48*$F$2/'Average-w-bkg'!E$5","v":{"$error":"#DIV/0!"}},{"$f":"'Average-w-bkg'!F48*$F$2/'Average-w-bkg'!F$5","v":{"$error":"#DIV/0!"}},{"$f":"'Average-w-bkg'!G48*$F$2/'Average-w-bkg'!G$5","v":{"$error":"#DIV/0!"}},{"$f":"'Average-w-bkg'!H48*$F$2/'Average-w-bkg'!H$5","v":{"$error":"#DIV/0!"}},{"$f":"'Average-w-bkg'!I48*$F$2/'Average-w-bkg'!I$5","v":{"$error":"#DIV/0!"}},{"$f":"'Average-w-bkg'!J48*$F$2/'Average-w-bkg'!J$5","v":{"$error":"#DIV/0!"}},{"$f":"'Average-w-bkg'!K48*$F$2/'Average-w-bkg'!K$5","v":{"$error":"#DIV/0!"}},{"$f":"'Average-w-bkg'!L48*$F$2/'Average-w-bkg'!L$5","v":{"$error":"#DIV/0!"}},{"$f":"'Average-w-bkg'!M48*$F$2/'Average-w-bkg'!M$5","v":{"$error":"#DIV/0!"}},{"$f":"'Average-w-bkg'!N48*$F$2/'Average-w-bkg'!N$5","v":{"$error":"#DIV/0!"}},{"$f":"'Average-w-bkg'!O48*$F$2/'Average-w-bkg'!O$5","v":{"$error":"#DIV/0!"}},{"$f":"'Average-w-bkg'!P48*$F$2/'Average-w-bkg'!P$5","v":{"$error":"#DIV/0!"}},{"$f":"'Average-w-bkg'!Q48*$F$2/'Average-w-bkg'!Q$5","v":{"$error":"#DIV/0!"}}]
[{"$f":"'Sorting 1'!A50","v":"P20"},{"$f":"'Average-w-bkg'!B49*$F$2/'Average-w-bkg'!B$5","v":{"$error":"#DIV/0!"}},{"$f":"'Average-w-bkg'!C49*$F$2/'Average-w-bkg'!C$5","v":{"$error":"#DIV/0!"}},{"$f":"'Average-w-bkg'!D49*$F$2/'Average-w-bkg'!D$5","v":{"$error":"#DIV/0!"}},{"$f":"'Average-w-bkg'!E49*$F$2/'Average-w-bkg'!E$5","v":{"$error":"#DIV/0!"}},{"$f":"'Average-w-bkg'!F49*$F$2/'Average-w-bkg'!F$5","v":{"$error":"#DIV/0!"}},{"$f":"'Average-w-bkg'!G49*$F$2/'Average-w-bkg'!G$5","v":{"$error":"#DIV/0!"}},{"$f":"'Average-w-bkg'!H49*$F$2/'Average-w-bkg'!H$5","v":{"$error":"#DIV/0!"}},{"$f":"'Average-w-bkg'!I49*$F$2/'Average-w-bkg'!I$5","v":{"$error":"#DIV/0!"}},{"$f":"'Average-w-bkg'!J49*$F$2/'Average-w-bkg'!J$5","v":{"$error":"#DIV/0!"}},{"$f":"'Average-w-bkg'!K49*$F$2/'Average-w-bkg'!K$5","v":{"$error":"#DIV/0!"}},{"$f":"'Average-w-bkg'!L49*$F$2/'Average-w-bkg'!L$5","v":{"$error":"#DIV/0!"}},{"$f":"'Average-w-bkg'!M49*$F$2/'Average-w-bkg'!M$5","v":{"$error":"#DIV/0!"}},{"$f":"'Average-w-bkg'!N49*$F$2/'Average-w-bkg'!N$5","v":{"$error":"#DIV/0!"}},{"$f":"'Average-w-bkg'!O49*$F$2/'Average-w-bkg'!O$5","v":{"$error":"#DIV/0!"}},{"$f":"'Average-w-bkg'!P49*$F$2/'Average-w-bkg'!P$5","v":{"$error":"#DIV/0!"}},{"$f":"'Average-w-bkg'!Q49*$F$2/'Average-w-bkg'!Q$5","v":{"$error":"#DIV/0!"}}]
[{"$f":"'Sorting 1'!A51","v":"P30"},{"$f":"'Average-w-bkg'!B50*$F$2/'Average-w-bkg'!B$5","v":{"$error":"#DIV/0!"}},{"$f":"'Average-w-bkg'!C50*$F$2/'Average-w-bkg'!C$5","v":{"$error":"#DIV/0!"}},{"$f":"'Average-w-bkg'!D50*$F$2/'Average-w-bkg'!D$5","v":{"$error":"#DIV/0!"}},{"$f":"'Average-w-bkg'!E50*$F$2/'Average-w-bkg'!E$5","v":{"$error":"#DIV/0!"}},{"$f":"'Average-w-bkg'!F50*$F$2/'Average-w-bkg'!F$5","v":{"$error":"#DIV/0!"}},{"$f":"'Average-w-bkg'!G50*$F$2/'Average-w-bkg'!G$5","v":{"$error":"#DIV/0!"}},{"$f":"'Average-w-bkg'!H50*$F$2/'Average-w-bkg'!H$5","v":{"$error":"#DIV/0!"}},{"$f":"'Average-w-bkg'!I50*$F$2/'Average-w-bkg'!I$5","v":{"$error":"#DIV/0!"}},{"$f":"'Average-w-bkg'!J50*$F$2/'Average-w-bkg'!J$5","v":{"$error":"#DIV/0!"}},{"$f":"'Average-w-bkg'!K50*$F$2/'Average-w-bkg'!K$5","v":{"$error":"#DIV/0!"}},{"$f":"'Average-w-bkg'!L50*$F$2/'Average-w-bkg'!L$5","v":{"$error":"#DIV/0!"}},{"$f":"'Average-w-bkg'!M50*$F$2/'Average-w-bkg'!M$5","v":{"$error":"#DIV/0!"}},{"$f":"'Average-w-bkg'!N50*$F$2/'Average-w-bkg'!N$5","v":{"$error":"#DIV/0!"}},{"$f":"'Average-w-bkg'!O50*$F$2/'Average-w-bkg'!O$5","v":{"$error":"#DIV/0!"}},{"$f":"'Average-w-bkg'!P50*$F$2/'Average-w-bkg'!P$5","v":{"$error":"#DIV/0!"}},{"$f":"'Average-w-bkg'!Q50*$F$2/'Average-w-bkg'!Q$5","v":{"$error":"#DIV/0!"}}]
[{"$f":"'Sorting 1'!A52","v":"P42"},{"$f":"'Average-w-bkg'!B51*$F$2/'Average-w-bkg'!B$5","v":{"$error":"#DIV/0!"}},{"$f":"'Average-w-bkg'!C51*$F$2/'Average-w-bkg'!C$5","v":{"$error":"#DIV/0!"}},{"$f":"'Average-w-bkg'!D51*$F$2/'Average-w-bkg'!D$5","v":{"$error":"#DIV/0!"}},{"$f":"'Average-w-bkg'!E51*$F$2/'Average-w-bkg'!E$5","v":{"$error":"#DIV/0!"}},{"$f":"'Average-w-bkg'!F51*$F$2/'Average-w-bkg'!F$5","v":{"$error":"#DIV/0!"}},{"$f":"'Average-w-bkg'!G51*$F$2/'Average-w-bkg'!G$5","v":{"$error":"#DIV/0!"}},{"$f":"'Average-w-bkg'!H51*$F$2/'Average-w-bkg'!H$5","v":{"$error":"#DIV/0!"}},{"$f":"'Average-w-bkg'!I51*$F$2/'Average-w-bkg'!I$5","v":{"$error":"#DIV/0!"}},{"$f":"'Average-w-bkg'!J51*$F$2/'Average-w-bkg'!J$5","v":{"$error":"#DIV/0!"}},{"$f":"'Average-w-bkg'!K51*$F$2/'Average-w-bkg'!K$5","v":{"$error":"#DIV/0!"}},{"$f":"'Average-w-bkg'!L51*$F$2/'Average-w-bkg'!L$5","v":{"$error":"#DIV/0!"}},{"$f":"'Average-w-bkg'!M51*$F$2/'Average-w-bkg'!M$5","v":{"$error":"#DIV/0!"}},{"$f":"'Average-w-bkg'!N51*$F$2/'Average-w-bkg'!N$5","v":{"$error":"#DIV/0!"}},{"$f":"'Average-w-bkg'!O51*$F$2/'Average-w-bkg'!O$5","v":{"$error":"#DIV/0!"}},{"$f":"'Average-w-bkg'!P51*$F$2/'Average-w-bkg'!P$5","v":{"$error":"#DIV/0!"}},{"$f":"'Average-w-bkg'!Q51*$F$2/'Average-w-bkg'!Q$5","v":{"$error":"#DIV/0!"}}]
[{"$f":"'Sorting 1'!A53","v":"Pig IgA"},{"$f":"'Average-w-bkg'!B52*$F$2/'Average-w-bkg'!B$5","v":{"$error":"#DIV/0!"}},{"$f":"'Average-w-bkg'!C52*$F$2/'Average-w-bkg'!C$5","v":{"$error":"#DIV/0!"}},{"$f":"'Average-w-bkg'!D52*$F$2/'Average-w-bkg'!D$5","v":{"$error":"#DIV/0!"}},{"$f":"'Average-w-bkg'!E52*$F$2/'Average-w-bkg'!E$5","v":{"$error":"#DIV/0!"}},{"$f":"'Average-w-bkg'!F52*$F$2/'Average-w-bkg'!F$5","v":{"$error":"#DIV/0!"}},{"$f":"'Average-w-bkg'!G52*$F$2/'Average-w-bkg'!G$5","v":{"$error":"#DIV/0!"}},{"$f":"'Average-w-bkg'!H52*$F$2/'Average-w-bkg'!H$5","v":{"$error":"#DIV/0!"}},{"$f":"'Average-w-bkg'!I52*$F$2/'Average-w-bkg'!I$5","v":{"$error":"#DIV/0!"}},{"$f":"'Average-w-bkg'!J52*$F$2/'Average-w-bkg'!J$5","v":{"$error":"#DIV/0!"}},{"$f":"'Average-w-bkg'!K52*$F$2/'Average-w-bkg'!K$5","v":{"$error":"#DIV/0!"}},{"$f":"'Average-w-bkg'!L52*$F$2/'Average-w-bkg'!L$5","v":{"$error":"#DIV/0!"}},{"$f":"'Average-w-bkg'!M52*$F$2/'Average-w-bkg'!M$5","v":{"$error":"#DIV/0!"}},{"$f":"'Average-w-bkg'!N52*$F$2/'Average-w-bkg'!N$5","v":{"$error":"#DIV/0!"}},{"$f":"'Average-w-bkg'!O52*$F$2/'Average-w-bkg'!O$5","v":{"$error":"#DIV/0!"}},{"$f":"'Average-w-bkg'!P52*$F$2/'Average-w-bkg'!P$5","v":{"$error":"#DIV/0!"}},{"$f":"'Average-w-bkg'!Q52*$F$2/'Average-w-bkg'!Q$5","v":{"$error":"#DIV/0!"}}]
[{"$f":"'Sorting 1'!A54","v":"P9"},{"$f":"'Average-w-bkg'!B53*$F$2/'Average-w-bkg'!B$5","v":{"$error":"#DIV/0!"}},{"$f":"'Average-w-bkg'!C53*$F$2/'Average-w-bkg'!C$5","v":{"$error":"#DIV/0!"}},{"$f":"'Average-w-bkg'!D53*$F$2/'Average-w-bkg'!D$5","v":{"$error":"#DIV/0!"}},{"$f":"'Average-w-bkg'!E53*$F$2/'Average-w-bkg'!E$5","v":{"$error":"#DIV/0!"}},{"$f":"'Average-w-bkg'!F53*$F$2/'Average-w-bkg'!F$5","v":{"$error":"#DIV/0!"}},{"$f":"'Average-w-bkg'!G53*$F$2/'Average-w-bkg'!G$5","v":{"$error":"#DIV/0!"}},{"$f":"'Average-w-bkg'!H53*$F$2/'Average-w-bkg'!H$5","v":{"$error":"#DIV/0!"}},{"$f":"'Average-w-bkg'!I53*$F$2/'Average-w-bkg'!I$5","v":{"$error":"#DIV/0!"}},{"$f":"'Average-w-bkg'!J53*$F$2/'Average-w-bkg'!J$5","v":{"$error":"#DIV/0!"}},{"$f":"'Average-w-bkg'!K53*$F$2/'Average-w-bkg'!K$5","v":{"$error":"#DIV/0!"}},{"$f":"'Average-w-bkg'!L53*$F$2/'Average-w-bkg'!L$5","v":{"$error":"#DIV/0!"}},{"$f":"'Average-w-bkg'!M53*$F$2/'Average-w-bkg'!M$5","v":{"$error":"#DIV/0!"}},{"$f":"'Average-w-bkg'!N53*$F$2/'Average-w-bkg'!N$5","v":{"$error":"#DIV/0!"}},{"$f":"'Average-w-bkg'!O53*$F$2/'Average-w-bkg'!O$5","v":{"$error":"#DIV/0!"}},{"$f":"'Average-w-bkg'!P53*$F$2/'Average-w-bkg'!P$5","v":{"$error":"#DIV/0!"}},{"$f":"'Average-w-bkg'!Q53*$F$2/'Average-w-bkg'!Q$5","v":{"$error":"#DIV/0!"}}]
[{"$f":"'Sorting 1'!A55","v":"P21"},{"$f":"'Average-w-bkg'!B54*$F$2/'Average-w-bkg'!B$5","v":{"$error":"#DIV/0!"}},{"$f":"'Average-w-bkg'!C54*$F$2/'Average-w-bkg'!C$5","v":{"$error":"#DIV/0!"}},{"$f":"'Average-w-bkg'!D54*$F$2/'Average-w-bkg'!D$5","v":{"$error":"#DIV/0!"}},{"$f":"'Average-w-bkg'!E54*$F$2/'Average-w-bkg'!E$5","v":{"$error":"#DIV/0!"}},{"$f":"'Average-w-bkg'!F54*$F$2/'Average-w-bkg'!F$5","v":{"$error":"#DIV/0!"}},{"$f":"'Average-w-bkg'!G54*$F$2/'Average-w-bkg'!G$5","v":{"$error":"#DIV/0!"}},{"$f":"'Average-w-bkg'!H54*$F$2/'Average-w-bkg'!H$5","v":{"$error":"#DIV/0!"}},{"$f":"'Average-w-bkg'!I54*$F$2/'Average-w-bkg'!I$5","v":{"$error":"#DIV/0!"}},{"$f":"'Average-w-bkg'!J54*$F$2/'Average-w-bkg'!J$5","v":{"$error":"#DIV/0!"}},{"$f":"'Average-w-bkg'!K54*$F$2/'Average-w-bkg'!K$5","v":{"$error":"#DIV/0!"}},{"$f":"'Average-w-bkg'!L54*$F$2/'Average-w-bkg'!L$5","v":{"$error":"#DIV/0!"}},{"$f":"'Average-w-bkg'!M54*$F$2/'Average-w-bkg'!M$5","v":{"$error":"#DIV/0!"}},{"$f":"'Average-w-bkg'!N54*$F$2/'Average-w-bkg'!N$5","v":{"$error":"#DIV/0!"}},{"$f":"'Average-w-bkg'!O54*$F$2/'Average-w-bkg'!O$5","v":{"$error":"#DIV/0!"}},{"$f":"'Average-w-bkg'!P54*$F$2/'Average-w-bkg'!P$5","v":{"$error":"#DIV/0!"}},{"$f":"'Average-w-bkg'!Q54*$F$2/'Average-w-bkg'!Q$5","v":{"$error":"#DIV/0!"}}]
[{"$f":"'Sorting 1'!A56","v":"P31"},{"$f":"'Average-w-bkg'!B55*$F$2/'Average-w-bkg'!B$5","v":{"$error":"#DIV/0!"}},{"$f":"'Average-w-bkg'!C55*$F$2/'Average-w-bkg'!C$5","v":{"$error":"#DIV/0!"}},{"$f":"'Average-w-bkg'!D55*$F$2/'Average-w-bkg'!D$5","v":{"$error":"#DIV/0!"}},{"$f":"'Average-w-bkg'!E55*$F$2/'Average-w-bkg'!E$5","v":{"$error":"#DIV/0!"}},{"$f":"'Average-w-bkg'!F55*$F$2/'Average-w-bkg'!F$5","v":{"$error":"#DIV/0!"}},{"$f":"'Average-w-bkg'!G55*$F$2/'Average-w-bkg'!G$5","v":{"$error":"#DIV/0!"}},{"$f":"'Average-w-bkg'!H55*$F$2/'Average-w-bkg'!H$5","v":{"$error":"#DIV/0!"}},{"$f":"'Average-w-bkg'!I55*$F$2/'Average-w-bkg'!I$5","v":{"$error":"#DIV/0!"}},{"$f":"'Average-w-bkg'!J55*$F$2/'Average-w-bkg'!J$5","v":{"$error":"#DIV/0!"}},{"$f":"'Average-w-bkg'!K55*$F$2/'Average-w-bkg'!K$5","v":{"$error":"#DIV/0!"}},{"$f":"'Average-w-bkg'!L55*$F$2/'Average-w-bkg'!L$5","v":{"$error":"#DIV/0!"}},{"$f":"'Average-w-bkg'!M55*$F$2/'Average-w-bkg'!M$5","v":{"$error":"#DIV/0!"}},{"$f":"'Average-w-bkg'!N55*$F$2/'Average-w-bkg'!N$5","v":{"$error":"#DIV/0!"}},{"$f":"'Average-w-bkg'!O55*$F$2/'Average-w-bkg'!O$5","v":{"$error":"#DIV/0!"}},{"$f":"'Average-w-bkg'!P55*$F$2/'Average-w-bkg'!P$5","v":{"$error":"#DIV/0!"}},{"$f":"'Average-w-bkg'!Q55*$F$2/'Average-w-bkg'!Q$5","v":{"$error":"#DIV/0!"}}]
[{"$f":"'Sorting 1'!A57","v":"P43"},{"$f":"'Average-w-bkg'!B56*$F$2/'Average-w-bkg'!B$5","v":{"$error":"#DIV/0!"}},{"$f":"'Average-w-bkg'!C56*$F$2/'Average-w-bkg'!C$5","v":{"$error":"#DIV/0!"}},{"$f":"'Average-w-bkg'!D56*$F$2/'Average-w-bkg'!D$5","v":{"$error":"#DIV/0!"}},{"$f":"'Average-w-bkg'!E56*$F$2/'Average-w-bkg'!E$5","v":{"$error":"#DIV/0!"}},{"$f":"'Average-w-bkg'!F56*$F$2/'Average-w-bkg'!F$5","v":{"$error":"#DIV/0!"}},{"$f":"'Average-w-bkg'!G56*$F$2/'Average-w-bkg'!G$5","v":{"$error":"#DIV/0!"}},{"$f":"'Average-w-bkg'!H56*$F$2/'Average-w-bkg'!H$5","v":{"$error":"#DIV/0!"}},{"$f":"'Average-w-bkg'!I56*$F$2/'Average-w-bkg'!I$5","v":{"$error":"#DIV/0!"}},{"$f":"'Average-w-bkg'!J56*$F$2/'Average-w-bkg'!J$5","v":{"$error":"#DIV/0!"}},{"$f":"'Average-w-bkg'!K56*$F$2/'Average-w-bkg'!K$5","v":{"$error":"#DIV/0!"}},{"$f":"'Average-w-bkg'!L56*$F$2/'Average-w-bkg'!L$5","v":{"$error":"#DIV/0!"}},{"$f":"'Average-w-bkg'!M56*$F$2/'Average-w-bkg'!M$5","v":{"$error":"#DIV/0!"}},{"$f":"'Average-w-bkg'!N56*$F$2/'Average-w-bkg'!N$5","v":{"$error":"#DIV/0!"}},{"$f":"'Average-w-bkg'!O56*$F$2/'Average-w-bkg'!O$5","v":{"$error":"#DIV/0!"}},{"$f":"'Average-w-bkg'!P56*$F$2/'Average-w-bkg'!P$5","v":{"$error":"#DIV/0!"}},{"$f":"'Average-w-bkg'!Q56*$F$2/'Average-w-bkg'!Q$5","v":{"$error":"#DIV/0!"}}]
[{"$f":"'Sorting 1'!A58","v":"P10"},{"$f":"'Average-w-bkg'!B57*$F$2/'Average-w-bkg'!B$5","v":{"$error":"#DIV/0!"}},{"$f":"'Average-w-bkg'!C57*$F$2/'Average-w-bkg'!C$5","v":{"$error":"#DIV/0!"}},{"$f":"'Average-w-bkg'!D57*$F$2/'Average-w-bkg'!D$5","v":{"$error":"#DIV/0!"}},{"$f":"'Average-w-bkg'!E57*$F$2/'Average-w-bkg'!E$5","v":{"$error":"#DIV/0!"}},{"$f":"'Average-w-bkg'!F57*$F$2/'Average-w-bkg'!F$5","v":{"$error":"#DIV/0!"}},{"$f":"'Average-w-bkg'!G57*$F$2/'Average-w-bkg'!G$5","v":{"$error":"#DIV/0!"}},{"$f":"'Average-w-bkg'!H57*$F$2/'Average-w-bkg'!H$5","v":{"$error":"#DIV/0!"}},{"$f":"'Average-w-bkg'!I57*$F$2/'Average-w-bkg'!I$5","v":{"$error":"#DIV/0!"}},{"$f":"'Average-w-bkg'!J57*$F$2/'Average-w-bkg'!J$5","v":{"$error":"#DIV/0!"}},{"$f":"'Average-w-bkg'!K57*$F$2/'Average-w-bkg'!K$5","v":{"$error":"#DIV/0!"}},{"$f":"'Average-w-bkg'!L57*$F$2/'Average-w-bkg'!L$5","v":{"$error":"#DIV/0!"}},{"$f":"'Average-w-bkg'!M57*$F$2/'Average-w-bkg'!M$5","v":{"$error":"#DIV/0!"}},{"$f":"'Average-w-bkg'!N57*$F$2/'Average-w-bkg'!N$5","v":{"$error":"#DIV/0!"}},{"$f":"'Average-w-bkg'!O57*$F$2/'Average-w-bkg'!O$5","v":{"$error":"#DIV/0!"}},{"$f":"'Average-w-bkg'!P57*$F$2/'Average-w-bkg'!P$5","v":{"$error":"#DIV/0!"}},{"$f":"'Average-w-bkg'!Q57*$F$2/'Average-w-bkg'!Q$5","v":{"$error":"#DIV/0!"}}]
[{"$f":"'Sorting 1'!A59","v":"P32"},{"$f":"'Average-w-bkg'!B58*$F$2/'Average-w-bkg'!B$5","v":{"$error":"#DIV/0!"}},{"$f":"'Average-w-bkg'!C58*$F$2/'Average-w-bkg'!C$5","v":{"$error":"#DIV/0!"}},{"$f":"'Average-w-bkg'!D58*$F$2/'Average-w-bkg'!D$5","v":{"$error":"#DIV/0!"}},{"$f":"'Average-w-bkg'!E58*$F$2/'Average-w-bkg'!E$5","v":{"$error":"#DIV/0!"}},{"$f":"'Average-w-bkg'!F58*$F$2/'Average-w-bkg'!F$5","v":{"$error":"#DIV/0!"}},{"$f":"'Average-w-bkg'!G58*$F$2/'Average-w-bkg'!G$5","v":{"$error":"#DIV/0!"}},{"$f":"'Average-w-bkg'!H58*$F$2/'Average-w-bkg'!H$5","v":{"$error":"#DIV/0!"}},{"$f":"'Average-w-bkg'!I58*$F$2/'Average-w-bkg'!I$5","v":{"$error":"#DIV/0!"}},{"$f":"'Average-w-bkg'!J58*$F$2/'Average-w-bkg'!J$5","v":{"$error":"#DIV/0!"}},{"$f":"'Average-w-bkg'!K58*$F$2/'Average-w-bkg'!K$5","v":{"$error":"#DIV/0!"}},{"$f":"'Average-w-bkg'!L58*$F$2/'Average-w-bkg'!L$5","v":{"$error":"#DIV/0!"}},{"$f":"'Average-w-bkg'!M58*$F$2/'Average-w-bkg'!M$5","v":{"$error":"#DIV/0!"}},{"$f":"'Average-w-bkg'!N58*$F$2/'Average-w-bkg'!N$5","v":{"$error":"#DIV/0!"}},{"$f":"'Average-w-bkg'!O58*$F$2/'Average-w-bkg'!O$5","v":{"$error":"#DIV/0!"}},{"$f":"'Average-w-bkg'!P58*$F$2/'Average-w-bkg'!P$5","v":{"$error":"#DIV/0!"}},{"$f":"'Average-w-bkg'!Q58*$F$2/'Average-w-bkg'!Q$5","v":{"$error":"#DIV/0!"}}]
[{"$f":"'Sorting 1'!A60","v":"P44"},{"$f":"'Average-w-bkg'!B59*$F$2/'Average-w-bkg'!B$5","v":{"$error":"#DIV/0!"}},{"$f":"'Average-w-bkg'!C59*$F$2/'Average-w-bkg'!C$5","v":{"$error":"#DIV/0!"}},{"$f":"'Average-w-bkg'!D59*$F$2/'Average-w-bkg'!D$5","v":{"$error":"#DIV/0!"}},{"$f":"'Average-w-bkg'!E59*$F$2/'Average-w-bkg'!E$5","v":{"$error":"#DIV/0!"}},{"$f":"'Average-w-bkg'!F59*$F$2/'Average-w-bkg'!F$5","v":{"$error":"#DIV/0!"}},{"$f":"'Average-w-bkg'!G59*$F$2/'Average-w-bkg'!G$5","v":{"$error":"#DIV/0!"}},{"$f":"'Average-w-bkg'!H59*$F$2/'Average-w-bkg'!H$5","v":{"$error":"#DIV/0!"}},{"$f":"'Average-w-bkg'!I59*$F$2/'Average-w-bkg'!I$5","v":{"$error":"#DIV/0!"}},{"$f":"'Average-w-bkg'!J59*$F$2/'Average-w-bkg'!J$5","v":{"$error":"#DIV/0!"}},{"$f":"'Average-w-bkg'!K59*$F$2/'Average-w-bkg'!K$5","v":{"$error":"#DIV/0!"}},{"$f":"'Average-w-bkg'!L59*$F$2/'Average-w-bkg'!L$5","v":{"$error":"#DIV/0!"}},{"$f":"'Average-w-bkg'!M59*$F$2/'Average-w-bkg'!M$5","v":{"$error":"#DIV/0!"}},{"$f":"'Average-w-bkg'!N59*$F$2/'Average-w-bkg'!N$5","v":{"$error":"#DIV/0!"}},{"$f":"'Average-w-bkg'!O59*$F$2/'Average-w-bkg'!O$5","v":{"$error":"#DIV/0!"}},{"$f":"'Average-w-bkg'!P59*$F$2/'Average-w-bkg'!P$5","v":{"$error":"#DIV/0!"}},{"$f":"'Average-w-bkg'!Q59*$F$2/'Average-w-bkg'!Q$5","v":{"$error":"#DIV/0!"}}]
[{"$f":"'Sorting 1'!A61","v":"P44"},{"$f":"'Average-w-bkg'!B60*$F$2/'Average-w-bkg'!B$5","v":{"$error":"#DIV/0!"}},{"$f":"'Average-w-bkg'!C60*$F$2/'Average-w-bkg'!C$5","v":{"$error":"#DIV/0!"}},{"$f":"'Average-w-bkg'!D60*$F$2/'Average-w-bkg'!D$5","v":{"$error":"#DIV/0!"}},{"$f":"'Average-w-bkg'!E60*$F$2/'Average-w-bkg'!E$5","v":{"$error":"#DIV/0!"}},{"$f":"'Average-w-bkg'!F60*$F$2/'Average-w-bkg'!F$5","v":{"$error":"#DIV/0!"}},{"$f":"'Average-w-bkg'!G60*$F$2/'Average-w-bkg'!G$5","v":{"$error":"#DIV/0!"}},{"$f":"'Average-w-bkg'!H60*$F$2/'Average-w-bkg'!H$5","v":{"$error":"#DIV/0!"}},{"$f":"'Average-w-bkg'!I60*$F$2/'Average-w-bkg'!I$5","v":{"$error":"#DIV/0!"}},{"$f":"'Average-w-bkg'!J60*$F$2/'Average-w-bkg'!J$5","v":{"$error":"#DIV/0!"}},{"$f":"'Average-w-bkg'!K60*$F$2/'Average-w-bkg'!K$5","v":{"$error":"#DIV/0!"}},{"$f":"'Average-w-bkg'!L60*$F$2/'Average-w-bkg'!L$5","v":{"$error":"#DIV/0!"}},{"$f":"'Average-w-bkg'!M60*$F$2/'Average-w-bkg'!M$5","v":{"$error":"#DIV/0!"}},{"$f":"'Average-w-bkg'!N60*$F$2/'Average-w-bkg'!N$5","v":{"$error":"#DIV/0!"}},{"$f":"'Average-w-bkg'!O60*$F$2/'Average-w-bkg'!O$5","v":{"$error":"#DIV/0!"}},{"$f":"'Average-w-bkg'!P60*$F$2/'Average-w-bkg'!P$5","v":{"$error":"#DIV/0!"}},{"$f":"'Average-w-bkg'!Q60*$F$2/'Average-w-bkg'!Q$5","v":{"$error":"#DIV/0!"}}]

{"sheet":"Sorting 2","index":14,"n_rows":61,"n_cols":97,"rows_kept":61,"cut":false,"hidden":true,"merged":[[3,92,3,96],[3,62,3,66],[3,68,3,72],[3,74,3,78],[3,80,3,84],[3,86,3,90],[3,32,3,36],[3,38,3,42],[3,44,3,48],[3,50,3,54],[3,56,3,60],[3,2,3,6],[3,8,3,12],[3,14,3,18],[3,20,3,24],[3,26,3,30]]}
[]
["RayBio® Pig Cytokine Protein Array G1 Analysis Tool - Sorting Without Background"]
[]
[null,null,{"$f":"'aligning data'!B2","v":"Sample 1"},null,null,null,null,null,{"$f":"'aligning data'!E2","v":"Sample 2"},null,null,null,null,null,{"$f":"'aligning data'!H2","v":"Sample 3"},null,null,null,null,null,{"$f":"'aligning data'!K2","v":"Sample 4"},null,null,null,null,null,{"$f":"'aligning data'!N2","v":"Sample 5"},null,null,null,null,null,{"$f":"'aligning data'!Q2","v":"Sample 6"},null,null,null,null,null,{"$f":"'aligning data'!T2","v":"Sample 7"},null,null,null,null,null,{"$f":"'aligning data'!W2","v":"Sample 8"},null,null,null,null,null,{"$f":"'aligning data'!Z2","v":"Sample 9"},null,null,null,null,null,{"$f":"'aligning data'!AC2","v":"Sample 10"},null,null,null,null,null,{"$f":"'aligning data'!AF2","v":"Sample 11"},null,null,null,null,null,{"$f":"'aligning data'!AI2","v":"Sample 12"},null,null,null,null,null,{"$f":"'aligning data'!AL2","v":"Sample 13"},null,null,null,null,null,{"$f":"'aligning data'!AO2","v":"Sample 14"},null,null,null,null,null,{"$f":"'aligning data'!AR2","v":"Sample 15"},null,null,null,null,null,{"$f":"'aligning data'!AU2","v":"Sample 16"}]
["Target",null,1,2,3,"AVERAGE","CV",null,1,2,3,"AVERAGE","CV",null,1,2,3,"AVERAGE","CV",null,1,2,3,"AVERAGE","CV",null,1,2,3,"AVERAGE","CV",null,1,2,3,"AVERAGE","CV",null,1,2,3,"AVERAGE","CV",null,1,2,3,"AVERAGE","CV",null,1,2,3,"AVERAGE","CV",null,1,2,3,"AVERAGE","CV",null,1,2,3,"AVERAGE","CV",null,1,2,3,"AVERAGE","CV",null,1,2,3,"AVERAGE","CV",null,1,2,3,"AVERAGE","CV",null,1,2,3,"AVERAGE","CV",null,1,2,3,"AVERAGE","CV"]
["POS",null,null,null,null,{"$f":"SUM('aligning data'!C4,'aligning data'!C5,'aligning data'!C6,'aligning data'!C10,'aligning data'!C11,'aligning data'!C12,'aligning data'!C19,'aligning data'!C20,'aligning data'!C21,'aligning data'!C172,'aligning data'!C173,'aligning data'!C174,'aligning data'!C181,'aligning data'!C182,'aligning data'!C183)/15","v":0},{"$f":"STDEVA('aligning data'!C4,'aligning data'!C5,'aligning data'!C6,'aligning data'!C10,'aligning data'!C11,'aligning data'!C12,'aligning data'!C19,'aligning data'!C20,'aligning data'!C21,'aligning data'!C172,'aligning data'!C173,'aligning data'!C174,'aligning data'!C181,'aligning data'!C182,'aligning data'!C183)","v":0},null,null,null,null,{"$f":"SUM('aligning data'!F4,'aligning data'!F5,'aligning data'!F6,'aligning data'!F10,'aligning data'!F11,'aligning data'!F12,'aligning data'!F19,'aligning data'!F20,'aligning data'!F21,'aligning data'!F172,'aligning data'!F173,'aligning data'!F174,'aligning data'!F181,'aligning data'!F182,'aligning data'!F183)/15","v":0},{"$f":"STDEVA('aligning data'!F4,'aligning data'!F5,'aligning data'!F6,'aligning data'!F10,'aligning data'!F11,'aligning data'!F12,'aligning data'!F19,'aligning data'!F20,'aligning data'!F21,'aligning data'!F172,'aligning data'!F173,'aligning data'!F174,'aligning data'!F181,'aligning data'!F182,'aligning data'!F183)","v":0},null,null,null,null,{"$f":"SUM('aligning data'!I4,'aligning data'!I5,'aligning data'!I6,'aligning data'!I10,'aligning data'!I11,'aligning data'!I12,'aligning data'!I19,'aligning data'!I20,'aligning data'!I21,'aligning data'!I172,'aligning data'!I173,'aligning data'!I174,'aligning data'!I181,'aligning data'!I182,'aligning data'!I183)/15","v":0},{"$f":"STDEVA('aligning data'!I4,'aligning data'!I5,'aligning data'!I6,'aligning data'!I10,'aligning data'!I11,'aligning data'!I12,'aligning data'!I19,'aligning data'!I20,'aligning data'!I21,'aligning data'!I172,'aligning data'!I173,'aligning data'!I174,'aligning data'!I181,'aligning data'!I182,'aligning data'!I183)","v":0},null,null,null,null,{"$f":"SUM('aligning data'!L4,'aligning data'!L5,'aligning data'!L6,'aligning data'!L10,'aligning data'!L11,'aligning data'!L12,'aligning data'!L19,'aligning data'!L20,'aligning data'!L21,'aligning data'!L172,'aligning data'!L173,'aligning data'!L174,'aligning data'!L181,'aligning data'!L182,'aligning data'!L183)/15","v":0},{"$f":"STDEVA('aligning data'!L4,'aligning data'!L5,'aligning data'!L6,'aligning data'!L10,'aligning data'!L11,'aligning data'!L12,'aligning data'!L19,'aligning data'!L20,'aligning data'!L21,'aligning data'!L172,'aligning data'!L173,'aligning data'!L174,'aligning data'!L181,'aligning data'!L182,'aligning data'!L183)","v":0},null,null,null,null,{"$f":"SUM('aligning data'!O4,'aligning data'!O5,'aligning data'!O6,'aligning data'!O10,'aligning data'!O11,'aligning data'!O12,'aligning data'!O19,'aligning data'!O20,'aligning data'!O21,'aligning data'!O172,'aligning data'!O173,'aligning data'!O174,'aligning data'!O181,'aligning data'!O182,'aligning data'!O183)/15","v":0},{"$f":"STDEVA('aligning data'!O4,'aligning data'!O5,'aligning data'!O6,'aligning data'!O10,'aligning data'!O11,'aligning data'!O12,'aligning data'!O19,'aligning data'!O20,'aligning data'!O21,'aligning data'!O172,'aligning data'!O173,'aligning data'!O174,'aligning data'!O181,'aligning data'!O182,'aligning data'!O183)","v":0},null,null,null,null,{"$f":"SUM('aligning data'!R4,'aligning data'!R5,'aligning data'!R6,'aligning data'!R10,'aligning data'!R11,'aligning data'!R12,'aligning data'!R19,'aligning data'!R20,'aligning data'!R21,'aligning data'!R172,'aligning data'!R173,'aligning data'!R174,'aligning data'!R181,'aligning data'!R182,'aligning data'!R183)/15","v":0},{"$f":"STDEVA('aligning data'!R4,'aligning data'!R5,'aligning data'!R6,'aligning data'!R10,'aligning data'!R11,'aligning data'!R12,'aligning data'!R19,'aligning data'!R20,'aligning data'!R21,'aligning data'!R172,'aligning data'!R173,'aligning data'!R174,'aligning data'!R181,'aligning data'!R182,'aligning data'!R183)","v":0},null,null,null,null,{"$f":"SUM('aligning data'!U4,'aligning data'!U5,'aligning data'!U6,'aligning data'!U10,'aligning data'!U11,'aligning data'!U12,'aligning data'!U19,'aligning data'!U20,'aligning data'!U21,'aligning data'!U172,'aligning data'!U173,'aligning data'!U174,'aligning data'!U181,'aligning data'!U182,'aligning data'!U183)/15","v":0},{"$f":"STDEVA('aligning data'!U4,'aligning data'!U5,'aligning data'!U6,'aligning data'!U10,'aligning data'!U11,'aligning data'!U12,'aligning data'!U19,'aligning data'!U20,'aligning data'!U21,'aligning data'!U172,'aligning data'!U173,'aligning data'!U174,'aligning data'!U181,'aligning data'!U182,'aligning data'!U183)","v":0},null,null,null,null,{"$f":"SUM('aligning data'!X4,'aligning data'!X5,'aligning data'!X6,'aligning data'!X10,'aligning data'!X11,'aligning data'!X12,'aligning data'!X19,'aligning data'!X20,'aligning data'!X21,'aligning data'!X172,'aligning data'!X173,'aligning data'!X174,'aligning data'!X181,'aligning data'!X182,'aligning data'!X183)/15","v":0},{"$f":"STDEVA('aligning data'!X4,'aligning data'!X5,'aligning data'!X6,'aligning data'!X10,'aligning data'!X11,'aligning data'!X12,'aligning data'!X19,'aligning data'!X20,'aligning data'!X21,'aligning data'!X172,'aligning data'!X173,'aligning data'!X174,'aligning data'!X181,'aligning data'!X182,'aligning data'!X183)","v":0},null,null,null,null,{"$f":"SUM('aligning data'!AA4,'aligning data'!AA5,'aligning data'!AA6,'aligning data'!AA10,'aligning data'!AA11,'aligning data'!AA12,'aligning data'!AA19,'aligning data'!AA20,'aligning data'!AA21,'aligning data'!AA172,'aligning data'!AA173,'aligning data'!AA174,'aligning data'!AA181,'aligning data'!AA182,'aligning data'!AA183)/15","v":0},{"$f":"STDEVA('aligning data'!AA4,'aligning data'!AA5,'aligning data'!AA6,'aligning data'!AA10,'aligning data'!AA11,'aligning data'!AA12,'aligning data'!AA19,'aligning data'!AA20,'aligning data'!AA21,'aligning data'!AA172,'aligning data'!AA173,'aligning data'!AA174,'aligning data'!AA181,'aligning data'!AA182,'aligning data'!AA183)","v":0},null,null,null,null,{"$f":"SUM('aligning data'!AD4,'aligning data'!AD5,'aligning data'!AD6,'aligning data'!AD10,'aligning data'!AD11,'aligning data'!AD12,'aligning data'!AD19,'aligning data'!AD20,'aligning data'!AD21,'aligning data'!AD172,'aligning data'!AD173,'aligning data'!AD174,'aligning data'!AD181,'aligning data'!AD182,'aligning data'!AD183)/15","v":0},{"$f":"STDEVA('aligning data'!AD4,'aligning data'!AD5,'aligning data'!AD6,'aligning data'!AD10,'aligning data'!AD11,'aligning data'!AD12,'aligning data'!AD19,'aligning data'!AD20,'aligning data'!AD21,'aligning data'!AD172,'aligning data'!AD173,'aligning data'!AD174,'aligning data'!AD181,'aligning data'!AD182,'aligning data'!AD183)","v":0},null,null,null,null,{"$f":"SUM('aligning data'!AG4,'aligning data'!AG5,'aligning data'!AG6,'aligning data'!AG10,'aligning data'!AG11,'aligning data'!AG12,'aligning data'!AG19,'aligning data'!AG20,'aligning data'!AG21,'aligning data'!AG172,'aligning data'!AG173,'aligning data'!AG174,'aligning data'!AG181,'aligning data'!AG182,'aligning data'!AG183)/15","v":0},{"$f":"STDEVA('aligning data'!AG4,'aligning data'!AG5,'aligning data'!AG6,'aligning data'!AG10,'aligning data'!AG11,'aligning data'!AG12,'aligning data'!AG19,'aligning data'!AG20,'aligning data'!AG21,'aligning data'!AG172,'aligning data'!AG173,'aligning data'!AG174,'aligning data'!AG181,'aligning data'!AG182,'aligning data'!AG183)","v":0},null,null,null,null,{"$f":"SUM('aligning data'!AJ4,'aligning data'!AJ5,'aligning data'!AJ6,'aligning data'!AJ10,'aligning data'!AJ11,'aligning data'!AJ12,'aligning data'!AJ19,'aligning data'!AJ20,'aligning data'!AJ21,'aligning data'!AJ172,'aligning data'!AJ173,'aligning data'!AJ174,'aligning data'!AJ181,'aligning data'!AJ182,'aligning data'!AJ183)/15","v":0},{"$f":"STDEVA('aligning data'!AJ4,'aligning data'!AJ5,'aligning data'!AJ6,'aligning data'!AJ10,'aligning data'!AJ11,'aligning data'!AJ12,'aligning data'!AJ19,'aligning data'!AJ20,'aligning data'!AJ21,'aligning data'!AJ172,'aligning data'!AJ173,'aligning data'!AJ174,'aligning data'!AJ181,'aligning data'!AJ182,'aligning data'!AJ183)","v":0},null,null,null,null,{"$f":"SUM('aligning data'!AM4,'aligning data'!AM5,'aligning data'!AM6,'aligning data'!AM10,'aligning data'!AM11,'aligning data'!AM12,'aligning data'!AM19,'aligning data'!AM20,'aligning data'!AM21,'aligning data'!AM172,'aligning data'!AM173,'aligning data'!AM174,'aligning data'!AM181,'aligning data'!AM182,'aligning data'!AM183)/15","v":0},{"$f":"STDEVA('aligning data'!AM4,'aligning data'!AM5,'aligning data'!AM6,'aligning data'!AM10,'aligning data'!AM11,'aligning data'!AM12,'aligning data'!AM19,'aligning data'!AM20,'aligning data'!AM21,'aligning data'!AM172,'aligning data'!AM173,'aligning data'!AM174,'aligning data'!AM181,'aligning data'!AM182,'aligning data'!AM183)","v":0},null,null,null,null,{"$f":"SUM('aligning data'!AP4,'aligning data'!AP5,'aligning data'!AP6,'aligning data'!AP10,'aligning data'!AP11,'aligning data'!AP12,'aligning data'!AP19,'aligning data'!AP20,'aligning data'!AP21,'aligning data'!AP172,'aligning data'!AP173,'aligning data'!AP174,'aligning data'!AP181,'aligning data'!AP182,'aligning data'!AP183)/15","v":0},{"$f":"STDEVA('aligning data'!AP4,'aligning data'!AP5,'aligning data'!AP6,'aligning data'!AP10,'aligning data'!AP11,'aligning data'!AP12,'aligning data'!AP19,'aligning data'!AP20,'aligning data'!AP21,'aligning data'!AP172,'aligning data'!AP173,'aligning data'!AP174,'aligning data'!AP181,'aligning data'!AP182,'aligning data'!AP183)","v":0},null,null,null,null,{"$f":"SUM('aligning data'!AS4,'aligning data'!AS5,'aligning data'!AS6,'aligning data'!AS10,'aligning data'!AS11,'aligning data'!AS12,'aligning data'!AS19,'aligning data'!AS20,'aligning data'!AS21,'aligning data'!AS172,'aligning data'!AS173,'aligning data'!AS174,'aligning data'!AS181,'aligning data'!AS182,'aligning data'!AS183)/15","v":0},{"$f":"STDEVA('aligning data'!AS4,'aligning data'!AS5,'aligning data'!AS6,'aligning data'!AS10,'aligning data'!AS11,'aligning data'!AS12,'aligning data'!AS19,'aligning data'!AS20,'aligning data'!AS21,'aligning data'!AS172,'aligning data'!AS173,'aligning data'!AS174,'aligning data'!AS181,'aligning data'!AS182,'aligning data'!AS183)","v":0},null,null,null,null,{"$f":"SUM('aligning data'!AV4,'aligning data'!AV5,'aligning data'!AV6,'aligning data'!AV10,'aligning data'!AV11,'aligning data'!AV12,'aligning data'!AV19,'aligning data'!AV20,'aligning data'!AV21,'aligning data'!AV172,'aligning data'!AV173,'aligning data'!AV174,'aligning data'!AV181,'aligning data'!AV182,'aligning data'!AV183)/15","v":0},{"$f":"STDEVA('aligning data'!AV4,'aligning data'!AV5,'aligning data'!AV6,'aligning data'!AV10,'aligning data'!AV11,'aligning data'!AV12,'aligning data'!AV19,'aligning data'!AV20,'aligning data'!AV21,'aligning data'!AV172,'aligning data'!AV173,'aligning data'!AV174,'aligning data'!AV181,'aligning data'!AV182,'aligning data'!AV183)","v":0}]
["NEG",null,null,null,null,{"$f":"SUM('aligning data'!C121,'aligning data'!C122,'aligning data'!C123,'aligning data'!C166,'aligning data'!C167,'aligning data'!C168)/6","v":0},{"$f":"STDEVA('aligning data'!C121,'aligning data'!C122,'aligning data'!C123,'aligning data'!C166,'aligning data'!C167,'aligning data'!C168)","v":0},null,null,null,null,{"$f":"SUM('aligning data'!F121,'aligning data'!F122,'aligning data'!F123,'aligning data'!F166,'aligning data'!F167,'aligning data'!F168)/6","v":0},{"$f":"STDEVA('aligning data'!F121,'aligning data'!F122,'aligning data'!F123,'aligning data'!F166,'aligning data'!F167,'aligning data'!F168)","v":0},null,null,null,null,{"$f":"SUM('aligning data'!I121,'aligning data'!I122,'aligning data'!I123,'aligning data'!I166,'aligning data'!I167,'aligning data'!I168)/6","v":0},{"$f":"STDEVA('aligning data'!I121,'aligning data'!I122,'aligning data'!I123,'aligning data'!I166,'aligning data'!I167,'aligning data'!I168)","v":0},null,null,null,null,{"$f":"SUM('aligning data'!L121,'aligning data'!L122,'aligning data'!L123,'aligning data'!L166,'aligning data'!L167,'aligning data'!L168)/6","v":0},{"$f":"STDEVA('aligning data'!L121,'aligning data'!L122,'aligning data'!L123,'aligning data'!L166,'aligning data'!L167,'aligning data'!L168)","v":0},null,null,null,null,{"$f":"SUM('aligning data'!O121,'aligning data'!O122,'aligning data'!O123,'aligning data'!O166,'aligning data'!O167,'aligning data'!O168)/6","v":0},{"$f":"STDEVA('aligning data'!O121,'aligning data'!O122,'aligning data'!O123,'aligning data'!O166,'aligning data'!O167,'aligning data'!O168)","v":0},null,null,null,null,{"$f":"SUM('aligning data'!R121,'aligning data'!R122,'aligning data'!R123,'aligning data'!R166,'aligning data'!R167,'aligning data'!R168)/6","v":0},{"$f":"STDEVA('aligning data'!R121,'aligning data'!R122,'aligning data'!R123,'aligning data'!R166,'aligning data'!R167,'aligning data'!R168)","v":0},null,null,null,null,{"$f":"SUM('aligning data'!U121,'aligning data'!U122,'aligning data'!U123,'aligning data'!U166,'aligning data'!U167,'aligning data'!U168)/6","v":0},{"$f":"STDEVA('aligning data'!U121,'aligning data'!U122,'aligning data'!U123,'aligning data'!U166,'aligning data'!U167,'aligning data'!U168)","v":0},null,null,null,null,{"$f":"SUM('aligning data'!X121,'aligning data'!X122,'aligning data'!X123,'aligning data'!X166,'aligning data'!X167,'aligning data'!X168)/6","v":0},{"$f":"STDEVA('aligning data'!X121,'aligning data'!X122,'aligning data'!X123,'aligning data'!X166,'aligning data'!X167,'aligning data'!X168)","v":0},null,null,null,null,{"$f":"SUM('aligning data'!AA121,'aligning data'!AA122,'aligning data'!AA123,'aligning data'!AA166,'aligning data'!AA167,'aligning data'!AA168)/6","v":0},{"$f":"STDEVA('aligning data'!AA121,'aligning data'!AA122,'aligning data'!AA123,'aligning data'!AA166,'aligning data'!AA167,'aligning data'!AA168)","v":0},null,null,null,null,{"$f":"SUM('aligning data'!AD121,'aligning data'!AD122,'aligning data'!AD123,'aligning data'!AD166,'aligning data'!AD167,'aligning data'!AD168)/6","v":0},{"$f":"STDEVA('aligning data'!AD121,'aligning data'!AD122,'aligning data'!AD123,'aligning data'!AD166,'aligning data'!AD167,'aligning data'!AD168)","v":0},null,null,null,null,{"$f":"SUM('aligning data'!AG121,'aligning data'!AG122,'aligning data'!AG123,'aligning data'!AG166,'aligning data'!AG167,'aligning data'!AG168)/6","v":0},{"$f":"STDEVA('aligning data'!AG121,'aligning data'!AG122,'aligning data'!AG123,'aligning data'!AG166,'aligning data'!AG167,'aligning data'!AG168)","v":0},null,null,null,null,{"$f":"SUM('aligning data'!AJ121,'aligning data'!AJ122,'aligning data'!AJ123,'aligning data'!AJ166,'aligning data'!AJ167,'aligning data'!AJ168)/6","v":0},{"$f":"STDEVA('aligning data'!AJ121,'aligning data'!AJ122,'aligning data'!AJ123,'aligning data'!AJ166,'aligning data'!AJ167,'aligning data'!AJ168)","v":0},null,null,null,null,{"$f":"SUM('aligning data'!AM121,'aligning data'!AM122,'aligning data'!AM123,'aligning data'!AM166,'aligning data'!AM167,'aligning data'!AM168)/6","v":0},{"$f":"STDEVA('aligning data'!AM121,'aligning data'!AM122,'aligning data'!AM123,'aligning data'!AM166,'aligning data'!AM167,'aligning data'!AM168)","v":0},null,null,null,null,{"$f":"SUM('aligning data'!AP121,'aligning data'!AP122,'aligning data'!AP123,'aligning data'!AP166,'aligning data'!AP167,'aligning data'!AP168)/6","v":0},{"$f":"STDEVA('aligning data'!AP121,'aligning data'!AP122,'aligning data'!AP123,'aligning data'!AP166,'aligning data'!AP167,'aligning data'!AP168)","v":0},null,null,null,null,{"$f":"SUM('aligning data'!AS121,'aligning data'!AS122,'aligning data'!AS123,'aligning data'!AS166,'aligning data'!AS167,'aligning data'!AS168)/6","v":0},{"$f":"STDEVA('aligning data'!AS121,'aligning data'!AS122,'aligning data'!AS123,'aligning data'!AS166,'aligning data'!AS167,'aligning data'!AS168)","v":0},null,null,null,null,{"$f":"SUM('aligning data'!AV121,'aligning data'!AV122,'aligning data'!AV123,'aligning data'!AV166,'aligning data'!AV167,'aligning data'!AV168)/6","v":0},{"$f":"STDEVA('aligning data'!AV121,'aligning data'!AV122,'aligning data'!AV123,'aligning data'!AV166,'aligning data'!AV167,'aligning data'!AV168)","v":0}]
["P11",null,{"$f":"'aligning data'!C7","v":"D1"},{"$f":"'aligning data'!C8","v":"E1"},{"$f":"'aligning data'!C9","v":"F1"},{"$f":"AVERAGE(C8:E8)","v":{"$error":"#DIV/0!"}},{"$f":"STDEVA(C8:E8)","v":0},null,{"$f":"'aligning data'!F7","v":"D1"},{"$f":"'aligning data'!F8","v":"E1"},{"$f":"'aligning data'!F9","v":"F1"},{"$f":"AVERAGE(I8:K8)","v":{"$error":"#DIV/0!"}},{"$f":"STDEVA(I8:K8)","v":0},null,{"$f":"'aligning data'!I7","v":"D1"},{"$f":"'aligning data'!I8","v":"E1"},{"$f":"'aligning data'!I9","v":"F1"},{"$f":"AVERAGE(O8:Q8)","v":{"$error":"#DIV/0!"}},{"$f":"STDEVA(O8:Q8)","v":0},null,{"$f":"'aligning data'!L7","v":"D1"},{"$f":"'aligning data'!L8","v":"E1"},{"$f":"'aligning data'!L9","v":"F1"},{"$f":"AVERAGE(U8:W8)","v":{"$error":"#DIV/0!"}},{"$f":"STDEVA(U8:W8)","v":0},null,{"$f":"'aligning data'!O7","v":"D1"},{"$f":"'aligning data'!O8","v":"E1"},{"$f":"'aligning data'!O9","v":"F1"},{"$f":"AVERAGE(AA8:AC8)","v":{"$error":"#DIV/0!"}},{"$f":"STDEVA(AA8:AC8)","v":0},null,{"$f":"'aligning data'!R7","v":"D1"},{"$f":"'aligning data'!R8","v":"E1"},{"$f":"'aligning data'!R9","v":"F1"},{"$f":"AVERAGE(AG8:AI8)","v":{"$error":"#DIV/0!"}},{"$f":"STDEVA(AG8:AI8)","v":0},null,{"$f":"'aligning data'!U7","v":"D1"},{"$f":"'aligning data'!U8","v":"E1"},{"$f":"'aligning data'!U9","v":"F1"},{"$f":"AVERAGE(AM8:AO8)","v":{"$error":"#DIV/0!"}},{"$f":"STDEVA(AM8:AO8)","v":0},null,{"$f":"'aligning data'!X7","v":"D1"},{"$f":"'aligning data'!X8","v":"E1"},{"$f":"'aligning data'!X9","v":"F1"},{"$f":"AVERAGE(AS8:AU8)","v":{"$error":"#DIV/0!"}},{"$f":"STDEVA(AS8:AU8)","v":0},null,{"$f":"'aligning data'!AA7","v":"D1"},{"$f":"'aligning data'!AA8","v":"E1"},{"$f":"'aligning data'!AA9","v":"F1"},{"$f":"AVERAGE(AY8:BA8)","v":{"$error":"#DIV/0!"}},{"$f":"STDEVA(AY8:BA8)","v":0},null,{"$f":"'aligning data'!AD7","v":"D1"},{"$f":"'aligning data'!AD8","v":"E1"},{"$f":"'aligning data'!AD9","v":"F1"},{"$f":"AVERAGE(BE8:BG8)","v":{"$error":"#DIV/0!"}},{"$f":"STDEVA(BE8:BG8)","v":0},null,{"$f":"'aligning data'!AG7","v":"D1"},{"$f":"'aligning data'!AG8","v":"E1"},{"$f":"'aligning data'!AG9","v":"F1"},{"$f":"AVERAGE(BK8:BM8)","v":{"$error":"#DIV/0!"}},{"$f":"STDEVA(BK8:BM8)","v":0},null,{"$f":"'aligning data'!AJ7","v":"D1"},{"$f":"'aligning data'!AJ8","v":"E1"},{"$f":"'aligning data'!AJ9","v":"F1"},{"$f":"AVERAGE(BQ8:BS8)","v":{"$error":"#DIV/0!"}},{"$f":"STDEVA(BQ8:BS8)","v":0},null,{"$f":"'aligning data'!AM7","v":"D1"},{"$f":"'aligning data'!AM8","v":"E1"},{"$f":"'aligning data'!AM9","v":"F1"},{"$f":"AVERAGE(BW8:BY8)","v":{"$error":"#DIV/0!"}},{"$f":"STDEVA(BW8:BY8)","v":0},null,{"$f":"'aligning data'!AP7","v":"D1"},{"$f":"'aligning data'!AP8","v":"E1"},{"$f":"'aligning data'!AP9","v":"F1"},{"$f":"AVERAGE(CC8:CE8)","v":{"$error":"#DIV/0!"}},{"$f":"STDEVA(CC8:CE8)","v":0},null,{"$f":"'aligning data'!AS7","v":"D1"},{"$f":"'aligning data'!AS8","v":"E1"},{"$f":"'aligning data'!AS9","v":"F1"},{"$f":"AVERAGE(CI8:CK8)","v":{"$error":"#DIV/0!"}},{"$f":"STDEVA(CI8:CK8)","v":0},null,{"$f":"'aligning data'!AV7","v":"D1"},{"$f":"'aligning data'!AV8","v":"E1"},{"$f":"'aligning data'!AV9","v":"F1"},{"$f":"AVERAGE(CO8:CQ8)","v":{"$error":"#DIV/0!"}},{"$f":"STDEVA(CO8:CQ8)","v":0}]
["P33",null,{"$f":"'aligning data'!C13","v":"J1"},{"$f":"'aligning data'!C14","v":"K1"},{"$f":"'aligning data'!C15","v":"L1"},{"$f":"AVERAGE(C9:E9)","v":{"$error":"#DIV/0!"}},{"$f":"STDEVA(C9:E9)","v":0},null,{"$f":"'aligning data'!F13","v":"J1"},{"$f":"'aligning data'!F14","v":"K1"},{"$f":"'aligning data'!F15","v":"L1"},{"$f":"AVERAGE(I9:K9)","v":{"$error":"#DIV/0!"}},{"$f":"STDEVA(I9:K9)","v":0},null,{"$f":"'aligning data'!I13","v":"J1"},{"$f":"'aligning data'!I14","v":"K1"},{"$f":"'aligning data'!I15","v":"L1"},{"$f":"AVERAGE(O9:Q9)","v":{"$error":"#DIV/0!"}},{"$f":"STDEVA(O9:Q9)","v":0},null,{"$f":"'aligning data'!L13","v":"J1"},{"$f":"'aligning data'!L14","v":"K1"},{"$f":"'aligning data'!L15","v":"L1"},{"$f":"AVERAGE(U9:W9)","v":{"$error":"#DIV/0!"}},{"$f":"STDEVA(U9:W9)","v":0},null,{"$f":"'aligning data'!O13","v":"J1"},{"$f":"'aligning data'!O14","v":"K1"},{"$f":"'aligning data'!O15","v":"L1"},{"$f":"AVERAGE(AA9:AC9)","v":{"$error":"#DIV/0!"}},{"$f":"STDEVA(AA9:AC9)","v":0},null,{"$f":"'aligning data'!R13","v":"J1"},{"$f":"'aligning data'!R14","v":"K1"},{"$f":"'aligning data'!R15","v":"L1"},{"$f":"AVERAGE(AG9:AI9)","v":{"$error":"#DIV/0!"}},{"$f":"STDEVA(AG9:AI9)","v":0},null,{"$f":"'aligning data'!U13","v":"J1"},{"$f":"'aligning data'!U14","v":"K1"},{"$f":"'aligning data'!U15","v":"L1"},{"$f":"AVERAGE(AM9:AO9)","v":{"$error":"#DIV/0!"}},{"$f":"STDEVA(AM9:AO9)","v":0},null,{"$f":"'aligning data'!X13","v":"J1"},{"$f":"'aligning data'!X14","v":"K1"},{"$f":"'aligning data'!X15","v":"L1"},{"$f":"AVERAGE(AS9:AU9)","v":{"$error":"#DIV/0!"}},{"$f":"STDEVA(AS9:AU9)","v":0},null,{"$f":"'aligning data'!AA13","v":"J1"},{"$f":"'aligning data'!AA14","v":"K1"},{"$f":"'aligning data'!AA15","v":"L1"},{"$f":"AVERAGE(AY9:BA9)","v":{"$error":"#DIV/0!"}},{"$f":"STDEVA(AY9:BA9)","v":0},null,{"$f":"'aligning data'!AD13","v":"J1"},{"$f":"'aligning data'!AD14","v":"K1"},{"$f":"'aligning data'!AD15","v":"L1"},{"$f":"AVERAGE(BE9:BG9)","v":{"$error":"#DIV/0!"}},{"$f":"STDEVA(BE9:BG9)","v":0},null,{"$f":"'aligning data'!AG13","v":"J1"},{"$f":"'aligning data'!AG14","v":"K1"},{"$f":"'aligning data'!AG15","v":"L1"},{"$f":"AVERAGE(BK9:BM9)","v":{"$error":"#DIV/0!"}},{"$f":"STDEVA(BK9:BM9)","v":0},null,{"$f":"'aligning data'!AJ13","v":"J1"},{"$f":"'aligning data'!AJ14","v":"K1"},{"$f":"'aligning data'!AJ15","v":"L1"},{"$f":"AVERAGE(BQ9:BS9)","v":{"$error":"#DIV/0!"}},{"$f":"STDEVA(BQ9:BS9)","v":0},null,{"$f":"'aligning data'!AM13","v":"J1"},{"$f":"'aligning data'!AM14","v":"K1"},{"$f":"'aligning data'!AM15","v":"L1"},{"$f":"AVERAGE(BW9:BY9)","v":{"$error":"#DIV/0!"}},{"$f":"STDEVA(BW9:BY9)","v":0},null,{"$f":"'aligning data'!AP13","v":"J1"},{"$f":"'aligning data'!AP14","v":"K1"},{"$f":"'aligning data'!AP15","v":"L1"},{"$f":"AVERAGE(CC9:CE9)","v":{"$error":"#DIV/0!"}},{"$f":"STDEVA(CC9:CE9)","v":0},null,{"$f":"'aligning data'!AS13","v":"J1"},{"$f":"'aligning data'!AS14","v":"K1"},{"$f":"'aligning data'!AS15","v":"L1"},{"$f":"AVERAGE(CI9:CK9)","v":{"$error":"#DIV/0!"}},{"$f":"STDEVA(CI9:CK9)","v":0},null,{"$f":"'aligning data'!AV13","v":"J1"},{"$f":"'aligning data'!AV14","v":"K1"},{"$f":"'aligning data'!AV15","v":"L1"},{"$f":"AVERAGE(CO9:CQ9)","v":{"$error":"#DIV/0!"}},{"$f":"STDEVA(CO9:CQ9)","v":0}]
["P45",null,{"$f":"'aligning data'!C16","v":"M1"},{"$f":"'aligning data'!C17","v":"N1"},{"$f":"'aligning data'!C18","v":"O1"},{"$error":"#DIV/0!"},0,null,{"$f":"'aligning data'!F16","v":"M1"},{"$f":"'aligning data'!F17","v":"N1"},{"$f":"'aligning data'!F18","v":"O1"},{"$error":"#DIV/0!"},0,null,{"$f":"'aligning data'!I16","v":"M1"},{"$f":"'aligning data'!I17","v":"N1"},{"$f":"'aligning data'!I18","v":"O1"},{"$error":"#DIV/0!"},0,null,{"$f":"'aligning data'!L16","v":"M1"},{"$f":"'aligning data'!L17","v":"N1"},{"$f":"'aligning data'!L18","v":"O1"},{"$error":"#DIV/0!"},0,null,{"$f":"'aligning data'!O16","v":"M1"},{"$f":"'aligning data'!O17","v":"N1"},{"$f":"'aligning data'!O18","v":"O1"},{"$error":"#DIV/0!"},0,null,{"$f":"'aligning data'!R16","v":"M1"},{"$f":"'aligning data'!R17","v":"N1"},{"$f":"'aligning data'!R18","v":"O1"},{"$error":"#DIV/0!"},0,null,{"$f":"'aligning data'!U16","v":"M1"},{"$f":"'aligning data'!U17","v":"N1"},{"$f":"'aligning data'!U18","v":"O1"},{"$error":"#DIV/0!"},0,null,{"$f":"'aligning data'!X16","v":"M1"},{"$f":"'aligning data'!X17","v":"N1"},{"$f":"'aligning data'!X18","v":"O1"},{"$error":"#DIV/0!"},0,null,{"$f":"'aligning data'!AA16","v":"M1"},{"$f":"'aligning data'!AA17","v":"N1"},{"$f":"'aligning data'!AA18","v":"O1"},{"$error":"#DIV/0!"},0,null,{"$f":"'aligning data'!AD16","v":"M1"},{"$f":"'aligning data'!AD17","v":"N1"},{"$f":"'aligning data'!AD18","v":"O1"},{"$error":"#DIV/0!"},0,null,{"$f":"'aligning data'!AG16","v":"M1"},{"$f":"'aligning data'!AG17","v":"N1"},{"$f":"'aligning data'!AG18","v":"O1"},{"$error":"#DIV/0!"},0,null,{"$f":"'aligning data'!AJ16","v":"M1"},{"$f":"'aligning data'!AJ17","v":"N1"},{"$f":"'aligning data'!AJ18","v":"O1"},{"$error":"#DIV/0!"},0,null,{"$f":"'aligning data'!AM16","v":"M1"},{"$f":"'aligning data'!AM17","v":"N1"},{"$f":"'aligning data'!AM18","v":"O1"},{"$error":"#DIV/0!"},0,null,{"$f":"'aligning data'!AP16","v":"M1"},{"$f":"'aligning data'!AP17","v":"N1"},{"$f":"'aligning data'!AP18","v":"O1"},{"$error":"#DIV/0!"},0,null,{"$f":"'aligning data'!AS16","v":"M1"},{"$f":"'aligning data'!AS17","v":"N1"},{"$f":"'aligning data'!AS18","v":"O1"},{"$error":"#DIV/0!"},0,null,{"$f":"'aligning data'!AV16","v":"M1"},{"$f":"'aligning data'!AV17","v":"N1"},{"$f":"'aligning data'!AV18","v":"O1"},{"$error":"#DIV/0!"},0]
["P12",null,{"$f":"'aligning data'!C22","v":"D2"},{"$f":"'aligning data'!C23","v":"E2"},{"$f":"'aligning data'!C24","v":"F2"},{"$error":"#DIV/0!"},0,null,{"$f":"'aligning data'!F22","v":"D2"},{"$f":"'aligning data'!F23","v":"E2"},{"$f":"'aligning data'!F24","v":"F2"},{"$error":"#DIV/0!"},0,null,{"$f":"'aligning data'!I22","v":"D2"},{"$f":"'aligning data'!I23","v":"E2"},{"$f":"'aligning data'!I24","v":"F2"},{"$error":"#DIV/0!"},0,null,{"$f":"'aligning data'!L22","v":"D2"},{"$f":"'aligning data'!L23","v":"E2"},{"$f":"'aligning data'!L24","v":"F2"},{"$error":"#DIV/0!"},0,null,{"$f":"'aligning data'!O22","v":"D2"},{"$f":"'aligning data'!O23","v":"E2"},{"$f":"'aligning data'!O24","v":"F2"},{"$error":"#DIV/0!"},0,null,{"$f":"'aligning data'!R22","v":"D2"},{"$f":"'aligning data'!R23","v":"E2"},{"$f":"'aligning data'!R24","v":"F2"},{"$error":"#DIV/0!"},0,null,{"$f":"'aligning data'!U22","v":"D2"},{"$f":"'aligning data'!U23","v":"E2"},{"$f":"'aligning data'!U24","v":"F2"},{"$error":"#DIV/0!"},0,null,{"$f":"'aligning data'!X22","v":"D2"},{"$f":"'aligning data'!X23","v":"E2"},{"$f":"'aligning data'!X24","v":"F2"},{"$error":"#DIV/0!"},0,null,{"$f":"'aligning data'!AA22","v":"D2"},{"$f":"'aligning data'!AA23","v":"E2"},{"$f":"'aligning data'!AA24","v":"F2"},{"$error":"#DIV/0!"},0,null,{"$f":"'aligning data'!AD22","v":"D2"},{"$f":"'aligning data'!AD23","v":"E2"},{"$f":"'aligning data'!AD24","v":"F2"},{"$error":"#DIV/0!"},0,null,{"$f":"'aligning data'!AG22","v":"D2"},{"$f":"'aligning data'!AG23","v":"E2"},{"$f":"'aligning data'!AG24","v":"F2"},{"$error":"#DIV/0!"},0,null,{"$f":"'aligning data'!AJ22","v":"D2"},{"$f":"'aligning data'!AJ23","v":"E2"},{"$f":"'aligning data'!AJ24","v":"F2"},{"$error":"#DIV/0!"},0,null,{"$f":"'aligning data'!AM22","v":"D2"},{"$f":"'aligning data'!AM23","v":"E2"},{"$f":"'aligning data'!AM24","v":"F2"},{"$error":"#DIV/0!"},0,null,{"$f":"'aligning data'!AP22","v":"D2"},{"$f":"'aligning data'!AP23","v":"E2"},{"$f":"'aligning data'!AP24","v":"F2"},{"$error":"#DIV/0!"},0,null,{"$f":"'aligning data'!AS22","v":"D2"},{"$f":"'aligning data'!AS23","v":"E2"},{"$f":"'aligning data'!AS24","v":"F2"},{"$error":"#DIV/0!"},0,null,{"$f":"'aligning data'!AV22","v":"D2"},{"$f":"'aligning data'!AV23","v":"E2"},{"$f":"'aligning data'!AV24","v":"F2"},{"$error":"#DIV/0!"},0]
["P22",null,{"$f":"'aligning data'!C25","v":"G2"},{"$f":"'aligning data'!C26","v":"H2"},{"$f":"'aligning data'!C27","v":"I2"},{"$error":"#DIV/0!"},0,null,{"$f":"'aligning data'!F25","v":"G2"},{"$f":"'aligning data'!F26","v":"H2"},{"$f":"'aligning data'!F27","v":"I2"},{"$error":"#DIV/0!"},0,null,{"$f":"'aligning data'!I25","v":"G2"},{"$f":"'aligning data'!I26","v":"H2"},{"$f":"'aligning data'!I27","v":"I2"},{"$error":"#DIV/0!"},0,null,{"$f":"'aligning data'!L25","v":"G2"},{"$f":"'aligning data'!L26","v":"H2"},{"$f":"'aligning data'!L27","v":"I2"},{"$error":"#DIV/0!"},0,null,{"$f":"'aligning data'!O25","v":"G2"},{"$f":"'aligning data'!O26","v":"H2"},{"$f":"'aligning data'!O27","v":"I2"},{"$error":"#DIV/0!"},0,null,{"$f":"'aligning data'!R25","v":"G2"},{"$f":"'aligning data'!R26","v":"H2"},{"$f":"'aligning data'!R27","v":"I2"},{"$error":"#DIV/0!"},0,null,{"$f":"'aligning data'!U25","v":"G2"},{"$f":"'aligning data'!U26","v":"H2"},{"$f":"'aligning data'!U27","v":"I2"},{"$error":"#DIV/0!"},0,null,{"$f":"'aligning data'!X25","v":"G2"},{"$f":"'aligning data'!X26","v":"H2"},{"$f":"'aligning data'!X27","v":"I2"},{"$error":"#DIV/0!"},0,null,{"$f":"'aligning data'!AA25","v":"G2"},{"$f":"'aligning data'!AA26","v":"H2"},{"$f":"'aligning data'!AA27","v":"I2"},{"$error":"#DIV/0!"},0,null,{"$f":"'aligning data'!AD25","v":"G2"},{"$f":"'aligning data'!AD26","v":"H2"},{"$f":"'aligning data'!AD27","v":"I2"},{"$error":"#DIV/0!"},0,null,{"$f":"'aligning data'!AG25","v":"G2"},{"$f":"'aligning data'!AG26","v":"H2"},{"$f":"'aligning data'!AG27","v":"I2"},{"$error":"#DIV/0!"},0,null,{"$f":"'aligning data'!AJ25","v":"G2"},{"$f":"'aligning data'!AJ26","v":"H2"},{"$f":"'aligning data'!AJ27","v":"I2"},{"$error":"#DIV/0!"},0,null,{"$f":"'aligning data'!AM25","v":"G2"},{"$f":"'aligning data'!AM26","v":"H2"},{"$f":"'aligning data'!AM27","v":"I2"},{"$error":"#DIV/0!"},0,null,{"$f":"'aligning data'!AP25","v":"G2"},{"$f":"'aligning data'!AP26","v":"H2"},{"$f":"'aligning data'!AP27","v":"I2"},{"$error":"#DIV/0!"},0,null,{"$f":"'aligning data'!AS25","v":"G2"},{"$f":"'aligning data'!AS26","v":"H2"},{"$f":"'aligning data'!AS27","v":"I2"},{"$error":"#DIV/0!"},0,null,{"$f":"'aligning data'!AV25","v":"G2"},{"$f":"'aligning data'!AV26","v":"H2"},{"$f":"'aligning data'!AV27","v":"I2"},{"$error":"#DIV/0!"},0]
["P34",null,{"$f":"'aligning data'!C28","v":"J2"},{"$f":"'aligning data'!C29","v":"K2"},{"$f":"'aligning data'!C30","v":"L2"},{"$error":"#DIV/0!"},0,null,{"$f":"'aligning data'!F28","v":"J2"},{"$f":"'aligning data'!F29","v":"K2"},{"$f":"'aligning data'!F30","v":"L2"},{"$error":"#DIV/0!"},0,null,{"$f":"'aligning data'!I28","v":"J2"},{"$f":"'aligning data'!I29","v":"K2"},{"$f":"'aligning data'!I30","v":"L2"},{"$error":"#DIV/0!"},0,null,{"$f":"'aligning data'!L28","v":"J2"},{"$f":"'aligning data'!L29","v":"K2"},{"$f":"'aligning data'!L30","v":"L2"},{"$error":"#DIV/0!"},0,null,{"$f":"'aligning data'!O28","v":"J2"},{"$f":"'aligning data'!O29","v":"K2"},{"$f":"'aligning data'!O30","v":"L2"},{"$error":"#DIV/0!"},0,null,{"$f":"'aligning data'!R28","v":"J2"},{"$f":"'aligning data'!R29","v":"K2"},{"$f":"'aligning data'!R30","v":"L2"},{"$error":"#DIV/0!"},0,null,{"$f":"'aligning data'!U28","v":"J2"},{"$f":"'aligning data'!U29","v":"K2"},{"$f":"'aligning data'!U30","v":"L2"},{"$error":"#DIV/0!"},0,null,{"$f":"'aligning data'!X28","v":"J2"},{"$f":"'aligning data'!X29","v":"K2"},{"$f":"'aligning data'!X30","v":"L2"},{"$error":"#DIV/0!"},0,null,{"$f":"'aligning data'!AA28","v":"J2"},{"$f":"'aligning data'!AA29","v":"K2"},{"$f":"'aligning data'!AA30","v":"L2"},{"$error":"#DIV/0!"},0,null,{"$f":"'aligning data'!AD28","v":"J2"},{"$f":"'aligning data'!AD29","v":"K2"},{"$f":"'aligning data'!AD30","v":"L2"},{"$error":"#DIV/0!"},0,null,{"$f":"'aligning data'!AG28","v":"J2"},{"$f":"'aligning data'!AG29","v":"K2"},{"$f":"'aligning data'!AG30","v":"L2"},{"$error":"#DIV/0!"},0,null,{"$f":"'aligning data'!AJ28","v":"J2"},{"$f":"'aligning data'!AJ29","v":"K2"},{"$f":"'aligning data'!AJ30","v":"L2"},{"$error":"#DIV/0!"},0,null,{"$f":"'aligning data'!AM28","v":"J2"},{"$f":"'aligning data'!AM29","v":"K2"},{"$f":"'aligning data'!AM30","v":"L2"},{"$error":"#DIV/0!"},0,null,{"$f":"'aligning data'!AP28","v":"J2"},{"$f":"'aligning data'!AP29","v":"K2"},{"$f":"'aligning data'!AP30","v":"L2"},{"$error":"#DIV/0!"},0,null,{"$f":"'aligning data'!AS28","v":"J2"},{"$f":"'aligning data'!AS29","v":"K2"},{"$f":"'aligning data'!AS30","v":"L2"},{"$error":"#DIV/0!"},0,null,{"$f":"'aligning data'!AV28","v":"J2"},{"$f":"'aligning data'!AV29","v":"K2"},{"$f":"'aligning data'!AV30","v":"L2"},{"$error":"#DIV/0!"},0]
["P46",null,{"$f":"'aligning data'!C31","v":"M2"},{"$f":"'aligning data'!C32","v":"N2"},{"$f":"'aligning data'!C33","v":"O2"},{"$error":"#DIV/0!"},0,null,{"$f":"'aligning data'!F31","v":"M2"},{"$f":"'aligning data'!F32","v":"N2"},{"$f":"'aligning data'!F33","v":"O2"},{"$error":"#DIV/0!"},0,null,{"$f":"'aligning data'!I31","v":"M2"},{"$f":"'aligning data'!I32","v":"N2"},{"$f":"'aligning data'!I33","v":"O2"},{"$error":"#DIV/0!"},0,null,{"$f":"'aligning data'!L31","v":"M2"},{"$f":"'aligning data'!L32","v":"N2"},{"$f":"'aligning data'!L33","v":"O2"},{"$error":"#DIV/0!"},0,null,{"$f":"'aligning data'!O31","v":"M2"},{"$f":"'aligning data'!O32","v":"N2"},{"$f":"'aligning data'!O33","v":"O2"},{"$error":"#DIV/0!"},0,null,{"$f":"'aligning data'!R31","v":"M2"},{"$f":"'aligning data'!R32","v":"N2"},{"$f":"'aligning data'!R33","v":"O2"},{"$error":"#DIV/0!"},0,null,{"$f":"'aligning data'!U31","v":"M2"},{"$f":"'aligning data'!U32","v":"N2"},{"$f":"'aligning data'!U33","v":"O2"},{"$error":"#DIV/0!"},0,null,{"$f":"'aligning data'!X31","v":"M2"},{"$f":"'aligning data'!X32","v":"N2"},{"$f":"'aligning data'!X33","v":"O2"},{"$error":"#DIV/0!"},0,null,{"$f":"'aligning data'!AA31","v":"M2"},{"$f":"'aligning data'!AA32","v":"N2"},{"$f":"'aligning data'!AA33","v":"O2"},{"$error":"#DIV/0!"},0,null,{"$f":"'aligning data'!AD31","v":"M2"},{"$f":"'aligning data'!AD32","v":"N2"},{"$f":"'aligning data'!AD33","v":"O2"},{"$error":"#DIV/0!"},0,null,{"$f":"'aligning data'!AG31","v":"M2"},{"$f":"'aligning data'!AG32","v":"N2"},{"$f":"'aligning data'!AG33","v":"O2"},{"$error":"#DIV/0!"},0,null,{"$f":"'aligning data'!AJ31","v":"M2"},{"$f":"'aligning data'!AJ32","v":"N2"},{"$f":"'aligning data'!AJ33","v":"O2"},{"$error":"#DIV/0!"},0,null,{"$f":"'aligning data'!AM31","v":"M2"},{"$f":"'aligning data'!AM32","v":"N2"},{"$f":"'aligning data'!AM33","v":"O2"},{"$error":"#DIV/0!"},0,null,{"$f":"'aligning data'!AP31","v":"M2"},{"$f":"'aligning data'!AP32","v":"N2"},{"$f":"'aligning data'!AP33","v":"O2"},{"$error":"#DIV/0!"},0,null,{"$f":"'aligning data'!AS31","v":"M2"},{"$f":"'aligning data'!AS32","v":"N2"},{"$f":"'aligning data'!AS33","v":"O2"},{"$error":"#DIV/0!"},0,null,{"$f":"'aligning data'!AV31","v":"M2"},{"$f":"'aligning data'!AV32","v":"N2"},{"$f":"'aligning data'!AV33","v":"O2"},{"$error":"#DIV/0!"},0]
["P1",null,{"$f":"'aligning data'!C34","v":"A3"},{"$f":"'aligning data'!C35","v":"B3"},{"$f":"'aligning data'!C36","v":"C3"},{"$error":"#DIV/0!"},0,null,{"$f":"'aligning data'!F34","v":"A3"},{"$f":"'aligning data'!F35","v":"B3"},{"$f":"'aligning data'!F36","v":"C3"},{"$error":"#DIV/0!"},0,null,{"$f":"'aligning data'!I34","v":"A3"},{"$f":"'aligning data'!I35","v":"B3"},{"$f":"'aligning data'!I36","v":"C3"},{"$error":"#DIV/0!"},0,null,{"$f":"'aligning data'!L34","v":"A3"},{"$f":"'aligning data'!L35","v":"B3"},{"$f":"'aligning data'!L36","v":"C3"},{"$error":"#DIV/0!"},0,null,{"$f":"'aligning data'!O34","v":"A3"},{"$f":"'aligning data'!O35","v":"B3"},{"$f":"'aligning data'!O36","v":"C3"},{"$error":"#DIV/0!"},0,null,{"$f":"'aligning data'!R34","v":"A3"},{"$f":"'aligning data'!R35","v":"B3"},{"$f":"'aligning data'!R36","v":"C3"},{"$error":"#DIV/0!"},0,null,{"$f":"'aligning data'!U34","v":"A3"},{"$f":"'aligning data'!U35","v":"B3"},{"$f":"'aligning data'!U36","v":"C3"},{"$error":"#DIV/0!"},0,null,{"$f":"'aligning data'!X34","v":"A3"},{"$f":"'aligning data'!X35","v":"B3"},{"$f":"'aligning data'!X36","v":"C3"},{"$error":"#DIV/0!"},0,null,{"$f":"'aligning data'!AA34","v":"A3"},{"$f":"'aligning data'!AA35","v":"B3"},{"$f":"'aligning data'!AA36","v":"C3"},{"$error":"#DIV/0!"},0,null,{"$f":"'aligning data'!AD34","v":"A3"},{"$f":"'aligning data'!AD35","v":"B3"},{"$f":"'aligning data'!AD36","v":"C3"},{"$error":"#DIV/0!"},0,null,{"$f":"'aligning data'!AG34","v":"A3"},{"$f":"'aligning data'!AG35","v":"B3"},{"$f":"'aligning data'!AG36","v":"C3"},{"$error":"#DIV/0!"},0,null,{"$f":"'aligning data'!AJ34","v":"A3"},{"$f":"'aligning data'!AJ35","v":"B3"},{"$f":"'aligning data'!AJ36","v":"C3"},{"$error":"#DIV/0!"},0,null,{"$f":"'aligning data'!AM34","v":"A3"},{"$f":"'aligning data'!AM35","v":"B3"},{"$f":"'aligning data'!AM36","v":"C3"},{"$error":"#DIV/0!"},0,null,{"$f":"'aligning data'!AP34","v":"A3"},{"$f":"'aligning data'!AP35","v":"B3"},{"$f":"'aligning data'!AP36","v":"C3"},{"$error":"#DIV/0!"},0,null,{"$f":"'aligning data'!AS34","v":"A3"},{"$f":"'aligning data'!AS35","v":"B3"},{"$f":"'aligning data'!AS36","v":"C3"},{"$error":"#DIV/0!"},0,null,{"$f":"'aligning data'!AV34","v":"A3"},{"$f":"'aligning data'!AV35","v":"B3"},{"$f":"'aligning data'!AV36","v":"C3"},{"$error":"#DIV/0!"},0]
["P13",null,{"$f":"'aligning data'!C37","v":"D3"},{"$f":"'aligning data'!C38","v":"E3"},{"$f":"'aligning data'!C39","v":"F3"},{"$error":"#DIV/0!"},0,null,{"$f":"'aligning data'!F37","v":"D3"},{"$f":"'aligning data'!F38","v":"E3"},{"$f":"'aligning data'!F39","v":"F3"},{"$error":"#DIV/0!"},0,null,{"$f":"'aligning data'!I37","v":"D3"},{"$f":"'aligning data'!I38","v":"E3"},{"$f":"'aligning data'!I39","v":"F3"},{"$error":"#DIV/0!"},0,null,{"$f":"'aligning data'!L37","v":"D3"},{"$f":"'aligning data'!L38","v":"E3"},{"$f":"'aligning data'!L39","v":"F3"},{"$error":"#DIV/0!"},0,null,{"$f":"'aligning data'!O37","v":"D3"},{"$f":"'aligning data'!O38","v":"E3"},{"$f":"'aligning data'!O39","v":"F3"},{"$error":"#DIV/0!"},0,null,{"$f":"'aligning data'!R37","v":"D3"},{"$f":"'aligning data'!R38","v":"E3"},{"$f":"'aligning data'!R39","v":"F3"},{"$error":"#DIV/0!"},0,null,{"$f":"'aligning data'!U37","v":"D3"},{"$f":"'aligning data'!U38","v":"E3"},{"$f":"'aligning data'!U39","v":"F3"},{"$error":"#DIV/0!"},0,null,{"$f":"'aligning data'!X37","v":"D3"},{"$f":"'aligning data'!X38","v":"E3"},{"$f":"'aligning data'!X39","v":"F3"},{"$error":"#DIV/0!"},0,null,{"$f":"'aligning data'!AA37","v":"D3"},{"$f":"'aligning data'!AA38","v":"E3"},{"$f":"'aligning data'!AA39","v":"F3"},{"$error":"#DIV/0!"},0,null,{"$f":"'aligning data'!AD37","v":"D3"},{"$f":"'aligning data'!AD38","v":"E3"},{"$f":"'aligning data'!AD39","v":"F3"},{"$error":"#DIV/0!"},0,null,{"$f":"'aligning data'!AG37","v":"D3"},{"$f":"'aligning data'!AG38","v":"E3"},{"$f":"'aligning data'!AG39","v":"F3"},{"$error":"#DIV/0!"},0,null,{"$f":"'aligning data'!AJ37","v":"D3"},{"$f":"'aligning data'!AJ38","v":"E3"},{"$f":"'aligning data'!AJ39","v":"F3"},{"$error":"#DIV/0!"},0,null,{"$f":"'aligning data'!AM37","v":"D3"},{"$f":"'aligning data'!AM38","v":"E3"},{"$f":"'aligning data'!AM39","v":"F3"},{"$error":"#DIV/0!"},0,null,{"$f":"'aligning data'!AP37","v":"D3"},{"$f":"'aligning data'!AP38","v":"E3"},{"$f":"'aligning data'!AP39","v":"F3"},{"$error":"#DIV/0!"},0,null,{"$f":"'aligning data'!AS37","v":"D3"},{"$f":"'aligning data'!AS38","v":"E3"},{"$f":"'aligning data'!AS39","v":"F3"},{"$error":"#DIV/0!"},0,null,{"$f":"'aligning data'!AV37","v":"D3"},{"$f":"'aligning data'!AV38","v":"E3"},{"$f":"'aligning data'!AV39","v":"F3"},{"$error":"#DIV/0!"},0]
["P23",null,{"$f":"'aligning data'!C40","v":"G3"},{"$f":"'aligning data'!C41","v":"H3"},{"$f":"'aligning data'!C42","v":"I3"},{"$error":"#DIV/0!"},0,null,{"$f":"'aligning data'!F40","v":"G3"},{"$f":"'aligning data'!F41","v":"H3"},{"$f":"'aligning data'!F42","v":"I3"},{"$error":"#DIV/0!"},0,null,{"$f":"'aligning data'!I40","v":"G3"},{"$f":"'aligning data'!I41","v":"H3"},{"$f":"'aligning data'!I42","v":"I3"},{"$error":"#DIV/0!"},0,null,{"$f":"'aligning data'!L40","v":"G3"},{"$f":"'aligning data'!L41","v":"H3"},{"$f":"'aligning data'!L42","v":"I3"},{"$error":"#DIV/0!"},0,null,{"$f":"'aligning data'!O40","v":"G3"},{"$f":"'aligning data'!O41","v":"H3"},{"$f":"'aligning data'!O42","v":"I3"},{"$error":"#DIV/0!"},0,null,{"$f":"'aligning data'!R40","v":"G3"},{"$f":"'aligning data'!R41","v":"H3"},{"$f":"'aligning data'!R42","v":"I3"},{"$error":"#DIV/0!"},0,null,{"$f":"'aligning data'!U40","v":"G3"},{"$f":"'aligning data'!U41","v":"H3"},{"$f":"'aligning data'!U42","v":"I3"},{"$error":"#DIV/0!"},0,null,{"$f":"'aligning data'!X40","v":"G3"},{"$f":"'aligning data'!X41","v":"H3"},{"$f":"'aligning data'!X42","v":"I3"},{"$error":"#DIV/0!"},0,null,{"$f":"'aligning data'!AA40","v":"G3"},{"$f":"'aligning data'!AA41","v":"H3"},{"$f":"'aligning data'!AA42","v":"I3"},{"$error":"#DIV/0!"},0,null,{"$f":"'aligning data'!AD40","v":"G3"},{"$f":"'aligning data'!AD41","v":"H3"},{"$f":"'aligning data'!AD42","v":"I3"},{"$error":"#DIV/0!"},0,null,{"$f":"'aligning data'!AG40","v":"G3"},{"$f":"'aligning data'!AG41","v":"H3"},{"$f":"'aligning data'!AG42","v":"I3"},{"$error":"#DIV/0!"},0,null,{"$f":"'aligning data'!AJ40","v":"G3"},{"$f":"'aligning data'!AJ41","v":"H3"},{"$f":"'aligning data'!AJ42","v":"I3"},{"$error":"#DIV/0!"},0,null,{"$f":"'aligning data'!AM40","v":"G3"},{"$f":"'aligning data'!AM41","v":"H3"},{"$f":"'aligning data'!AM42","v":"I3"},{"$error":"#DIV/0!"},0,null,{"$f":"'aligning data'!AP40","v":"G3"},{"$f":"'aligning data'!AP41","v":"H3"},{"$f":"'aligning data'!AP42","v":"I3"},{"$error":"#DIV/0!"},0,null,{"$f":"'aligning data'!AS40","v":"G3"},{"$f":"'aligning data'!AS41","v":"H3"},{"$f":"'aligning data'!AS42","v":"I3"},{"$error":"#DIV/0!"},0,null,{"$f":"'aligning data'!AV40","v":"G3"},{"$f":"'aligning data'!AV41","v":"H3"},{"$f":"'aligning data'!AV42","v":"I3"},{"$error":"#DIV/0!"},0]
["P35",null,{"$f":"'aligning data'!C43","v":"J3"},{"$f":"'aligning data'!C44","v":"K3"},{"$f":"'aligning data'!C45","v":"L3"},{"$error":"#DIV/0!"},0,null,{"$f":"'aligning data'!F43","v":"J3"},{"$f":"'aligning data'!F44","v":"K3"},{"$f":"'aligning data'!F45","v":"L3"},{"$error":"#DIV/0!"},0,null,{"$f":"'aligning data'!I43","v":"J3"},{"$f":"'aligning data'!I44","v":"K3"},{"$f":"'aligning data'!I45","v":"L3"},{"$error":"#DIV/0!"},0,null,{"$f":"'aligning data'!L43","v":"J3"},{"$f":"'aligning data'!L44","v":"K3"},{"$f":"'aligning data'!L45","v":"L3"},{"$error":"#DIV/0!"},0,null,{"$f":"'aligning data'!O43","v":"J3"},{"$f":"'aligning data'!O44","v":"K3"},{"$f":"'aligning data'!O45","v":"L3"},{"$error":"#DIV/0!"},0,null,{"$f":"'aligning data'!R43","v":"J3"},{"$f":"'aligning data'!R44","v":"K3"},{"$f":"'aligning data'!R45","v":"L3"},{"$error":"#DIV/0!"},0,null,{"$f":"'aligning data'!U43","v":"J3"},{"$f":"'aligning data'!U44","v":"K3"},{"$f":"'aligning data'!U45","v":"L3"},{"$error":"#DIV/0!"},0,null,{"$f":"'aligning data'!X43","v":"J3"},{"$f":"'aligning data'!X44","v":"K3"},{"$f":"'aligning data'!X45","v":"L3"},{"$error":"#DIV/0!"},0,null,{"$f":"'aligning data'!AA43","v":"J3"},{"$f":"'aligning data'!AA44","v":"K3"},{"$f":"'aligning data'!AA45","v":"L3"},{"$error":"#DIV/0!"},0,null,{"$f":"'aligning data'!AD43","v":"J3"},{"$f":"'aligning data'!AD44","v":"K3"},{"$f":"'aligning data'!AD45","v":"L3"},{"$error":"#DIV/0!"},0,null,{"$f":"'aligning data'!AG43","v":"J3"},{"$f":"'aligning data'!AG44","v":"K3"},{"$f":"'aligning data'!AG45","v":"L3"},{"$error":"#DIV/0!"},0,null,{"$f":"'aligning data'!AJ43","v":"J3"},{"$f":"'aligning data'!AJ44","v":"K3"},{"$f":"'aligning data'!AJ45","v":"L3"},{"$error":"#DIV/0!"},0,null,{"$f":"'aligning data'!AM43","v":"J3"},{"$f":"'aligning data'!AM44","v":"K3"},{"$f":"'aligning data'!AM45","v":"L3"},{"$error":"#DIV/0!"},0,null,{"$f":"'aligning data'!AP43","v":"J3"},{"$f":"'aligning data'!AP44","v":"K3"},{"$f":"'aligning data'!AP45","v":"L3"},{"$error":"#DIV/0!"},0,null,{"$f":"'aligning data'!AS43","v":"J3"},{"$f":"'aligning data'!AS44","v":"K3"},{"$f":"'aligning data'!AS45","v":"L3"},{"$error":"#DIV/0!"},0,null,{"$f":"'aligning data'!AV43","v":"J3"},{"$f":"'aligning data'!AV44","v":"K3"},{"$f":"'aligning data'!AV45","v":"L3"},{"$error":"#DIV/0!"},0]
["P47",null,{"$f":"'aligning data'!C46","v":"M3"},{"$f":"'aligning data'!C47","v":"N3"},{"$f":"'aligning data'!C48","v":"O3"},{"$error":"#DIV/0!"},0,null,{"$f":"'aligning data'!F46","v":"M3"},{"$f":"'aligning data'!F47","v":"N3"},{"$f":"'aligning data'!F48","v":"O3"},{"$error":"#DIV/0!"},0,null,{"$f":"'aligning data'!I46","v":"M3"},{"$f":"'aligning data'!I47","v":"N3"},{"$f":"'aligning data'!I48","v":"O3"},{"$error":"#DIV/0!"},0,null,{"$f":"'aligning data'!L46","v":"M3"},{"$f":"'aligning data'!L47","v":"N3"},{"$f":"'aligning data'!L48","v":"O3"},{"$error":"#DIV/0!"},0,null,{"$f":"'aligning data'!O46","v":"M3"},{"$f":"'aligning data'!O47","v":"N3"},{"$f":"'aligning data'!O48","v":"O3"},{"$error":"#DIV/0!"},0,null,{"$f":"'aligning data'!R46","v":"M3"},{"$f":"'aligning data'!R47","v":"N3"},{"$f":"'aligning data'!R48","v":"O3"},{"$error":"#DIV/0!"},0,null,{"$f":"'aligning data'!U46","v":"M3"},{"$f":"'aligning data'!U47","v":"N3"},{"$f":"'aligning data'!U48","v":"O3"},{"$error":"#DIV/0!"},0,null,{"$f":"'aligning data'!X46","v":"M3"},{"$f":"'aligning data'!X47","v":"N3"},{"$f":"'aligning data'!X48","v":"O3"},{"$error":"#DIV/0!"},0,null,{"$f":"'aligning data'!AA46","v":"M3"},{"$f":"'aligning data'!AA47","v":"N3"},{"$f":"'aligning data'!AA48","v":"O3"},{"$error":"#DIV/0!"},0,null,{"$f":"'aligning data'!AD46","v":"M3"},{"$f":"'aligning data'!AD47","v":"N3"},{"$f":"'aligning data'!AD48","v":"O3"},{"$error":"#DIV/0!"},0,null,{"$f":"'aligning data'!AG46","v":"M3"},{"$f":"'aligning data'!AG47","v":"N3"},{"$f":"'aligning data'!AG48","v":"O3"},{"$error":"#DIV/0!"},0,null,{"$f":"'aligning data'!AJ46","v":"M3"},{"$f":"'aligning data'!AJ47","v":"N3"},{"$f":"'aligning data'!AJ48","v":"O3"},{"$error":"#DIV/0!"},0,null,{"$f":"'aligning data'!AM46","v":"M3"},{"$f":"'aligning data'!AM47","v":"N3"},{"$f":"'aligning data'!AM48","v":"O3"},{"$error":"#DIV/0!"},0,null,{"$f":"'aligning data'!AP46","v":"M3"},{"$f":"'aligning data'!AP47","v":"N3"},{"$f":"'aligning data'!AP48","v":"O3"},{"$error":"#DIV/0!"},0,null,{"$f":"'aligning data'!AS46","v":"M3"},{"$f":"'aligning data'!AS47","v":"N3"},{"$f":"'aligning data'!AS48","v":"O3"},{"$error":"#DIV/0!"},0,null,{"$f":"'aligning data'!AV46","v":"M3"},{"$f":"'aligning data'!AV47","v":"N3"},{"$f":"'aligning data'!AV48","v":"O3"},{"$error":"#DIV/0!"},0]
["P2",null,{"$f":"'aligning data'!C49","v":"A4"},{"$f":"'aligning data'!C50","v":"B4"},{"$f":"'aligning data'!C51","v":"C4"},{"$error":"#DIV/0!"},0,null,{"$f":"'aligning data'!F49","v":"A4"},{"$f":"'aligning data'!F50","v":"B4"},{"$f":"'aligning data'!F51","v":"C4"},{"$error":"#DIV/0!"},0,null,{"$f":"'aligning data'!I49","v":"A4"},{"$f":"'aligning data'!I50","v":"B4"},{"$f":"'aligning data'!I51","v":"C4"},{"$error":"#DIV/0!"},0,null,{"$f":"'aligning data'!L49","v":"A4"},{"$f":"'aligning data'!L50","v":"B4"},{"$f":"'aligning data'!L51","v":"C4"},{"$error":"#DIV/0!"},0,null,{"$f":"'aligning data'!O49","v":"A4"},{"$f":"'aligning data'!O50","v":"B4"},{"$f":"'aligning data'!O51","v":"C4"},{"$error":"#DIV/0!"},0,null,{"$f":"'aligning data'!R49","v":"A4"},{"$f":"'aligning data'!R50","v":"B4"},{"$f":"'aligning data'!R51","v":"C4"},{"$error":"#DIV/0!"},0,null,{"$f":"'aligning data'!U49","v":"A4"},{"$f":"'aligning data'!U50","v":"B4"},{"$f":"'aligning data'!U51","v":"C4"},{"$error":"#DIV/0!"},0,null,{"$f":"'aligning data'!X49","v":"A4"},{"$f":"'aligning data'!X50","v":"B4"},{"$f":"'aligning data'!X51","v":"C4"},{"$error":"#DIV/0!"},0,null,{"$f":"'aligning data'!AA49","v":"A4"},{"$f":"'aligning data'!AA50","v":"B4"},{"$f":"'aligning data'!AA51","v":"C4"},{"$error":"#DIV/0!"},0,null,{"$f":"'aligning data'!AD49","v":"A4"},{"$f":"'aligning data'!AD50","v":"B4"},{"$f":"'aligning data'!AD51","v":"C4"},{"$error":"#DIV/0!"},0,null,{"$f":"'aligning data'!AG49","v":"A4"},{"$f":"'aligning data'!AG50","v":"B4"},{"$f":"'aligning data'!AG51","v":"C4"},{"$error":"#DIV/0!"},0,null,{"$f":"'aligning data'!AJ49","v":"A4"},{"$f":"'aligning data'!AJ50","v":"B4"},{"$f":"'aligning data'!AJ51","v":"C4"},{"$error":"#DIV/0!"},0,null,{"$f":"'aligning data'!AM49","v":"A4"},{"$f":"'aligning data'!AM50","v":"B4"},{"$f":"'aligning data'!AM51","v":"C4"},{"$error":"#DIV/0!"},0,null,{"$f":"'aligning data'!AP49","v":"A4"},{"$f":"'aligning data'!AP50","v":"B4"},{"$f":"'aligning data'!AP51","v":"C4"},{"$error":"#DIV/0!"},0,null,{"$f":"'aligning data'!AS49","v":"A4"},{"$f":"'aligning data'!AS50","v":"B4"},{"$f":"'aligning data'!AS51","v":"C4"},{"$error":"#DIV/0!"},0,null,{"$f":"'aligning data'!AV49","v":"A4"},{"$f":"'aligning data'!AV50","v":"B4"},{"$f":"'aligning data'!AV51","v":"C4"},{"$error":"#DIV/0!"},0]
["P14",null,{"$f":"'aligning data'!C52","v":"D4"},{"$f":"'aligning data'!C53","v":"E4"},{"$f":"'aligning data'!C54","v":"F4"},{"$error":"#DIV/0!"},0,null,{"$f":"'aligning data'!F52","v":"D4"},{"$f":"'aligning data'!F53","v":"E4"},{"$f":"'aligning data'!F54","v":"F4"},{"$error":"#DIV/0!"},0,null,{"$f":"'aligning data'!I52","v":"D4"},{"$f":"'aligning data'!I53","v":"E4"},{"$f":"'aligning data'!I54","v":"F4"},{"$error":"#DIV/0!"},0,null,{"$f":"'aligning data'!L52","v":"D4"},{"$f":"'aligning data'!L53","v":"E4"},{"$f":"'aligning data'!L54","v":"F4"},{"$error":"#DIV/0!"},0,null,{"$f":"'aligning data'!O52","v":"D4"},{"$f":"'aligning data'!O53","v":"E4"},{"$f":"'aligning data'!O54","v":"F4"},{"$error":"#DIV/0!"},0,null,{"$f":"'aligning data'!R52","v":"D4"},{"$f":"'aligning data'!R53","v":"E4"},{"$f":"'aligning data'!R54","v":"F4"},{"$error":"#DIV/0!"},0,null,{"$f":"'aligning data'!U52","v":"D4"},{"$f":"'aligning data'!U53","v":"E4"},{"$f":"'aligning data'!U54","v":"F4"},{"$error":"#DIV/0!"},0,null,{"$f":"'aligning data'!X52","v":"D4"},{"$f":"'aligning data'!X53","v":"E4"},{"$f":"'aligning data'!X54","v":"F4"},{"$error":"#DIV/0!"},0,null,{"$f":"'aligning data'!AA52","v":"D4"},{"$f":"'aligning data'!AA53","v":"E4"},{"$f":"'aligning data'!AA54","v":"F4"},{"$error":"#DIV/0!"},0,null,{"$f":"'aligning data'!AD52","v":"D4"},{"$f":"'aligning data'!AD53","v":"E4"},{"$f":"'aligning data'!AD54","v":"F4"},{"$error":"#DIV/0!"},0,null,{"$f":"'aligning data'!AG52","v":"D4"},{"$f":"'aligning data'!AG53","v":"E4"},{"$f":"'aligning data'!AG54","v":"F4"},{"$error":"#DIV/0!"},0,null,{"$f":"'aligning data'!AJ52","v":"D4"},{"$f":"'aligning data'!AJ53","v":"E4"},{"$f":"'aligning data'!AJ54","v":"F4"},{"$error":"#DIV/0!"},0,null,{"$f":"'aligning data'!AM52","v":"D4"},{"$f":"'aligning data'!AM53","v":"E4"},{"$f":"'aligning data'!AM54","v":"F4"},{"$error":"#DIV/0!"},0,null,{"$f":"'aligning data'!AP52","v":"D4"},{"$f":"'aligning data'!AP53","v":"E4"},{"$f":"'aligning data'!AP54","v":"F4"},{"$error":"#DIV/0!"},0,null,{"$f":"'aligning data'!AS52","v":"D4"},{"$f":"'aligning data'!AS53","v":"E4"},{"$f":"'aligning data'!AS54","v":"F4"},{"$error":"#DIV/0!"},0,null,{"$f":"'aligning data'!AV52","v":"D4"},{"$f":"'aligning data'!AV53","v":"E4"},{"$f":"'aligning data'!AV54","v":"F4"},{"$error":"#DIV/0!"},0]
["P24",null,{"$f":"'aligning data'!C55","v":"G4"},{"$f":"'aligning data'!C56","v":"H4"},{"$f":"'aligning data'!C57","v":"I4"},{"$error":"#DIV/0!"},0,null,{"$f":"'aligning data'!F55","v":"G4"},{"$f":"'aligning data'!F56","v":"H4"},{"$f":"'aligning data'!F57","v":"I4"},{"$error":"#DIV/0!"},0,null,{"$f":"'aligning data'!I55","v":"G4"},{"$f":"'aligning data'!I56","v":"H4"},{"$f":"'aligning data'!I57","v":"I4"},{"$error":"#DIV/0!"},0,null,{"$f":"'aligning data'!L55","v":"G4"},{"$f":"'aligning data'!L56","v":"H4"},{"$f":"'aligning data'!L57","v":"I4"},{"$error":"#DIV/0!"},0,null,{"$f":"'aligning data'!O55","v":"G4"},{"$f":"'aligning data'!O56","v":"H4"},{"$f":"'aligning data'!O57","v":"I4"},{"$error":"#DIV/0!"},0,null,{"$f":"'aligning data'!R55","v":"G4"},{"$f":"'aligning data'!R56","v":"H4"},{"$f":"'aligning data'!R57","v":"I4"},{"$error":"#DIV/0!"},0,null,{"$f":"'aligning data'!U55","v":"G4"},{"$f":"'aligning data'!U56","v":"H4"},{"$f":"'aligning data'!U57","v":"I4"},{"$error":"#DIV/0!"},0,null,{"$f":"'aligning data'!X55","v":"G4"},{"$f":"'aligning data'!X56","v":"H4"},{"$f":"'aligning data'!X57","v":"I4"},{"$error":"#DIV/0!"},0,null,{"$f":"'aligning data'!AA55","v":"G4"},{"$f":"'aligning data'!AA56","v":"H4"},{"$f":"'aligning data'!AA57","v":"I4"},{"$error":"#DIV/0!"},0,null,{"$f":"'aligning data'!AD55","v":"G4"},{"$f":"'aligning data'!AD56","v":"H4"},{"$f":"'aligning data'!AD57","v":"I4"},{"$error":"#DIV/0!"},0,null,{"$f":"'aligning data'!AG55","v":"G4"},{"$f":"'aligning data'!AG56","v":"H4"},{"$f":"'aligning data'!AG57","v":"I4"},{"$error":"#DIV/0!"},0,null,{"$f":"'aligning data'!AJ55","v":"G4"},{"$f":"'aligning data'!AJ56","v":"H4"},{"$f":"'aligning data'!AJ57","v":"I4"},{"$error":"#DIV/0!"},0,null,{"$f":"'aligning data'!AM55","v":"G4"},{"$f":"'aligning data'!AM56","v":"H4"},{"$f":"'aligning data'!AM57","v":"I4"},{"$error":"#DIV/0!"},0,null,{"$f":"'aligning data'!AP55","v":"G4"},{"$f":"'aligning data'!AP56","v":"H4"},{"$f":"'aligning data'!AP57","v":"I4"},{"$error":"#DIV/0!"},0,null,{"$f":"'aligning data'!AS55","v":"G4"},{"$f":"'aligning data'!AS56","v":"H4"},{"$f":"'aligning data'!AS57","v":"I4"},{"$error":"#DIV/0!"},0,null,{"$f":"'aligning data'!AV55","v":"G4"},{"$f":"'aligning data'!AV56","v":"H4"},{"$f":"'aligning data'!AV57","v":"I4"},{"$error":"#DIV/0!"},0]
["P36",null,{"$f":"'aligning data'!C58","v":"J4"},{"$f":"'aligning data'!C59","v":"K4"},{"$f":"'aligning data'!C60","v":"L4"},{"$error":"#DIV/0!"},0,null,{"$f":"'aligning data'!F58","v":"J4"},{"$f":"'aligning data'!F59","v":"K4"},{"$f":"'aligning data'!F60","v":"L4"},{"$error":"#DIV/0!"},0,null,{"$f":"'aligning data'!I58","v":"J4"},{"$f":"'aligning data'!I59","v":"K4"},{"$f":"'aligning data'!I60","v":"L4"},{"$error":"#DIV/0!"},0,null,{"$f":"'aligning data'!L58","v":"J4"},{"$f":"'aligning data'!L59","v":"K4"},{"$f":"'aligning data'!L60","v":"L4"},{"$error":"#DIV/0!"},0,null,{"$f":"'aligning data'!O58","v":"J4"},{"$f":"'aligning data'!O59","v":"K4"},{"$f":"'aligning data'!O60","v":"L4"},{"$error":"#DIV/0!"},0,null,{"$f":"'aligning data'!R58","v":"J4"},{"$f":"'aligning data'!R59","v":"K4"},{"$f":"'aligning data'!R60","v":"L4"},{"$error":"#DIV/0!"},0,null,{"$f":"'aligning data'!U58","v":"J4"},{"$f":"'aligning data'!U59","v":"K4"},{"$f":"'aligning data'!U60","v":"L4"},{"$error":"#DIV/0!"},0,null,{"$f":"'aligning data'!X58","v":"J4"},{"$f":"'aligning data'!X59","v":"K4"},{"$f":"'aligning data'!X60","v":"L4"},{"$error":"#DIV/0!"},0,null,{"$f":"'aligning data'!AA58","v":"J4"},{"$f":"'aligning data'!AA59","v":"K4"},{"$f":"'aligning data'!AA60","v":"L4"},{"$error":"#DIV/0!"},0,null,{"$f":"'aligning data'!AD58","v":"J4"},{"$f":"'aligning data'!AD59","v":"K4"},{"$f":"'aligning data'!AD60","v":"L4"},{"$error":"#DIV/0!"},0,null,{"$f":"'aligning data'!AG58","v":"J4"},{"$f":"'aligning data'!AG59","v":"K4"},{"$f":"'aligning data'!AG60","v":"L4"},{"$error":"#DIV/0!"},0,null,{"$f":"'aligning data'!AJ58","v":"J4"},{"$f":"'aligning data'!AJ59","v":"K4"},{"$f":"'aligning data'!AJ60","v":"L4"},{"$error":"#DIV/0!"},0,null,{"$f":"'aligning data'!AM58","v":"J4"},{"$f":"'aligning data'!AM59","v":"K4"},{"$f":"'aligning data'!AM60","v":"L4"},{"$error":"#DIV/0!"},0,null,{"$f":"'aligning data'!AP58","v":"J4"},{"$f":"'aligning data'!AP59","v":"K4"},{"$f":"'aligning data'!AP60","v":"L4"},{"$error":"#DIV/0!"},0,null,{"$f":"'aligning data'!AS58","v":"J4"},{"$f":"'aligning data'!AS59","v":"K4"},{"$f":"'aligning data'!AS60","v":"L4"},{"$error":"#DIV/0!"},0,null,{"$f":"'aligning data'!AV58","v":"J4"},{"$f":"'aligning data'!AV59","v":"K4"},{"$f":"'aligning data'!AV60","v":"L4"},{"$error":"#DIV/0!"},0]
["P48",null,{"$f":"'aligning data'!C61","v":"M4"},{"$f":"'aligning data'!C62","v":"N4"},{"$f":"'aligning data'!C63","v":"O4"},{"$error":"#DIV/0!"},0,null,{"$f":"'aligning data'!F61","v":"M4"},{"$f":"'aligning data'!F62","v":"N4"},{"$f":"'aligning data'!F63","v":"O4"},{"$error":"#DIV/0!"},0,null,{"$f":"'aligning data'!I61","v":"M4"},{"$f":"'aligning data'!I62","v":"N4"},{"$f":"'aligning data'!I63","v":"O4"},{"$error":"#DIV/0!"},0,null,{"$f":"'aligning data'!L61","v":"M4"},{"$f":"'aligning data'!L62","v":"N4"},{"$f":"'aligning data'!L63","v":"O4"},{"$error":"#DIV/0!"},0,null,{"$f":"'aligning data'!O61","v":"M4"},{"$f":"'aligning data'!O62","v":"N4"},{"$f":"'aligning data'!O63","v":"O4"},{"$error":"#DIV/0!"},0,null,{"$f":"'aligning data'!R61","v":"M4"},{"$f":"'aligning data'!R62","v":"N4"},{"$f":"'aligning data'!R63","v":"O4"},{"$error":"#DIV/0!"},0,null,{"$f":"'aligning data'!U61","v":"M4"},{"$f":"'aligning data'!U62","v":"N4"},{"$f":"'aligning data'!U63","v":"O4"},{"$error":"#DIV/0!"},0,null,{"$f":"'aligning data'!X61","v":"M4"},{"$f":"'aligning data'!X62","v":"N4"},{"$f":"'aligning data'!X63","v":"O4"},{"$error":"#DIV/0!"},0,null,{"$f":"'aligning data'!AA61","v":"M4"},{"$f":"'aligning data'!AA62","v":"N4"},{"$f":"'aligning data'!AA63","v":"O4"},{"$error":"#DIV/0!"},0,null,{"$f":"'aligning data'!AD61","v":"M4"},{"$f":"'aligning data'!AD62","v":"N4"},{"$f":"'aligning data'!AD63","v":"O4"},{"$error":"#DIV/0!"},0,null,{"$f":"'aligning data'!AG61","v":"M4"},{"$f":"'aligning data'!AG62","v":"N4"},{"$f":"'aligning data'!AG63","v":"O4"},{"$error":"#DIV/0!"},0,null,{"$f":"'aligning data'!AJ61","v":"M4"},{"$f":"'aligning data'!AJ62","v":"N4"},{"$f":"'aligning data'!AJ63","v":"O4"},{"$error":"#DIV/0!"},0,null,{"$f":"'aligning data'!AM61","v":"M4"},{"$f":"'aligning data'!AM62","v":"N4"},{"$f":"'aligning data'!AM63","v":"O4"},{"$error":"#DIV/0!"},0,null,{"$f":"'aligning data'!AP61","v":"M4"},{"$f":"'aligning data'!AP62","v":"N4"},{"$f":"'aligning data'!AP63","v":"O4"},{"$error":"#DIV/0!"},0,null,{"$f":"'aligning data'!AS61","v":"M4"},{"$f":"'aligning data'!AS62","v":"N4"},{"$f":"'aligning data'!AS63","v":"O4"},{"$error":"#DIV/0!"},0,null,{"$f":"'aligning data'!AV61","v":"M4"},{"$f":"'aligning data'!AV62","v":"N4"},{"$f":"'aligning data'!AV63","v":"O4"},{"$error":"#DIV/0!"},0]
["P3",null,{"$f":"'aligning data'!C64","v":"A5"},{"$f":"'aligning data'!C65","v":"B5"},{"$f":"'aligning data'!C66","v":"C5"},{"$error":"#DIV/0!"},0,null,{"$f":"'aligning data'!F64","v":"A5"},{"$f":"'aligning data'!F65","v":"B5"},{"$f":"'aligning data'!F66","v":"C5"},{"$error":"#DIV/0!"},0,null,{"$f":"'aligning data'!I64","v":"A5"},{"$f":"'aligning data'!I65","v":"B5"},{"$f":"'aligning data'!I66","v":"C5"},{"$error":"#DIV/0!"},0,null,{"$f":"'aligning data'!L64","v":"A5"},{"$f":"'aligning data'!L65","v":"B5"},{"$f":"'aligning data'!L66","v":"C5"},{"$error":"#DIV/0!"},0,null,{"$f":"'aligning data'!O64","v":"A5"},{"$f":"'aligning data'!O65","v":"B5"},{"$f":"'aligning data'!O66","v":"C5"},{"$error":"#DIV/0!"},0,null,{"$f":"'aligning data'!R64","v":"A5"},{"$f":"'aligning data'!R65","v":"B5"},{"$f":"'aligning data'!R66","v":"C5"},{"$error":"#DIV/0!"},0,null,{"$f":"'aligning data'!U64","v":"A5"},{"$f":"'aligning data'!U65","v":"B5"},{"$f":"'aligning data'!U66","v":"C5"},{"$error":"#DIV/0!"},0,null,{"$f":"'aligning data'!X64","v":"A5"},{"$f":"'aligning data'!X65","v":"B5"},{"$f":"'aligning data'!X66","v":"C5"},{"$error":"#DIV/0!"},0,null,{"$f":"'aligning data'!AA64","v":"A5"},{"$f":"'aligning data'!AA65","v":"B5"},{"$f":"'aligning data'!AA66","v":"C5"},{"$error":"#DIV/0!"},0,null,{"$f":"'aligning data'!AD64","v":"A5"},{"$f":"'aligning data'!AD65","v":"B5"},{"$f":"'aligning data'!AD66","v":"C5"},{"$error":"#DIV/0!"},0,null,{"$f":"'aligning data'!AG64","v":"A5"},{"$f":"'aligning data'!AG65","v":"B5"},{"$f":"'aligning data'!AG66","v":"C5"},{"$error":"#DIV/0!"},0,null,{"$f":"'aligning data'!AJ64","v":"A5"},{"$f":"'aligning data'!AJ65","v":"B5"},{"$f":"'aligning data'!AJ66","v":"C5"},{"$error":"#DIV/0!"},0,null,{"$f":"'aligning data'!AM64","v":"A5"},{"$f":"'aligning data'!AM65","v":"B5"},{"$f":"'aligning data'!AM66","v":"C5"},{"$error":"#DIV/0!"},0,null,{"$f":"'aligning data'!AP64","v":"A5"},{"$f":"'aligning data'!AP65","v":"B5"},{"$f":"'aligning data'!AP66","v":"C5"},{"$error":"#DIV/0!"},0,null,{"$f":"'aligning data'!AS64","v":"A5"},{"$f":"'aligning data'!AS65","v":"B5"},{"$f":"'aligning data'!AS66","v":"C5"},{"$error":"#DIV/0!"},0,null,{"$f":"'aligning data'!AV64","v":"A5"},{"$f":"'aligning data'!AV65","v":"B5"},{"$f":"'aligning data'!AV66","v":"C5"},{"$error":"#DIV/0!"},0]
["P15",null,{"$f":"'aligning data'!C67","v":"D5"},{"$f":"'aligning data'!C68","v":"E5"},{"$f":"'aligning data'!C69","v":"F5"},{"$error":"#DIV/0!"},0,null,{"$f":"'aligning data'!F67","v":"D5"},{"$f":"'aligning data'!F68","v":"E5"},{"$f":"'aligning data'!F69","v":"F5"},{"$error":"#DIV/0!"},0,null,{"$f":"'aligning data'!I67","v":"D5"},{"$f":"'aligning data'!I68","v":"E5"},{"$f":"'aligning data'!I69","v":"F5"},{"$error":"#DIV/0!"},0,null,{"$f":"'aligning data'!L67","v":"D5"},{"$f":"'aligning data'!L68","v":"E5"},{"$f":"'aligning data'!L69","v":"F5"},{"$error":"#DIV/0!"},0,null,{"$f":"'aligning data'!O67","v":"D5"},{"$f":"'aligning data'!O68","v":"E5"},{"$f":"'aligning data'!O69","v":"F5"},{"$error":"#DIV/0!"},0,null,{"$f":"'aligning data'!R67","v":"D5"},{"$f":"'aligning data'!R68","v":"E5"},{"$f":"'aligning data'!R69","v":"F5"},{"$error":"#DIV/0!"},0,null,{"$f":"'aligning data'!U67","v":"D5"},{"$f":"'aligning data'!U68","v":"E5"},{"$f":"'aligning data'!U69","v":"F5"},{"$error":"#DIV/0!"},0,null,{"$f":"'aligning data'!X67","v":"D5"},{"$f":"'aligning data'!X68","v":"E5"},{"$f":"'aligning data'!X69","v":"F5"},{"$error":"#DIV/0!"},0,null,{"$f":"'aligning data'!AA67","v":"D5"},{"$f":"'aligning data'!AA68","v":"E5"},{"$f":"'aligning data'!AA69","v":"F5"},{"$error":"#DIV/0!"},0,null,{"$f":"'aligning data'!AD67","v":"D5"},{"$f":"'aligning data'!AD68","v":"E5"},{"$f":"'aligning data'!AD69","v":"F5"},{"$error":"#DIV/0!"},0,null,{"$f":"'aligning data'!AG67","v":"D5"},{"$f":"'aligning data'!AG68","v":"E5"},{"$f":"'aligning data'!AG69","v":"F5"},{"$error":"#DIV/0!"},0,null,{"$f":"'aligning data'!AJ67","v":"D5"},{"$f":"'aligning data'!AJ68","v":"E5"},{"$f":"'aligning data'!AJ69","v":"F5"},{"$error":"#DIV/0!"},0,null,{"$f":"'aligning data'!AM67","v":"D5"},{"$f":"'aligning data'!AM68","v":"E5"},{"$f":"'aligning data'!AM69","v":"F5"},{"$error":"#DIV/0!"},0,null,{"$f":"'aligning data'!AP67","v":"D5"},{"$f":"'aligning data'!AP68","v":"E5"},{"$f":"'aligning data'!AP69","v":"F5"},{"$error":"#DIV/0!"},0,null,{"$f":"'aligning data'!AS67","v":"D5"},{"$f":"'aligning data'!AS68","v":"E5"},{"$f":"'aligning data'!AS69","v":"F5"},{"$error":"#DIV/0!"},0,null,{"$f":"'aligning data'!AV67","v":"D5"},{"$f":"'aligning data'!AV68","v":"E5"},{"$f":"'aligning data'!AV69","v":"F5"},{"$error":"#DIV/0!"},0]
["P25",null,{"$f":"'aligning data'!C70","v":"G5"},{"$f":"'aligning data'!C71","v":"H5"},{"$f":"'aligning data'!C72","v":"I5"},{"$error":"#DIV/0!"},0,null,{"$f":"'aligning data'!F70","v":"G5"},{"$f":"'aligning data'!F71","v":"H5"},{"$f":"'aligning data'!F72","v":"I5"},{"$error":"#DIV/0!"},0,null,{"$f":"'aligning data'!I70","v":"G5"},{"$f":"'aligning data'!I71","v":"H5"},{"$f":"'aligning data'!I72","v":"I5"},{"$error":"#DIV/0!"},0,null,{"$f":"'aligning data'!L70","v":"G5"},{"$f":"'aligning data'!L71","v":"H5"},{"$f":"'aligning data'!L72","v":"I5"},{"$error":"#DIV/0!"},0,null,{"$f":"'aligning data'!O70","v":"G5"},{"$f":"'aligning data'!O71","v":"H5"},{"$f":"'aligning data'!O72","v":"I5"},{"$error":"#DIV/0!"},0,null,{"$f":"'aligning data'!R70","v":"G5"},{"$f":"'aligning data'!R71","v":"H5"},{"$f":"'aligning data'!R72","v":"I5"},{"$error":"#DIV/0!"},0,null,{"$f":"'aligning data'!U70","v":"G5"},{"$f":"'aligning data'!U71","v":"H5"},{"$f":"'aligning data'!U72","v":"I5"},{"$error":"#DIV/0!"},0,null,{"$f":"'aligning data'!X70","v":"G5"},{"$f":"'aligning data'!X71","v":"H5"},{"$f":"'aligning data'!X72","v":"I5"},{"$error":"#DIV/0!"},0,null,{"$f":"'aligning data'!AA70","v":"G5"},{"$f":"'aligning data'!AA71","v":"H5"},{"$f":"'aligning data'!AA72","v":"I5"},{"$error":"#DIV/0!"},0,null,{"$f":"'aligning data'!AD70","v":"G5"},{"$f":"'aligning data'!AD71","v":"H5"},{"$f":"'aligning data'!AD72","v":"I5"},{"$error":"#DIV/0!"},0,null,{"$f":"'aligning data'!AG70","v":"G5"},{"$f":"'aligning data'!AG71","v":"H5"},{"$f":"'aligning data'!AG72","v":"I5"},{"$error":"#DIV/0!"},0,null,{"$f":"'aligning data'!AJ70","v":"G5"},{"$f":"'aligning data'!AJ71","v":"H5"},{"$f":"'aligning data'!AJ72","v":"I5"},{"$error":"#DIV/0!"},0,null,{"$f":"'aligning data'!AM70","v":"G5"},{"$f":"'aligning data'!AM71","v":"H5"},{"$f":"'aligning data'!AM72","v":"I5"},{"$error":"#DIV/0!"},0,null,{"$f":"'aligning data'!AP70","v":"G5"},{"$f":"'aligning data'!AP71","v":"H5"},{"$f":"'aligning data'!AP72","v":"I5"},{"$error":"#DIV/0!"},0,null,{"$f":"'aligning data'!AS70","v":"G5"},{"$f":"'aligning data'!AS71","v":"H5"},{"$f":"'aligning data'!AS72","v":"I5"},{"$error":"#DIV/0!"},0,null,{"$f":"'aligning data'!AV70","v":"G5"},{"$f":"'aligning data'!AV71","v":"H5"},{"$f":"'aligning data'!AV72","v":"I5"},{"$error":"#DIV/0!"},0]
["P37",null,{"$f":"'aligning data'!C73","v":"J5"},{"$f":"'aligning data'!C74","v":"K5"},{"$f":"'aligning data'!C75","v":"L5"},{"$error":"#DIV/0!"},0,null,{"$f":"'aligning data'!F73","v":"J5"},{"$f":"'aligning data'!F74","v":"K5"},{"$f":"'aligning data'!F75","v":"L5"},{"$error":"#DIV/0!"},0,null,{"$f":"'aligning data'!I73","v":"J5"},{"$f":"'aligning data'!I74","v":"K5"},{"$f":"'aligning data'!I75","v":"L5"},{"$error":"#DIV/0!"},0,null,{"$f":"'aligning data'!L73","v":"J5"},{"$f":"'aligning data'!L74","v":"K5"},{"$f":"'aligning data'!L75","v":"L5"},{"$error":"#DIV/0!"},0,null,{"$f":"'aligning data'!O73","v":"J5"},{"$f":"'aligning data'!O74","v":"K5"},{"$f":"'aligning data'!O75","v":"L5"},{"$error":"#DIV/0!"},0,null,{"$f":"'aligning data'!R73","v":"J5"},{"$f":"'aligning data'!R74","v":"K5"},{"$f":"'aligning data'!R75","v":"L5"},{"$error":"#DIV/0!"},0,null,{"$f":"'aligning data'!U73","v":"J5"},{"$f":"'aligning data'!U74","v":"K5"},{"$f":"'aligning data'!U75","v":"L5"},{"$error":"#DIV/0!"},0,null,{"$f":"'aligning data'!X73","v":"J5"},{"$f":"'aligning data'!X74","v":"K5"},{"$f":"'aligning data'!X75","v":"L5"},{"$error":"#DIV/0!"},0,null,{"$f":"'aligning data'!AA73","v":"J5"},{"$f":"'aligning data'!AA74","v":"K5"},{"$f":"'aligning data'!AA75","v":"L5"},{"$error":"#DIV/0!"},0,null,{"$f":"'aligning data'!AD73","v":"J5"},{"$f":"'aligning data'!AD74","v":"K5"},{"$f":"'aligning data'!AD75","v":"L5"},{"$error":"#DIV/0!"},0,null,{"$f":"'aligning data'!AG73","v":"J5"},{"$f":"'aligning data'!AG74","v":"K5"},{"$f":"'aligning data'!AG75","v":"L5"},{"$error":"#DIV/0!"},0,null,{"$f":"'aligning data'!AJ73","v":"J5"},{"$f":"'aligning data'!AJ74","v":"K5"},{"$f":"'aligning data'!AJ75","v":"L5"},{"$error":"#DIV/0!"},0,null,{"$f":"'aligning data'!AM73","v":"J5"},{"$f":"'aligning data'!AM74","v":"K5"},{"$f":"'aligning data'!AM75","v":"L5"},{"$error":"#DIV/0!"},0,null,{"$f":"'aligning data'!AP73","v":"J5"},{"$f":"'aligning data'!AP74","v":"K5"},{"$f":"'aligning data'!AP75","v":"L5"},{"$error":"#DIV/0!"},0,null,{"$f":"'aligning data'!AS73","v":"J5"},{"$f":"'aligning data'!AS74","v":"K5"},{"$f":"'aligning data'!AS75","v":"L5"},{"$error":"#DIV/0!"},0,null,{"$f":"'aligning data'!AV73","v":"J5"},{"$f":"'aligning data'!AV74","v":"K5"},{"$f":"'aligning data'!AV75","v":"L5"},{"$error":"#DIV/0!"},0]
["P49",null,{"$f":"'aligning data'!C76","v":"M5"},{"$f":"'aligning data'!C77","v":"N5"},{"$f":"'aligning data'!C78","v":"O5"},{"$error":"#DIV/0!"},0,null,{"$f":"'aligning data'!F76","v":"M5"},{"$f":"'aligning data'!F77","v":"N5"},{"$f":"'aligning data'!F78","v":"O5"},{"$error":"#DIV/0!"},0,null,{"$f":"'aligning data'!I76","v":"M5"},{"$f":"'aligning data'!I77","v":"N5"},{"$f":"'aligning data'!I78","v":"O5"},{"$error":"#DIV/0!"},0,null,{"$f":"'aligning data'!L76","v":"M5"},{"$f":"'aligning data'!L77","v":"N5"},{"$f":"'aligning data'!L78","v":"O5"},{"$error":"#DIV/0!"},0,null,{"$f":"'aligning data'!O76","v":"M5"},{"$f":"'aligning data'!O77","v":"N5"},{"$f":"'aligning data'!O78","v":"O5"},{"$error":"#DIV/0!"},0,null,{"$f":"'aligning data'!R76","v":"M5"},{"$f":"'aligning data'!R77","v":"N5"},{"$f":"'aligning data'!R78","v":"O5"},{"$error":"#DIV/0!"},0,null,{"$f":"'aligning data'!U76","v":"M5"},{"$f":"'aligning data'!U77","v":"N5"},{"$f":"'aligning data'!U78","v":"O5"},{"$error":"#DIV/0!"},0,null,{"$f":"'aligning data'!X76","v":"M5"},{"$f":"'aligning data'!X77","v":"N5"},{"$f":"'aligning data'!X78","v":"O5"},{"$error":"#DIV/0!"},0,null,{"$f":"'aligning data'!AA76","v":"M5"},{"$f":"'aligning data'!AA77","v":"N5"},{"$f":"'aligning data'!AA78","v":"O5"},{"$error":"#DIV/0!"},0,null,{"$f":"'aligning data'!AD76","v":"M5"},{"$f":"'aligning data'!AD77","v":"N5"},{"$f":"'aligning data'!AD78","v":"O5"},{"$error":"#DIV/0!"},0,null,{"$f":"'aligning data'!AG76","v":"M5"},{"$f":"'aligning data'!AG77","v":"N5"},{"$f":"'aligning data'!AG78","v":"O5"},{"$error":"#DIV/0!"},0,null,{"$f":"'aligning data'!AJ76","v":"M5"},{"$f":"'aligning data'!AJ77","v":"N5"},{"$f":"'aligning data'!AJ78","v":"O5"},{"$error":"#DIV/0!"},0,null,{"$f":"'aligning data'!AM76","v":"M5"},{"$f":"'aligning data'!AM77","v":"N5"},{"$f":"'aligning data'!AM78","v":"O5"},{"$error":"#DIV/0!"},0,null,{"$f":"'aligning data'!AP76","v":"M5"},{"$f":"'aligning data'!AP77","v":"N5"},{"$f":"'aligning data'!AP78","v":"O5"},{"$error":"#DIV/0!"},0,null,{"$f":"'aligning data'!AS76","v":"M5"},{"$f":"'aligning data'!AS77","v":"N5"},{"$f":"'aligning data'!AS78","v":"O5"},{"$error":"#DIV/0!"},0,null,{"$f":"'aligning data'!AV76","v":"M5"},{"$f":"'aligning data'!AV77","v":"N5"},{"$f":"'aligning data'!AV78","v":"O5"},{"$error":"#DIV/0!"},0]
["P4",null,{"$f":"'aligning data'!C79","v":"A6"},{"$f":"'aligning data'!C80","v":"B6"},{"$f":"'aligning data'!C81","v":"C6"},{"$error":"#DIV/0!"},0,null,{"$f":"'aligning data'!F79","v":"A6"},{"$f":"'aligning data'!F80","v":"B6"},{"$f":"'aligning data'!F81","v":"C6"},{"$error":"#DIV/0!"},0,null,{"$f":"'aligning data'!I79","v":"A6"},{"$f":"'aligning data'!I80","v":"B6"},{"$f":"'aligning data'!I81","v":"C6"},{"$error":"#DIV/0!"},0,null,{"$f":"'aligning data'!L79","v":"A6"},{"$f":"'aligning data'!L80","v":"B6"},{"$f":"'aligning data'!L81","v":"C6"},{"$error":"#DIV/0!"},0,null,{"$f":"'aligning data'!O79","v":"A6"},{"$f":"'aligning data'!O80","v":"B6"},{"$f":"'aligning data'!O81","v":"C6"},{"$error":"#DIV/0!"},0,null,{"$f":"'aligning data'!R79","v":"A6"},{"$f":"'aligning data'!R80","v":"B6"},{"$f":"'aligning data'!R81","v":"C6"},{"$error":"#DIV/0!"},0,null,{"$f":"'aligning data'!U79","v":"A6"},{"$f":"'aligning data'!U80","v":"B6"},{"$f":"'aligning data'!U81","v":"C6"},{"$error":"#DIV/0!"},0,null,{"$f":"'aligning data'!X79","v":"A6"},{"$f":"'aligning data'!X80","v":"B6"},{"$f":"'aligning data'!X81","v":"C6"},{"$error":"#DIV/0!"},0,null,{"$f":"'aligning data'!AA79","v":"A6"},{"$f":"'aligning data'!AA80","v":"B6"},{"$f":"'aligning data'!AA81","v":"C6"},{"$error":"#DIV/0!"},0,null,{"$f":"'aligning data'!AD79","v":"A6"},{"$f":"'aligning data'!AD80","v":"B6"},{"$f":"'aligning data'!AD81","v":"C6"},{"$error":"#DIV/0!"},0,null,{"$f":"'aligning data'!AG79","v":"A6"},{"$f":"'aligning data'!AG80","v":"B6"},{"$f":"'aligning data'!AG81","v":"C6"},{"$error":"#DIV/0!"},0,null,{"$f":"'aligning data'!AJ79","v":"A6"},{"$f":"'aligning data'!AJ80","v":"B6"},{"$f":"'aligning data'!AJ81","v":"C6"},{"$error":"#DIV/0!"},0,null,{"$f":"'aligning data'!AM79","v":"A6"},{"$f":"'aligning data'!AM80","v":"B6"},{"$f":"'aligning data'!AM81","v":"C6"},{"$error":"#DIV/0!"},0,null,{"$f":"'aligning data'!AP79","v":"A6"},{"$f":"'aligning data'!AP80","v":"B6"},{"$f":"'aligning data'!AP81","v":"C6"},{"$error":"#DIV/0!"},0,null,{"$f":"'aligning data'!AS79","v":"A6"},{"$f":"'aligning data'!AS80","v":"B6"},{"$f":"'aligning data'!AS81","v":"C6"},{"$error":"#DIV/0!"},0,null,{"$f":"'aligning data'!AV79","v":"A6"},{"$f":"'aligning data'!AV80","v":"B6"},{"$f":"'aligning data'!AV81","v":"C6"},{"$error":"#DIV/0!"},0]
["P16",null,{"$f":"'aligning data'!C82","v":"D6"},{"$f":"'aligning data'!C83","v":"E6"},{"$f":"'aligning data'!C84","v":"F6"},{"$error":"#DIV/0!"},0,null,{"$f":"'aligning data'!F82","v":"D6"},{"$f":"'aligning data'!F83","v":"E6"},{"$f":"'aligning data'!F84","v":"F6"},{"$error":"#DIV/0!"},0,null,{"$f":"'aligning data'!I82","v":"D6"},{"$f":"'aligning data'!I83","v":"E6"},{"$f":"'aligning data'!I84","v":"F6"},{"$error":"#DIV/0!"},0,null,{"$f":"'aligning data'!L82","v":"D6"},{"$f":"'aligning data'!L83","v":"E6"},{"$f":"'aligning data'!L84","v":"F6"},{"$error":"#DIV/0!"},0,null,{"$f":"'aligning data'!O82","v":"D6"},{"$f":"'aligning data'!O83","v":"E6"},{"$f":"'aligning data'!O84","v":"F6"},{"$error":"#DIV/0!"},0,null,{"$f":"'aligning data'!R82","v":"D6"},{"$f":"'aligning data'!R83","v":"E6"},{"$f":"'aligning data'!R84","v":"F6"},{"$error":"#DIV/0!"},0,null,{"$f":"'aligning data'!U82","v":"D6"},{"$f":"'aligning data'!U83","v":"E6"},{"$f":"'aligning data'!U84","v":"F6"},{"$error":"#DIV/0!"},0,null,{"$f":"'aligning data'!X82","v":"D6"},{"$f":"'aligning data'!X83","v":"E6"},{"$f":"'aligning data'!X84","v":"F6"},{"$error":"#DIV/0!"},0,null,{"$f":"'aligning data'!AA82","v":"D6"},{"$f":"'aligning data'!AA83","v":"E6"},{"$f":"'aligning data'!AA84","v":"F6"},{"$error":"#DIV/0!"},0,null,{"$f":"'aligning data'!AD82","v":"D6"},{"$f":"'aligning data'!AD83","v":"E6"},{"$f":"'aligning data'!AD84","v":"F6"},{"$error":"#DIV/0!"},0,null,{"$f":"'aligning data'!AG82","v":"D6"},{"$f":"'aligning data'!AG83","v":"E6"},{"$f":"'aligning data'!AG84","v":"F6"},{"$error":"#DIV/0!"},0,null,{"$f":"'aligning data'!AJ82","v":"D6"},{"$f":"'aligning data'!AJ83","v":"E6"},{"$f":"'aligning data'!AJ84","v":"F6"},{"$error":"#DIV/0!"},0,null,{"$f":"'aligning data'!AM82","v":"D6"},{"$f":"'aligning data'!AM83","v":"E6"},{"$f":"'aligning data'!AM84","v":"F6"},{"$error":"#DIV/0!"},0,null,{"$f":"'aligning data'!AP82","v":"D6"},{"$f":"'aligning data'!AP83","v":"E6"},{"$f":"'aligning data'!AP84","v":"F6"},{"$error":"#DIV/0!"},0,null,{"$f":"'aligning data'!AS82","v":"D6"},{"$f":"'aligning data'!AS83","v":"E6"},{"$f":"'aligning data'!AS84","v":"F6"},{"$error":"#DIV/0!"},0,null,{"$f":"'aligning data'!AV82","v":"D6"},{"$f":"'aligning data'!AV83","v":"E6"},{"$f":"'aligning data'!AV84","v":"F6"},{"$error":"#DIV/0!"},0]
["P26",null,{"$f":"'aligning data'!C85","v":"G6"},{"$f":"'aligning data'!C86","v":"H6"},{"$f":"'aligning data'!C87","v":"I6"},{"$error":"#DIV/0!"},0,null,{"$f":"'aligning data'!F85","v":"G6"},{"$f":"'aligning data'!F86","v":"H6"},{"$f":"'aligning data'!F87","v":"I6"},{"$error":"#DIV/0!"},0,null,{"$f":"'aligning data'!I85","v":"G6"},{"$f":"'aligning data'!I86","v":"H6"},{"$f":"'aligning data'!I87","v":"I6"},{"$error":"#DIV/0!"},0,null,{"$f":"'aligning data'!L85","v":"G6"},{"$f":"'aligning data'!L86","v":"H6"},{"$f":"'aligning data'!L87","v":"I6"},{"$error":"#DIV/0!"},0,null,{"$f":"'aligning data'!O85","v":"G6"},{"$f":"'aligning data'!O86","v":"H6"},{"$f":"'aligning data'!O87","v":"I6"},{"$error":"#DIV/0!"},0,null,{"$f":"'aligning data'!R85","v":"G6"},{"$f":"'aligning data'!R86","v":"H6"},{"$f":"'aligning data'!R87","v":"I6"},{"$error":"#DIV/0!"},0,null,{"$f":"'aligning data'!U85","v":"G6"},{"$f":"'aligning data'!U86","v":"H6"},{"$f":"'aligning data'!U87","v":"I6"},{"$error":"#DIV/0!"},0,null,{"$f":"'aligning data'!X85","v":"G6"},{"$f":"'aligning data'!X86","v":"H6"},{"$f":"'aligning data'!X87","v":"I6"},{"$error":"#DIV/0!"},0,null,{"$f":"'aligning data'!AA85","v":"G6"},{"$f":"'aligning data'!AA86","v":"H6"},{"$f":"'aligning data'!AA87","v":"I6"},{"$error":"#DIV/0!"},0,null,{"$f":"'aligning data'!AD85","v":"G6"},{"$f":"'aligning data'!AD86","v":"H6"},{"$f":"'aligning data'!AD87","v":"I6"},{"$error":"#DIV/0!"},0,null,{"$f":"'aligning data'!AG85","v":"G6"},{"$f":"'aligning data'!AG86","v":"H6"},{"$f":"'aligning data'!AG87","v":"I6"},{"$error":"#DIV/0!"},0,null,{"$f":"'aligning data'!AJ85","v":"G6"},{"$f":"'aligning data'!AJ86","v":"H6"},{"$f":"'aligning data'!AJ87","v":"I6"},{"$error":"#DIV/0!"},0,null,{"$f":"'aligning data'!AM85","v":"G6"},{"$f":"'aligning data'!AM86","v":"H6"},{"$f":"'aligning data'!AM87","v":"I6"},{"$error":"#DIV/0!"},0,null,{"$f":"'aligning data'!AP85","v":"G6"},{"$f":"'aligning data'!AP86","v":"H6"},{"$f":"'aligning data'!AP87","v":"I6"},{"$error":"#DIV/0!"},0,null,{"$f":"'aligning data'!AS85","v":"G6"},{"$f":"'aligning data'!AS86","v":"H6"},{"$f":"'aligning data'!AS87","v":"I6"},{"$error":"#DIV/0!"},0,null,{"$f":"'aligning data'!AV85","v":"G6"},{"$f":"'aligning data'!AV86","v":"H6"},{"$f":"'aligning data'!AV87","v":"I6"},{"$error":"#DIV/0!"},0]
["P38",null,{"$f":"'aligning data'!C88","v":"J6"},{"$f":"'aligning data'!C89","v":"K6"},{"$f":"'aligning data'!C90","v":"L6"},{"$error":"#DIV/0!"},0,null,{"$f":"'aligning data'!F88","v":"J6"},{"$f":"'aligning data'!F89","v":"K6"},{"$f":"'aligning data'!F90","v":"L6"},{"$error":"#DIV/0!"},0,null,{"$f":"'aligning data'!I88","v":"J6"},{"$f":"'aligning data'!I89","v":"K6"},{"$f":"'aligning data'!I90","v":"L6"},{"$error":"#DIV/0!"},0,null,{"$f":"'aligning data'!L88","v":"J6"},{"$f":"'aligning data'!L89","v":"K6"},{"$f":"'aligning data'!L90","v":"L6"},{"$error":"#DIV/0!"},0,null,{"$f":"'aligning data'!O88","v":"J6"},{"$f":"'aligning data'!O89","v":"K6"},{"$f":"'aligning data'!O90","v":"L6"},{"$error":"#DIV/0!"},0,null,{"$f":"'aligning data'!R88","v":"J6"},{"$f":"'aligning data'!R89","v":"K6"},{"$f":"'aligning data'!R90","v":"L6"},{"$error":"#DIV/0!"},0,null,{"$f":"'aligning data'!U88","v":"J6"},{"$f":"'aligning data'!U89","v":"K6"},{"$f":"'aligning data'!U90","v":"L6"},{"$error":"#DIV/0!"},0,null,{"$f":"'aligning data'!X88","v":"J6"},{"$f":"'aligning data'!X89","v":"K6"},{"$f":"'aligning data'!X90","v":"L6"},{"$error":"#DIV/0!"},0,null,{"$f":"'aligning data'!AA88","v":"J6"},{"$f":"'aligning data'!AA89","v":"K6"},{"$f":"'aligning data'!AA90","v":"L6"},{"$error":"#DIV/0!"},0,null,{"$f":"'aligning data'!AD88","v":"J6"},{"$f":"'aligning data'!AD89","v":"K6"},{"$f":"'aligning data'!AD90","v":"L6"},{"$error":"#DIV/0!"},0,null,{"$f":"'aligning data'!AG88","v":"J6"},{"$f":"'aligning data'!AG89","v":"K6"},{"$f":"'aligning data'!AG90","v":"L6"},{"$error":"#DIV/0!"},0,null,{"$f":"'aligning data'!AJ88","v":"J6"},{"$f":"'aligning data'!AJ89","v":"K6"},{"$f":"'aligning data'!AJ90","v":"L6"},{"$error":"#DIV/0!"},0,null,{"$f":"'aligning data'!AM88","v":"J6"},{"$f":"'aligning data'!AM89","v":"K6"},{"$f":"'aligning data'!AM90","v":"L6"},{"$error":"#DIV/0!"},0,null,{"$f":"'aligning data'!AP88","v":"J6"},{"$f":"'aligning data'!AP89","v":"K6"},{"$f":"'aligning data'!AP90","v":"L6"},{"$error":"#DIV/0!"},0,null,{"$f":"'aligning data'!AS88","v":"J6"},{"$f":"'aligning data'!AS89","v":"K6"},{"$f":"'aligning data'!AS90","v":"L6"},{"$error":"#DIV/0!"},0,null,{"$f":"'aligning data'!AV88","v":"J6"},{"$f":"'aligning data'!AV89","v":"K6"},{"$f":"'aligning data'!AV90","v":"L6"},{"$error":"#DIV/0!"},0]
["P50",null,{"$f":"'aligning data'!C91","v":"M6"},{"$f":"'aligning data'!C92","v":"N6"},{"$f":"'aligning data'!C93","v":"O6"},{"$error":"#DIV/0!"},0,null,{"$f":"'aligning data'!F91","v":"M6"},{"$f":"'aligning data'!F92","v":"N6"},{"$f":"'aligning data'!F93","v":"O6"},{"$error":"#DIV/0!"},0,null,{"$f":"'aligning data'!I91","v":"M6"},{"$f":"'aligning data'!I92","v":"N6"},{"$f":"'aligning data'!I93","v":"O6"},{"$error":"#DIV/0!"},0,null,{"$f":"'aligning data'!L91","v":"M6"},{"$f":"'aligning data'!L92","v":"N6"},{"$f":"'aligning data'!L93","v":"O6"},{"$error":"#DIV/0!"},0,null,{"$f":"'aligning data'!O91","v":"M6"},{"$f":"'aligning data'!O92","v":"N6"},{"$f":"'aligning data'!O93","v":"O6"},{"$error":"#DIV/0!"},0,null,{"$f":"'aligning data'!R91","v":"M6"},{"$f":"'aligning data'!R92","v":"N6"},{"$f":"'aligning data'!R93","v":"O6"},{"$error":"#DIV/0!"},0,null,{"$f":"'aligning data'!U91","v":"M6"},{"$f":"'aligning data'!U92","v":"N6"},{"$f":"'aligning data'!U93","v":"O6"},{"$error":"#DIV/0!"},0,null,{"$f":"'aligning data'!X91","v":"M6"},{"$f":"'aligning data'!X92","v":"N6"},{"$f":"'aligning data'!X93","v":"O6"},{"$error":"#DIV/0!"},0,null,{"$f":"'aligning data'!AA91","v":"M6"},{"$f":"'aligning data'!AA92","v":"N6"},{"$f":"'aligning data'!AA93","v":"O6"},{"$error":"#DIV/0!"},0,null,{"$f":"'aligning data'!AD91","v":"M6"},{"$f":"'aligning data'!AD92","v":"N6"},{"$f":"'aligning data'!AD93","v":"O6"},{"$error":"#DIV/0!"},0,null,{"$f":"'aligning data'!AG91","v":"M6"},{"$f":"'aligning data'!AG92","v":"N6"},{"$f":"'aligning data'!AG93","v":"O6"},{"$error":"#DIV/0!"},0,null,{"$f":"'aligning data'!AJ91","v":"M6"},{"$f":"'aligning data'!AJ92","v":"N6"},{"$f":"'aligning data'!AJ93","v":"O6"},{"$error":"#DIV/0!"},0,null,{"$f":"'aligning data'!AM91","v":"M6"},{"$f":"'aligning data'!AM92","v":"N6"},{"$f":"'aligning data'!AM93","v":"O6"},{"$error":"#DIV/0!"},0,null,{"$f":"'aligning data'!AP91","v":"M6"},{"$f":"'aligning data'!AP92","v":"N6"},{"$f":"'aligning data'!AP93","v":"O6"},{"$error":"#DIV/0!"},0,null,{"$f":"'aligning data'!AS91","v":"M6"},{"$f":"'aligning data'!AS92","v":"N6"},{"$f":"'aligning data'!AS93","v":"O6"},{"$error":"#DIV/0!"},0,null,{"$f":"'aligning data'!AV91","v":"M6"},{"$f":"'aligning data'!AV92","v":"N6"},{"$f":"'aligning data'!AV93","v":"O6"},{"$error":"#DIV/0!"},0]
["P5",null,{"$f":"'aligning data'!C94","v":"A7"},{"$f":"'aligning data'!C95","v":"B7"},{"$f":"'aligning data'!C96","v":"C7"},{"$error":"#DIV/0!"},0,null,{"$f":"'aligning data'!F94","v":"A7"},{"$f":"'aligning data'!F95","v":"B7"},{"$f":"'aligning data'!F96","v":"C7"},{"$error":"#DIV/0!"},0,null,{"$f":"'aligning data'!I94","v":"A7"},{"$f":"'aligning data'!I95","v":"B7"},{"$f":"'aligning data'!I96","v":"C7"},{"$error":"#DIV/0!"},0,null,{"$f":"'aligning data'!L94","v":"A7"},{"$f":"'aligning data'!L95","v":"B7"},{"$f":"'aligning data'!L96","v":"C7"},{"$error":"#DIV/0!"},0,null,{"$f":"'aligning data'!O94","v":"A7"},{"$f":"'aligning data'!O95","v":"B7"},{"$f":"'aligning data'!O96","v":"C7"},{"$error":"#DIV/0!"},0,null,{"$f":"'aligning data'!R94","v":"A7"},{"$f":"'aligning data'!R95","v":"B7"},{"$f":"'aligning data'!R96","v":"C7"},{"$error":"#DIV/0!"},0,null,{"$f":"'aligning data'!U94","v":"A7"},{"$f":"'aligning data'!U95","v":"B7"},{"$f":"'aligning data'!U96","v":"C7"},{"$error":"#DIV/0!"},0,null,{"$f":"'aligning data'!X94","v":"A7"},{"$f":"'aligning data'!X95","v":"B7"},{"$f":"'aligning data'!X96","v":"C7"},{"$error":"#DIV/0!"},0,null,{"$f":"'aligning data'!AA94","v":"A7"},{"$f":"'aligning data'!AA95","v":"B7"},{"$f":"'aligning data'!AA96","v":"C7"},{"$error":"#DIV/0!"},0,null,{"$f":"'aligning data'!AD94","v":"A7"},{"$f":"'aligning data'!AD95","v":"B7"},{"$f":"'aligning data'!AD96","v":"C7"},{"$error":"#DIV/0!"},0,null,{"$f":"'aligning data'!AG94","v":"A7"},{"$f":"'aligning data'!AG95","v":"B7"},{"$f":"'aligning data'!AG96","v":"C7"},{"$error":"#DIV/0!"},0,null,{"$f":"'aligning data'!AJ94","v":"A7"},{"$f":"'aligning data'!AJ95","v":"B7"},{"$f":"'aligning data'!AJ96","v":"C7"},{"$error":"#DIV/0!"},0,null,{"$f":"'aligning data'!AM94","v":"A7"},{"$f":"'aligning data'!AM95","v":"B7"},{"$f":"'aligning data'!AM96","v":"C7"},{"$error":"#DIV/0!"},0,null,{"$f":"'aligning data'!AP94","v":"A7"},{"$f":"'aligning data'!AP95","v":"B7"},{"$f":"'aligning data'!AP96","v":"C7"},{"$error":"#DIV/0!"},0,null,{"$f":"'aligning data'!AS94","v":"A7"},{"$f":"'aligning data'!AS95","v":"B7"},{"$f":"'aligning data'!AS96","v":"C7"},{"$error":"#DIV/0!"},0,null,{"$f":"'aligning data'!AV94","v":"A7"},{"$f":"'aligning data'!AV95","v":"B7"},{"$f":"'aligning data'!AV96","v":"C7"},{"$error":"#DIV/0!"},0]
["P17",null,{"$f":"'aligning data'!C97","v":"D7"},{"$f":"'aligning data'!C98","v":"E7"},{"$f":"'aligning data'!C99","v":"F7"},{"$error":"#DIV/0!"},0,null,{"$f":"'aligning data'!F97","v":"D7"},{"$f":"'aligning data'!F98","v":"E7"},{"$f":"'aligning data'!F99","v":"F7"},{"$error":"#DIV/0!"},0,null,{"$f":"'aligning data'!I97","v":"D7"},{"$f":"'aligning data'!I98","v":"E7"},{"$f":"'aligning data'!I99","v":"F7"},{"$error":"#DIV/0!"},0,null,{"$f":"'aligning data'!L97","v":"D7"},{"$f":"'aligning data'!L98","v":"E7"},{"$f":"'aligning data'!L99","v":"F7"},{"$error":"#DIV/0!"},0,null,{"$f":"'aligning data'!O97","v":"D7"},{"$f":"'aligning data'!O98","v":"E7"},{"$f":"'aligning data'!O99","v":"F7"},{"$error":"#DIV/0!"},0,null,{"$f":"'aligning data'!R97","v":"D7"},{"$f":"'aligning data'!R98","v":"E7"},{"$f":"'aligning data'!R99","v":"F7"},{"$error":"#DIV/0!"},0,null,{"$f":"'aligning data'!U97","v":"D7"},{"$f":"'aligning data'!U98","v":"E7"},{"$f":"'aligning data'!U99","v":"F7"},{"$error":"#DIV/0!"},0,null,{"$f":"'aligning data'!X97","v":"D7"},{"$f":"'aligning data'!X98","v":"E7"},{"$f":"'aligning data'!X99","v":"F7"},{"$error":"#DIV/0!"},0,null,{"$f":"'aligning data'!AA97","v":"D7"},{"$f":"'aligning data'!AA98","v":"E7"},{"$f":"'aligning data'!AA99","v":"F7"},{"$error":"#DIV/0!"},0,null,{"$f":"'aligning data'!AD97","v":"D7"},{"$f":"'aligning data'!AD98","v":"E7"},{"$f":"'aligning data'!AD99","v":"F7"},{"$error":"#DIV/0!"},0,null,{"$f":"'aligning data'!AG97","v":"D7"},{"$f":"'aligning data'!AG98","v":"E7"},{"$f":"'aligning data'!AG99","v":"F7"},{"$error":"#DIV/0!"},0,null,{"$f":"'aligning data'!AJ97","v":"D7"},{"$f":"'aligning data'!AJ98","v":"E7"},{"$f":"'aligning data'!AJ99","v":"F7"},{"$error":"#DIV/0!"},0,null,{"$f":"'aligning data'!AM97","v":"D7"},{"$f":"'aligning data'!AM98","v":"E7"},{"$f":"'aligning data'!AM99","v":"F7"},{"$error":"#DIV/0!"},0,null,{"$f":"'aligning data'!AP97","v":"D7"},{"$f":"'aligning data'!AP98","v":"E7"},{"$f":"'aligning data'!AP99","v":"F7"},{"$error":"#DIV/0!"},0,null,{"$f":"'aligning data'!AS97","v":"D7"},{"$f":"'aligning data'!AS98","v":"E7"},{"$f":"'aligning data'!AS99","v":"F7"},{"$error":"#DIV/0!"},0,null,{"$f":"'aligning data'!AV97","v":"D7"},{"$f":"'aligning data'!AV98","v":"E7"},{"$f":"'aligning data'!AV99","v":"F7"},{"$error":"#DIV/0!"},0]
["P27",null,{"$f":"'aligning data'!C100","v":"G7"},{"$f":"'aligning data'!C101","v":"H7"},{"$f":"'aligning data'!C102","v":"I7"},{"$error":"#DIV/0!"},0,null,{"$f":"'aligning data'!F100","v":"G7"},{"$f":"'aligning data'!F101","v":"H7"},{"$f":"'aligning data'!F102","v":"I7"},{"$error":"#DIV/0!"},0,null,{"$f":"'aligning data'!I100","v":"G7"},{"$f":"'aligning data'!I101","v":"H7"},{"$f":"'aligning data'!I102","v":"I7"},{"$error":"#DIV/0!"},0,null,{"$f":"'aligning data'!L100","v":"G7"},{"$f":"'aligning data'!L101","v":"H7"},{"$f":"'aligning data'!L102","v":"I7"},{"$error":"#DIV/0!"},0,null,{"$f":"'aligning data'!O100","v":"G7"},{"$f":"'aligning data'!O101","v":"H7"},{"$f":"'aligning data'!O102","v":"I7"},{"$error":"#DIV/0!"},0,null,{"$f":"'aligning data'!R100","v":"G7"},{"$f":"'aligning data'!R101","v":"H7"},{"$f":"'aligning data'!R102","v":"I7"},{"$error":"#DIV/0!"},0,null,{"$f":"'aligning data'!U100","v":"G7"},{"$f":"'aligning data'!U101","v":"H7"},{"$f":"'aligning data'!U102","v":"I7"},{"$error":"#DIV/0!"},0,null,{"$f":"'aligning data'!X100","v":"G7"},{"$f":"'aligning data'!X101","v":"H7"},{"$f":"'aligning data'!X102","v":"I7"},{"$error":"#DIV/0!"},0,null,{"$f":"'aligning data'!AA100","v":"G7"},{"$f":"'aligning data'!AA101","v":"H7"},{"$f":"'aligning data'!AA102","v":"I7"},{"$error":"#DIV/0!"},0,null,{"$f":"'aligning data'!AD100","v":"G7"},{"$f":"'aligning data'!AD101","v":"H7"},{"$f":"'aligning data'!AD102","v":"I7"},{"$error":"#DIV/0!"},0,null,{"$f":"'aligning data'!AG100","v":"G7"},{"$f":"'aligning data'!AG101","v":"H7"},{"$f":"'aligning data'!AG102","v":"I7"},{"$error":"#DIV/0!"},0,null,{"$f":"'aligning data'!AJ100","v":"G7"},{"$f":"'aligning data'!AJ101","v":"H7"},{"$f":"'aligning data'!AJ102","v":"I7"},{"$error":"#DIV/0!"},0,null,{"$f":"'aligning data'!AM100","v":"G7"},{"$f":"'aligning data'!AM101","v":"H7"},{"$f":"'aligning data'!AM102","v":"I7"},{"$error":"#DIV/0!"},0,null,{"$f":"'aligning data'!AP100","v":"G7"},{"$f":"'aligning data'!AP101","v":"H7"},{"$f":"'aligning data'!AP102","v":"I7"},{"$error":"#DIV/0!"},0,null,{"$f":"'aligning data'!AS100","v":"G7"},{"$f":"'aligning data'!AS101","v":"H7"},{"$f":"'aligning data'!AS102","v":"I7"},{"$error":"#DIV/0!"},0,null,{"$f":"'aligning data'!AV100","v":"G7"},{"$f":"'aligning data'!AV101","v":"H7"},{"$f":"'aligning data'!AV102","v":"I7"},{"$error":"#DIV/0!"},0]
["P39",null,{"$f":"'aligning data'!C103","v":"J7"},{"$f":"'aligning data'!C104","v":"K7"},{"$f":"'aligning data'!C105","v":"L7"},{"$error":"#DIV/0!"},0,null,{"$f":"'aligning data'!F103","v":"J7"},{"$f":"'aligning data'!F104","v":"K7"},{"$f":"'aligning data'!F105","v":"L7"},{"$error":"#DIV/0!"},0,null,{"$f":"'aligning data'!I103","v":"J7"},{"$f":"'aligning data'!I104","v":"K7"},{"$f":"'aligning data'!I105","v":"L7"},{"$error":"#DIV/0!"},0,null,{"$f":"'aligning data'!L103","v":"J7"},{"$f":"'aligning data'!L104","v":"K7"},{"$f":"'aligning data'!L105","v":"L7"},{"$error":"#DIV/0!"},0,null,{"$f":"'aligning data'!O103","v":"J7"},{"$f":"'aligning data'!O104","v":"K7"},{"$f":"'aligning data'!O105","v":"L7"},{"$error":"#DIV/0!"},0,null,{"$f":"'aligning data'!R103","v":"J7"},{"$f":"'aligning data'!R104","v":"K7"},{"$f":"'aligning data'!R105","v":"L7"},{"$error":"#DIV/0!"},0,null,{"$f":"'aligning data'!U103","v":"J7"},{"$f":"'aligning data'!U104","v":"K7"},{"$f":"'aligning data'!U105","v":"L7"},{"$error":"#DIV/0!"},0,null,{"$f":"'aligning data'!X103","v":"J7"},{"$f":"'aligning data'!X104","v":"K7"},{"$f":"'aligning data'!X105","v":"L7"},{"$error":"#DIV/0!"},0,null,{"$f":"'aligning data'!AA103","v":"J7"},{"$f":"'aligning data'!AA104","v":"K7"},{"$f":"'aligning data'!AA105","v":"L7"},{"$error":"#DIV/0!"},0,null,{"$f":"'aligning data'!AD103","v":"J7"},{"$f":"'aligning data'!AD104","v":"K7"},{"$f":"'aligning data'!AD105","v":"L7"},{"$error":"#DIV/0!"},0,null,{"$f":"'aligning data'!AG103","v":"J7"},{"$f":"'aligning data'!AG104","v":"K7"},{"$f":"'aligning data'!AG105","v":"L7"},{"$error":"#DIV/0!"},0,null,{"$f":"'aligning data'!AJ103","v":"J7"},{"$f":"'aligning data'!AJ104","v":"K7"},{"$f":"'aligning data'!AJ105","v":"L7"},{"$error":"#DIV/0!"},0,null,{"$f":"'aligning data'!AM103","v":"J7"},{"$f":"'aligning data'!AM104","v":"K7"},{"$f":"'aligning data'!AM105","v":"L7"},{"$error":"#DIV/0!"},0,null,{"$f":"'aligning data'!AP103","v":"J7"},{"$f":"'aligning data'!AP104","v":"K7"},{"$f":"'aligning data'!AP105","v":"L7"},{"$error":"#DIV/0!"},0,null,{"$f":"'aligning data'!AS103","v":"J7"},{"$f":"'aligning data'!AS104","v":"K7"},{"$f":"'aligning data'!AS105","v":"L7"},{"$error":"#DIV/0!"},0,null,{"$f":"'aligning data'!AV103","v":"J7"},{"$f":"'aligning data'!AV104","v":"K7"},{"$f":"'aligning data'!AV105","v":"L7"},{"$error":"#DIV/0!"},0]
["P51",null,{"$f":"'aligning data'!C106","v":"M7"},{"$f":"'aligning data'!C107","v":"N7"},{"$f":"'aligning data'!C108","v":"O7"},{"$error":"#DIV/0!"},0,null,{"$f":"'aligning data'!F106","v":"M7"},{"$f":"'aligning data'!F107","v":"N7"},{"$f":"'aligning data'!F108","v":"O7"},{"$error":"#DIV/0!"},0,null,{"$f":"'aligning data'!I106","v":"M7"},{"$f":"'aligning data'!I107","v":"N7"},{"$f":"'aligning data'!I108","v":"O7"},{"$error":"#DIV/0!"},0,null,{"$f":"'aligning data'!L106","v":"M7"},{"$f":"'aligning data'!L107","v":"N7"},{"$f":"'aligning data'!L108","v":"O7"},{"$error":"#DIV/0!"},0,null,{"$f":"'aligning data'!O106","v":"M7"},{"$f":"'aligning data'!O107","v":"N7"},{"$f":"'aligning data'!O108","v":"O7"},{"$error":"#DIV/0!"},0,null,{"$f":"'aligning data'!R106","v":"M7"},{"$f":"'aligning data'!R107","v":"N7"},{"$f":"'aligning data'!R108","v":"O7"},{"$error":"#DIV/0!"},0,null,{"$f":"'aligning data'!U106","v":"M7"},{"$f":"'aligning data'!U107","v":"N7"},{"$f":"'aligning data'!U108","v":"O7"},{"$error":"#DIV/0!"},0,null,{"$f":"'aligning data'!X106","v":"M7"},{"$f":"'aligning data'!X107","v":"N7"},{"$f":"'aligning data'!X108","v":"O7"},{"$error":"#DIV/0!"},0,null,{"$f":"'aligning data'!AA106","v":"M7"},{"$f":"'aligning data'!AA107","v":"N7"},{"$f":"'aligning data'!AA108","v":"O7"},{"$error":"#DIV/0!"},0,null,{"$f":"'aligning data'!AD106","v":"M7"},{"$f":"'aligning data'!AD107","v":"N7"},{"$f":"'aligning data'!AD108","v":"O7"},{"$error":"#DIV/0!"},0,null,{"$f":"'aligning data'!AG106","v":"M7"},{"$f":"'aligning data'!AG107","v":"N7"},{"$f":"'aligning data'!AG108","v":"O7"},{"$error":"#DIV/0!"},0,null,{"$f":"'aligning data'!AJ106","v":"M7"},{"$f":"'aligning data'!AJ107","v":"N7"},{"$f":"'aligning data'!AJ108","v":"O7"},{"$error":"#DIV/0!"},0,null,{"$f":"'aligning data'!AM106","v":"M7"},{"$f":"'aligning data'!AM107","v":"N7"},{"$f":"'aligning data'!AM108","v":"O7"},{"$error":"#DIV/0!"},0,null,{"$f":"'aligning data'!AP106","v":"M7"},{"$f":"'aligning data'!AP107","v":"N7"},{"$f":"'aligning data'!AP108","v":"O7"},{"$error":"#DIV/0!"},0,null,{"$f":"'aligning data'!AS106","v":"M7"},{"$f":"'aligning data'!AS107","v":"N7"},{"$f":"'aligning data'!AS108","v":"O7"},{"$error":"#DIV/0!"},0,null,{"$f":"'aligning data'!AV106","v":"M7"},{"$f":"'aligning data'!AV107","v":"N7"},{"$f":"'aligning data'!AV108","v":"O7"},{"$error":"#DIV/0!"},0]
["P6",null,{"$f":"'aligning data'!C109","v":"A8"},{"$f":"'aligning data'!C110","v":"B8"},{"$f":"'aligning data'!C111","v":"C8"},{"$error":"#DIV/0!"},0,null,{"$f":"'aligning data'!F109","v":"A8"},{"$f":"'aligning data'!F110","v":"B8"},{"$f":"'aligning data'!F111","v":"C8"},{"$error":"#DIV/0!"},0,null,{"$f":"'aligning data'!I109","v":"A8"},{"$f":"'aligning data'!I110","v":"B8"},{"$f":"'aligning data'!I111","v":"C8"},{"$error":"#DIV/0!"},0,null,{"$f":"'aligning data'!L109","v":"A8"},{"$f":"'aligning data'!L110","v":"B8"},{"$f":"'aligning data'!L111","v":"C8"},{"$error":"#DIV/0!"},0,null,{"$f":"'aligning data'!O109","v":"A8"},{"$f":"'aligning data'!O110","v":"B8"},{"$f":"'aligning data'!O111","v":"C8"},{"$error":"#DIV/0!"},0,null,{"$f":"'aligning data'!R109","v":"A8"},{"$f":"'aligning data'!R110","v":"B8"},{"$f":"'aligning data'!R111","v":"C8"},{"$error":"#DIV/0!"},0,null,{"$f":"'aligning data'!U109","v":"A8"},{"$f":"'aligning data'!U110","v":"B8"},{"$f":"'aligning data'!U111","v":"C8"},{"$error":"#DIV/0!"},0,null,{"$f":"'aligning data'!X109","v":"A8"},{"$f":"'aligning data'!X110","v":"B8"},{"$f":"'aligning data'!X111","v":"C8"},{"$error":"#DIV/0!"},0,null,{"$f":"'aligning data'!AA109","v":"A8"},{"$f":"'aligning data'!AA110","v":"B8"},{"$f":"'aligning data'!AA111","v":"C8"},{"$error":"#DIV/0!"},0,null,{"$f":"'aligning data'!AD109","v":"A8"},{"$f":"'aligning data'!AD110","v":"B8"},{"$f":"'aligning data'!AD111","v":"C8"},{"$error":"#DIV/0!"},0,null,{"$f":"'aligning data'!AG109","v":"A8"},{"$f":"'aligning data'!AG110","v":"B8"},{"$f":"'aligning data'!AG111","v":"C8"},{"$error":"#DIV/0!"},0,null,{"$f":"'aligning data'!AJ109","v":"A8"},{"$f":"'aligning data'!AJ110","v":"B8"},{"$f":"'aligning data'!AJ111","v":"C8"},{"$error":"#DIV/0!"},0,null,{"$f":"'aligning data'!AM109","v":"A8"},{"$f":"'aligning data'!AM110","v":"B8"},{"$f":"'aligning data'!AM111","v":"C8"},{"$error":"#DIV/0!"},0,null,{"$f":"'aligning data'!AP109","v":"A8"},{"$f":"'aligning data'!AP110","v":"B8"},{"$f":"'aligning data'!AP111","v":"C8"},{"$error":"#DIV/0!"},0,null,{"$f":"'aligning data'!AS109","v":"A8"},{"$f":"'aligning data'!AS110","v":"B8"},{"$f":"'aligning data'!AS111","v":"C8"},{"$error":"#DIV/0!"},0,null,{"$f":"'aligning data'!AV109","v":"A8"},{"$f":"'aligning data'!AV110","v":"B8"},{"$f":"'aligning data'!AV111","v":"C8"},{"$error":"#DIV/0!"},0]
["P18",null,{"$f":"'aligning data'!C112","v":"D8"},{"$f":"'aligning data'!C113","v":"E8"},{"$f":"'aligning data'!C114","v":"F8"},{"$error":"#DIV/0!"},0,null,{"$f":"'aligning data'!F112","v":"D8"},{"$f":"'aligning data'!F113","v":"E8"},{"$f":"'aligning data'!F114","v":"F8"},{"$error":"#DIV/0!"},0,null,{"$f":"'aligning data'!I112","v":"D8"},{"$f":"'aligning data'!I113","v":"E8"},{"$f":"'aligning data'!I114","v":"F8"},{"$error":"#DIV/0!"},0,null,{"$f":"'aligning data'!L112","v":"D8"},{"$f":"'aligning data'!L113","v":"E8"},{"$f":"'aligning data'!L114","v":"F8"},{"$error":"#DIV/0!"},0,null,{"$f":"'aligning data'!O112","v":"D8"},{"$f":"'aligning data'!O113","v":"E8"},{"$f":"'aligning data'!O114","v":"F8"},{"$error":"#DIV/0!"},0,null,{"$f":"'aligning data'!R112","v":"D8"},{"$f":"'aligning data'!R113","v":"E8"},{"$f":"'aligning data'!R114","v":"F8"},{"$error":"#DIV/0!"},0,null,{"$f":"'aligning data'!U112","v":"D8"},{"$f":"'aligning data'!U113","v":"E8"},{"$f":"'aligning data'!U114","v":"F8"},{"$error":"#DIV/0!"},0,null,{"$f":"'aligning data'!X112","v":"D8"},{"$f":"'aligning data'!X113","v":"E8"},{"$f":"'aligning data'!X114","v":"F8"},{"$error":"#DIV/0!"},0,null,{"$f":"'aligning data'!AA112","v":"D8"},{"$f":"'aligning data'!AA113","v":"E8"},{"$f":"'aligning data'!AA114","v":"F8"},{"$error":"#DIV/0!"},0,null,{"$f":"'aligning data'!AD112","v":"D8"},{"$f":"'aligning data'!AD113","v":"E8"},{"$f":"'aligning data'!AD114","v":"F8"},{"$error":"#DIV/0!"},0,null,{"$f":"'aligning data'!AG112","v":"D8"},{"$f":"'aligning data'!AG113","v":"E8"},{"$f":"'aligning data'!AG114","v":"F8"},{"$error":"#DIV/0!"},0,null,{"$f":"'aligning data'!AJ112","v":"D8"},{"$f":"'aligning data'!AJ113","v":"E8"},{"$f":"'aligning data'!AJ114","v":"F8"},{"$error":"#DIV/0!"},0,null,{"$f":"'aligning data'!AM112","v":"D8"},{"$f":"'aligning data'!AM113","v":"E8"},{"$f":"'aligning data'!AM114","v":"F8"},{"$error":"#DIV/0!"},0,null,{"$f":"'aligning data'!AP112","v":"D8"},{"$f":"'aligning data'!AP113","v":"E8"},{"$f":"'aligning data'!AP114","v":"F8"},{"$error":"#DIV/0!"},0,null,{"$f":"'aligning data'!AS112","v":"D8"},{"$f":"'aligning data'!AS113","v":"E8"},{"$f":"'aligning data'!AS114","v":"F8"},{"$error":"#DIV/0!"},0,null,{"$f":"'aligning data'!AV112","v":"D8"},{"$f":"'aligning data'!AV113","v":"E8"},{"$f":"'aligning data'!AV114","v":"F8"},{"$error":"#DIV/0!"},0]
["P28",null,{"$f":"'aligning data'!C115","v":"G8"},{"$f":"'aligning data'!C116","v":"H8"},{"$f":"'aligning data'!C117","v":"I8"},{"$error":"#DIV/0!"},0,null,{"$f":"'aligning data'!F115","v":"G8"},{"$f":"'aligning data'!F116","v":"H8"},{"$f":"'aligning data'!F117","v":"I8"},{"$error":"#DIV/0!"},0,null,{"$f":"'aligning data'!I115","v":"G8"},{"$f":"'aligning data'!I116","v":"H8"},{"$f":"'aligning data'!I117","v":"I8"},{"$error":"#DIV/0!"},0,null,{"$f":"'aligning data'!L115","v":"G8"},{"$f":"'aligning data'!L116","v":"H8"},{"$f":"'aligning data'!L117","v":"I8"},{"$error":"#DIV/0!"},0,null,{"$f":"'aligning data'!O115","v":"G8"},{"$f":"'aligning data'!O116","v":"H8"},{"$f":"'aligning data'!O117","v":"I8"},{"$error":"#DIV/0!"},0,null,{"$f":"'aligning data'!R115","v":"G8"},{"$f":"'aligning data'!R116","v":"H8"},{"$f":"'aligning data'!R117","v":"I8"},{"$error":"#DIV/0!"},0,null,{"$f":"'aligning data'!U115","v":"G8"},{"$f":"'aligning data'!U116","v":"H8"},{"$f":"'aligning data'!U117","v":"I8"},{"$error":"#DIV/0!"},0,null,{"$f":"'aligning data'!X115","v":"G8"},{"$f":"'aligning data'!X116","v":"H8"},{"$f":"'aligning data'!X117","v":"I8"},{"$error":"#DIV/0!"},0,null,{"$f":"'aligning data'!AA115","v":"G8"},{"$f":"'aligning data'!AA116","v":"H8"},{"$f":"'aligning data'!AA117","v":"I8"},{"$error":"#DIV/0!"},0,null,{"$f":"'aligning data'!AD115","v":"G8"},{"$f":"'aligning data'!AD116","v":"H8"},{"$f":"'aligning data'!AD117","v":"I8"},{"$error":"#DIV/0!"},0,null,{"$f":"'aligning data'!AG115","v":"G8"},{"$f":"'aligning data'!AG116","v":"H8"},{"$f":"'aligning data'!AG117","v":"I8"},{"$error":"#DIV/0!"},0,null,{"$f":"'aligning data'!AJ115","v":"G8"},{"$f":"'aligning data'!AJ116","v":"H8"},{"$f":"'aligning data'!AJ117","v":"I8"},{"$error":"#DIV/0!"},0,null,{"$f":"'aligning data'!AM115","v":"G8"},{"$f":"'aligning data'!AM116","v":"H8"},{"$f":"'aligning data'!AM117","v":"I8"},{"$error":"#DIV/0!"},0,null,{"$f":"'aligning data'!AP115","v":"G8"},{"$f":"'aligning data'!AP116","v":"H8"},{"$f":"'aligning data'!AP117","v":"I8"},{"$error":"#DIV/0!"},0,null,{"$f":"'aligning data'!AS115","v":"G8"},{"$f":"'aligning data'!AS116","v":"H8"},{"$f":"'aligning data'!AS117","v":"I8"},{"$error":"#DIV/0!"},0,null,{"$f":"'aligning data'!AV115","v":"G8"},{"$f":"'aligning data'!AV116","v":"H8"},{"$f":"'aligning data'!AV117","v":"I8"},{"$error":"#DIV/0!"},0]
["P40",null,{"$f":"'aligning data'!C118","v":"J8"},{"$f":"'aligning data'!C119","v":"K8"},{"$f":"'aligning data'!C120","v":"L8"},{"$error":"#DIV/0!"},0,null,{"$f":"'aligning data'!F118","v":"J8"},{"$f":"'aligning data'!F119","v":"K8"},{"$f":"'aligning data'!F120","v":"L8"},{"$error":"#DIV/0!"},0,null,{"$f":"'aligning data'!I118","v":"J8"},{"$f":"'aligning data'!I119","v":"K8"},{"$f":"'aligning data'!I120","v":"L8"},{"$error":"#DIV/0!"},0,null,{"$f":"'aligning data'!L118","v":"J8"},{"$f":"'aligning data'!L119","v":"K8"},{"$f":"'aligning data'!L120","v":"L8"},{"$error":"#DIV/0!"},0,null,{"$f":"'aligning data'!O118","v":"J8"},{"$f":"'aligning data'!O119","v":"K8"},{"$f":"'aligning data'!O120","v":"L8"},{"$error":"#DIV/0!"},0,null,{"$f":"'aligning data'!R118","v":"J8"},{"$f":"'aligning data'!R119","v":"K8"},{"$f":"'aligning data'!R120","v":"L8"},{"$error":"#DIV/0!"},0,null,{"$f":"'aligning data'!U118","v":"J8"},{"$f":"'aligning data'!U119","v":"K8"},{"$f":"'aligning data'!U120","v":"L8"},{"$error":"#DIV/0!"},0,null,{"$f":"'aligning data'!X118","v":"J8"},{"$f":"'aligning data'!X119","v":"K8"},{"$f":"'aligning data'!X120","v":"L8"},{"$error":"#DIV/0!"},0,null,{"$f":"'aligning data'!AA118","v":"J8"},{"$f":"'aligning data'!AA119","v":"K8"},{"$f":"'aligning data'!AA120","v":"L8"},{"$error":"#DIV/0!"},0,null,{"$f":"'aligning data'!AD118","v":"J8"},{"$f":"'aligning data'!AD119","v":"K8"},{"$f":"'aligning data'!AD120","v":"L8"},{"$error":"#DIV/0!"},0,null,{"$f":"'aligning data'!AG118","v":"J8"},{"$f":"'aligning data'!AG119","v":"K8"},{"$f":"'aligning data'!AG120","v":"L8"},{"$error":"#DIV/0!"},0,null,{"$f":"'aligning data'!AJ118","v":"J8"},{"$f":"'aligning data'!AJ119","v":"K8"},{"$f":"'aligning data'!AJ120","v":"L8"},{"$error":"#DIV/0!"},0,null,{"$f":"'aligning data'!AM118","v":"J8"},{"$f":"'aligning data'!AM119","v":"K8"},{"$f":"'aligning data'!AM120","v":"L8"},{"$error":"#DIV/0!"},0,null,{"$f":"'aligning data'!AP118","v":"J8"},{"$f":"'aligning data'!AP119","v":"K8"},{"$f":"'aligning data'!AP120","v":"L8"},{"$error":"#DIV/0!"},0,null,{"$f":"'aligning data'!AS118","v":"J8"},{"$f":"'aligning data'!AS119","v":"K8"},{"$f":"'aligning data'!AS120","v":"L8"},{"$error":"#DIV/0!"},0,null,{"$f":"'aligning data'!AV118","v":"J8"},{"$f":"'aligning data'!AV119","v":"K8"},{"$f":"'aligning data'!AV120","v":"L8"},{"$error":"#DIV/0!"},0]
["P7",null,{"$f":"'aligning data'!C124","v":"A9"},{"$f":"'aligning data'!C125","v":"B9"},{"$f":"'aligning data'!C126","v":"C9"},{"$error":"#DIV/0!"},0,null,{"$f":"'aligning data'!F124","v":"A9"},{"$f":"'aligning data'!F125","v":"B9"},{"$f":"'aligning data'!F126","v":"C9"},{"$error":"#DIV/0!"},0,null,{"$f":"'aligning data'!I124","v":"A9"},{"$f":"'aligning data'!I125","v":"B9"},{"$f":"'aligning data'!I126","v":"C9"},{"$error":"#DIV/0!"},0,null,{"$f":"'aligning data'!L124","v":"A9"},{"$f":"'aligning data'!L125","v":"B9"},{"$f":"'aligning data'!L126","v":"C9"},{"$error":"#DIV/0!"},0,null,{"$f":"'aligning data'!O124","v":"A9"},{"$f":"'aligning data'!O125","v":"B9"},{"$f":"'aligning data'!O126","v":"C9"},{"$error":"#DIV/0!"},0,null,{"$f":"'aligning data'!R124","v":"A9"},{"$f":"'aligning data'!R125","v":"B9"},{"$f":"'aligning data'!R126","v":"C9"},{"$error":"#DIV/0!"},0,null,{"$f":"'aligning data'!U124","v":"A9"},{"$f":"'aligning data'!U125","v":"B9"},{"$f":"'aligning data'!U126","v":"C9"},{"$error":"#DIV/0!"},0,null,{"$f":"'aligning data'!X124","v":"A9"},{"$f":"'aligning data'!X125","v":"B9"},{"$f":"'aligning data'!X126","v":"C9"},{"$error":"#DIV/0!"},0,null,{"$f":"'aligning data'!AA124","v":"A9"},{"$f":"'aligning data'!AA125","v":"B9"},{"$f":"'aligning data'!AA126","v":"C9"},{"$error":"#DIV/0!"},0,null,{"$f":"'aligning data'!AD124","v":"A9"},{"$f":"'aligning data'!AD125","v":"B9"},{"$f":"'aligning data'!AD126","v":"C9"},{"$error":"#DIV/0!"},0,null,{"$f":"'aligning data'!AG124","v":"A9"},{"$f":"'aligning data'!AG125","v":"B9"},{"$f":"'aligning data'!AG126","v":"C9"},{"$error":"#DIV/0!"},0,null,{"$f":"'aligning data'!AJ124","v":"A9"},{"$f":"'aligning data'!AJ125","v":"B9"},{"$f":"'aligning data'!AJ126","v":"C9"},{"$error":"#DIV/0!"},0,null,{"$f":"'aligning data'!AM124","v":"A9"},{"$f":"'aligning data'!AM125","v":"B9"},{"$f":"'aligning data'!AM126","v":"C9"},{"$error":"#DIV/0!"},0,null,{"$f":"'aligning data'!AP124","v":"A9"},{"$f":"'aligning data'!AP125","v":"B9"},{"$f":"'aligning data'!AP126","v":"C9"},{"$error":"#DIV/0!"},0,null,{"$f":"'aligning data'!AS124","v":"A9"},{"$f":"'aligning data'!AS125","v":"B9"},{"$f":"'aligning data'!AS126","v":"C9"},{"$error":"#DIV/0!"},0,null,{"$f":"'aligning data'!AV124","v":"A9"},{"$f":"'aligning data'!AV125","v":"B9"},{"$f":"'aligning data'!AV126","v":"C9"},{"$error":"#DIV/0!"},0]
["P19",null,{"$f":"'aligning data'!C127","v":"D9"},{"$f":"'aligning data'!C128","v":"E9"},{"$f":"'aligning data'!C129","v":"F9"},{"$error":"#DIV/0!"},0,null,{"$f":"'aligning data'!F127","v":"D9"},{"$f":"'aligning data'!F128","v":"E9"},{"$f":"'aligning data'!F129","v":"F9"},{"$error":"#DIV/0!"},0,null,{"$f":"'aligning data'!I127","v":"D9"},{"$f":"'aligning data'!I128","v":"E9"},{"$f":"'aligning data'!I129","v":"F9"},{"$error":"#DIV/0!"},0,null,{"$f":"'aligning data'!L127","v":"D9"},{"$f":"'aligning data'!L128","v":"E9"},{"$f":"'aligning data'!L129","v":"F9"},{"$error":"#DIV/0!"},0,null,{"$f":"'aligning data'!O127","v":"D9"},{"$f":"'aligning data'!O128","v":"E9"},{"$f":"'aligning data'!O129","v":"F9"},{"$error":"#DIV/0!"},0,null,{"$f":"'aligning data'!R127","v":"D9"},{"$f":"'aligning data'!R128","v":"E9"},{"$f":"'aligning data'!R129","v":"F9"},{"$error":"#DIV/0!"},0,null,{"$f":"'aligning data'!U127","v":"D9"},{"$f":"'aligning data'!U128","v":"E9"},{"$f":"'aligning data'!U129","v":"F9"},{"$error":"#DIV/0!"},0,null,{"$f":"'aligning data'!X127","v":"D9"},{"$f":"'aligning data'!X128","v":"E9"},{"$f":"'aligning data'!X129","v":"F9"},{"$error":"#DIV/0!"},0,null,{"$f":"'aligning data'!AA127","v":"D9"},{"$f":"'aligning data'!AA128","v":"E9"},{"$f":"'aligning data'!AA129","v":"F9"},{"$error":"#DIV/0!"},0,null,{"$f":"'aligning data'!AD127","v":"D9"},{"$f":"'aligning data'!AD128","v":"E9"},{"$f":"'aligning data'!AD129","v":"F9"},{"$error":"#DIV/0!"},0,null,{"$f":"'aligning data'!AG127","v":"D9"},{"$f":"'aligning data'!AG128","v":"E9"},{"$f":"'aligning data'!AG129","v":"F9"},{"$error":"#DIV/0!"},0,null,{"$f":"'aligning data'!AJ127","v":"D9"},{"$f":"'aligning data'!AJ128","v":"E9"},{"$f":"'aligning data'!AJ129","v":"F9"},{"$error":"#DIV/0!"},0,null,{"$f":"'aligning data'!AM127","v":"D9"},{"$f":"'aligning data'!AM128","v":"E9"},{"$f":"'aligning data'!AM129","v":"F9"},{"$error":"#DIV/0!"},0,null,{"$f":"'aligning data'!AP127","v":"D9"},{"$f":"'aligning data'!AP128","v":"E9"},{"$f":"'aligning data'!AP129","v":"F9"},{"$error":"#DIV/0!"},0,null,{"$f":"'aligning data'!AS127","v":"D9"},{"$f":"'aligning data'!AS128","v":"E9"},{"$f":"'aligning data'!AS129","v":"F9"},{"$error":"#DIV/0!"},0,null,{"$f":"'aligning data'!AV127","v":"D9"},{"$f":"'aligning data'!AV128","v":"E9"},{"$f":"'aligning data'!AV129","v":"F9"},{"$error":"#DIV/0!"},0]
["P29",null,{"$f":"'aligning data'!C130","v":"G9"},{"$f":"'aligning data'!C131","v":"H9"},{"$f":"'aligning data'!C132","v":"I9"},{"$error":"#DIV/0!"},0,null,{"$f":"'aligning data'!F130","v":"G9"},{"$f":"'aligning data'!F131","v":"H9"},{"$f":"'aligning data'!F132","v":"I9"},{"$error":"#DIV/0!"},0,null,{"$f":"'aligning data'!I130","v":"G9"},{"$f":"'aligning data'!I131","v":"H9"},{"$f":"'aligning data'!I132","v":"I9"},{"$error":"#DIV/0!"},0,null,{"$f":"'aligning data'!L130","v":"G9"},{"$f":"'aligning data'!L131","v":"H9"},{"$f":"'aligning data'!L132","v":"I9"},{"$error":"#DIV/0!"},0,null,{"$f":"'aligning data'!O130","v":"G9"},{"$f":"'aligning data'!O131","v":"H9"},{"$f":"'aligning data'!O132","v":"I9"},{"$error":"#DIV/0!"},0,null,{"$f":"'aligning data'!R130","v":"G9"},{"$f":"'aligning data'!R131","v":"H9"},{"$f":"'aligning data'!R132","v":"I9"},{"$error":"#DIV/0!"},0,null,{"$f":"'aligning data'!U130","v":"G9"},{"$f":"'aligning data'!U131","v":"H9"},{"$f":"'aligning data'!U132","v":"I9"},{"$error":"#DIV/0!"},0,null,{"$f":"'aligning data'!X130","v":"G9"},{"$f":"'aligning data'!X131","v":"H9"},{"$f":"'aligning data'!X132","v":"I9"},{"$error":"#DIV/0!"},0,null,{"$f":"'aligning data'!AA130","v":"G9"},{"$f":"'aligning data'!AA131","v":"H9"},{"$f":"'aligning data'!AA132","v":"I9"},{"$error":"#DIV/0!"},0,null,{"$f":"'aligning data'!AD130","v":"G9"},{"$f":"'aligning data'!AD131","v":"H9"},{"$f":"'aligning data'!AD132","v":"I9"},{"$error":"#DIV/0!"},0,null,{"$f":"'aligning data'!AG130","v":"G9"},{"$f":"'aligning data'!AG131","v":"H9"},{"$f":"'aligning data'!AG132","v":"I9"},{"$error":"#DIV/0!"},0,null,{"$f":"'aligning data'!AJ130","v":"G9"},{"$f":"'aligning data'!AJ131","v":"H9"},{"$f":"'aligning data'!AJ132","v":"I9"},{"$error":"#DIV/0!"},0,null,{"$f":"'aligning data'!AM130","v":"G9"},{"$f":"'aligning data'!AM131","v":"H9"},{"$f":"'aligning data'!AM132","v":"I9"},{"$error":"#DIV/0!"},0,null,{"$f":"'aligning data'!AP130","v":"G9"},{"$f":"'aligning data'!AP131","v":"H9"},{"$f":"'aligning data'!AP132","v":"I9"},{"$error":"#DIV/0!"},0,null,{"$f":"'aligning data'!AS130","v":"G9"},{"$f":"'aligning data'!AS131","v":"H9"},{"$f":"'aligning data'!AS132","v":"I9"},{"$error":"#DIV/0!"},0,null,{"$f":"'aligning data'!AV130","v":"G9"},{"$f":"'aligning data'!AV131","v":"H9"},{"$f":"'aligning data'!AV132","v":"I9"},{"$error":"#DIV/0!"},0]
["P41",null,{"$f":"'aligning data'!C133","v":"J9"},{"$f":"'aligning data'!C134","v":"K9"},{"$f":"'aligning data'!C135","v":"L9"},{"$error":"#DIV/0!"},0,null,{"$f":"'aligning data'!F133","v":"J9"},{"$f":"'aligning data'!F134","v":"K9"},{"$f":"'aligning data'!F135","v":"L9"},{"$error":"#DIV/0!"},0,null,{"$f":"'aligning data'!I133","v":"J9"},{"$f":"'aligning data'!I134","v":"K9"},{"$f":"'aligning data'!I135","v":"L9"},{"$error":"#DIV/0!"},0,null,{"$f":"'aligning data'!L133","v":"J9"},{"$f":"'aligning data'!L134","v":"K9"},{"$f":"'aligning data'!L135","v":"L9"},{"$error":"#DIV/0!"},0,null,{"$f":"'aligning data'!O133","v":"J9"},{"$f":"'aligning data'!O134","v":"K9"},{"$f":"'aligning data'!O135","v":"L9"},{"$error":"#DIV/0!"},0,null,{"$f":"'aligning data'!R133","v":"J9"},{"$f":"'aligning data'!R134","v":"K9"},{"$f":"'aligning data'!R135","v":"L9"},{"$error":"#DIV/0!"},0,null,{"$f":"'aligning data'!U133","v":"J9"},{"$f":"'aligning data'!U134","v":"K9"},{"$f":"'aligning data'!U135","v":"L9"},{"$error":"#DIV/0!"},0,null,{"$f":"'aligning data'!X133","v":"J9"},{"$f":"'aligning data'!X134","v":"K9"},{"$f":"'aligning data'!X135","v":"L9"},{"$error":"#DIV/0!"},0,null,{"$f":"'aligning data'!AA133","v":"J9"},{"$f":"'aligning data'!AA134","v":"K9"},{"$f":"'aligning data'!AA135","v":"L9"},{"$error":"#DIV/0!"},0,null,{"$f":"'aligning data'!AD133","v":"J9"},{"$f":"'aligning data'!AD134","v":"K9"},{"$f":"'aligning data'!AD135","v":"L9"},{"$error":"#DIV/0!"},0,null,{"$f":"'aligning data'!AG133","v":"J9"},{"$f":"'aligning data'!AG134","v":"K9"},{"$f":"'aligning data'!AG135","v":"L9"},{"$error":"#DIV/0!"},0,null,{"$f":"'aligning data'!AJ133","v":"J9"},{"$f":"'aligning data'!AJ134","v":"K9"},{"$f":"'aligning data'!AJ135","v":"L9"},{"$error":"#DIV/0!"},0,null,{"$f":"'aligning data'!AM133","v":"J9"},{"$f":"'aligning data'!AM134","v":"K9"},{"$f":"'aligning data'!AM135","v":"L9"},{"$error":"#DIV/0!"},0,null,{"$f":"'aligning data'!AP133","v":"J9"},{"$f":"'aligning data'!AP134","v":"K9"},{"$f":"'aligning data'!AP135","v":"L9"},{"$error":"#DIV/0!"},0,null,{"$f":"'aligning data'!AS133","v":"J9"},{"$f":"'aligning data'!AS134","v":"K9"},{"$f":"'aligning data'!AS135","v":"L9"},{"$error":"#DIV/0!"},0,null,{"$f":"'aligning data'!AV133","v":"J9"},{"$f":"'aligning data'!AV134","v":"K9"},{"$f":"'aligning data'!AV135","v":"L9"},{"$error":"#DIV/0!"},0]
["Pig IgG",null,{"$f":"'aligning data'!C136","v":"M9"},{"$f":"'aligning data'!C137","v":"N9"},{"$f":"'aligning data'!C138","v":"O9"},{"$error":"#DIV/0!"},0,null,{"$f":"'aligning data'!F136","v":"M9"},{"$f":"'aligning data'!F137","v":"N9"},{"$f":"'aligning data'!F138","v":"O9"},{"$error":"#DIV/0!"},0,null,{"$f":"'aligning data'!I136","v":"M9"},{"$f":"'aligning data'!I137","v":"N9"},{"$f":"'aligning data'!I138","v":"O9"},{"$error":"#DIV/0!"},0,null,{"$f":"'aligning data'!L136","v":"M9"},{"$f":"'aligning data'!L137","v":"N9"},{"$f":"'aligning data'!L138","v":"O9"},{"$error":"#DIV/0!"},0,null,{"$f":"'aligning data'!O136","v":"M9"},{"$f":"'aligning data'!O137","v":"N9"},{"$f":"'aligning data'!O138","v":"O9"},{"$error":"#DIV/0!"},0,null,{"$f":"'aligning data'!R136","v":"M9"},{"$f":"'aligning data'!R137","v":"N9"},{"$f":"'aligning data'!R138","v":"O9"},{"$error":"#DIV/0!"},0,null,{"$f":"'aligning data'!U136","v":"M9"},{"$f":"'aligning data'!U137","v":"N9"},{"$f":"'aligning data'!U138","v":"O9"},{"$error":"#DIV/0!"},0,null,{"$f":"'aligning data'!X136","v":"M9"},{"$f":"'aligning data'!X137","v":"N9"},{"$f":"'aligning data'!X138","v":"O9"},{"$error":"#DIV/0!"},0,null,{"$f":"'aligning data'!AA136","v":"M9"},{"$f":"'aligning data'!AA137","v":"N9"},{"$f":"'aligning data'!AA138","v":"O9"},{"$error":"#DIV/0!"},0,null,{"$f":"'aligning data'!AD136","v":"M9"},{"$f":"'aligning data'!AD137","v":"N9"},{"$f":"'aligning data'!AD138","v":"O9"},{"$error":"#DIV/0!"},0,null,{"$f":"'aligning data'!AG136","v":"M9"},{"$f":"'aligning data'!AG137","v":"N9"},{"$f":"'aligning data'!AG138","v":"O9"},{"$error":"#DIV/0!"},0,null,{"$f":"'aligning data'!AJ136","v":"M9"},{"$f":"'aligning data'!AJ137","v":"N9"},{"$f":"'aligning data'!AJ138","v":"O9"},{"$error":"#DIV/0!"},0,null,{"$f":"'aligning data'!AM136","v":"M9"},{"$f":"'aligning data'!AM137","v":"N9"},{"$f":"'aligning data'!AM138","v":"O9"},{"$error":"#DIV/0!"},0,null,{"$f":"'aligning data'!AP136","v":"M9"},{"$f":"'aligning data'!AP137","v":"N9"},{"$f":"'aligning data'!AP138","v":"O9"},{"$error":"#DIV/0!"},0,null,{"$f":"'aligning data'!AS136","v":"M9"},{"$f":"'aligning data'!AS137","v":"N9"},{"$f":"'aligning data'!AS138","v":"O9"},{"$error":"#DIV/0!"},0,null,{"$f":"'aligning data'!AV136","v":"M9"},{"$f":"'aligning data'!AV137","v":"N9"},{"$f":"'aligning data'!AV138","v":"O9"},{"$error":"#DIV/0!"},0]
["P8",null,{"$f":"'aligning data'!C139","v":"A10"},{"$f":"'aligning data'!C140","v":"B10"},{"$f":"'aligning data'!C141","v":"C10"},{"$error":"#DIV/0!"},0,null,{"$f":"'aligning data'!F139","v":"A10"},{"$f":"'aligning data'!F140","v":"B10"},{"$f":"'aligning data'!F141","v":"C10"},{"$error":"#DIV/0!"},0,null,{"$f":"'aligning data'!I139","v":"A10"},{"$f":"'aligning data'!I140","v":"B10"},{"$f":"'aligning data'!I141","v":"C10"},{"$error":"#DIV/0!"},0,null,{"$f":"'aligning data'!L139","v":"A10"},{"$f":"'aligning data'!L140","v":"B10"},{"$f":"'aligning data'!L141","v":"C10"},{"$error":"#DIV/0!"},0,null,{"$f":"'aligning data'!O139","v":"A10"},{"$f":"'aligning data'!O140","v":"B10"},{"$f":"'aligning data'!O141","v":"C10"},{"$error":"#DIV/0!"},0,null,{"$f":"'aligning data'!R139","v":"A10"},{"$f":"'aligning data'!R140","v":"B10"},{"$f":"'aligning data'!R141","v":"C10"},{"$error":"#DIV/0!"},0,null,{"$f":"'aligning data'!U139","v":"A10"},{"$f":"'aligning data'!U140","v":"B10"},{"$f":"'aligning data'!U141","v":"C10"},{"$error":"#DIV/0!"},0,null,{"$f":"'aligning data'!X139","v":"A10"},{"$f":"'aligning data'!X140","v":"B10"},{"$f":"'aligning data'!X141","v":"C10"},{"$error":"#DIV/0!"},0,null,{"$f":"'aligning data'!AA139","v":"A10"},{"$f":"'aligning data'!AA140","v":"B10"},{"$f":"'aligning data'!AA141","v":"C10"},{"$error":"#DIV/0!"},0,null,{"$f":"'aligning data'!AD139","v":"A10"},{"$f":"'aligning data'!AD140","v":"B10"},{"$f":"'aligning data'!AD141","v":"C10"},{"$error":"#DIV/0!"},0,null,{"$f":"'aligning data'!AG139","v":"A10"},{"$f":"'aligning data'!AG140","v":"B10"},{"$f":"'aligning data'!AG141","v":"C10"},{"$error":"#DIV/0!"},0,null,{"$f":"'aligning data'!AJ139","v":"A10"},{"$f":"'aligning data'!AJ140","v":"B10"},{"$f":"'aligning data'!AJ141","v":"C10"},{"$error":"#DIV/0!"},0,null,{"$f":"'aligning data'!AM139","v":"A10"},{"$f":"'aligning data'!AM140","v":"B10"},{"$f":"'aligning data'!AM141","v":"C10"},{"$error":"#DIV/0!"},0,null,{"$f":"'aligning data'!AP139","v":"A10"},{"$f":"'aligning data'!AP140","v":"B10"},{"$f":"'aligning data'!AP141","v":"C10"},{"$error":"#DIV/0!"},0,null,{"$f":"'aligning data'!AS139","v":"A10"},{"$f":"'aligning data'!AS140","v":"B10"},{"$f":"'aligning data'!AS141","v":"C10"},{"$error":"#DIV/0!"},0,null,{"$f":"'aligning data'!AV139","v":"A10"},{"$f":"'aligning data'!AV140","v":"B10"},{"$f":"'aligning data'!AV141","v":"C10"},{"$error":"#DIV/0!"},0]
["P20",null,{"$f":"'aligning data'!C142","v":"D10"},{"$f":"'aligning data'!C143","v":"E10"},{"$f":"'aligning data'!C144","v":"F10"},{"$error":"#DIV/0!"},0,null,{"$f":"'aligning data'!F142","v":"D10"},{"$f":"'aligning data'!F143","v":"E10"},{"$f":"'aligning data'!F144","v":"F10"},{"$error":"#DIV/0!"},0,null,{"$f":"'aligning data'!I142","v":"D10"},{"$f":"'aligning data'!I143","v":"E10"},{"$f":"'aligning data'!I144","v":"F10"},{"$error":"#DIV/0!"},0,null,{"$f":"'aligning data'!L142","v":"D10"},{"$f":"'aligning data'!L143","v":"E10"},{"$f":"'aligning data'!L144","v":"F10"},{"$error":"#DIV/0!"},0,null,{"$f":"'aligning data'!O142","v":"D10"},{"$f":"'aligning data'!O143","v":"E10"},{"$f":"'aligning data'!O144","v":"F10"},{"$error":"#DIV/0!"},0,null,{"$f":"'aligning data'!R142","v":"D10"},{"$f":"'aligning data'!R143","v":"E10"},{"$f":"'aligning data'!R144","v":"F10"},{"$error":"#DIV/0!"},0,null,{"$f":"'aligning data'!U142","v":"D10"},{"$f":"'aligning data'!U143","v":"E10"},{"$f":"'aligning data'!U144","v":"F10"},{"$error":"#DIV/0!"},0,null,{"$f":"'aligning data'!X142","v":"D10"},{"$f":"'aligning data'!X143","v":"E10"},{"$f":"'aligning data'!X144","v":"F10"},{"$error":"#DIV/0!"},0,null,{"$f":"'aligning data'!AA142","v":"D10"},{"$f":"'aligning data'!AA143","v":"E10"},{"$f":"'aligning data'!AA144","v":"F10"},{"$error":"#DIV/0!"},0,null,{"$f":"'aligning data'!AD142","v":"D10"},{"$f":"'aligning data'!AD143","v":"E10"},{"$f":"'aligning data'!AD144","v":"F10"},{"$error":"#DIV/0!"},0,null,{"$f":"'aligning data'!AG142","v":"D10"},{"$f":"'aligning data'!AG143","v":"E10"},{"$f":"'aligning data'!AG144","v":"F10"},{"$error":"#DIV/0!"},0,null,{"$f":"'aligning data'!AJ142","v":"D10"},{"$f":"'aligning data'!AJ143","v":"E10"},{"$f":"'aligning data'!AJ144","v":"F10"},{"$error":"#DIV/0!"},0,null,{"$f":"'aligning data'!AM142","v":"D10"},{"$f":"'aligning data'!AM143","v":"E10"},{"$f":"'aligning data'!AM144","v":"F10"},{"$error":"#DIV/0!"},0,null,{"$f":"'aligning data'!AP142","v":"D10"},{"$f":"'aligning data'!AP143","v":"E10"},{"$f":"'aligning data'!AP144","v":"F10"},{"$error":"#DIV/0!"},0,null,{"$f":"'aligning data'!AS142","v":"D10"},{"$f":"'aligning data'!AS143","v":"E10"},{"$f":"'aligning data'!AS144","v":"F10"},{"$error":"#DIV/0!"},0,null,{"$f":"'aligning data'!AV142","v":"D10"},{"$f":"'aligning data'!AV143","v":"E10"},{"$f":"'aligning data'!AV144","v":"F10"},{"$error":"#DIV/0!"},0]
["P30",null,{"$f":"'aligning data'!C145","v":"G10"},{"$f":"'aligning data'!C146","v":"H10"},{"$f":"'aligning data'!C147","v":"I10"},{"$error":"#DIV/0!"},0,null,{"$f":"'aligning data'!F145","v":"G10"},{"$f":"'aligning data'!F146","v":"H10"},{"$f":"'aligning data'!F147","v":"I10"},{"$error":"#DIV/0!"},0,null,{"$f":"'aligning data'!I145","v":"G10"},{"$f":"'aligning data'!I146","v":"H10"},{"$f":"'aligning data'!I147","v":"I10"},{"$error":"#DIV/0!"},0,null,{"$f":"'aligning data'!L145","v":"G10"},{"$f":"'aligning data'!L146","v":"H10"},{"$f":"'aligning data'!L147","v":"I10"},{"$error":"#DIV/0!"},0,null,{"$f":"'aligning data'!O145","v":"G10"},{"$f":"'aligning data'!O146","v":"H10"},{"$f":"'aligning data'!O147","v":"I10"},{"$error":"#DIV/0!"},0,null,{"$f":"'aligning data'!R145","v":"G10"},{"$f":"'aligning data'!R146","v":"H10"},{"$f":"'aligning data'!R147","v":"I10"},{"$error":"#DIV/0!"},0,null,{"$f":"'aligning data'!U145","v":"G10"},{"$f":"'aligning data'!U146","v":"H10"},{"$f":"'aligning data'!U147","v":"I10"},{"$error":"#DIV/0!"},0,null,{"$f":"'aligning data'!X145","v":"G10"},{"$f":"'aligning data'!X146","v":"H10"},{"$f":"'aligning data'!X147","v":"I10"},{"$error":"#DIV/0!"},0,null,{"$f":"'aligning data'!AA145","v":"G10"},{"$f":"'aligning data'!AA146","v":"H10"},{"$f":"'aligning data'!AA147","v":"I10"},{"$error":"#DIV/0!"},0,null,{"$f":"'aligning data'!AD145","v":"G10"},{"$f":"'aligning data'!AD146","v":"H10"},{"$f":"'aligning data'!AD147","v":"I10"},{"$error":"#DIV/0!"},0,null,{"$f":"'aligning data'!AG145","v":"G10"},{"$f":"'aligning data'!AG146","v":"H10"},{"$f":"'aligning data'!AG147","v":"I10"},{"$error":"#DIV/0!"},0,null,{"$f":"'aligning data'!AJ145","v":"G10"},{"$f":"'aligning data'!AJ146","v":"H10"},{"$f":"'aligning data'!AJ147","v":"I10"},{"$error":"#DIV/0!"},0,null,{"$f":"'aligning data'!AM145","v":"G10"},{"$f":"'aligning data'!AM146","v":"H10"},{"$f":"'aligning data'!AM147","v":"I10"},{"$error":"#DIV/0!"},0,null,{"$f":"'aligning data'!AP145","v":"G10"},{"$f":"'aligning data'!AP146","v":"H10"},{"$f":"'aligning data'!AP147","v":"I10"},{"$error":"#DIV/0!"},0,null,{"$f":"'aligning data'!AS145","v":"G10"},{"$f":"'aligning data'!AS146","v":"H10"},{"$f":"'aligning data'!AS147","v":"I10"},{"$error":"#DIV/0!"},0,null,{"$f":"'aligning data'!AV145","v":"G10"},{"$f":"'aligning data'!AV146","v":"H10"},{"$f":"'aligning data'!AV147","v":"I10"},{"$error":"#DIV/0!"},0]
["P42",null,{"$f":"'aligning data'!C148","v":"J10"},{"$f":"'aligning data'!C149","v":"K10"},{"$f":"'aligning data'!C150","v":"L10"},{"$error":"#DIV/0!"},0,null,{"$f":"'aligning data'!F148","v":"J10"},{"$f":"'aligning data'!F149","v":"K10"},{"$f":"'aligning data'!F150","v":"L10"},{"$error":"#DIV/0!"},0,null,{"$f":"'aligning data'!I148","v":"J10"},{"$f":"'aligning data'!I149","v":"K10"},{"$f":"'aligning data'!I150","v":"L10"},{"$error":"#DIV/0!"},0,null,{"$f":"'aligning data'!L148","v":"J10"},{"$f":"'aligning data'!L149","v":"K10"},{"$f":"'aligning data'!L150","v":"L10"},{"$error":"#DIV/0!"},0,null,{"$f":"'aligning data'!O148","v":"J10"},{"$f":"'aligning data'!O149","v":"K10"},{"$f":"'aligning data'!O150","v":"L10"},{"$error":"#DIV/0!"},0,null,{"$f":"'aligning data'!R148","v":"J10"},{"$f":"'aligning data'!R149","v":"K10"},{"$f":"'aligning data'!R150","v":"L10"},{"$error":"#DIV/0!"},0,null,{"$f":"'aligning data'!U148","v":"J10"},{"$f":"'aligning data'!U149","v":"K10"},{"$f":"'aligning data'!U150","v":"L10"},{"$error":"#DIV/0!"},0,null,{"$f":"'aligning data'!X148","v":"J10"},{"$f":"'aligning data'!X149","v":"K10"},{"$f":"'aligning data'!X150","v":"L10"},{"$error":"#DIV/0!"},0,null,{"$f":"'aligning data'!AA148","v":"J10"},{"$f":"'aligning data'!AA149","v":"K10"},{"$f":"'aligning data'!AA150","v":"L10"},{"$error":"#DIV/0!"},0,null,{"$f":"'aligning data'!AD148","v":"J10"},{"$f":"'aligning data'!AD149","v":"K10"},{"$f":"'aligning data'!AD150","v":"L10"},{"$error":"#DIV/0!"},0,null,{"$f":"'aligning data'!AG148","v":"J10"},{"$f":"'aligning data'!AG149","v":"K10"},{"$f":"'aligning data'!AG150","v":"L10"},{"$error":"#DIV/0!"},0,null,{"$f":"'aligning data'!AJ148","v":"J10"},{"$f":"'aligning data'!AJ149","v":"K10"},{"$f":"'aligning data'!AJ150","v":"L10"},{"$error":"#DIV/0!"},0,null,{"$f":"'aligning data'!AM148","v":"J10"},{"$f":"'aligning data'!AM149","v":"K10"},{"$f":"'aligning data'!AM150","v":"L10"},{"$error":"#DIV/0!"},0,null,{"$f":"'aligning data'!AP148","v":"J10"},{"$f":"'aligning data'!AP149","v":"K10"},{"$f":"'aligning data'!AP150","v":"L10"},{"$error":"#DIV/0!"},0,null,{"$f":"'aligning data'!AS148","v":"J10"},{"$f":"'aligning data'!AS149","v":"K10"},{"$f":"'aligning data'!AS150","v":"L10"},{"$error":"#DIV/0!"},0,null,{"$f":"'aligning data'!AV148","v":"J10"},{"$f":"'aligning data'!AV149","v":"K10"},{"$f":"'aligning data'!AV150","v":"L10"},{"$error":"#DIV/0!"},0]
["Pig IgA",null,{"$f":"'aligning data'!C151","v":"M10"},{"$f":"'aligning data'!C152","v":"N10"},{"$f":"'aligning data'!C153","v":"O10"},{"$error":"#DIV/0!"},0,null,{"$f":"'aligning data'!F151","v":"M10"},{"$f":"'aligning data'!F152","v":"N10"},{"$f":"'aligning data'!F153","v":"O10"},{"$error":"#DIV/0!"},0,null,{"$f":"'aligning data'!I151","v":"M10"},{"$f":"'aligning data'!I152","v":"N10"},{"$f":"'aligning data'!I153","v":"O10"},{"$error":"#DIV/0!"},0,null,{"$f":"'aligning data'!L151","v":"M10"},{"$f":"'aligning data'!L152","v":"N10"},{"$f":"'aligning data'!L153","v":"O10"},{"$error":"#DIV/0!"},0,null,{"$f":"'aligning data'!O151","v":"M10"},{"$f":"'aligning data'!O152","v":"N10"},{"$f":"'aligning data'!O153","v":"O10"},{"$error":"#DIV/0!"},0,null,{"$f":"'aligning data'!R151","v":"M10"},{"$f":"'aligning data'!R152","v":"N10"},{"$f":"'aligning data'!R153","v":"O10"},{"$error":"#DIV/0!"},0,null,{"$f":"'aligning data'!U151","v":"M10"},{"$f":"'aligning data'!U152","v":"N10"},{"$f":"'aligning data'!U153","v":"O10"},{"$error":"#DIV/0!"},0,null,{"$f":"'aligning data'!X151","v":"M10"},{"$f":"'aligning data'!X152","v":"N10"},{"$f":"'aligning data'!X153","v":"O10"},{"$error":"#DIV/0!"},0,null,{"$f":"'aligning data'!AA151","v":"M10"},{"$f":"'aligning data'!AA152","v":"N10"},{"$f":"'aligning data'!AA153","v":"O10"},{"$error":"#DIV/0!"},0,null,{"$f":"'aligning data'!AD151","v":"M10"},{"$f":"'aligning data'!AD152","v":"N10"},{"$f":"'aligning data'!AD153","v":"O10"},{"$error":"#DIV/0!"},0,null,{"$f":"'aligning data'!AG151","v":"M10"},{"$f":"'aligning data'!AG152","v":"N10"},{"$f":"'aligning data'!AG153","v":"O10"},{"$error":"#DIV/0!"},0,null,{"$f":"'aligning data'!AJ151","v":"M10"},{"$f":"'aligning data'!AJ152","v":"N10"},{"$f":"'aligning data'!AJ153","v":"O10"},{"$error":"#DIV/0!"},0,null,{"$f":"'aligning data'!AM151","v":"M10"},{"$f":"'aligning data'!AM152","v":"N10"},{"$f":"'aligning data'!AM153","v":"O10"},{"$error":"#DIV/0!"},0,null,{"$f":"'aligning data'!AP151","v":"M10"},{"$f":"'aligning data'!AP152","v":"N10"},{"$f":"'aligning data'!AP153","v":"O10"},{"$error":"#DIV/0!"},0,null,{"$f":"'aligning data'!AS151","v":"M10"},{"$f":"'aligning data'!AS152","v":"N10"},{"$f":"'aligning data'!AS153","v":"O10"},{"$error":"#DIV/0!"},0,null,{"$f":"'aligning data'!AV151","v":"M10"},{"$f":"'aligning data'!AV152","v":"N10"},{"$f":"'aligning data'!AV153","v":"O10"},{"$error":"#DIV/0!"},0]
["P9",null,{"$f":"'aligning data'!C154","v":"A11"},{"$f":"'aligning data'!C155","v":"B11"},{"$f":"'aligning data'!C156","v":"C11"},{"$error":"#DIV/0!"},0,null,{"$f":"'aligning data'!F154","v":"A11"},{"$f":"'aligning data'!F155","v":"B11"},{"$f":"'aligning data'!F156","v":"C11"},{"$error":"#DIV/0!"},0,null,{"$f":"'aligning data'!I154","v":"A11"},{"$f":"'aligning data'!I155","v":"B11"},{"$f":"'aligning data'!I156","v":"C11"},{"$error":"#DIV/0!"},0,null,{"$f":"'aligning data'!L154","v":"A11"},{"$f":"'aligning data'!L155","v":"B11"},{"$f":"'aligning data'!L156","v":"C11"},{"$error":"#DIV/0!"},0,null,{"$f":"'aligning data'!O154","v":"A11"},{"$f":"'aligning data'!O155","v":"B11"},{"$f":"'aligning data'!O156","v":"C11"},{"$error":"#DIV/0!"},0,null,{"$f":"'aligning data'!R154","v":"A11"},{"$f":"'aligning data'!R155","v":"B11"},{"$f":"'aligning data'!R156","v":"C11"},{"$error":"#DIV/0!"},0,null,{"$f":"'aligning data'!U154","v":"A11"},{"$f":"'aligning data'!U155","v":"B11"},{"$f":"'aligning data'!U156","v":"C11"},{"$error":"#DIV/0!"},0,null,{"$f":"'aligning data'!X154","v":"A11"},{"$f":"'aligning data'!X155","v":"B11"},{"$f":"'aligning data'!X156","v":"C11"},{"$error":"#DIV/0!"},0,null,{"$f":"'aligning data'!AA154","v":"A11"},{"$f":"'aligning data'!AA155","v":"B11"},{"$f":"'aligning data'!AA156","v":"C11"},{"$error":"#DIV/0!"},0,null,{"$f":"'aligning data'!AD154","v":"A11"},{"$f":"'aligning data'!AD155","v":"B11"},{"$f":"'aligning data'!AD156","v":"C11"},{"$error":"#DIV/0!"},0,null,{"$f":"'aligning data'!AG154","v":"A11"},{"$f":"'aligning data'!AG155","v":"B11"},{"$f":"'aligning data'!AG156","v":"C11"},{"$error":"#DIV/0!"},0,null,{"$f":"'aligning data'!AJ154","v":"A11"},{"$f":"'aligning data'!AJ155","v":"B11"},{"$f":"'aligning data'!AJ156","v":"C11"},{"$error":"#DIV/0!"},0,null,{"$f":"'aligning data'!AM154","v":"A11"},{"$f":"'aligning data'!AM155","v":"B11"},{"$f":"'aligning data'!AM156","v":"C11"},{"$error":"#DIV/0!"},0,null,{"$f":"'aligning data'!AP154","v":"A11"},{"$f":"'aligning data'!AP155","v":"B11"},{"$f":"'aligning data'!AP156","v":"C11"},{"$error":"#DIV/0!"},0,null,{"$f":"'aligning data'!AS154","v":"A11"},{"$f":"'aligning data'!AS155","v":"B11"},{"$f":"'aligning data'!AS156","v":"C11"},{"$error":"#DIV/0!"},0,null,{"$f":"'aligning data'!AV154","v":"A11"},{"$f":"'aligning data'!AV155","v":"B11"},{"$f":"'aligning data'!AV156","v":"C11"},{"$error":"#DIV/0!"},0]
["P21",null,{"$f":"'aligning data'!C157","v":"D11"},{"$f":"'aligning data'!C158","v":"E11"},{"$f":"'aligning data'!C159","v":"F11"},{"$error":"#DIV/0!"},0,null,{"$f":"'aligning data'!F157","v":"D11"},{"$f":"'aligning data'!F158","v":"E11"},{"$f":"'aligning data'!F159","v":"F11"},{"$error":"#DIV/0!"},0,null,{"$f":"'aligning data'!I157","v":"D11"},{"$f":"'aligning data'!I158","v":"E11"},{"$f":"'aligning data'!I159","v":"F11"},{"$error":"#DIV/0!"},0,null,{"$f":"'aligning data'!L157","v":"D11"},{"$f":"'aligning data'!L158","v":"E11"},{"$f":"'aligning data'!L159","v":"F11"},{"$error":"#DIV/0!"},0,null,{"$f":"'aligning data'!O157","v":"D11"},{"$f":"'aligning data'!O158","v":"E11"},{"$f":"'aligning data'!O159","v":"F11"},{"$error":"#DIV/0!"},0,null,{"$f":"'aligning data'!R157","v":"D11"},{"$f":"'aligning data'!R158","v":"E11"},{"$f":"'aligning data'!R159","v":"F11"},{"$error":"#DIV/0!"},0,null,{"$f":"'aligning data'!U157","v":"D11"},{"$f":"'aligning data'!U158","v":"E11"},{"$f":"'aligning data'!U159","v":"F11"},{"$error":"#DIV/0!"},0,null,{"$f":"'aligning data'!X157","v":"D11"},{"$f":"'aligning data'!X158","v":"E11"},{"$f":"'aligning data'!X159","v":"F11"},{"$error":"#DIV/0!"},0,null,{"$f":"'aligning data'!AA157","v":"D11"},{"$f":"'aligning data'!AA158","v":"E11"},{"$f":"'aligning data'!AA159","v":"F11"},{"$error":"#DIV/0!"},0,null,{"$f":"'aligning data'!AD157","v":"D11"},{"$f":"'aligning data'!AD158","v":"E11"},{"$f":"'aligning data'!AD159","v":"F11"},{"$error":"#DIV/0!"},0,null,{"$f":"'aligning data'!AG157","v":"D11"},{"$f":"'aligning data'!AG158","v":"E11"},{"$f":"'aligning data'!AG159","v":"F11"},{"$error":"#DIV/0!"},0,null,{"$f":"'aligning data'!AJ157","v":"D11"},{"$f":"'aligning data'!AJ158","v":"E11"},{"$f":"'aligning data'!AJ159","v":"F11"},{"$error":"#DIV/0!"},0,null,{"$f":"'aligning data'!AM157","v":"D11"},{"$f":"'aligning data'!AM158","v":"E11"},{"$f":"'aligning data'!AM159","v":"F11"},{"$error":"#DIV/0!"},0,null,{"$f":"'aligning data'!AP157","v":"D11"},{"$f":"'aligning data'!AP158","v":"E11"},{"$f":"'aligning data'!AP159","v":"F11"},{"$error":"#DIV/0!"},0,null,{"$f":"'aligning data'!AS157","v":"D11"},{"$f":"'aligning data'!AS158","v":"E11"},{"$f":"'aligning data'!AS159","v":"F11"},{"$error":"#DIV/0!"},0,null,{"$f":"'aligning data'!AV157","v":"D11"},{"$f":"'aligning data'!AV158","v":"E11"},{"$f":"'aligning data'!AV159","v":"F11"},{"$error":"#DIV/0!"},0]
["P31",null,{"$f":"'aligning data'!C160","v":"G11"},{"$f":"'aligning data'!C161","v":"H11"},{"$f":"'aligning data'!C162","v":"I11"},{"$error":"#DIV/0!"},0,null,{"$f":"'aligning data'!F160","v":"G11"},{"$f":"'aligning data'!F161","v":"H11"},{"$f":"'aligning data'!F162","v":"I11"},{"$error":"#DIV/0!"},0,null,{"$f":"'aligning data'!I160","v":"G11"},{"$f":"'aligning data'!I161","v":"H11"},{"$f":"'aligning data'!I162","v":"I11"},{"$error":"#DIV/0!"},0,null,{"$f":"'aligning data'!L160","v":"G11"},{"$f":"'aligning data'!L161","v":"H11"},{"$f":"'aligning data'!L162","v":"I11"},{"$error":"#DIV/0!"},0,null,{"$f":"'aligning data'!O160","v":"G11"},{"$f":"'aligning data'!O161","v":"H11"},{"$f":"'aligning data'!O162","v":"I11"},{"$error":"#DIV/0!"},0,null,{"$f":"'aligning data'!R160","v":"G11"},{"$f":"'aligning data'!R161","v":"H11"},{"$f":"'aligning data'!R162","v":"I11"},{"$error":"#DIV/0!"},0,null,{"$f":"'aligning data'!U160","v":"G11"},{"$f":"'aligning data'!U161","v":"H11"},{"$f":"'aligning data'!U162","v":"I11"},{"$error":"#DIV/0!"},0,null,{"$f":"'aligning data'!X160","v":"G11"},{"$f":"'aligning data'!X161","v":"H11"},{"$f":"'aligning data'!X162","v":"I11"},{"$error":"#DIV/0!"},0,null,{"$f":"'aligning data'!AA160","v":"G11"},{"$f":"'aligning data'!AA161","v":"H11"},{"$f":"'aligning data'!AA162","v":"I11"},{"$error":"#DIV/0!"},0,null,{"$f":"'aligning data'!AD160","v":"G11"},{"$f":"'aligning data'!AD161","v":"H11"},{"$f":"'aligning data'!AD162","v":"I11"},{"$error":"#DIV/0!"},0,null,{"$f":"'aligning data'!AG160","v":"G11"},{"$f":"'aligning data'!AG161","v":"H11"},{"$f":"'aligning data'!AG162","v":"I11"},{"$error":"#DIV/0!"},0,null,{"$f":"'aligning data'!AJ160","v":"G11"},{"$f":"'aligning data'!AJ161","v":"H11"},{"$f":"'aligning data'!AJ162","v":"I11"},{"$error":"#DIV/0!"},0,null,{"$f":"'aligning data'!AM160","v":"G11"},{"$f":"'aligning data'!AM161","v":"H11"},{"$f":"'aligning data'!AM162","v":"I11"},{"$error":"#DIV/0!"},0,null,{"$f":"'aligning data'!AP160","v":"G11"},{"$f":"'aligning data'!AP161","v":"H11"},{"$f":"'aligning data'!AP162","v":"I11"},{"$error":"#DIV/0!"},0,null,{"$f":"'aligning data'!AS160","v":"G11"},{"$f":"'aligning data'!AS161","v":"H11"},{"$f":"'aligning data'!AS162","v":"I11"},{"$error":"#DIV/0!"},0,null,{"$f":"'aligning data'!AV160","v":"G11"},{"$f":"'aligning data'!AV161","v":"H11"},{"$f":"'aligning data'!AV162","v":"I11"},{"$error":"#DIV/0!"},0]
["P43",null,{"$f":"'aligning data'!C163","v":"J11"},{"$f":"'aligning data'!C164","v":"K11"},{"$f":"'aligning data'!C165","v":"L11"},{"$error":"#DIV/0!"},0,null,{"$f":"'aligning data'!F163","v":"J11"},{"$f":"'aligning data'!F164","v":"K11"},{"$f":"'aligning data'!F165","v":"L11"},{"$error":"#DIV/0!"},0,null,{"$f":"'aligning data'!I163","v":"J11"},{"$f":"'aligning data'!I164","v":"K11"},{"$f":"'aligning data'!I165","v":"L11"},{"$error":"#DIV/0!"},0,null,{"$f":"'aligning data'!L163","v":"J11"},{"$f":"'aligning data'!L164","v":"K11"},{"$f":"'aligning data'!L165","v":"L11"},{"$error":"#DIV/0!"},0,null,{"$f":"'aligning data'!O163","v":"J11"},{"$f":"'aligning data'!O164","v":"K11"},{"$f":"'aligning data'!O165","v":"L11"},{"$error":"#DIV/0!"},0,null,{"$f":"'aligning data'!R163","v":"J11"},{"$f":"'aligning data'!R164","v":"K11"},{"$f":"'aligning data'!R165","v":"L11"},{"$error":"#DIV/0!"},0,null,{"$f":"'aligning data'!U163","v":"J11"},{"$f":"'aligning data'!U164","v":"K11"},{"$f":"'aligning data'!U165","v":"L11"},{"$error":"#DIV/0!"},0,null,{"$f":"'aligning data'!X163","v":"J11"},{"$f":"'aligning data'!X164","v":"K11"},{"$f":"'aligning data'!X165","v":"L11"},{"$error":"#DIV/0!"},0,null,{"$f":"'aligning data'!AA163","v":"J11"},{"$f":"'aligning data'!AA164","v":"K11"},{"$f":"'aligning data'!AA165","v":"L11"},{"$error":"#DIV/0!"},0,null,{"$f":"'aligning data'!AD163","v":"J11"},{"$f":"'aligning data'!AD164","v":"K11"},{"$f":"'aligning data'!AD165","v":"L11"},{"$error":"#DIV/0!"},0,null,{"$f":"'aligning data'!AG163","v":"J11"},{"$f":"'aligning data'!AG164","v":"K11"},{"$f":"'aligning data'!AG165","v":"L11"},{"$error":"#DIV/0!"},0,null,{"$f":"'aligning data'!AJ163","v":"J11"},{"$f":"'aligning data'!AJ164","v":"K11"},{"$f":"'aligning data'!AJ165","v":"L11"},{"$error":"#DIV/0!"},0,null,{"$f":"'aligning data'!AM163","v":"J11"},{"$f":"'aligning data'!AM164","v":"K11"},{"$f":"'aligning data'!AM165","v":"L11"},{"$error":"#DIV/0!"},0,null,{"$f":"'aligning data'!AP163","v":"J11"},{"$f":"'aligning data'!AP164","v":"K11"},{"$f":"'aligning data'!AP165","v":"L11"},{"$error":"#DIV/0!"},0,null,{"$f":"'aligning data'!AS163","v":"J11"},{"$f":"'aligning data'!AS164","v":"K11"},{"$f":"'aligning data'!AS165","v":"L11"},{"$error":"#DIV/0!"},0,null,{"$f":"'aligning data'!AV163","v":"J11"},{"$f":"'aligning data'!AV164","v":"K11"},{"$f":"'aligning data'!AV165","v":"L11"},{"$error":"#DIV/0!"},0]
["P10",null,{"$f":"'aligning data'!C169","v":"A12"},{"$f":"'aligning data'!C170","v":"B12"},{"$f":"'aligning data'!C171","v":"C12"},{"$error":"#DIV/0!"},0,null,{"$f":"'aligning data'!F169","v":"A12"},{"$f":"'aligning data'!F170","v":"B12"},{"$f":"'aligning data'!F171","v":"C12"},{"$error":"#DIV/0!"},0,null,{"$f":"'aligning data'!I169","v":"A12"},{"$f":"'aligning data'!I170","v":"B12"},{"$f":"'aligning data'!I171","v":"C12"},{"$error":"#DIV/0!"},0,null,{"$f":"'aligning data'!L169","v":"A12"},{"$f":"'aligning data'!L170","v":"B12"},{"$f":"'aligning data'!L171","v":"C12"},{"$error":"#DIV/0!"},0,null,{"$f":"'aligning data'!O169","v":"A12"},{"$f":"'aligning data'!O170","v":"B12"},{"$f":"'aligning data'!O171","v":"C12"},{"$error":"#DIV/0!"},0,null,{"$f":"'aligning data'!R169","v":"A12"},{"$f":"'aligning data'!R170","v":"B12"},{"$f":"'aligning data'!R171","v":"C12"},{"$error":"#DIV/0!"},0,null,{"$f":"'aligning data'!U169","v":"A12"},{"$f":"'aligning data'!U170","v":"B12"},{"$f":"'aligning data'!U171","v":"C12"},{"$error":"#DIV/0!"},0,null,{"$f":"'aligning data'!X169","v":"A12"},{"$f":"'aligning data'!X170","v":"B12"},{"$f":"'aligning data'!X171","v":"C12"},{"$error":"#DIV/0!"},0,null,{"$f":"'aligning data'!AA169","v":"A12"},{"$f":"'aligning data'!AA170","v":"B12"},{"$f":"'aligning data'!AA171","v":"C12"},{"$error":"#DIV/0!"},0,null,{"$f":"'aligning data'!AD169","v":"A12"},{"$f":"'aligning data'!AD170","v":"B12"},{"$f":"'aligning data'!AD171","v":"C12"},{"$error":"#DIV/0!"},0,null,{"$f":"'aligning data'!AG169","v":"A12"},{"$f":"'aligning data'!AG170","v":"B12"},{"$f":"'aligning data'!AG171","v":"C12"},{"$error":"#DIV/0!"},0,null,{"$f":"'aligning data'!AJ169","v":"A12"},{"$f":"'aligning data'!AJ170","v":"B12"},{"$f":"'aligning data'!AJ171","v":"C12"},{"$error":"#DIV/0!"},0,null,{"$f":"'aligning data'!AM169","v":"A12"},{"$f":"'aligning data'!AM170","v":"B12"},{"$f":"'aligning data'!AM171","v":"C12"},{"$error":"#DIV/0!"},0,null,{"$f":"'aligning data'!AP169","v":"A12"},{"$f":"'aligning data'!AP170","v":"B12"},{"$f":"'aligning data'!AP171","v":"C12"},{"$error":"#DIV/0!"},0,null,{"$f":"'aligning data'!AS169","v":"A12"},{"$f":"'aligning data'!AS170","v":"B12"},{"$f":"'aligning data'!AS171","v":"C12"},{"$error":"#DIV/0!"},0,null,{"$f":"'aligning data'!AV169","v":"A12"},{"$f":"'aligning data'!AV170","v":"B12"},{"$f":"'aligning data'!AV171","v":"C12"},{"$error":"#DIV/0!"},0]
["P32",null,{"$f":"'aligning data'!C175","v":"G12"},{"$f":"'aligning data'!C176","v":"H12"},{"$f":"'aligning data'!C177","v":"I12"},{"$error":"#DIV/0!"},0,null,{"$f":"'aligning data'!F175","v":"G12"},{"$f":"'aligning data'!F176","v":"H12"},{"$f":"'aligning data'!F177","v":"I12"},{"$error":"#DIV/0!"},0,null,{"$f":"'aligning data'!I175","v":"G12"},{"$f":"'aligning data'!I176","v":"H12"},{"$f":"'aligning data'!I177","v":"I12"},{"$error":"#DIV/0!"},0,null,{"$f":"'aligning data'!L175","v":"G12"},{"$f":"'aligning data'!L176","v":"H12"},{"$f":"'aligning data'!L177","v":"I12"},{"$error":"#DIV/0!"},0,null,{"$f":"'aligning data'!O175","v":"G12"},{"$f":"'aligning data'!O176","v":"H12"},{"$f":"'aligning data'!O177","v":"I12"},{"$error":"#DIV/0!"},0,null,{"$f":"'aligning data'!R175","v":"G12"},{"$f":"'aligning data'!R176","v":"H12"},{"$f":"'aligning data'!R177","v":"I12"},{"$error":"#DIV/0!"},0,null,{"$f":"'aligning data'!U175","v":"G12"},{"$f":"'aligning data'!U176","v":"H12"},{"$f":"'aligning data'!U177","v":"I12"},{"$error":"#DIV/0!"},0,null,{"$f":"'aligning data'!X175","v":"G12"},{"$f":"'aligning data'!X176","v":"H12"},{"$f":"'aligning data'!X177","v":"I12"},{"$error":"#DIV/0!"},0,null,{"$f":"'aligning data'!AA175","v":"G12"},{"$f":"'aligning data'!AA176","v":"H12"},{"$f":"'aligning data'!AA177","v":"I12"},{"$error":"#DIV/0!"},0,null,{"$f":"'aligning data'!AD175","v":"G12"},{"$f":"'aligning data'!AD176","v":"H12"},{"$f":"'aligning data'!AD177","v":"I12"},{"$error":"#DIV/0!"},0,null,{"$f":"'aligning data'!AG175","v":"G12"},{"$f":"'aligning data'!AG176","v":"H12"},{"$f":"'aligning data'!AG177","v":"I12"},{"$error":"#DIV/0!"},0,null,{"$f":"'aligning data'!AJ175","v":"G12"},{"$f":"'aligning data'!AJ176","v":"H12"},{"$f":"'aligning data'!AJ177","v":"I12"},{"$error":"#DIV/0!"},0,null,{"$f":"'aligning data'!AM175","v":"G12"},{"$f":"'aligning data'!AM176","v":"H12"},{"$f":"'aligning data'!AM177","v":"I12"},{"$error":"#DIV/0!"},0,null,{"$f":"'aligning data'!AP175","v":"G12"},{"$f":"'aligning data'!AP176","v":"H12"},{"$f":"'aligning data'!AP177","v":"I12"},{"$error":"#DIV/0!"},0,null,{"$f":"'aligning data'!AS175","v":"G12"},{"$f":"'aligning data'!AS176","v":"H12"},{"$f":"'aligning data'!AS177","v":"I12"},{"$error":"#DIV/0!"},0,null,{"$f":"'aligning data'!AV175","v":"G12"},{"$f":"'aligning data'!AV176","v":"H12"},{"$f":"'aligning data'!AV177","v":"I12"},{"$error":"#DIV/0!"},0]
["P44",null,{"$f":"'aligning data'!C178","v":"J12"},{"$f":"'aligning data'!C179","v":"K12"},{"$f":"'aligning data'!C180","v":"L12"},{"$error":"#DIV/0!"},0,null,{"$f":"'aligning data'!F178","v":"J12"},{"$f":"'aligning data'!F179","v":"K12"},{"$f":"'aligning data'!F180","v":"L12"},{"$error":"#DIV/0!"},0,null,{"$f":"'aligning data'!I178","v":"J12"},{"$f":"'aligning data'!I179","v":"K12"},{"$f":"'aligning data'!I180","v":"L12"},{"$error":"#DIV/0!"},0,null,{"$f":"'aligning data'!L178","v":"J12"},{"$f":"'aligning data'!L179","v":"K12"},{"$f":"'aligning data'!L180","v":"L12"},{"$error":"#DIV/0!"},0,null,{"$f":"'aligning data'!O178","v":"J12"},{"$f":"'aligning data'!O179","v":"K12"},{"$f":"'aligning data'!O180","v":"L12"},{"$error":"#DIV/0!"},0,null,{"$f":"'aligning data'!R178","v":"J12"},{"$f":"'aligning data'!R179","v":"K12"},{"$f":"'aligning data'!R180","v":"L12"},{"$error":"#DIV/0!"},0,null,{"$f":"'aligning data'!U178","v":"J12"},{"$f":"'aligning data'!U179","v":"K12"},{"$f":"'aligning data'!U180","v":"L12"},{"$error":"#DIV/0!"},0,null,{"$f":"'aligning data'!X178","v":"J12"},{"$f":"'aligning data'!X179","v":"K12"},{"$f":"'aligning data'!X180","v":"L12"},{"$error":"#DIV/0!"},0,null,{"$f":"'aligning data'!AA178","v":"J12"},{"$f":"'aligning data'!AA179","v":"K12"},{"$f":"'aligning data'!AA180","v":"L12"},{"$error":"#DIV/0!"},0,null,{"$f":"'aligning data'!AD178","v":"J12"},{"$f":"'aligning data'!AD179","v":"K12"},{"$f":"'aligning data'!AD180","v":"L12"},{"$error":"#DIV/0!"},0,null,{"$f":"'aligning data'!AG178","v":"J12"},{"$f":"'aligning data'!AG179","v":"K12"},{"$f":"'aligning data'!AG180","v":"L12"},{"$error":"#DIV/0!"},0,null,{"$f":"'aligning data'!AJ178","v":"J12"},{"$f":"'aligning data'!AJ179","v":"K12"},{"$f":"'aligning data'!AJ180","v":"L12"},{"$error":"#DIV/0!"},0,null,{"$f":"'aligning data'!AM178","v":"J12"},{"$f":"'aligning data'!AM179","v":"K12"},{"$f":"'aligning data'!AM180","v":"L12"},{"$error":"#DIV/0!"},0,null,{"$f":"'aligning data'!AP178","v":"J12"},{"$f":"'aligning data'!AP179","v":"K12"},{"$f":"'aligning data'!AP180","v":"L12"},{"$error":"#DIV/0!"},0,null,{"$f":"'aligning data'!AS178","v":"J12"},{"$f":"'aligning data'!AS179","v":"K12"},{"$f":"'aligning data'!AS180","v":"L12"},{"$error":"#DIV/0!"},0,null,{"$f":"'aligning data'!AV178","v":"J12"},{"$f":"'aligning data'!AV179","v":"K12"},{"$f":"'aligning data'!AV180","v":"L12"},{"$error":"#DIV/0!"},0]
["P44",null,{"$f":"'aligning data'!C178","v":"J12"},{"$f":"'aligning data'!C179","v":"K12"},{"$f":"'aligning data'!C180","v":"L12"},{"$f":"AVERAGE(C61:E61)","v":{"$error":"#DIV/0!"}},{"$f":"STDEVA(C61:E61)","v":0},null,{"$f":"'aligning data'!F178","v":"J12"},{"$f":"'aligning data'!F179","v":"K12"},{"$f":"'aligning data'!F180","v":"L12"},{"$f":"AVERAGE(I61:K61)","v":{"$error":"#DIV/0!"}},{"$f":"STDEVA(I61:K61)","v":0},null,{"$f":"'aligning data'!I178","v":"J12"},{"$f":"'aligning data'!I179","v":"K12"},{"$f":"'aligning data'!I180","v":"L12"},{"$f":"AVERAGE(O61:Q61)","v":{"$error":"#DIV/0!"}},{"$f":"STDEVA(O61:Q61)","v":0},null,{"$f":"'aligning data'!L178","v":"J12"},{"$f":"'aligning data'!L179","v":"K12"},{"$f":"'aligning data'!L180","v":"L12"},{"$f":"AVERAGE(U61:W61)","v":{"$error":"#DIV/0!"}},{"$f":"STDEVA(U61:W61)","v":0},null,{"$f":"'aligning data'!O178","v":"J12"},{"$f":"'aligning data'!O179","v":"K12"},{"$f":"'aligning data'!O180","v":"L12"},{"$f":"AVERAGE(AA61:AC61)","v":{"$error":"#DIV/0!"}},{"$f":"STDEVA(AA61:AC61)","v":0},null,{"$f":"'aligning data'!R178","v":"J12"},{"$f":"'aligning data'!R179","v":"K12"},{"$f":"'aligning data'!R180","v":"L12"},{"$f":"AVERAGE(AG61:AI61)","v":{"$error":"#DIV/0!"}},{"$f":"STDEVA(AG61:AI61)","v":0},null,{"$f":"'aligning data'!U178","v":"J12"},{"$f":"'aligning data'!U179","v":"K12"},{"$f":"'aligning data'!U180","v":"L12"},{"$f":"AVERAGE(AM61:AO61)","v":{"$error":"#DIV/0!"}},{"$f":"STDEVA(AM61:AO61)","v":0},null,{"$f":"'aligning data'!X178","v":"J12"},{"$f":"'aligning data'!X179","v":"K12"},{"$f":"'aligning data'!X180","v":"L12"},{"$f":"AVERAGE(AS61:AU61)","v":{"$error":"#DIV/0!"}},{"$f":"STDEVA(AS61:AU61)","v":0},null,{"$f":"'aligning data'!AA178","v":"J12"},{"$f":"'aligning data'!AA179","v":"K12"},{"$f":"'aligning data'!AA180","v":"L12"},{"$f":"AVERAGE(AY61:BA61)","v":{"$error":"#DIV/0!"}},{"$f":"STDEVA(AY61:BA61)","v":0},null,{"$f":"'aligning data'!AD178","v":"J12"},{"$f":"'aligning data'!AD179","v":"K12"},{"$f":"'aligning data'!AD180","v":"L12"},{"$f":"AVERAGE(BE61:BG61)","v":{"$error":"#DIV/0!"}},{"$f":"STDEVA(BE61:BG61)","v":0},null,{"$f":"'aligning data'!AG178","v":"J12"},{"$f":"'aligning data'!AG179","v":"K12"},{"$f":"'aligning data'!AG180","v":"L12"},{"$f":"AVERAGE(BK61:BM61)","v":{"$error":"#DIV/0!"}},{"$f":"STDEVA(BK61:BM61)","v":0},null,{"$f":"'aligning data'!AJ178","v":"J12"},{"$f":"'aligning data'!AJ179","v":"K12"},{"$f":"'aligning data'!AJ180","v":"L12"},{"$f":"AVERAGE(BQ61:BS61)","v":{"$error":"#DIV/0!"}},{"$f":"STDEVA(BQ61:BS61)","v":0},null,{"$f":"'aligning data'!AM178","v":"J12"},{"$f":"'aligning data'!AM179","v":"K12"},{"$f":"'aligning data'!AM180","v":"L12"},{"$f":"AVERAGE(BW61:BY61)","v":{"$error":"#DIV/0!"}},{"$f":"STDEVA(BW61:BY61)","v":0},null,{"$f":"'aligning data'!AP178","v":"J12"},{"$f":"'aligning data'!AP179","v":"K12"},{"$f":"'aligning data'!AP180","v":"L12"},{"$f":"AVERAGE(CC61:CE61)","v":{"$error":"#DIV/0!"}},{"$f":"STDEVA(CC61:CE61)","v":0},null,{"$f":"'aligning data'!AS178","v":"J12"},{"$f":"'aligning data'!AS179","v":"K12"},{"$f":"'aligning data'!AS180","v":"L12"},{"$f":"AVERAGE(CI61:CK61)","v":{"$error":"#DIV/0!"}},{"$f":"STDEVA(CI61:CK61)","v":0},null,{"$f":"'aligning data'!AV178","v":"J12"},{"$f":"'aligning data'!AV179","v":"K12"},{"$f":"'aligning data'!AV180","v":"L12"},{"$f":"AVERAGE(CO61:CQ61)","v":{"$error":"#DIV/0!"}},{"$f":"STDEVA(CO61:CQ61)","v":0}]

{"sheet":"Averages 2","index":15,"n_rows":60,"n_cols":17,"rows_kept":60,"cut":false,"hidden":true,"merged":[[1,4,2,4]]}
[]
["RayBio® Pig Cytokine Protein Array G1 Analysis Tool - Average Without Background"]
[]
["Target",{"$f":"'Sorting 2'!C4","v":"Sample 1"},{"$f":"'Sorting 2'!I4","v":"Sample 2"},{"$f":"'Sorting 2'!O4","v":"Sample 3"},{"$f":"'Sorting 2'!U4","v":"Sample 4"},{"$f":"'Sorting 2'!AA4","v":"Sample 5"},{"$f":"'Sorting 2'!AG4","v":"Sample 6"},{"$f":"'Sorting 2'!AM4","v":"Sample 7"},{"$f":"'Sorting 2'!AS4","v":"Sample 8"},{"$f":"'Sorting 2'!AY4","v":"Sample 9"},{"$f":"'Sorting 2'!BE4","v":"Sample 10"},{"$f":"'Sorting 2'!BK4","v":"Sample 11"},{"$f":"'Sorting 2'!BQ4","v":"Sample 12"},{"$f":"'Sorting 2'!BW4","v":"Sample 13"},{"$f":"'Sorting 2'!CC4","v":"Sample 14"},{"$f":"'Sorting 2'!CI4","v":"Sample 15"},{"$f":"'Sorting 2'!CO4","v":"Sample 16"}]
[{"$f":"'Sorting 2'!A6","v":"POS"},{"$f":"'Sorting 2'!F6","v":0},{"$f":"'Sorting 2'!L6","v":0},{"$f":"'Sorting 2'!R6","v":0},{"$f":"'Sorting 2'!X6","v":0},{"$f":"'Sorting 2'!AD6","v":0},{"$f":"'Sorting 2'!AJ6","v":0},{"$f":"'Sorting 2'!AP6","v":0},{"$f":"'Sorting 2'!AV6","v":0},{"$f":"'Sorting 2'!BB6","v":0},{"$f":"'Sorting 2'!BH6","v":0},{"$f":"'Sorting 2'!BN6","v":0},{"$f":"'Sorting 2'!BT6","v":0},{"$f":"'Sorting 2'!BZ6","v":0},{"$f":"'Sorting 2'!CF6","v":0},{"$f":"'Sorting 2'!CL6","v":0},{"$f":"'Sorting 2'!CR6","v":0}]
[{"$f":"'Sorting 2'!A7","v":"NEG"},{"$f":"'Sorting 2'!F7","v":0},{"$f":"'Sorting 2'!L7","v":0},{"$f":"'Sorting 2'!R7","v":0},{"$f":"'Sorting 2'!X7","v":0},{"$f":"'Sorting 2'!AD7","v":0},{"$f":"'Sorting 2'!AJ7","v":0},{"$f":"'Sorting 2'!AP7","v":0},{"$f":"'Sorting 2'!AV7","v":0},{"$f":"'Sorting 2'!BB7","v":0},{"$f":"'Sorting 2'!BH7","v":0},{"$f":"'Sorting 2'!BN7","v":0},{"$f":"'Sorting 2'!BT7","v":0},{"$f":"'Sorting 2'!BZ7","v":0},{"$f":"'Sorting 2'!CF7","v":0},{"$f":"'Sorting 2'!CL7","v":0},{"$f":"'Sorting 2'!CR7","v":0}]
[{"$f":"'Sorting 2'!A8","v":"P11"},{"$f":"'Sorting 2'!F8","v":{"$error":"#DIV/0!"}},{"$f":"'Sorting 2'!L8","v":{"$error":"#DIV/0!"}},{"$f":"'Sorting 2'!R8","v":{"$error":"#DIV/0!"}},{"$f":"'Sorting 2'!X8","v":{"$error":"#DIV/0!"}},{"$f":"'Sorting 2'!AD8","v":{"$error":"#DIV/0!"}},{"$f":"'Sorting 2'!AJ8","v":{"$error":"#DIV/0!"}},{"$f":"'Sorting 2'!AP8","v":{"$error":"#DIV/0!"}},{"$f":"'Sorting 2'!AV8","v":{"$error":"#DIV/0!"}},{"$f":"'Sorting 2'!BB8","v":{"$error":"#DIV/0!"}},{"$f":"'Sorting 2'!BH8","v":{"$error":"#DIV/0!"}},{"$f":"'Sorting 2'!BN8","v":{"$error":"#DIV/0!"}},{"$f":"'Sorting 2'!BT8","v":{"$error":"#DIV/0!"}},{"$f":"'Sorting 2'!BZ8","v":{"$error":"#DIV/0!"}},{"$f":"'Sorting 2'!CF8","v":{"$error":"#DIV/0!"}},{"$f":"'Sorting 2'!CL8","v":{"$error":"#DIV/0!"}},{"$f":"'Sorting 2'!CR8","v":{"$error":"#DIV/0!"}}]
[{"$f":"'Sorting 2'!A9","v":"P33"},{"$f":"'Sorting 2'!F9","v":{"$error":"#DIV/0!"}},{"$f":"'Sorting 2'!L9","v":{"$error":"#DIV/0!"}},{"$f":"'Sorting 2'!R9","v":{"$error":"#DIV/0!"}},{"$f":"'Sorting 2'!X9","v":{"$error":"#DIV/0!"}},{"$f":"'Sorting 2'!AD9","v":{"$error":"#DIV/0!"}},{"$f":"'Sorting 2'!AJ9","v":{"$error":"#DIV/0!"}},{"$f":"'Sorting 2'!AP9","v":{"$error":"#DIV/0!"}},{"$f":"'Sorting 2'!AV9","v":{"$error":"#DIV/0!"}},{"$f":"'Sorting 2'!BB9","v":{"$error":"#DIV/0!"}},{"$f":"'Sorting 2'!BH9","v":{"$error":"#DIV/0!"}},{"$f":"'Sorting 2'!BN9","v":{"$error":"#DIV/0!"}},{"$f":"'Sorting 2'!BT9","v":{"$error":"#DIV/0!"}},{"$f":"'Sorting 2'!BZ9","v":{"$error":"#DIV/0!"}},{"$f":"'Sorting 2'!CF9","v":{"$error":"#DIV/0!"}},{"$f":"'Sorting 2'!CL9","v":{"$error":"#DIV/0!"}},{"$f":"'Sorting 2'!CR9","v":{"$error":"#DIV/0!"}}]
[{"$f":"'Sorting 2'!A10","v":"P45"},{"$f":"'Sorting 2'!F10","v":{"$error":"#DIV/0!"}},{"$f":"'Sorting 2'!L10","v":{"$error":"#DIV/0!"}},{"$f":"'Sorting 2'!R10","v":{"$error":"#DIV/0!"}},{"$f":"'Sorting 2'!X10","v":{"$error":"#DIV/0!"}},{"$f":"'Sorting 2'!AD10","v":{"$error":"#DIV/0!"}},{"$f":"'Sorting 2'!AJ10","v":{"$error":"#DIV/0!"}},{"$f":"'Sorting 2'!AP10","v":{"$error":"#DIV/0!"}},{"$f":"'Sorting 2'!AV10","v":{"$error":"#DIV/0!"}},{"$f":"'Sorting 2'!BB10","v":{"$error":"#DIV/0!"}},{"$f":"'Sorting 2'!BH10","v":{"$error":"#DIV/0!"}},{"$f":"'Sorting 2'!BN10","v":{"$error":"#DIV/0!"}},{"$f":"'Sorting 2'!BT10","v":{"$error":"#DIV/0!"}},{"$f":"'Sorting 2'!BZ10","v":{"$error":"#DIV/0!"}},{"$f":"'Sorting 2'!CF10","v":{"$error":"#DIV/0!"}},{"$f":"'Sorting 2'!CL10","v":{"$error":"#DIV/0!"}},{"$f":"'Sorting 2'!CR10","v":{"$error":"#DIV/0!"}}]
[{"$f":"'Sorting 2'!A11","v":"P12"},{"$f":"'Sorting 2'!F11","v":{"$error":"#DIV/0!"}},{"$f":"'Sorting 2'!L11","v":{"$error":"#DIV/0!"}},{"$f":"'Sorting 2'!R11","v":{"$error":"#DIV/0!"}},{"$f":"'Sorting 2'!X11","v":{"$error":"#DIV/0!"}},{"$f":"'Sorting 2'!AD11","v":{"$error":"#DIV/0!"}},{"$f":"'Sorting 2'!AJ11","v":{"$error":"#DIV/0!"}},{"$f":"'Sorting 2'!AP11","v":{"$error":"#DIV/0!"}},{"$f":"'Sorting 2'!AV11","v":{"$error":"#DIV/0!"}},{"$f":"'Sorting 2'!BB11","v":{"$error":"#DIV/0!"}},{"$f":"'Sorting 2'!BH11","v":{"$error":"#DIV/0!"}},{"$f":"'Sorting 2'!BN11","v":{"$error":"#DIV/0!"}},{"$f":"'Sorting 2'!BT11","v":{"$error":"#DIV/0!"}},{"$f":"'Sorting 2'!BZ11","v":{"$error":"#DIV/0!"}},{"$f":"'Sorting 2'!CF11","v":{"$error":"#DIV/0!"}},{"$f":"'Sorting 2'!CL11","v":{"$error":"#DIV/0!"}},{"$f":"'Sorting 2'!CR11","v":{"$error":"#DIV/0!"}}]
[{"$f":"'Sorting 2'!A12","v":"P22"},{"$f":"'Sorting 2'!F12","v":{"$error":"#DIV/0!"}},{"$f":"'Sorting 2'!L12","v":{"$error":"#DIV/0!"}},{"$f":"'Sorting 2'!R12","v":{"$error":"#DIV/0!"}},{"$f":"'Sorting 2'!X12","v":{"$error":"#DIV/0!"}},{"$f":"'Sorting 2'!AD12","v":{"$error":"#DIV/0!"}},{"$f":"'Sorting 2'!AJ12","v":{"$error":"#DIV/0!"}},{"$f":"'Sorting 2'!AP12","v":{"$error":"#DIV/0!"}},{"$f":"'Sorting 2'!AV12","v":{"$error":"#DIV/0!"}},{"$f":"'Sorting 2'!BB12","v":{"$error":"#DIV/0!"}},{"$f":"'Sorting 2'!BH12","v":{"$error":"#DIV/0!"}},{"$f":"'Sorting 2'!BN12","v":{"$error":"#DIV/0!"}},{"$f":"'Sorting 2'!BT12","v":{"$error":"#DIV/0!"}},{"$f":"'Sorting 2'!BZ12","v":{"$error":"#DIV/0!"}},{"$f":"'Sorting 2'!CF12","v":{"$error":"#DIV/0!"}},{"$f":"'Sorting 2'!CL12","v":{"$error":"#DIV/0!"}},{"$f":"'Sorting 2'!CR12","v":{"$error":"#DIV/0!"}}]
[{"$f":"'Sorting 2'!A13","v":"P34"},{"$f":"'Sorting 2'!F13","v":{"$error":"#DIV/0!"}},{"$f":"'Sorting 2'!L13","v":{"$error":"#DIV/0!"}},{"$f":"'Sorting 2'!R13","v":{"$error":"#DIV/0!"}},{"$f":"'Sorting 2'!X13","v":{"$error":"#DIV/0!"}},{"$f":"'Sorting 2'!AD13","v":{"$error":"#DIV/0!"}},{"$f":"'Sorting 2'!AJ13","v":{"$error":"#DIV/0!"}},{"$f":"'Sorting 2'!AP13","v":{"$error":"#DIV/0!"}},{"$f":"'Sorting 2'!AV13","v":{"$error":"#DIV/0!"}},{"$f":"'Sorting 2'!BB13","v":{"$error":"#DIV/0!"}},{"$f":"'Sorting 2'!BH13","v":{"$error":"#DIV/0!"}},{"$f":"'Sorting 2'!BN13","v":{"$error":"#DIV/0!"}},{"$f":"'Sorting 2'!BT13","v":{"$error":"#DIV/0!"}},{"$f":"'Sorting 2'!BZ13","v":{"$error":"#DIV/0!"}},{"$f":"'Sorting 2'!CF13","v":{"$error":"#DIV/0!"}},{"$f":"'Sorting 2'!CL13","v":{"$error":"#DIV/0!"}},{"$f":"'Sorting 2'!CR13","v":{"$error":"#DIV/0!"}}]
[{"$f":"'Sorting 2'!A14","v":"P46"},{"$f":"'Sorting 2'!F14","v":{"$error":"#DIV/0!"}},{"$f":"'Sorting 2'!L14","v":{"$error":"#DIV/0!"}},{"$f":"'Sorting 2'!R14","v":{"$error":"#DIV/0!"}},{"$f":"'Sorting 2'!X14","v":{"$error":"#DIV/0!"}},{"$f":"'Sorting 2'!AD14","v":{"$error":"#DIV/0!"}},{"$f":"'Sorting 2'!AJ14","v":{"$error":"#DIV/0!"}},{"$f":"'Sorting 2'!AP14","v":{"$error":"#DIV/0!"}},{"$f":"'Sorting 2'!AV14","v":{"$error":"#DIV/0!"}},{"$f":"'Sorting 2'!BB14","v":{"$error":"#DIV/0!"}},{"$f":"'Sorting 2'!BH14","v":{"$error":"#DIV/0!"}},{"$f":"'Sorting 2'!BN14","v":{"$error":"#DIV/0!"}},{"$f":"'Sorting 2'!BT14","v":{"$error":"#DIV/0!"}},{"$f":"'Sorting 2'!BZ14","v":{"$error":"#DIV/0!"}},{"$f":"'Sorting 2'!CF14","v":{"$error":"#DIV/0!"}},{"$f":"'Sorting 2'!CL14","v":{"$error":"#DIV/0!"}},{"$f":"'Sorting 2'!CR14","v":{"$error":"#DIV/0!"}}]
[{"$f":"'Sorting 2'!A15","v":"P1"},{"$f":"'Sorting 2'!F15","v":{"$error":"#DIV/0!"}},{"$f":"'Sorting 2'!L15","v":{"$error":"#DIV/0!"}},{"$f":"'Sorting 2'!R15","v":{"$error":"#DIV/0!"}},{"$f":"'Sorting 2'!X15","v":{"$error":"#DIV/0!"}},{"$f":"'Sorting 2'!AD15","v":{"$error":"#DIV/0!"}},{"$f":"'Sorting 2'!AJ15","v":{"$error":"#DIV/0!"}},{"$f":"'Sorting 2'!AP15","v":{"$error":"#DIV/0!"}},{"$f":"'Sorting 2'!AV15","v":{"$error":"#DIV/0!"}},{"$f":"'Sorting 2'!BB15","v":{"$error":"#DIV/0!"}},{"$f":"'Sorting 2'!BH15","v":{"$error":"#DIV/0!"}},{"$f":"'Sorting 2'!BN15","v":{"$error":"#DIV/0!"}},{"$f":"'Sorting 2'!BT15","v":{"$error":"#DIV/0!"}},{"$f":"'Sorting 2'!BZ15","v":{"$error":"#DIV/0!"}},{"$f":"'Sorting 2'!CF15","v":{"$error":"#DIV/0!"}},{"$f":"'Sorting 2'!CL15","v":{"$error":"#DIV/0!"}},{"$f":"'Sorting 2'!CR15","v":{"$error":"#DIV/0!"}}]
[{"$f":"'Sorting 2'!A16","v":"P13"},{"$f":"'Sorting 2'!F16","v":{"$error":"#DIV/0!"}},{"$f":"'Sorting 2'!L16","v":{"$error":"#DIV/0!"}},{"$f":"'Sorting 2'!R16","v":{"$error":"#DIV/0!"}},{"$f":"'Sorting 2'!X16","v":{"$error":"#DIV/0!"}},{"$f":"'Sorting 2'!AD16","v":{"$error":"#DIV/0!"}},{"$f":"'Sorting 2'!AJ16","v":{"$error":"#DIV/0!"}},{"$f":"'Sorting 2'!AP16","v":{"$error":"#DIV/0!"}},{"$f":"'Sorting 2'!AV16","v":{"$error":"#DIV/0!"}},{"$f":"'Sorting 2'!BB16","v":{"$error":"#DIV/0!"}},{"$f":"'Sorting 2'!BH16","v":{"$error":"#DIV/0!"}},{"$f":"'Sorting 2'!BN16","v":{"$error":"#DIV/0!"}},{"$f":"'Sorting 2'!BT16","v":{"$error":"#DIV/0!"}},{"$f":"'Sorting 2'!BZ16","v":{"$error":"#DIV/0!"}},{"$f":"'Sorting 2'!CF16","v":{"$error":"#DIV/0!"}},{"$f":"'Sorting 2'!CL16","v":{"$error":"#DIV/0!"}},{"$f":"'Sorting 2'!CR16","v":{"$error":"#DIV/0!"}}]
[{"$f":"'Sorting 2'!A17","v":"P23"},{"$f":"'Sorting 2'!F17","v":{"$error":"#DIV/0!"}},{"$f":"'Sorting 2'!L17","v":{"$error":"#DIV/0!"}},{"$f":"'Sorting 2'!R17","v":{"$error":"#DIV/0!"}},{"$f":"'Sorting 2'!X17","v":{"$error":"#DIV/0!"}},{"$f":"'Sorting 2'!AD17","v":{"$error":"#DIV/0!"}},{"$f":"'Sorting 2'!AJ17","v":{"$error":"#DIV/0!"}},{"$f":"'Sorting 2'!AP17","v":{"$error":"#DIV/0!"}},{"$f":"'Sorting 2'!AV17","v":{"$error":"#DIV/0!"}},{"$f":"'Sorting 2'!BB17","v":{"$error":"#DIV/0!"}},{"$f":"'Sorting 2'!BH17","v":{"$error":"#DIV/0!"}},{"$f":"'Sorting 2'!BN17","v":{"$error":"#DIV/0!"}},{"$f":"'Sorting 2'!BT17","v":{"$error":"#DIV/0!"}},{"$f":"'Sorting 2'!BZ17","v":{"$error":"#DIV/0!"}},{"$f":"'Sorting 2'!CF17","v":{"$error":"#DIV/0!"}},{"$f":"'Sorting 2'!CL17","v":{"$error":"#DIV/0!"}},{"$f":"'Sorting 2'!CR17","v":{"$error":"#DIV/0!"}}]
[{"$f":"'Sorting 2'!A18","v":"P35"},{"$f":"'Sorting 2'!F18","v":{"$error":"#DIV/0!"}},{"$f":"'Sorting 2'!L18","v":{"$error":"#DIV/0!"}},{"$f":"'Sorting 2'!R18","v":{"$error":"#DIV/0!"}},{"$f":"'Sorting 2'!X18","v":{"$error":"#DIV/0!"}},{"$f":"'Sorting 2'!AD18","v":{"$error":"#DIV/0!"}},{"$f":"'Sorting 2'!AJ18","v":{"$error":"#DIV/0!"}},{"$f":"'Sorting 2'!AP18","v":{"$error":"#DIV/0!"}},{"$f":"'Sorting 2'!AV18","v":{"$error":"#DIV/0!"}},{"$f":"'Sorting 2'!BB18","v":{"$error":"#DIV/0!"}},{"$f":"'Sorting 2'!BH18","v":{"$error":"#DIV/0!"}},{"$f":"'Sorting 2'!BN18","v":{"$error":"#DIV/0!"}},{"$f":"'Sorting 2'!BT18","v":{"$error":"#DIV/0!"}},{"$f":"'Sorting 2'!BZ18","v":{"$error":"#DIV/0!"}},{"$f":"'Sorting 2'!CF18","v":{"$error":"#DIV/0!"}},{"$f":"'Sorting 2'!CL18","v":{"$error":"#DIV/0!"}},{"$f":"'Sorting 2'!CR18","v":{"$error":"#DIV/0!"}}]
[{"$f":"'Sorting 2'!A19","v":"P47"},{"$f":"'Sorting 2'!F19","v":{"$error":"#DIV/0!"}},{"$f":"'Sorting 2'!L19","v":{"$error":"#DIV/0!"}},{"$f":"'Sorting 2'!R19","v":{"$error":"#DIV/0!"}},{"$f":"'Sorting 2'!X19","v":{"$error":"#DIV/0!"}},{"$f":"'Sorting 2'!AD19","v":{"$error":"#DIV/0!"}},{"$f":"'Sorting 2'!AJ19","v":{"$error":"#DIV/0!"}},{"$f":"'Sorting 2'!AP19","v":{"$error":"#DIV/0!"}},{"$f":"'Sorting 2'!AV19","v":{"$error":"#DIV/0!"}},{"$f":"'Sorting 2'!BB19","v":{"$error":"#DIV/0!"}},{"$f":"'Sorting 2'!BH19","v":{"$error":"#DIV/0!"}},{"$f":"'Sorting 2'!BN19","v":{"$error":"#DIV/0!"}},{"$f":"'Sorting 2'!BT19","v":{"$error":"#DIV/0!"}},{"$f":"'Sorting 2'!BZ19","v":{"$error":"#DIV/0!"}},{"$f":"'Sorting 2'!CF19","v":{"$error":"#DIV/0!"}},{"$f":"'Sorting 2'!CL19","v":{"$error":"#DIV/0!"}},{"$f":"'Sorting 2'!CR19","v":{"$error":"#DIV/0!"}}]
[{"$f":"'Sorting 2'!A20","v":"P2"},{"$f":"'Sorting 2'!F20","v":{"$error":"#DIV/0!"}},{"$f":"'Sorting 2'!L20","v":{"$error":"#DIV/0!"}},{"$f":"'Sorting 2'!R20","v":{"$error":"#DIV/0!"}},{"$f":"'Sorting 2'!X20","v":{"$error":"#DIV/0!"}},{"$f":"'Sorting 2'!AD20","v":{"$error":"#DIV/0!"}},{"$f":"'Sorting 2'!AJ20","v":{"$error":"#DIV/0!"}},{"$f":"'Sorting 2'!AP20","v":{"$error":"#DIV/0!"}},{"$f":"'Sorting 2'!AV20","v":{"$error":"#DIV/0!"}},{"$f":"'Sorting 2'!BB20","v":{"$error":"#DIV/0!"}},{"$f":"'Sorting 2'!BH20","v":{"$error":"#DIV/0!"}},{"$f":"'Sorting 2'!BN20","v":{"$error":"#DIV/0!"}},{"$f":"'Sorting 2'!BT20","v":{"$error":"#DIV/0!"}},{"$f":"'Sorting 2'!BZ20","v":{"$error":"#DIV/0!"}},{"$f":"'Sorting 2'!CF20","v":{"$error":"#DIV/0!"}},{"$f":"'Sorting 2'!CL20","v":{"$error":"#DIV/0!"}},{"$f":"'Sorting 2'!CR20","v":{"$error":"#DIV/0!"}}]
[{"$f":"'Sorting 2'!A21","v":"P14"},{"$f":"'Sorting 2'!F21","v":{"$error":"#DIV/0!"}},{"$f":"'Sorting 2'!L21","v":{"$error":"#DIV/0!"}},{"$f":"'Sorting 2'!R21","v":{"$error":"#DIV/0!"}},{"$f":"'Sorting 2'!X21","v":{"$error":"#DIV/0!"}},{"$f":"'Sorting 2'!AD21","v":{"$error":"#DIV/0!"}},{"$f":"'Sorting 2'!AJ21","v":{"$error":"#DIV/0!"}},{"$f":"'Sorting 2'!AP21","v":{"$error":"#DIV/0!"}},{"$f":"'Sorting 2'!AV21","v":{"$error":"#DIV/0!"}},{"$f":"'Sorting 2'!BB21","v":{"$error":"#DIV/0!"}},{"$f":"'Sorting 2'!BH21","v":{"$error":"#DIV/0!"}},{"$f":"'Sorting 2'!BN21","v":{"$error":"#DIV/0!"}},{"$f":"'Sorting 2'!BT21","v":{"$error":"#DIV/0!"}},{"$f":"'Sorting 2'!BZ21","v":{"$error":"#DIV/0!"}},{"$f":"'Sorting 2'!CF21","v":{"$error":"#DIV/0!"}},{"$f":"'Sorting 2'!CL21","v":{"$error":"#DIV/0!"}},{"$f":"'Sorting 2'!CR21","v":{"$error":"#DIV/0!"}}]
[{"$f":"'Sorting 2'!A22","v":"P24"},{"$f":"'Sorting 2'!F22","v":{"$error":"#DIV/0!"}},{"$f":"'Sorting 2'!L22","v":{"$error":"#DIV/0!"}},{"$f":"'Sorting 2'!R22","v":{"$error":"#DIV/0!"}},{"$f":"'Sorting 2'!X22","v":{"$error":"#DIV/0!"}},{"$f":"'Sorting 2'!AD22","v":{"$error":"#DIV/0!"}},{"$f":"'Sorting 2'!AJ22","v":{"$error":"#DIV/0!"}},{"$f":"'Sorting 2'!AP22","v":{"$error":"#DIV/0!"}},{"$f":"'Sorting 2'!AV22","v":{"$error":"#DIV/0!"}},{"$f":"'Sorting 2'!BB22","v":{"$error":"#DIV/0!"}},{"$f":"'Sorting 2'!BH22","v":{"$error":"#DIV/0!"}},{"$f":"'Sorting 2'!BN22","v":{"$error":"#DIV/0!"}},{"$f":"'Sorting 2'!BT22","v":{"$error":"#DIV/0!"}},{"$f":"'Sorting 2'!BZ22","v":{"$error":"#DIV/0!"}},{"$f":"'Sorting 2'!CF22","v":{"$error":"#DIV/0!"}},{"$f":"'Sorting 2'!CL22","v":{"$error":"#DIV/0!"}},{"$f":"'Sorting 2'!CR22","v":{"$error":"#DIV/0!"}}]
[{"$f":"'Sorting 2'!A23","v":"P36"},{"$f":"'Sorting 2'!F23","v":{"$error":"#DIV/0!"}},{"$f":"'Sorting 2'!L23","v":{"$error":"#DIV/0!"}},{"$f":"'Sorting 2'!R23","v":{"$error":"#DIV/0!"}},{"$f":"'Sorting 2'!X23","v":{"$error":"#DIV/0!"}},{"$f":"'Sorting 2'!AD23","v":{"$error":"#DIV/0!"}},{"$f":"'Sorting 2'!AJ23","v":{"$error":"#DIV/0!"}},{"$f":"'Sorting 2'!AP23","v":{"$error":"#DIV/0!"}},{"$f":"'Sorting 2'!AV23","v":{"$error":"#DIV/0!"}},{"$f":"'Sorting 2'!BB23","v":{"$error":"#DIV/0!"}},{"$f":"'Sorting 2'!BH23","v":{"$error":"#DIV/0!"}},{"$f":"'Sorting 2'!BN23","v":{"$error":"#DIV/0!"}},{"$f":"'Sorting 2'!BT23","v":{"$error":"#DIV/0!"}},{"$f":"'Sorting 2'!BZ23","v":{"$error":"#DIV/0!"}},{"$f":"'Sorting 2'!CF23","v":{"$error":"#DIV/0!"}},{"$f":"'Sorting 2'!CL23","v":{"$error":"#DIV/0!"}},{"$f":"'Sorting 2'!CR23","v":{"$error":"#DIV/0!"}}]
[{"$f":"'Sorting 2'!A24","v":"P48"},{"$f":"'Sorting 2'!F24","v":{"$error":"#DIV/0!"}},{"$f":"'Sorting 2'!L24","v":{"$error":"#DIV/0!"}},{"$f":"'Sorting 2'!R24","v":{"$error":"#DIV/0!"}},{"$f":"'Sorting 2'!X24","v":{"$error":"#DIV/0!"}},{"$f":"'Sorting 2'!AD24","v":{"$error":"#DIV/0!"}},{"$f":"'Sorting 2'!AJ24","v":{"$error":"#DIV/0!"}},{"$f":"'Sorting 2'!AP24","v":{"$error":"#DIV/0!"}},{"$f":"'Sorting 2'!AV24","v":{"$error":"#DIV/0!"}},{"$f":"'Sorting 2'!BB24","v":{"$error":"#DIV/0!"}},{"$f":"'Sorting 2'!BH24","v":{"$error":"#DIV/0!"}},{"$f":"'Sorting 2'!BN24","v":{"$error":"#DIV/0!"}},{"$f":"'Sorting 2'!BT24","v":{"$error":"#DIV/0!"}},{"$f":"'Sorting 2'!BZ24","v":{"$error":"#DIV/0!"}},{"$f":"'Sorting 2'!CF24","v":{"$error":"#DIV/0!"}},{"$f":"'Sorting 2'!CL24","v":{"$error":"#DIV/0!"}},{"$f":"'Sorting 2'!CR24","v":{"$error":"#DIV/0!"}}]
[{"$f":"'Sorting 2'!A25","v":"P3"},{"$f":"'Sorting 2'!F25","v":{"$error":"#DIV/0!"}},{"$f":"'Sorting 2'!L25","v":{"$error":"#DIV/0!"}},{"$f":"'Sorting 2'!R25","v":{"$error":"#DIV/0!"}},{"$f":"'Sorting 2'!X25","v":{"$error":"#DIV/0!"}},{"$f":"'Sorting 2'!AD25","v":{"$error":"#DIV/0!"}},{"$f":"'Sorting 2'!AJ25","v":{"$error":"#DIV/0!"}},{"$f":"'Sorting 2'!AP25","v":{"$error":"#DIV/0!"}},{"$f":"'Sorting 2'!AV25","v":{"$error":"#DIV/0!"}},{"$f":"'Sorting 2'!BB25","v":{"$error":"#DIV/0!"}},{"$f":"'Sorting 2'!BH25","v":{"$error":"#DIV/0!"}},{"$f":"'Sorting 2'!BN25","v":{"$error":"#DIV/0!"}},{"$f":"'Sorting 2'!BT25","v":{"$error":"#DIV/0!"}},{"$f":"'Sorting 2'!BZ25","v":{"$error":"#DIV/0!"}},{"$f":"'Sorting 2'!CF25","v":{"$error":"#DIV/0!"}},{"$f":"'Sorting 2'!CL25","v":{"$error":"#DIV/0!"}},{"$f":"'Sorting 2'!CR25","v":{"$error":"#DIV/0!"}}]
[{"$f":"'Sorting 2'!A26","v":"P15"},{"$f":"'Sorting 2'!F26","v":{"$error":"#DIV/0!"}},{"$f":"'Sorting 2'!L26","v":{"$error":"#DIV/0!"}},{"$f":"'Sorting 2'!R26","v":{"$error":"#DIV/0!"}},{"$f":"'Sorting 2'!X26","v":{"$error":"#DIV/0!"}},{"$f":"'Sorting 2'!AD26","v":{"$error":"#DIV/0!"}},{"$f":"'Sorting 2'!AJ26","v":{"$error":"#DIV/0!"}},{"$f":"'Sorting 2'!AP26","v":{"$error":"#DIV/0!"}},{"$f":"'Sorting 2'!AV26","v":{"$error":"#DIV/0!"}},{"$f":"'Sorting 2'!BB26","v":{"$error":"#DIV/0!"}},{"$f":"'Sorting 2'!BH26","v":{"$error":"#DIV/0!"}},{"$f":"'Sorting 2'!BN26","v":{"$error":"#DIV/0!"}},{"$f":"'Sorting 2'!BT26","v":{"$error":"#DIV/0!"}},{"$f":"'Sorting 2'!BZ26","v":{"$error":"#DIV/0!"}},{"$f":"'Sorting 2'!CF26","v":{"$error":"#DIV/0!"}},{"$f":"'Sorting 2'!CL26","v":{"$error":"#DIV/0!"}},{"$f":"'Sorting 2'!CR26","v":{"$error":"#DIV/0!"}}]
[{"$f":"'Sorting 2'!A27","v":"P25"},{"$f":"'Sorting 2'!F27","v":{"$error":"#DIV/0!"}},{"$f":"'Sorting 2'!L27","v":{"$error":"#DIV/0!"}},{"$f":"'Sorting 2'!R27","v":{"$error":"#DIV/0!"}},{"$f":"'Sorting 2'!X27","v":{"$error":"#DIV/0!"}},{"$f":"'Sorting 2'!AD27","v":{"$error":"#DIV/0!"}},{"$f":"'Sorting 2'!AJ27","v":{"$error":"#DIV/0!"}},{"$f":"'Sorting 2'!AP27","v":{"$error":"#DIV/0!"}},{"$f":"'Sorting 2'!AV27","v":{"$error":"#DIV/0!"}},{"$f":"'Sorting 2'!BB27","v":{"$error":"#DIV/0!"}},{"$f":"'Sorting 2'!BH27","v":{"$error":"#DIV/0!"}},{"$f":"'Sorting 2'!BN27","v":{"$error":"#DIV/0!"}},{"$f":"'Sorting 2'!BT27","v":{"$error":"#DIV/0!"}},{"$f":"'Sorting 2'!BZ27","v":{"$error":"#DIV/0!"}},{"$f":"'Sorting 2'!CF27","v":{"$error":"#DIV/0!"}},{"$f":"'Sorting 2'!CL27","v":{"$error":"#DIV/0!"}},{"$f":"'Sorting 2'!CR27","v":{"$error":"#DIV/0!"}}]
[{"$f":"'Sorting 2'!A28","v":"P37"},{"$f":"'Sorting 2'!F28","v":{"$error":"#DIV/0!"}},{"$f":"'Sorting 2'!L28","v":{"$error":"#DIV/0!"}},{"$f":"'Sorting 2'!R28","v":{"$error":"#DIV/0!"}},{"$f":"'Sorting 2'!X28","v":{"$error":"#DIV/0!"}},{"$f":"'Sorting 2'!AD28","v":{"$error":"#DIV/0!"}},{"$f":"'Sorting 2'!AJ28","v":{"$error":"#DIV/0!"}},{"$f":"'Sorting 2'!AP28","v":{"$error":"#DIV/0!"}},{"$f":"'Sorting 2'!AV28","v":{"$error":"#DIV/0!"}},{"$f":"'Sorting 2'!BB28","v":{"$error":"#DIV/0!"}},{"$f":"'Sorting 2'!BH28","v":{"$error":"#DIV/0!"}},{"$f":"'Sorting 2'!BN28","v":{"$error":"#DIV/0!"}},{"$f":"'Sorting 2'!BT28","v":{"$error":"#DIV/0!"}},{"$f":"'Sorting 2'!BZ28","v":{"$error":"#DIV/0!"}},{"$f":"'Sorting 2'!CF28","v":{"$error":"#DIV/0!"}},{"$f":"'Sorting 2'!CL28","v":{"$error":"#DIV/0!"}},{"$f":"'Sorting 2'!CR28","v":{"$error":"#DIV/0!"}}]
[{"$f":"'Sorting 2'!A29","v":"P49"},{"$f":"'Sorting 2'!F29","v":{"$error":"#DIV/0!"}},{"$f":"'Sorting 2'!L29","v":{"$error":"#DIV/0!"}},{"$f":"'Sorting 2'!R29","v":{"$error":"#DIV/0!"}},{"$f":"'Sorting 2'!X29","v":{"$error":"#DIV/0!"}},{"$f":"'Sorting 2'!AD29","v":{"$error":"#DIV/0!"}},{"$f":"'Sorting 2'!AJ29","v":{"$error":"#DIV/0!"}},{"$f":"'Sorting 2'!AP29","v":{"$error":"#DIV/0!"}},{"$f":"'Sorting 2'!AV29","v":{"$error":"#DIV/0!"}},{"$f":"'Sorting 2'!BB29","v":{"$error":"#DIV/0!"}},{"$f":"'Sorting 2'!BH29","v":{"$error":"#DIV/0!"}},{"$f":"'Sorting 2'!BN29","v":{"$error":"#DIV/0!"}},{"$f":"'Sorting 2'!BT29","v":{"$error":"#DIV/0!"}},{"$f":"'Sorting 2'!BZ29","v":{"$error":"#DIV/0!"}},{"$f":"'Sorting 2'!CF29","v":{"$error":"#DIV/0!"}},{"$f":"'Sorting 2'!CL29","v":{"$error":"#DIV/0!"}},{"$f":"'Sorting 2'!CR29","v":{"$error":"#DIV/0!"}}]
[{"$f":"'Sorting 2'!A30","v":"P4"},{"$f":"'Sorting 2'!F30","v":{"$error":"#DIV/0!"}},{"$f":"'Sorting 2'!L30","v":{"$error":"#DIV/0!"}},{"$f":"'Sorting 2'!R30","v":{"$error":"#DIV/0!"}},{"$f":"'Sorting 2'!X30","v":{"$error":"#DIV/0!"}},{"$f":"'Sorting 2'!AD30","v":{"$error":"#DIV/0!"}},{"$f":"'Sorting 2'!AJ30","v":{"$error":"#DIV/0!"}},{"$f":"'Sorting 2'!AP30","v":{"$error":"#DIV/0!"}},{"$f":"'Sorting 2'!AV30","v":{"$error":"#DIV/0!"}},{"$f":"'Sorting 2'!BB30","v":{"$error":"#DIV/0!"}},{"$f":"'Sorting 2'!BH30","v":{"$error":"#DIV/0!"}},{"$f":"'Sorting 2'!BN30","v":{"$error":"#DIV/0!"}},{"$f":"'Sorting 2'!BT30","v":{"$error":"#DIV/0!"}},{"$f":"'Sorting 2'!BZ30","v":{"$error":"#DIV/0!"}},{"$f":"'Sorting 2'!CF30","v":{"$error":"#DIV/0!"}},{"$f":"'Sorting 2'!CL30","v":{"$error":"#DIV/0!"}},{"$f":"'Sorting 2'!CR30","v":{"$error":"#DIV/0!"}}]
[{"$f":"'Sorting 2'!A31","v":"P16"},{"$f":"'Sorting 2'!F31","v":{"$error":"#DIV/0!"}},{"$f":"'Sorting 2'!L31","v":{"$error":"#DIV/0!"}},{"$f":"'Sorting 2'!R31","v":{"$error":"#DIV/0!"}},{"$f":"'Sorting 2'!X31","v":{"$error":"#DIV/0!"}},{"$f":"'Sorting 2'!AD31","v":{"$error":"#DIV/0!"}},{"$f":"'Sorting 2'!AJ31","v":{"$error":"#DIV/0!"}},{"$f":"'Sorting 2'!AP31","v":{"$error":"#DIV/0!"}},{"$f":"'Sorting 2'!AV31","v":{"$error":"#DIV/0!"}},{"$f":"'Sorting 2'!BB31","v":{"$error":"#DIV/0!"}},{"$f":"'Sorting 2'!BH31","v":{"$error":"#DIV/0!"}},{"$f":"'Sorting 2'!BN31","v":{"$error":"#DIV/0!"}},{"$f":"'Sorting 2'!BT31","v":{"$error":"#DIV/0!"}},{"$f":"'Sorting 2'!BZ31","v":{"$error":"#DIV/0!"}},{"$f":"'Sorting 2'!CF31","v":{"$error":"#DIV/0!"}},{"$f":"'Sorting 2'!CL31","v":{"$error":"#DIV/0!"}},{"$f":"'Sorting 2'!CR31","v":{"$error":"#DIV/0!"}}]
[{"$f":"'Sorting 2'!A32","v":"P26"},{"$f":"'Sorting 2'!F32","v":{"$error":"#DIV/0!"}},{"$f":"'Sorting 2'!L32","v":{"$error":"#DIV/0!"}},{"$f":"'Sorting 2'!R32","v":{"$error":"#DIV/0!"}},{"$f":"'Sorting 2'!X32","v":{"$error":"#DIV/0!"}},{"$f":"'Sorting 2'!AD32","v":{"$error":"#DIV/0!"}},{"$f":"'Sorting 2'!AJ32","v":{"$error":"#DIV/0!"}},{"$f":"'Sorting 2'!AP32","v":{"$error":"#DIV/0!"}},{"$f":"'Sorting 2'!AV32","v":{"$error":"#DIV/0!"}},{"$f":"'Sorting 2'!BB32","v":{"$error":"#DIV/0!"}},{"$f":"'Sorting 2'!BH32","v":{"$error":"#DIV/0!"}},{"$f":"'Sorting 2'!BN32","v":{"$error":"#DIV/0!"}},{"$f":"'Sorting 2'!BT32","v":{"$error":"#DIV/0!"}},{"$f":"'Sorting 2'!BZ32","v":{"$error":"#DIV/0!"}},{"$f":"'Sorting 2'!CF32","v":{"$error":"#DIV/0!"}},{"$f":"'Sorting 2'!CL32","v":{"$error":"#DIV/0!"}},{"$f":"'Sorting 2'!CR32","v":{"$error":"#DIV/0!"}}]
[{"$f":"'Sorting 2'!A33","v":"P38"},{"$f":"'Sorting 2'!F33","v":{"$error":"#DIV/0!"}},{"$f":"'Sorting 2'!L33","v":{"$error":"#DIV/0!"}},{"$f":"'Sorting 2'!R33","v":{"$error":"#DIV/0!"}},{"$f":"'Sorting 2'!X33","v":{"$error":"#DIV/0!"}},{"$f":"'Sorting 2'!AD33","v":{"$error":"#DIV/0!"}},{"$f":"'Sorting 2'!AJ33","v":{"$error":"#DIV/0!"}},{"$f":"'Sorting 2'!AP33","v":{"$error":"#DIV/0!"}},{"$f":"'Sorting 2'!AV33","v":{"$error":"#DIV/0!"}},{"$f":"'Sorting 2'!BB33","v":{"$error":"#DIV/0!"}},{"$f":"'Sorting 2'!BH33","v":{"$error":"#DIV/0!"}},{"$f":"'Sorting 2'!BN33","v":{"$error":"#DIV/0!"}},{"$f":"'Sorting 2'!BT33","v":{"$error":"#DIV/0!"}},{"$f":"'Sorting 2'!BZ33","v":{"$error":"#DIV/0!"}},{"$f":"'Sorting 2'!CF33","v":{"$error":"#DIV/0!"}},{"$f":"'Sorting 2'!CL33","v":{"$error":"#DIV/0!"}},{"$f":"'Sorting 2'!CR33","v":{"$error":"#DIV/0!"}}]
[{"$f":"'Sorting 2'!A34","v":"P50"},{"$f":"'Sorting 2'!F34","v":{"$error":"#DIV/0!"}},{"$f":"'Sorting 2'!L34","v":{"$error":"#DIV/0!"}},{"$f":"'Sorting 2'!R34","v":{"$error":"#DIV/0!"}},{"$f":"'Sorting 2'!X34","v":{"$error":"#DIV/0!"}},{"$f":"'Sorting 2'!AD34","v":{"$error":"#DIV/0!"}},{"$f":"'Sorting 2'!AJ34","v":{"$error":"#DIV/0!"}},{"$f":"'Sorting 2'!AP34","v":{"$error":"#DIV/0!"}},{"$f":"'Sorting 2'!AV34","v":{"$error":"#DIV/0!"}},{"$f":"'Sorting 2'!BB34","v":{"$error":"#DIV/0!"}},{"$f":"'Sorting 2'!BH34","v":{"$error":"#DIV/0!"}},{"$f":"'Sorting 2'!BN34","v":{"$error":"#DIV/0!"}},{"$f":"'Sorting 2'!BT34","v":{"$error":"#DIV/0!"}},{"$f":"'Sorting 2'!BZ34","v":{"$error":"#DIV/0!"}},{"$f":"'Sorting 2'!CF34","v":{"$error":"#DIV/0!"}},{"$f":"'Sorting 2'!CL34","v":{"$error":"#DIV/0!"}},{"$f":"'Sorting 2'!CR34","v":{"$error":"#DIV/0!"}}]
[{"$f":"'Sorting 2'!A35","v":"P5"},{"$f":"'Sorting 2'!F35","v":{"$error":"#DIV/0!"}},{"$f":"'Sorting 2'!L35","v":{"$error":"#DIV/0!"}},{"$f":"'Sorting 2'!R35","v":{"$error":"#DIV/0!"}},{"$f":"'Sorting 2'!X35","v":{"$error":"#DIV/0!"}},{"$f":"'Sorting 2'!AD35","v":{"$error":"#DIV/0!"}},{"$f":"'Sorting 2'!AJ35","v":{"$error":"#DIV/0!"}},{"$f":"'Sorting 2'!AP35","v":{"$error":"#DIV/0!"}},{"$f":"'Sorting 2'!AV35","v":{"$error":"#DIV/0!"}},{"$f":"'Sorting 2'!BB35","v":{"$error":"#DIV/0!"}},{"$f":"'Sorting 2'!BH35","v":{"$error":"#DIV/0!"}},{"$f":"'Sorting 2'!BN35","v":{"$error":"#DIV/0!"}},{"$f":"'Sorting 2'!BT35","v":{"$error":"#DIV/0!"}},{"$f":"'Sorting 2'!BZ35","v":{"$error":"#DIV/0!"}},{"$f":"'Sorting 2'!CF35","v":{"$error":"#DIV/0!"}},{"$f":"'Sorting 2'!CL35","v":{"$error":"#DIV/0!"}},{"$f":"'Sorting 2'!CR35","v":{"$error":"#DIV/0!"}}]
[{"$f":"'Sorting 2'!A36","v":"P17"},{"$f":"'Sorting 2'!F36","v":{"$error":"#DIV/0!"}},{"$f":"'Sorting 2'!L36","v":{"$error":"#DIV/0!"}},{"$f":"'Sorting 2'!R36","v":{"$error":"#DIV/0!"}},{"$f":"'Sorting 2'!X36","v":{"$error":"#DIV/0!"}},{"$f":"'Sorting 2'!AD36","v":{"$error":"#DIV/0!"}},{"$f":"'Sorting 2'!AJ36","v":{"$error":"#DIV/0!"}},{"$f":"'Sorting 2'!AP36","v":{"$error":"#DIV/0!"}},{"$f":"'Sorting 2'!AV36","v":{"$error":"#DIV/0!"}},{"$f":"'Sorting 2'!BB36","v":{"$error":"#DIV/0!"}},{"$f":"'Sorting 2'!BH36","v":{"$error":"#DIV/0!"}},{"$f":"'Sorting 2'!BN36","v":{"$error":"#DIV/0!"}},{"$f":"'Sorting 2'!BT36","v":{"$error":"#DIV/0!"}},{"$f":"'Sorting 2'!BZ36","v":{"$error":"#DIV/0!"}},{"$f":"'Sorting 2'!CF36","v":{"$error":"#DIV/0!"}},{"$f":"'Sorting 2'!CL36","v":{"$error":"#DIV/0!"}},{"$f":"'Sorting 2'!CR36","v":{"$error":"#DIV/0!"}}]
[{"$f":"'Sorting 2'!A37","v":"P27"},{"$f":"'Sorting 2'!F37","v":{"$error":"#DIV/0!"}},{"$f":"'Sorting 2'!L37","v":{"$error":"#DIV/0!"}},{"$f":"'Sorting 2'!R37","v":{"$error":"#DIV/0!"}},{"$f":"'Sorting 2'!X37","v":{"$error":"#DIV/0!"}},{"$f":"'Sorting 2'!AD37","v":{"$error":"#DIV/0!"}},{"$f":"'Sorting 2'!AJ37","v":{"$error":"#DIV/0!"}},{"$f":"'Sorting 2'!AP37","v":{"$error":"#DIV/0!"}},{"$f":"'Sorting 2'!AV37","v":{"$error":"#DIV/0!"}},{"$f":"'Sorting 2'!BB37","v":{"$error":"#DIV/0!"}},{"$f":"'Sorting 2'!BH37","v":{"$error":"#DIV/0!"}},{"$f":"'Sorting 2'!BN37","v":{"$error":"#DIV/0!"}},{"$f":"'Sorting 2'!BT37","v":{"$error":"#DIV/0!"}},{"$f":"'Sorting 2'!BZ37","v":{"$error":"#DIV/0!"}},{"$f":"'Sorting 2'!CF37","v":{"$error":"#DIV/0!"}},{"$f":"'Sorting 2'!CL37","v":{"$error":"#DIV/0!"}},{"$f":"'Sorting 2'!CR37","v":{"$error":"#DIV/0!"}}]
[{"$f":"'Sorting 2'!A38","v":"P39"},{"$f":"'Sorting 2'!F38","v":{"$error":"#DIV/0!"}},{"$f":"'Sorting 2'!L38","v":{"$error":"#DIV/0!"}},{"$f":"'Sorting 2'!R38","v":{"$error":"#DIV/0!"}},{"$f":"'Sorting 2'!X38","v":{"$error":"#DIV/0!"}},{"$f":"'Sorting 2'!AD38","v":{"$error":"#DIV/0!"}},{"$f":"'Sorting 2'!AJ38","v":{"$error":"#DIV/0!"}},{"$f":"'Sorting 2'!AP38","v":{"$error":"#DIV/0!"}},{"$f":"'Sorting 2'!AV38","v":{"$error":"#DIV/0!"}},{"$f":"'Sorting 2'!BB38","v":{"$error":"#DIV/0!"}},{"$f":"'Sorting 2'!BH38","v":{"$error":"#DIV/0!"}},{"$f":"'Sorting 2'!BN38","v":{"$error":"#DIV/0!"}},{"$f":"'Sorting 2'!BT38","v":{"$error":"#DIV/0!"}},{"$f":"'Sorting 2'!BZ38","v":{"$error":"#DIV/0!"}},{"$f":"'Sorting 2'!CF38","v":{"$error":"#DIV/0!"}},{"$f":"'Sorting 2'!CL38","v":{"$error":"#DIV/0!"}},{"$f":"'Sorting 2'!CR38","v":{"$error":"#DIV/0!"}}]
[{"$f":"'Sorting 2'!A39","v":"P51"},{"$f":"'Sorting 2'!F39","v":{"$error":"#DIV/0!"}},{"$f":"'Sorting 2'!L39","v":{"$error":"#DIV/0!"}},{"$f":"'Sorting 2'!R39","v":{"$error":"#DIV/0!"}},{"$f":"'Sorting 2'!X39","v":{"$error":"#DIV/0!"}},{"$f":"'Sorting 2'!AD39","v":{"$error":"#DIV/0!"}},{"$f":"'Sorting 2'!AJ39","v":{"$error":"#DIV/0!"}},{"$f":"'Sorting 2'!AP39","v":{"$error":"#DIV/0!"}},{"$f":"'Sorting 2'!AV39","v":{"$error":"#DIV/0!"}},{"$f":"'Sorting 2'!BB39","v":{"$error":"#DIV/0!"}},{"$f":"'Sorting 2'!BH39","v":{"$error":"#DIV/0!"}},{"$f":"'Sorting 2'!BN39","v":{"$error":"#DIV/0!"}},{"$f":"'Sorting 2'!BT39","v":{"$error":"#DIV/0!"}},{"$f":"'Sorting 2'!BZ39","v":{"$error":"#DIV/0!"}},{"$f":"'Sorting 2'!CF39","v":{"$error":"#DIV/0!"}},{"$f":"'Sorting 2'!CL39","v":{"$error":"#DIV/0!"}},{"$f":"'Sorting 2'!CR39","v":{"$error":"#DIV/0!"}}]
[{"$f":"'Sorting 2'!A40","v":"P6"},{"$f":"'Sorting 2'!F40","v":{"$error":"#DIV/0!"}},{"$f":"'Sorting 2'!L40","v":{"$error":"#DIV/0!"}},{"$f":"'Sorting 2'!R40","v":{"$error":"#DIV/0!"}},{"$f":"'Sorting 2'!X40","v":{"$error":"#DIV/0!"}},{"$f":"'Sorting 2'!AD40","v":{"$error":"#DIV/0!"}},{"$f":"'Sorting 2'!AJ40","v":{"$error":"#DIV/0!"}},{"$f":"'Sorting 2'!AP40","v":{"$error":"#DIV/0!"}},{"$f":"'Sorting 2'!AV40","v":{"$error":"#DIV/0!"}},{"$f":"'Sorting 2'!BB40","v":{"$error":"#DIV/0!"}},{"$f":"'Sorting 2'!BH40","v":{"$error":"#DIV/0!"}},{"$f":"'Sorting 2'!BN40","v":{"$error":"#DIV/0!"}},{"$f":"'Sorting 2'!BT40","v":{"$error":"#DIV/0!"}},{"$f":"'Sorting 2'!BZ40","v":{"$error":"#DIV/0!"}},{"$f":"'Sorting 2'!CF40","v":{"$error":"#DIV/0!"}},{"$f":"'Sorting 2'!CL40","v":{"$error":"#DIV/0!"}},{"$f":"'Sorting 2'!CR40","v":{"$error":"#DIV/0!"}}]
[{"$f":"'Sorting 2'!A41","v":"P18"},{"$f":"'Sorting 2'!F41","v":{"$error":"#DIV/0!"}},{"$f":"'Sorting 2'!L41","v":{"$error":"#DIV/0!"}},{"$f":"'Sorting 2'!R41","v":{"$error":"#DIV/0!"}},{"$f":"'Sorting 2'!X41","v":{"$error":"#DIV/0!"}},{"$f":"'Sorting 2'!AD41","v":{"$error":"#DIV/0!"}},{"$f":"'Sorting 2'!AJ41","v":{"$error":"#DIV/0!"}},{"$f":"'Sorting 2'!AP41","v":{"$error":"#DIV/0!"}},{"$f":"'Sorting 2'!AV41","v":{"$error":"#DIV/0!"}},{"$f":"'Sorting 2'!BB41","v":{"$error":"#DIV/0!"}},{"$f":"'Sorting 2'!BH41","v":{"$error":"#DIV/0!"}},{"$f":"'Sorting 2'!BN41","v":{"$error":"#DIV/0!"}},{"$f":"'Sorting 2'!BT41","v":{"$error":"#DIV/0!"}},{"$f":"'Sorting 2'!BZ41","v":{"$error":"#DIV/0!"}},{"$f":"'Sorting 2'!CF41","v":{"$error":"#DIV/0!"}},{"$f":"'Sorting 2'!CL41","v":{"$error":"#DIV/0!"}},{"$f":"'Sorting 2'!CR41","v":{"$error":"#DIV/0!"}}]
[{"$f":"'Sorting 2'!A42","v":"P28"},{"$f":"'Sorting 2'!F42","v":{"$error":"#DIV/0!"}},{"$f":"'Sorting 2'!L42","v":{"$error":"#DIV/0!"}},{"$f":"'Sorting 2'!R42","v":{"$error":"#DIV/0!"}},{"$f":"'Sorting 2'!X42","v":{"$error":"#DIV/0!"}},{"$f":"'Sorting 2'!AD42","v":{"$error":"#DIV/0!"}},{"$f":"'Sorting 2'!AJ42","v":{"$error":"#DIV/0!"}},{"$f":"'Sorting 2'!AP42","v":{"$error":"#DIV/0!"}},{"$f":"'Sorting 2'!AV42","v":{"$error":"#DIV/0!"}},{"$f":"'Sorting 2'!BB42","v":{"$error":"#DIV/0!"}},{"$f":"'Sorting 2'!BH42","v":{"$error":"#DIV/0!"}},{"$f":"'Sorting 2'!BN42","v":{"$error":"#DIV/0!"}},{"$f":"'Sorting 2'!BT42","v":{"$error":"#DIV/0!"}},{"$f":"'Sorting 2'!BZ42","v":{"$error":"#DIV/0!"}},{"$f":"'Sorting 2'!CF42","v":{"$error":"#DIV/0!"}},{"$f":"'Sorting 2'!CL42","v":{"$error":"#DIV/0!"}},{"$f":"'Sorting 2'!CR42","v":{"$error":"#DIV/0!"}}]
[{"$f":"'Sorting 2'!A43","v":"P40"},{"$f":"'Sorting 2'!F43","v":{"$error":"#DIV/0!"}},{"$f":"'Sorting 2'!L43","v":{"$error":"#DIV/0!"}},{"$f":"'Sorting 2'!R43","v":{"$error":"#DIV/0!"}},{"$f":"'Sorting 2'!X43","v":{"$error":"#DIV/0!"}},{"$f":"'Sorting 2'!AD43","v":{"$error":"#DIV/0!"}},{"$f":"'Sorting 2'!AJ43","v":{"$error":"#DIV/0!"}},{"$f":"'Sorting 2'!AP43","v":{"$error":"#DIV/0!"}},{"$f":"'Sorting 2'!AV43","v":{"$error":"#DIV/0!"}},{"$f":"'Sorting 2'!BB43","v":{"$error":"#DIV/0!"}},{"$f":"'Sorting 2'!BH43","v":{"$error":"#DIV/0!"}},{"$f":"'Sorting 2'!BN43","v":{"$error":"#DIV/0!"}},{"$f":"'Sorting 2'!BT43","v":{"$error":"#DIV/0!"}},{"$f":"'Sorting 2'!BZ43","v":{"$error":"#DIV/0!"}},{"$f":"'Sorting 2'!CF43","v":{"$error":"#DIV/0!"}},{"$f":"'Sorting 2'!CL43","v":{"$error":"#DIV/0!"}},{"$f":"'Sorting 2'!CR43","v":{"$error":"#DIV/0!"}}]
[{"$f":"'Sorting 2'!A44","v":"P7"},{"$f":"'Sorting 2'!F44","v":{"$error":"#DIV/0!"}},{"$f":"'Sorting 2'!L44","v":{"$error":"#DIV/0!"}},{"$f":"'Sorting 2'!R44","v":{"$error":"#DIV/0!"}},{"$f":"'Sorting 2'!X44","v":{"$error":"#DIV/0!"}},{"$f":"'Sorting 2'!AD44","v":{"$error":"#DIV/0!"}},{"$f":"'Sorting 2'!AJ44","v":{"$error":"#DIV/0!"}},{"$f":"'Sorting 2'!AP44","v":{"$error":"#DIV/0!"}},{"$f":"'Sorting 2'!AV44","v":{"$error":"#DIV/0!"}},{"$f":"'Sorting 2'!BB44","v":{"$error":"#DIV/0!"}},{"$f":"'Sorting 2'!BH44","v":{"$error":"#DIV/0!"}},{"$f":"'Sorting 2'!BN44","v":{"$error":"#DIV/0!"}},{"$f":"'Sorting 2'!BT44","v":{"$error":"#DIV/0!"}},{"$f":"'Sorting 2'!BZ44","v":{"$error":"#DIV/0!"}},{"$f":"'Sorting 2'!CF44","v":{"$error":"#DIV/0!"}},{"$f":"'Sorting 2'!CL44","v":{"$error":"#DIV/0!"}},{"$f":"'Sorting 2'!CR44","v":{"$error":"#DIV/0!"}}]
[{"$f":"'Sorting 2'!A45","v":"P19"},{"$f":"'Sorting 2'!F45","v":{"$error":"#DIV/0!"}},{"$f":"'Sorting 2'!L45","v":{"$error":"#DIV/0!"}},{"$f":"'Sorting 2'!R45","v":{"$error":"#DIV/0!"}},{"$f":"'Sorting 2'!X45","v":{"$error":"#DIV/0!"}},{"$f":"'Sorting 2'!AD45","v":{"$error":"#DIV/0!"}},{"$f":"'Sorting 2'!AJ45","v":{"$error":"#DIV/0!"}},{"$f":"'Sorting 2'!AP45","v":{"$error":"#DIV/0!"}},{"$f":"'Sorting 2'!AV45","v":{"$error":"#DIV/0!"}},{"$f":"'Sorting 2'!BB45","v":{"$error":"#DIV/0!"}},{"$f":"'Sorting 2'!BH45","v":{"$error":"#DIV/0!"}},{"$f":"'Sorting 2'!BN45","v":{"$error":"#DIV/0!"}},{"$f":"'Sorting 2'!BT45","v":{"$error":"#DIV/0!"}},{"$f":"'Sorting 2'!BZ45","v":{"$error":"#DIV/0!"}},{"$f":"'Sorting 2'!CF45","v":{"$error":"#DIV/0!"}},{"$f":"'Sorting 2'!CL45","v":{"$error":"#DIV/0!"}},{"$f":"'Sorting 2'!CR45","v":{"$error":"#DIV/0!"}}]
[{"$f":"'Sorting 2'!A46","v":"P29"},{"$f":"'Sorting 2'!F46","v":{"$error":"#DIV/0!"}},{"$f":"'Sorting 2'!L46","v":{"$error":"#DIV/0!"}},{"$f":"'Sorting 2'!R46","v":{"$error":"#DIV/0!"}},{"$f":"'Sorting 2'!X46","v":{"$error":"#DIV/0!"}},{"$f":"'Sorting 2'!AD46","v":{"$error":"#DIV/0!"}},{"$f":"'Sorting 2'!AJ46","v":{"$error":"#DIV/0!"}},{"$f":"'Sorting 2'!AP46","v":{"$error":"#DIV/0!"}},{"$f":"'Sorting 2'!AV46","v":{"$error":"#DIV/0!"}},{"$f":"'Sorting 2'!BB46","v":{"$error":"#DIV/0!"}},{"$f":"'Sorting 2'!BH46","v":{"$error":"#DIV/0!"}},{"$f":"'Sorting 2'!BN46","v":{"$error":"#DIV/0!"}},{"$f":"'Sorting 2'!BT46","v":{"$error":"#DIV/0!"}},{"$f":"'Sorting 2'!BZ46","v":{"$error":"#DIV/0!"}},{"$f":"'Sorting 2'!CF46","v":{"$error":"#DIV/0!"}},{"$f":"'Sorting 2'!CL46","v":{"$error":"#DIV/0!"}},{"$f":"'Sorting 2'!CR46","v":{"$error":"#DIV/0!"}}]
[{"$f":"'Sorting 2'!A47","v":"P41"},{"$f":"'Sorting 2'!F47","v":{"$error":"#DIV/0!"}},{"$f":"'Sorting 2'!L47","v":{"$error":"#DIV/0!"}},{"$f":"'Sorting 2'!R47","v":{"$error":"#DIV/0!"}},{"$f":"'Sorting 2'!X47","v":{"$error":"#DIV/0!"}},{"$f":"'Sorting 2'!AD47","v":{"$error":"#DIV/0!"}},{"$f":"'Sorting 2'!AJ47","v":{"$error":"#DIV/0!"}},{"$f":"'Sorting 2'!AP47","v":{"$error":"#DIV/0!"}},{"$f":"'Sorting 2'!AV47","v":{"$error":"#DIV/0!"}},{"$f":"'Sorting 2'!BB47","v":{"$error":"#DIV/0!"}},{"$f":"'Sorting 2'!BH47","v":{"$error":"#DIV/0!"}},{"$f":"'Sorting 2'!BN47","v":{"$error":"#DIV/0!"}},{"$f":"'Sorting 2'!BT47","v":{"$error":"#DIV/0!"}},{"$f":"'Sorting 2'!BZ47","v":{"$error":"#DIV/0!"}},{"$f":"'Sorting 2'!CF47","v":{"$error":"#DIV/0!"}},{"$f":"'Sorting 2'!CL47","v":{"$error":"#DIV/0!"}},{"$f":"'Sorting 2'!CR47","v":{"$error":"#DIV/0!"}}]
[{"$f":"'Sorting 2'!A48","v":"Pig IgG"},{"$f":"'Sorting 2'!F48","v":{"$error":"#DIV/0!"}},{"$f":"'Sorting 2'!L48","v":{"$error":"#DIV/0!"}},{"$f":"'Sorting 2'!R48","v":{"$error":"#DIV/0!"}},{"$f":"'Sorting 2'!X48","v":{"$error":"#DIV/0!"}},{"$f":"'Sorting 2'!AD48","v":{"$error":"#DIV/0!"}},{"$f":"'Sorting 2'!AJ48","v":{"$error":"#DIV/0!"}},{"$f":"'Sorting 2'!AP48","v":{"$error":"#DIV/0!"}},{"$f":"'Sorting 2'!AV48","v":{"$error":"#DIV/0!"}},{"$f":"'Sorting 2'!BB48","v":{"$error":"#DIV/0!"}},{"$f":"'Sorting 2'!BH48","v":{"$error":"#DIV/0!"}},{"$f":"'Sorting 2'!BN48","v":{"$error":"#DIV/0!"}},{"$f":"'Sorting 2'!BT48","v":{"$error":"#DIV/0!"}},{"$f":"'Sorting 2'!BZ48","v":{"$error":"#DIV/0!"}},{"$f":"'Sorting 2'!CF48","v":{"$error":"#DIV/0!"}},{"$f":"'Sorting 2'!CL48","v":{"$error":"#DIV/0!"}},{"$f":"'Sorting 2'!CR48","v":{"$error":"#DIV/0!"}}]
[{"$f":"'Sorting 2'!A49","v":"P8"},{"$f":"'Sorting 2'!F49","v":{"$error":"#DIV/0!"}},{"$f":"'Sorting 2'!L49","v":{"$error":"#DIV/0!"}},{"$f":"'Sorting 2'!R49","v":{"$error":"#DIV/0!"}},{"$f":"'Sorting 2'!X49","v":{"$error":"#DIV/0!"}},{"$f":"'Sorting 2'!AD49","v":{"$error":"#DIV/0!"}},{"$f":"'Sorting 2'!AJ49","v":{"$error":"#DIV/0!"}},{"$f":"'Sorting 2'!AP49","v":{"$error":"#DIV/0!"}},{"$f":"'Sorting 2'!AV49","v":{"$error":"#DIV/0!"}},{"$f":"'Sorting 2'!BB49","v":{"$error":"#DIV/0!"}},{"$f":"'Sorting 2'!BH49","v":{"$error":"#DIV/0!"}},{"$f":"'Sorting 2'!BN49","v":{"$error":"#DIV/0!"}},{"$f":"'Sorting 2'!BT49","v":{"$error":"#DIV/0!"}},{"$f":"'Sorting 2'!BZ49","v":{"$error":"#DIV/0!"}},{"$f":"'Sorting 2'!CF49","v":{"$error":"#DIV/0!"}},{"$f":"'Sorting 2'!CL49","v":{"$error":"#DIV/0!"}},{"$f":"'Sorting 2'!CR49","v":{"$error":"#DIV/0!"}}]
[{"$f":"'Sorting 2'!A50","v":"P20"},{"$f":"'Sorting 2'!F50","v":{"$error":"#DIV/0!"}},{"$f":"'Sorting 2'!L50","v":{"$error":"#DIV/0!"}},{"$f":"'Sorting 2'!R50","v":{"$error":"#DIV/0!"}},{"$f":"'Sorting 2'!X50","v":{"$error":"#DIV/0!"}},{"$f":"'Sorting 2'!AD50","v":{"$error":"#DIV/0!"}},{"$f":"'Sorting 2'!AJ50","v":{"$error":"#DIV/0!"}},{"$f":"'Sorting 2'!AP50","v":{"$error":"#DIV/0!"}},{"$f":"'Sorting 2'!AV50","v":{"$error":"#DIV/0!"}},{"$f":"'Sorting 2'!BB50","v":{"$error":"#DIV/0!"}},{"$f":"'Sorting 2'!BH50","v":{"$error":"#DIV/0!"}},{"$f":"'Sorting 2'!BN50","v":{"$error":"#DIV/0!"}},{"$f":"'Sorting 2'!BT50","v":{"$error":"#DIV/0!"}},{"$f":"'Sorting 2'!BZ50","v":{"$error":"#DIV/0!"}},{"$f":"'Sorting 2'!CF50","v":{"$error":"#DIV/0!"}},{"$f":"'Sorting 2'!CL50","v":{"$error":"#DIV/0!"}},{"$f":"'Sorting 2'!CR50","v":{"$error":"#DIV/0!"}}]
[{"$f":"'Sorting 2'!A51","v":"P30"},{"$f":"'Sorting 2'!F51","v":{"$error":"#DIV/0!"}},{"$f":"'Sorting 2'!L51","v":{"$error":"#DIV/0!"}},{"$f":"'Sorting 2'!R51","v":{"$error":"#DIV/0!"}},{"$f":"'Sorting 2'!X51","v":{"$error":"#DIV/0!"}},{"$f":"'Sorting 2'!AD51","v":{"$error":"#DIV/0!"}},{"$f":"'Sorting 2'!AJ51","v":{"$error":"#DIV/0!"}},{"$f":"'Sorting 2'!AP51","v":{"$error":"#DIV/0!"}},{"$f":"'Sorting 2'!AV51","v":{"$error":"#DIV/0!"}},{"$f":"'Sorting 2'!BB51","v":{"$error":"#DIV/0!"}},{"$f":"'Sorting 2'!BH51","v":{"$error":"#DIV/0!"}},{"$f":"'Sorting 2'!BN51","v":{"$error":"#DIV/0!"}},{"$f":"'Sorting 2'!BT51","v":{"$error":"#DIV/0!"}},{"$f":"'Sorting 2'!BZ51","v":{"$error":"#DIV/0!"}},{"$f":"'Sorting 2'!CF51","v":{"$error":"#DIV/0!"}},{"$f":"'Sorting 2'!CL51","v":{"$error":"#DIV/0!"}},{"$f":"'Sorting 2'!CR51","v":{"$error":"#DIV/0!"}}]
[{"$f":"'Sorting 2'!A52","v":"P42"},{"$f":"'Sorting 2'!F52","v":{"$error":"#DIV/0!"}},{"$f":"'Sorting 2'!L52","v":{"$error":"#DIV/0!"}},{"$f":"'Sorting 2'!R52","v":{"$error":"#DIV/0!"}},{"$f":"'Sorting 2'!X52","v":{"$error":"#DIV/0!"}},{"$f":"'Sorting 2'!AD52","v":{"$error":"#DIV/0!"}},{"$f":"'Sorting 2'!AJ52","v":{"$error":"#DIV/0!"}},{"$f":"'Sorting 2'!AP52","v":{"$error":"#DIV/0!"}},{"$f":"'Sorting 2'!AV52","v":{"$error":"#DIV/0!"}},{"$f":"'Sorting 2'!BB52","v":{"$error":"#DIV/0!"}},{"$f":"'Sorting 2'!BH52","v":{"$error":"#DIV/0!"}},{"$f":"'Sorting 2'!BN52","v":{"$error":"#DIV/0!"}},{"$f":"'Sorting 2'!BT52","v":{"$error":"#DIV/0!"}},{"$f":"'Sorting 2'!BZ52","v":{"$error":"#DIV/0!"}},{"$f":"'Sorting 2'!CF52","v":{"$error":"#DIV/0!"}},{"$f":"'Sorting 2'!CL52","v":{"$error":"#DIV/0!"}},{"$f":"'Sorting 2'!CR52","v":{"$error":"#DIV/0!"}}]
[{"$f":"'Sorting 2'!A53","v":"Pig IgA"},{"$f":"'Sorting 2'!F53","v":{"$error":"#DIV/0!"}},{"$f":"'Sorting 2'!L53","v":{"$error":"#DIV/0!"}},{"$f":"'Sorting 2'!R53","v":{"$error":"#DIV/0!"}},{"$f":"'Sorting 2'!X53","v":{"$error":"#DIV/0!"}},{"$f":"'Sorting 2'!AD53","v":{"$error":"#DIV/0!"}},{"$f":"'Sorting 2'!AJ53","v":{"$error":"#DIV/0!"}},{"$f":"'Sorting 2'!AP53","v":{"$error":"#DIV/0!"}},{"$f":"'Sorting 2'!AV53","v":{"$error":"#DIV/0!"}},{"$f":"'Sorting 2'!BB53","v":{"$error":"#DIV/0!"}},{"$f":"'Sorting 2'!BH53","v":{"$error":"#DIV/0!"}},{"$f":"'Sorting 2'!BN53","v":{"$error":"#DIV/0!"}},{"$f":"'Sorting 2'!BT53","v":{"$error":"#DIV/0!"}},{"$f":"'Sorting 2'!BZ53","v":{"$error":"#DIV/0!"}},{"$f":"'Sorting 2'!CF53","v":{"$error":"#DIV/0!"}},{"$f":"'Sorting 2'!CL53","v":{"$error":"#DIV/0!"}},{"$f":"'Sorting 2'!CR53","v":{"$error":"#DIV/0!"}}]
[{"$f":"'Sorting 2'!A54","v":"P9"},{"$f":"'Sorting 2'!F54","v":{"$error":"#DIV/0!"}},{"$f":"'Sorting 2'!L54","v":{"$error":"#DIV/0!"}},{"$f":"'Sorting 2'!R54","v":{"$error":"#DIV/0!"}},{"$f":"'Sorting 2'!X54","v":{"$error":"#DIV/0!"}},{"$f":"'Sorting 2'!AD54","v":{"$error":"#DIV/0!"}},{"$f":"'Sorting 2'!AJ54","v":{"$error":"#DIV/0!"}},{"$f":"'Sorting 2'!AP54","v":{"$error":"#DIV/0!"}},{"$f":"'Sorting 2'!AV54","v":{"$error":"#DIV/0!"}},{"$f":"'Sorting 2'!BB54","v":{"$error":"#DIV/0!"}},{"$f":"'Sorting 2'!BH54","v":{"$error":"#DIV/0!"}},{"$f":"'Sorting 2'!BN54","v":{"$error":"#DIV/0!"}},{"$f":"'Sorting 2'!BT54","v":{"$error":"#DIV/0!"}},{"$f":"'Sorting 2'!BZ54","v":{"$error":"#DIV/0!"}},{"$f":"'Sorting 2'!CF54","v":{"$error":"#DIV/0!"}},{"$f":"'Sorting 2'!CL54","v":{"$error":"#DIV/0!"}},{"$f":"'Sorting 2'!CR54","v":{"$error":"#DIV/0!"}}]
[{"$f":"'Sorting 2'!A55","v":"P21"},{"$f":"'Sorting 2'!F55","v":{"$error":"#DIV/0!"}},{"$f":"'Sorting 2'!L55","v":{"$error":"#DIV/0!"}},{"$f":"'Sorting 2'!R55","v":{"$error":"#DIV/0!"}},{"$f":"'Sorting 2'!X55","v":{"$error":"#DIV/0!"}},{"$f":"'Sorting 2'!AD55","v":{"$error":"#DIV/0!"}},{"$f":"'Sorting 2'!AJ55","v":{"$error":"#DIV/0!"}},{"$f":"'Sorting 2'!AP55","v":{"$error":"#DIV/0!"}},{"$f":"'Sorting 2'!AV55","v":{"$error":"#DIV/0!"}},{"$f":"'Sorting 2'!BB55","v":{"$error":"#DIV/0!"}},{"$f":"'Sorting 2'!BH55","v":{"$error":"#DIV/0!"}},{"$f":"'Sorting 2'!BN55","v":{"$error":"#DIV/0!"}},{"$f":"'Sorting 2'!BT55","v":{"$error":"#DIV/0!"}},{"$f":"'Sorting 2'!BZ55","v":{"$error":"#DIV/0!"}},{"$f":"'Sorting 2'!CF55","v":{"$error":"#DIV/0!"}},{"$f":"'Sorting 2'!CL55","v":{"$error":"#DIV/0!"}},{"$f":"'Sorting 2'!CR55","v":{"$error":"#DIV/0!"}}]
[{"$f":"'Sorting 2'!A56","v":"P31"},{"$f":"'Sorting 2'!F56","v":{"$error":"#DIV/0!"}},{"$f":"'Sorting 2'!L56","v":{"$error":"#DIV/0!"}},{"$f":"'Sorting 2'!R56","v":{"$error":"#DIV/0!"}},{"$f":"'Sorting 2'!X56","v":{"$error":"#DIV/0!"}},{"$f":"'Sorting 2'!AD56","v":{"$error":"#DIV/0!"}},{"$f":"'Sorting 2'!AJ56","v":{"$error":"#DIV/0!"}},{"$f":"'Sorting 2'!AP56","v":{"$error":"#DIV/0!"}},{"$f":"'Sorting 2'!AV56","v":{"$error":"#DIV/0!"}},{"$f":"'Sorting 2'!BB56","v":{"$error":"#DIV/0!"}},{"$f":"'Sorting 2'!BH56","v":{"$error":"#DIV/0!"}},{"$f":"'Sorting 2'!BN56","v":{"$error":"#DIV/0!"}},{"$f":"'Sorting 2'!BT56","v":{"$error":"#DIV/0!"}},{"$f":"'Sorting 2'!BZ56","v":{"$error":"#DIV/0!"}},{"$f":"'Sorting 2'!CF56","v":{"$error":"#DIV/0!"}},{"$f":"'Sorting 2'!CL56","v":{"$error":"#DIV/0!"}},{"$f":"'Sorting 2'!CR56","v":{"$error":"#DIV/0!"}}]
[{"$f":"'Sorting 2'!A57","v":"P43"},{"$f":"'Sorting 2'!F57","v":{"$error":"#DIV/0!"}},{"$f":"'Sorting 2'!L57","v":{"$error":"#DIV/0!"}},{"$f":"'Sorting 2'!R57","v":{"$error":"#DIV/0!"}},{"$f":"'Sorting 2'!X57","v":{"$error":"#DIV/0!"}},{"$f":"'Sorting 2'!AD57","v":{"$error":"#DIV/0!"}},{"$f":"'Sorting 2'!AJ57","v":{"$error":"#DIV/0!"}},{"$f":"'Sorting 2'!AP57","v":{"$error":"#DIV/0!"}},{"$f":"'Sorting 2'!AV57","v":{"$error":"#DIV/0!"}},{"$f":"'Sorting 2'!BB57","v":{"$error":"#DIV/0!"}},{"$f":"'Sorting 2'!BH57","v":{"$error":"#DIV/0!"}},{"$f":"'Sorting 2'!BN57","v":{"$error":"#DIV/0!"}},{"$f":"'Sorting 2'!BT57","v":{"$error":"#DIV/0!"}},{"$f":"'Sorting 2'!BZ57","v":{"$error":"#DIV/0!"}},{"$f":"'Sorting 2'!CF57","v":{"$error":"#DIV/0!"}},{"$f":"'Sorting 2'!CL57","v":{"$error":"#DIV/0!"}},{"$f":"'Sorting 2'!CR57","v":{"$error":"#DIV/0!"}}]
[{"$f":"'Sorting 2'!A58","v":"P10"},{"$f":"'Sorting 2'!F58","v":{"$error":"#DIV/0!"}},{"$f":"'Sorting 2'!L58","v":{"$error":"#DIV/0!"}},{"$f":"'Sorting 2'!R58","v":{"$error":"#DIV/0!"}},{"$f":"'Sorting 2'!X58","v":{"$error":"#DIV/0!"}},{"$f":"'Sorting 2'!AD58","v":{"$error":"#DIV/0!"}},{"$f":"'Sorting 2'!AJ58","v":{"$error":"#DIV/0!"}},{"$f":"'Sorting 2'!AP58","v":{"$error":"#DIV/0!"}},{"$f":"'Sorting 2'!AV58","v":{"$error":"#DIV/0!"}},{"$f":"'Sorting 2'!BB58","v":{"$error":"#DIV/0!"}},{"$f":"'Sorting 2'!BH58","v":{"$error":"#DIV/0!"}},{"$f":"'Sorting 2'!BN58","v":{"$error":"#DIV/0!"}},{"$f":"'Sorting 2'!BT58","v":{"$error":"#DIV/0!"}},{"$f":"'Sorting 2'!BZ58","v":{"$error":"#DIV/0!"}},{"$f":"'Sorting 2'!CF58","v":{"$error":"#DIV/0!"}},{"$f":"'Sorting 2'!CL58","v":{"$error":"#DIV/0!"}},{"$f":"'Sorting 2'!CR58","v":{"$error":"#DIV/0!"}}]
[{"$f":"'Sorting 2'!A59","v":"P32"},{"$f":"'Sorting 2'!F59","v":{"$error":"#DIV/0!"}},{"$f":"'Sorting 2'!L59","v":{"$error":"#DIV/0!"}},{"$f":"'Sorting 2'!R59","v":{"$error":"#DIV/0!"}},{"$f":"'Sorting 2'!X59","v":{"$error":"#DIV/0!"}},{"$f":"'Sorting 2'!AD59","v":{"$error":"#DIV/0!"}},{"$f":"'Sorting 2'!AJ59","v":{"$error":"#DIV/0!"}},{"$f":"'Sorting 2'!AP59","v":{"$error":"#DIV/0!"}},{"$f":"'Sorting 2'!AV59","v":{"$error":"#DIV/0!"}},{"$f":"'Sorting 2'!BB59","v":{"$error":"#DIV/0!"}},{"$f":"'Sorting 2'!BH59","v":{"$error":"#DIV/0!"}},{"$f":"'Sorting 2'!BN59","v":{"$error":"#DIV/0!"}},{"$f":"'Sorting 2'!BT59","v":{"$error":"#DIV/0!"}},{"$f":"'Sorting 2'!BZ59","v":{"$error":"#DIV/0!"}},{"$f":"'Sorting 2'!CF59","v":{"$error":"#DIV/0!"}},{"$f":"'Sorting 2'!CL59","v":{"$error":"#DIV/0!"}},{"$f":"'Sorting 2'!CR59","v":{"$error":"#DIV/0!"}}]
[{"$f":"'Sorting 2'!A60","v":"P44"},{"$f":"'Sorting 2'!F60","v":{"$error":"#DIV/0!"}},{"$f":"'Sorting 2'!L60","v":{"$error":"#DIV/0!"}},{"$f":"'Sorting 2'!R60","v":{"$error":"#DIV/0!"}},{"$f":"'Sorting 2'!X60","v":{"$error":"#DIV/0!"}},{"$f":"'Sorting 2'!AD60","v":{"$error":"#DIV/0!"}},{"$f":"'Sorting 2'!AJ60","v":{"$error":"#DIV/0!"}},{"$f":"'Sorting 2'!AP60","v":{"$error":"#DIV/0!"}},{"$f":"'Sorting 2'!AV60","v":{"$error":"#DIV/0!"}},{"$f":"'Sorting 2'!BB60","v":{"$error":"#DIV/0!"}},{"$f":"'Sorting 2'!BH60","v":{"$error":"#DIV/0!"}},{"$f":"'Sorting 2'!BN60","v":{"$error":"#DIV/0!"}},{"$f":"'Sorting 2'!BT60","v":{"$error":"#DIV/0!"}},{"$f":"'Sorting 2'!BZ60","v":{"$error":"#DIV/0!"}},{"$f":"'Sorting 2'!CF60","v":{"$error":"#DIV/0!"}},{"$f":"'Sorting 2'!CL60","v":{"$error":"#DIV/0!"}},{"$f":"'Sorting 2'!CR60","v":{"$error":"#DIV/0!"}}]
[{"$f":"'Sorting 2'!A61","v":"P44"},{"$f":"'Sorting 2'!F61","v":{"$error":"#DIV/0!"}},{"$f":"'Sorting 2'!L61","v":{"$error":"#DIV/0!"}},{"$f":"'Sorting 2'!R61","v":{"$error":"#DIV/0!"}},{"$f":"'Sorting 2'!X61","v":{"$error":"#DIV/0!"}},{"$f":"'Sorting 2'!AD61","v":{"$error":"#DIV/0!"}},{"$f":"'Sorting 2'!AJ61","v":{"$error":"#DIV/0!"}},{"$f":"'Sorting 2'!AP61","v":{"$error":"#DIV/0!"}},{"$f":"'Sorting 2'!AV61","v":{"$error":"#DIV/0!"}},{"$f":"'Sorting 2'!BB61","v":{"$error":"#DIV/0!"}},{"$f":"'Sorting 2'!BH61","v":{"$error":"#DIV/0!"}},{"$f":"'Sorting 2'!BN61","v":{"$error":"#DIV/0!"}},{"$f":"'Sorting 2'!BT61","v":{"$error":"#DIV/0!"}},{"$f":"'Sorting 2'!BZ61","v":{"$error":"#DIV/0!"}},{"$f":"'Sorting 2'!CF61","v":{"$error":"#DIV/0!"}},{"$f":"'Sorting 2'!CL61","v":{"$error":"#DIV/0!"}},{"$f":"'Sorting 2'!CR61","v":{"$error":"#DIV/0!"}}]

{"sheet":"Average w-o bkg","index":16,"n_rows":60,"n_cols":17,"rows_kept":60,"cut":false,"hidden":true,"merged":[[1,4,2,4]]}
[]
["RayBio® Pig Cytokine Protein Array G1 Analysis Tool - Average Without Background"]
[]
["Target",{"$f":"'Averages 2'!B4","v":"Sample 1"},{"$f":"'Averages 2'!C4","v":"Sample 2"},{"$f":"'Averages 2'!D4","v":"Sample 3"},{"$f":"'Averages 2'!E4","v":"Sample 4"},{"$f":"'Averages 2'!F4","v":"Sample 5"},{"$f":"'Averages 2'!G4","v":"Sample 6"},{"$f":"'Averages 2'!H4","v":"Sample 7"},{"$f":"'Averages 2'!I4","v":"Sample 8"},{"$f":"'Averages 2'!J4","v":"Sample 9"},{"$f":"'Averages 2'!K4","v":"Sample 10"},{"$f":"'Averages 2'!L4","v":"Sample 11"},{"$f":"'Averages 2'!M4","v":"Sample 12"},{"$f":"'Averages 2'!N4","v":"Sample 13"},{"$f":"'Averages 2'!O4","v":"Sample 14"},{"$f":"'Averages 2'!P4","v":"Sample 15"},{"$f":"'Averages 2'!Q4","v":"Sample 16"}]
[{"$f":"'Sorting 2'!A6","v":"POS"},{"$f":"IF('Averages 2'!B5<0,0,'Averages 2'!B5)","v":0},{"$f":"IF('Averages 2'!C5<0,0,'Averages 2'!C5)","v":0},{"$f":"IF('Averages 2'!D5<0,0,'Averages 2'!D5)","v":0},{"$f":"IF('Averages 2'!E5<0,0,'Averages 2'!E5)","v":0},{"$f":"IF('Averages 2'!F5<0,0,'Averages 2'!F5)","v":0},{"$f":"IF('Averages 2'!G5<0,0,'Averages 2'!G5)","v":0},{"$f":"IF('Averages 2'!H5<0,0,'Averages 2'!H5)","v":0},{"$f":"IF('Averages 2'!I5<0,0,'Averages 2'!I5)","v":0},{"$f":"IF('Averages 2'!J5<0,0,'Averages 2'!J5)","v":0},{"$f":"IF('Averages 2'!K5<0,0,'Averages 2'!K5)","v":0},{"$f":"IF('Averages 2'!L5<0,0,'Averages 2'!L5)","v":0},{"$f":"IF('Averages 2'!M5<0,0,'Averages 2'!M5)","v":0},{"$f":"IF('Averages 2'!N5<0,0,'Averages 2'!N5)","v":0},{"$f":"IF('Averages 2'!O5<0,0,'Averages 2'!O5)","v":0},{"$f":"IF('Averages 2'!P5<0,0,'Averages 2'!P5)","v":0},{"$f":"IF('Averages 2'!Q5<0,0,'Averages 2'!Q5)","v":0}]
[{"$f":"'Sorting 2'!A7","v":"NEG"},{"$f":"IF('Averages 2'!B6<0,0,'Averages 2'!B6)","v":0},{"$f":"IF('Averages 2'!C6<0,0,'Averages 2'!C6)","v":0},{"$f":"IF('Averages 2'!D6<0,0,'Averages 2'!D6)","v":0},{"$f":"IF('Averages 2'!E6<0,0,'Averages 2'!E6)","v":0},{"$f":"IF('Averages 2'!F6<0,0,'Averages 2'!F6)","v":0},{"$f":"IF('Averages 2'!G6<0,0,'Averages 2'!G6)","v":0},{"$f":"IF('Averages 2'!H6<0,0,'Averages 2'!H6)","v":0},{"$f":"IF('Averages 2'!I6<0,0,'Averages 2'!I6)","v":0},{"$f":"IF('Averages 2'!J6<0,0,'Averages 2'!J6)","v":0},{"$f":"IF('Averages 2'!K6<0,0,'Averages 2'!K6)","v":0},{"$f":"IF('Averages 2'!L6<0,0,'Averages 2'!L6)","v":0},{"$f":"IF('Averages 2'!M6<0,0,'Averages 2'!M6)","v":0},{"$f":"IF('Averages 2'!N6<0,0,'Averages 2'!N6)","v":0},{"$f":"IF('Averages 2'!O6<0,0,'Averages 2'!O6)","v":0},{"$f":"IF('Averages 2'!P6<0,0,'Averages 2'!P6)","v":0},{"$f":"IF('Averages 2'!Q6<0,0,'Averages 2'!Q6)","v":0}]
[{"$f":"'Sorting 2'!A8","v":"P11"},{"$f":"IF('Averages 2'!B7<0,0,'Averages 2'!B7)","v":{"$error":"#DIV/0!"}},{"$f":"IF('Averages 2'!C7<0,0,'Averages 2'!C7)","v":{"$error":"#DIV/0!"}},{"$f":"IF('Averages 2'!D7<0,0,'Averages 2'!D7)","v":{"$error":"#DIV/0!"}},{"$f":"IF('Averages 2'!E7<0,0,'Averages 2'!E7)","v":{"$error":"#DIV/0!"}},{"$f":"IF('Averages 2'!F7<0,0,'Averages 2'!F7)","v":{"$error":"#DIV/0!"}},{"$f":"IF('Averages 2'!G7<0,0,'Averages 2'!G7)","v":{"$error":"#DIV/0!"}},{"$f":"IF('Averages 2'!H7<0,0,'Averages 2'!H7)","v":{"$error":"#DIV/0!"}},{"$f":"IF('Averages 2'!I7<0,0,'Averages 2'!I7)","v":{"$error":"#DIV/0!"}},{"$f":"IF('Averages 2'!J7<0,0,'Averages 2'!J7)","v":{"$error":"#DIV/0!"}},{"$f":"IF('Averages 2'!K7<0,0,'Averages 2'!K7)","v":{"$error":"#DIV/0!"}},{"$f":"IF('Averages 2'!L7<0,0,'Averages 2'!L7)","v":{"$error":"#DIV/0!"}},{"$f":"IF('Averages 2'!M7<0,0,'Averages 2'!M7)","v":{"$error":"#DIV/0!"}},{"$f":"IF('Averages 2'!N7<0,0,'Averages 2'!N7)","v":{"$error":"#DIV/0!"}},{"$f":"IF('Averages 2'!O7<0,0,'Averages 2'!O7)","v":{"$error":"#DIV/0!"}},{"$f":"IF('Averages 2'!P7<0,0,'Averages 2'!P7)","v":{"$error":"#DIV/0!"}},{"$f":"IF('Averages 2'!Q7<0,0,'Averages 2'!Q7)","v":{"$error":"#DIV/0!"}}]
[{"$f":"'Sorting 2'!A9","v":"P33"},{"$f":"IF('Averages 2'!B8<0,0,'Averages 2'!B8)","v":{"$error":"#DIV/0!"}},{"$f":"IF('Averages 2'!C8<0,0,'Averages 2'!C8)","v":{"$error":"#DIV/0!"}},{"$f":"IF('Averages 2'!D8<0,0,'Averages 2'!D8)","v":{"$error":"#DIV/0!"}},{"$f":"IF('Averages 2'!E8<0,0,'Averages 2'!E8)","v":{"$error":"#DIV/0!"}},{"$f":"IF('Averages 2'!F8<0,0,'Averages 2'!F8)","v":{"$error":"#DIV/0!"}},{"$f":"IF('Averages 2'!G8<0,0,'Averages 2'!G8)","v":{"$error":"#DIV/0!"}},{"$f":"IF('Averages 2'!H8<0,0,'Averages 2'!H8)","v":{"$error":"#DIV/0!"}},{"$f":"IF('Averages 2'!I8<0,0,'Averages 2'!I8)","v":{"$error":"#DIV/0!"}},{"$f":"IF('Averages 2'!J8<0,0,'Averages 2'!J8)","v":{"$error":"#DIV/0!"}},{"$f":"IF('Averages 2'!K8<0,0,'Averages 2'!K8)","v":{"$error":"#DIV/0!"}},{"$f":"IF('Averages 2'!L8<0,0,'Averages 2'!L8)","v":{"$error":"#DIV/0!"}},{"$f":"IF('Averages 2'!M8<0,0,'Averages 2'!M8)","v":{"$error":"#DIV/0!"}},{"$f":"IF('Averages 2'!N8<0,0,'Averages 2'!N8)","v":{"$error":"#DIV/0!"}},{"$f":"IF('Averages 2'!O8<0,0,'Averages 2'!O8)","v":{"$error":"#DIV/0!"}},{"$f":"IF('Averages 2'!P8<0,0,'Averages 2'!P8)","v":{"$error":"#DIV/0!"}},{"$f":"IF('Averages 2'!Q8<0,0,'Averages 2'!Q8)","v":{"$error":"#DIV/0!"}}]
[{"$f":"'Sorting 2'!A10","v":"P45"},{"$f":"IF('Averages 2'!B9<0,0,'Averages 2'!B9)","v":{"$error":"#DIV/0!"}},{"$f":"IF('Averages 2'!C9<0,0,'Averages 2'!C9)","v":{"$error":"#DIV/0!"}},{"$f":"IF('Averages 2'!D9<0,0,'Averages 2'!D9)","v":{"$error":"#DIV/0!"}},{"$f":"IF('Averages 2'!E9<0,0,'Averages 2'!E9)","v":{"$error":"#DIV/0!"}},{"$f":"IF('Averages 2'!F9<0,0,'Averages 2'!F9)","v":{"$error":"#DIV/0!"}},{"$f":"IF('Averages 2'!G9<0,0,'Averages 2'!G9)","v":{"$error":"#DIV/0!"}},{"$f":"IF('Averages 2'!H9<0,0,'Averages 2'!H9)","v":{"$error":"#DIV/0!"}},{"$f":"IF('Averages 2'!I9<0,0,'Averages 2'!I9)","v":{"$error":"#DIV/0!"}},{"$f":"IF('Averages 2'!J9<0,0,'Averages 2'!J9)","v":{"$error":"#DIV/0!"}},{"$f":"IF('Averages 2'!K9<0,0,'Averages 2'!K9)","v":{"$error":"#DIV/0!"}},{"$f":"IF('Averages 2'!L9<0,0,'Averages 2'!L9)","v":{"$error":"#DIV/0!"}},{"$f":"IF('Averages 2'!M9<0,0,'Averages 2'!M9)","v":{"$error":"#DIV/0!"}},{"$f":"IF('Averages 2'!N9<0,0,'Averages 2'!N9)","v":{"$error":"#DIV/0!"}},{"$f":"IF('Averages 2'!O9<0,0,'Averages 2'!O9)","v":{"$error":"#DIV/0!"}},{"$f":"IF('Averages 2'!P9<0,0,'Averages 2'!P9)","v":{"$error":"#DIV/0!"}},{"$f":"IF('Averages 2'!Q9<0,0,'Averages 2'!Q9)","v":{"$error":"#DIV/0!"}}]
[{"$f":"'Sorting 2'!A11","v":"P12"},{"$f":"IF('Averages 2'!B10<0,0,'Averages 2'!B10)","v":{"$error":"#DIV/0!"}},{"$f":"IF('Averages 2'!C10<0,0,'Averages 2'!C10)","v":{"$error":"#DIV/0!"}},{"$f":"IF('Averages 2'!D10<0,0,'Averages 2'!D10)","v":{"$error":"#DIV/0!"}},{"$f":"IF('Averages 2'!E10<0,0,'Averages 2'!E10)","v":{"$error":"#DIV/0!"}},{"$f":"IF('Averages 2'!F10<0,0,'Averages 2'!F10)","v":{"$error":"#DIV/0!"}},{"$f":"IF('Averages 2'!G10<0,0,'Averages 2'!G10)","v":{"$error":"#DIV/0!"}},{"$f":"IF('Averages 2'!H10<0,0,'Averages 2'!H10)","v":{"$error":"#DIV/0!"}},{"$f":"IF('Averages 2'!I10<0,0,'Averages 2'!I10)","v":{"$error":"#DIV/0!"}},{"$f":"IF('Averages 2'!J10<0,0,'Averages 2'!J10)","v":{"$error":"#DIV/0!"}},{"$f":"IF('Averages 2'!K10<0,0,'Averages 2'!K10)","v":{"$error":"#DIV/0!"}},{"$f":"IF('Averages 2'!L10<0,0,'Averages 2'!L10)","v":{"$error":"#DIV/0!"}},{"$f":"IF('Averages 2'!M10<0,0,'Averages 2'!M10)","v":{"$error":"#DIV/0!"}},{"$f":"IF('Averages 2'!N10<0,0,'Averages 2'!N10)","v":{"$error":"#DIV/0!"}},{"$f":"IF('Averages 2'!O10<0,0,'Averages 2'!O10)","v":{"$error":"#DIV/0!"}},{"$f":"IF('Averages 2'!P10<0,0,'Averages 2'!P10)","v":{"$error":"#DIV/0!"}},{"$f":"IF('Averages 2'!Q10<0,0,'Averages 2'!Q10)","v":{"$error":"#DIV/0!"}}]
[{"$f":"'Sorting 2'!A12","v":"P22"},{"$f":"IF('Averages 2'!B11<0,0,'Averages 2'!B11)","v":{"$error":"#DIV/0!"}},{"$f":"IF('Averages 2'!C11<0,0,'Averages 2'!C11)","v":{"$error":"#DIV/0!"}},{"$f":"IF('Averages 2'!D11<0,0,'Averages 2'!D11)","v":{"$error":"#DIV/0!"}},{"$f":"IF('Averages 2'!E11<0,0,'Averages 2'!E11)","v":{"$error":"#DIV/0!"}},{"$f":"IF('Averages 2'!F11<0,0,'Averages 2'!F11)","v":{"$error":"#DIV/0!"}},{"$f":"IF('Averages 2'!G11<0,0,'Averages 2'!G11)","v":{"$error":"#DIV/0!"}},{"$f":"IF('Averages 2'!H11<0,0,'Averages 2'!H11)","v":{"$error":"#DIV/0!"}},{"$f":"IF('Averages 2'!I11<0,0,'Averages 2'!I11)","v":{"$error":"#DIV/0!"}},{"$f":"IF('Averages 2'!J11<0,0,'Averages 2'!J11)","v":{"$error":"#DIV/0!"}},{"$f":"IF('Averages 2'!K11<0,0,'Averages 2'!K11)","v":{"$error":"#DIV/0!"}},{"$f":"IF('Averages 2'!L11<0,0,'Averages 2'!L11)","v":{"$error":"#DIV/0!"}},{"$f":"IF('Averages 2'!M11<0,0,'Averages 2'!M11)","v":{"$error":"#DIV/0!"}},{"$f":"IF('Averages 2'!N11<0,0,'Averages 2'!N11)","v":{"$error":"#DIV/0!"}},{"$f":"IF('Averages 2'!O11<0,0,'Averages 2'!O11)","v":{"$error":"#DIV/0!"}},{"$f":"IF('Averages 2'!P11<0,0,'Averages 2'!P11)","v":{"$error":"#DIV/0!"}},{"$f":"IF('Averages 2'!Q11<0,0,'Averages 2'!Q11)","v":{"$error":"#DIV/0!"}}]
[{"$f":"'Sorting 2'!A13","v":"P34"},{"$f":"IF('Averages 2'!B12<0,0,'Averages 2'!B12)","v":{"$error":"#DIV/0!"}},{"$f":"IF('Averages 2'!C12<0,0,'Averages 2'!C12)","v":{"$error":"#DIV/0!"}},{"$f":"IF('Averages 2'!D12<0,0,'Averages 2'!D12)","v":{"$error":"#DIV/0!"}},{"$f":"IF('Averages 2'!E12<0,0,'Averages 2'!E12)","v":{"$error":"#DIV/0!"}},{"$f":"IF('Averages 2'!F12<0,0,'Averages 2'!F12)","v":{"$error":"#DIV/0!"}},{"$f":"IF('Averages 2'!G12<0,0,'Averages 2'!G12)","v":{"$error":"#DIV/0!"}},{"$f":"IF('Averages 2'!H12<0,0,'Averages 2'!H12)","v":{"$error":"#DIV/0!"}},{"$f":"IF('Averages 2'!I12<0,0,'Averages 2'!I12)","v":{"$error":"#DIV/0!"}},{"$f":"IF('Averages 2'!J12<0,0,'Averages 2'!J12)","v":{"$error":"#DIV/0!"}},{"$f":"IF('Averages 2'!K12<0,0,'Averages 2'!K12)","v":{"$error":"#DIV/0!"}},{"$f":"IF('Averages 2'!L12<0,0,'Averages 2'!L12)","v":{"$error":"#DIV/0!"}},{"$f":"IF('Averages 2'!M12<0,0,'Averages 2'!M12)","v":{"$error":"#DIV/0!"}},{"$f":"IF('Averages 2'!N12<0,0,'Averages 2'!N12)","v":{"$error":"#DIV/0!"}},{"$f":"IF('Averages 2'!O12<0,0,'Averages 2'!O12)","v":{"$error":"#DIV/0!"}},{"$f":"IF('Averages 2'!P12<0,0,'Averages 2'!P12)","v":{"$error":"#DIV/0!"}},{"$f":"IF('Averages 2'!Q12<0,0,'Averages 2'!Q12)","v":{"$error":"#DIV/0!"}}]
[{"$f":"'Sorting 2'!A14","v":"P46"},{"$f":"IF('Averages 2'!B13<0,0,'Averages 2'!B13)","v":{"$error":"#DIV/0!"}},{"$f":"IF('Averages 2'!C13<0,0,'Averages 2'!C13)","v":{"$error":"#DIV/0!"}},{"$f":"IF('Averages 2'!D13<0,0,'Averages 2'!D13)","v":{"$error":"#DIV/0!"}},{"$f":"IF('Averages 2'!E13<0,0,'Averages 2'!E13)","v":{"$error":"#DIV/0!"}},{"$f":"IF('Averages 2'!F13<0,0,'Averages 2'!F13)","v":{"$error":"#DIV/0!"}},{"$f":"IF('Averages 2'!G13<0,0,'Averages 2'!G13)","v":{"$error":"#DIV/0!"}},{"$f":"IF('Averages 2'!H13<0,0,'Averages 2'!H13)","v":{"$error":"#DIV/0!"}},{"$f":"IF('Averages 2'!I13<0,0,'Averages 2'!I13)","v":{"$error":"#DIV/0!"}},{"$f":"IF('Averages 2'!J13<0,0,'Averages 2'!J13)","v":{"$error":"#DIV/0!"}},{"$f":"IF('Averages 2'!K13<0,0,'Averages 2'!K13)","v":{"$error":"#DIV/0!"}},{"$f":"IF('Averages 2'!L13<0,0,'Averages 2'!L13)","v":{"$error":"#DIV/0!"}},{"$f":"IF('Averages 2'!M13<0,0,'Averages 2'!M13)","v":{"$error":"#DIV/0!"}},{"$f":"IF('Averages 2'!N13<0,0,'Averages 2'!N13)","v":{"$error":"#DIV/0!"}},{"$f":"IF('Averages 2'!O13<0,0,'Averages 2'!O13)","v":{"$error":"#DIV/0!"}},{"$f":"IF('Averages 2'!P13<0,0,'Averages 2'!P13)","v":{"$error":"#DIV/0!"}},{"$f":"IF('Averages 2'!Q13<0,0,'Averages 2'!Q13)","v":{"$error":"#DIV/0!"}}]
[{"$f":"'Sorting 2'!A15","v":"P1"},{"$f":"IF('Averages 2'!B14<0,0,'Averages 2'!B14)","v":{"$error":"#DIV/0!"}},{"$f":"IF('Averages 2'!C14<0,0,'Averages 2'!C14)","v":{"$error":"#DIV/0!"}},{"$f":"IF('Averages 2'!D14<0,0,'Averages 2'!D14)","v":{"$error":"#DIV/0!"}},{"$f":"IF('Averages 2'!E14<0,0,'Averages 2'!E14)","v":{"$error":"#DIV/0!"}},{"$f":"IF('Averages 2'!F14<0,0,'Averages 2'!F14)","v":{"$error":"#DIV/0!"}},{"$f":"IF('Averages 2'!G14<0,0,'Averages 2'!G14)","v":{"$error":"#DIV/0!"}},{"$f":"IF('Averages 2'!H14<0,0,'Averages 2'!H14)","v":{"$error":"#DIV/0!"}},{"$f":"IF('Averages 2'!I14<0,0,'Averages 2'!I14)","v":{"$error":"#DIV/0!"}},{"$f":"IF('Averages 2'!J14<0,0,'Averages 2'!J14)","v":{"$error":"#DIV/0!"}},{"$f":"IF('Averages 2'!K14<0,0,'Averages 2'!K14)","v":{"$error":"#DIV/0!"}},{"$f":"IF('Averages 2'!L14<0,0,'Averages 2'!L14)","v":{"$error":"#DIV/0!"}},{"$f":"IF('Averages 2'!M14<0,0,'Averages 2'!M14)","v":{"$error":"#DIV/0!"}},{"$f":"IF('Averages 2'!N14<0,0,'Averages 2'!N14)","v":{"$error":"#DIV/0!"}},{"$f":"IF('Averages 2'!O14<0,0,'Averages 2'!O14)","v":{"$error":"#DIV/0!"}},{"$f":"IF('Averages 2'!P14<0,0,'Averages 2'!P14)","v":{"$error":"#DIV/0!"}},{"$f":"IF('Averages 2'!Q14<0,0,'Averages 2'!Q14)","v":{"$error":"#DIV/0!"}}]
[{"$f":"'Sorting 2'!A16","v":"P13"},{"$f":"IF('Averages 2'!B15<0,0,'Averages 2'!B15)","v":{"$error":"#DIV/0!"}},{"$f":"IF('Averages 2'!C15<0,0,'Averages 2'!C15)","v":{"$error":"#DIV/0!"}},{"$f":"IF('Averages 2'!D15<0,0,'Averages 2'!D15)","v":{"$error":"#DIV/0!"}},{"$f":"IF('Averages 2'!E15<0,0,'Averages 2'!E15)","v":{"$error":"#DIV/0!"}},{"$f":"IF('Averages 2'!F15<0,0,'Averages 2'!F15)","v":{"$error":"#DIV/0!"}},{"$f":"IF('Averages 2'!G15<0,0,'Averages 2'!G15)","v":{"$error":"#DIV/0!"}},{"$f":"IF('Averages 2'!H15<0,0,'Averages 2'!H15)","v":{"$error":"#DIV/0!"}},{"$f":"IF('Averages 2'!I15<0,0,'Averages 2'!I15)","v":{"$error":"#DIV/0!"}},{"$f":"IF('Averages 2'!J15<0,0,'Averages 2'!J15)","v":{"$error":"#DIV/0!"}},{"$f":"IF('Averages 2'!K15<0,0,'Averages 2'!K15)","v":{"$error":"#DIV/0!"}},{"$f":"IF('Averages 2'!L15<0,0,'Averages 2'!L15)","v":{"$error":"#DIV/0!"}},{"$f":"IF('Averages 2'!M15<0,0,'Averages 2'!M15)","v":{"$error":"#DIV/0!"}},{"$f":"IF('Averages 2'!N15<0,0,'Averages 2'!N15)","v":{"$error":"#DIV/0!"}},{"$f":"IF('Averages 2'!O15<0,0,'Averages 2'!O15)","v":{"$error":"#DIV/0!"}},{"$f":"IF('Averages 2'!P15<0,0,'Averages 2'!P15)","v":{"$error":"#DIV/0!"}},{"$f":"IF('Averages 2'!Q15<0,0,'Averages 2'!Q15)","v":{"$error":"#DIV/0!"}}]
[{"$f":"'Sorting 2'!A17","v":"P23"},{"$f":"IF('Averages 2'!B16<0,0,'Averages 2'!B16)","v":{"$error":"#DIV/0!"}},{"$f":"IF('Averages 2'!C16<0,0,'Averages 2'!C16)","v":{"$error":"#DIV/0!"}},{"$f":"IF('Averages 2'!D16<0,0,'Averages 2'!D16)","v":{"$error":"#DIV/0!"}},{"$f":"IF('Averages 2'!E16<0,0,'Averages 2'!E16)","v":{"$error":"#DIV/0!"}},{"$f":"IF('Averages 2'!F16<0,0,'Averages 2'!F16)","v":{"$error":"#DIV/0!"}},{"$f":"IF('Averages 2'!G16<0,0,'Averages 2'!G16)","v":{"$error":"#DIV/0!"}},{"$f":"IF('Averages 2'!H16<0,0,'Averages 2'!H16)","v":{"$error":"#DIV/0!"}},{"$f":"IF('Averages 2'!I16<0,0,'Averages 2'!I16)","v":{"$error":"#DIV/0!"}},{"$f":"IF('Averages 2'!J16<0,0,'Averages 2'!J16)","v":{"$error":"#DIV/0!"}},{"$f":"IF('Averages 2'!K16<0,0,'Averages 2'!K16)","v":{"$error":"#DIV/0!"}},{"$f":"IF('Averages 2'!L16<0,0,'Averages 2'!L16)","v":{"$error":"#DIV/0!"}},{"$f":"IF('Averages 2'!M16<0,0,'Averages 2'!M16)","v":{"$error":"#DIV/0!"}},{"$f":"IF('Averages 2'!N16<0,0,'Averages 2'!N16)","v":{"$error":"#DIV/0!"}},{"$f":"IF('Averages 2'!O16<0,0,'Averages 2'!O16)","v":{"$error":"#DIV/0!"}},{"$f":"IF('Averages 2'!P16<0,0,'Averages 2'!P16)","v":{"$error":"#DIV/0!"}},{"$f":"IF('Averages 2'!Q16<0,0,'Averages 2'!Q16)","v":{"$error":"#DIV/0!"}}]
[{"$f":"'Sorting 2'!A18","v":"P35"},{"$f":"IF('Averages 2'!B17<0,0,'Averages 2'!B17)","v":{"$error":"#DIV/0!"}},{"$f":"IF('Averages 2'!C17<0,0,'Averages 2'!C17)","v":{"$error":"#DIV/0!"}},{"$f":"IF('Averages 2'!D17<0,0,'Averages 2'!D17)","v":{"$error":"#DIV/0!"}},{"$f":"IF('Averages 2'!E17<0,0,'Averages 2'!E17)","v":{"$error":"#DIV/0!"}},{"$f":"IF('Averages 2'!F17<0,0,'Averages 2'!F17)","v":{"$error":"#DIV/0!"}},{"$f":"IF('Averages 2'!G17<0,0,'Averages 2'!G17)","v":{"$error":"#DIV/0!"}},{"$f":"IF('Averages 2'!H17<0,0,'Averages 2'!H17)","v":{"$error":"#DIV/0!"}},{"$f":"IF('Averages 2'!I17<0,0,'Averages 2'!I17)","v":{"$error":"#DIV/0!"}},{"$f":"IF('Averages 2'!J17<0,0,'Averages 2'!J17)","v":{"$error":"#DIV/0!"}},{"$f":"IF('Averages 2'!K17<0,0,'Averages 2'!K17)","v":{"$error":"#DIV/0!"}},{"$f":"IF('Averages 2'!L17<0,0,'Averages 2'!L17)","v":{"$error":"#DIV/0!"}},{"$f":"IF('Averages 2'!M17<0,0,'Averages 2'!M17)","v":{"$error":"#DIV/0!"}},{"$f":"IF('Averages 2'!N17<0,0,'Averages 2'!N17)","v":{"$error":"#DIV/0!"}},{"$f":"IF('Averages 2'!O17<0,0,'Averages 2'!O17)","v":{"$error":"#DIV/0!"}},{"$f":"IF('Averages 2'!P17<0,0,'Averages 2'!P17)","v":{"$error":"#DIV/0!"}},{"$f":"IF('Averages 2'!Q17<0,0,'Averages 2'!Q17)","v":{"$error":"#DIV/0!"}}]
[{"$f":"'Sorting 2'!A19","v":"P47"},{"$f":"IF('Averages 2'!B18<0,0,'Averages 2'!B18)","v":{"$error":"#DIV/0!"}},{"$f":"IF('Averages 2'!C18<0,0,'Averages 2'!C18)","v":{"$error":"#DIV/0!"}},{"$f":"IF('Averages 2'!D18<0,0,'Averages 2'!D18)","v":{"$error":"#DIV/0!"}},{"$f":"IF('Averages 2'!E18<0,0,'Averages 2'!E18)","v":{"$error":"#DIV/0!"}},{"$f":"IF('Averages 2'!F18<0,0,'Averages 2'!F18)","v":{"$error":"#DIV/0!"}},{"$f":"IF('Averages 2'!G18<0,0,'Averages 2'!G18)","v":{"$error":"#DIV/0!"}},{"$f":"IF('Averages 2'!H18<0,0,'Averages 2'!H18)","v":{"$error":"#DIV/0!"}},{"$f":"IF('Averages 2'!I18<0,0,'Averages 2'!I18)","v":{"$error":"#DIV/0!"}},{"$f":"IF('Averages 2'!J18<0,0,'Averages 2'!J18)","v":{"$error":"#DIV/0!"}},{"$f":"IF('Averages 2'!K18<0,0,'Averages 2'!K18)","v":{"$error":"#DIV/0!"}},{"$f":"IF('Averages 2'!L18<0,0,'Averages 2'!L18)","v":{"$error":"#DIV/0!"}},{"$f":"IF('Averages 2'!M18<0,0,'Averages 2'!M18)","v":{"$error":"#DIV/0!"}},{"$f":"IF('Averages 2'!N18<0,0,'Averages 2'!N18)","v":{"$error":"#DIV/0!"}},{"$f":"IF('Averages 2'!O18<0,0,'Averages 2'!O18)","v":{"$error":"#DIV/0!"}},{"$f":"IF('Averages 2'!P18<0,0,'Averages 2'!P18)","v":{"$error":"#DIV/0!"}},{"$f":"IF('Averages 2'!Q18<0,0,'Averages 2'!Q18)","v":{"$error":"#DIV/0!"}}]
[{"$f":"'Sorting 2'!A20","v":"P2"},{"$f":"IF('Averages 2'!B19<0,0,'Averages 2'!B19)","v":{"$error":"#DIV/0!"}},{"$f":"IF('Averages 2'!C19<0,0,'Averages 2'!C19)","v":{"$error":"#DIV/0!"}},{"$f":"IF('Averages 2'!D19<0,0,'Averages 2'!D19)","v":{"$error":"#DIV/0!"}},{"$f":"IF('Averages 2'!E19<0,0,'Averages 2'!E19)","v":{"$error":"#DIV/0!"}},{"$f":"IF('Averages 2'!F19<0,0,'Averages 2'!F19)","v":{"$error":"#DIV/0!"}},{"$f":"IF('Averages 2'!G19<0,0,'Averages 2'!G19)","v":{"$error":"#DIV/0!"}},{"$f":"IF('Averages 2'!H19<0,0,'Averages 2'!H19)","v":{"$error":"#DIV/0!"}},{"$f":"IF('Averages 2'!I19<0,0,'Averages 2'!I19)","v":{"$error":"#DIV/0!"}},{"$f":"IF('Averages 2'!J19<0,0,'Averages 2'!J19)","v":{"$error":"#DIV/0!"}},{"$f":"IF('Averages 2'!K19<0,0,'Averages 2'!K19)","v":{"$error":"#DIV/0!"}},{"$f":"IF('Averages 2'!L19<0,0,'Averages 2'!L19)","v":{"$error":"#DIV/0!"}},{"$f":"IF('Averages 2'!M19<0,0,'Averages 2'!M19)","v":{"$error":"#DIV/0!"}},{"$f":"IF('Averages 2'!N19<0,0,'Averages 2'!N19)","v":{"$error":"#DIV/0!"}},{"$f":"IF('Averages 2'!O19<0,0,'Averages 2'!O19)","v":{"$error":"#DIV/0!"}},{"$f":"IF('Averages 2'!P19<0,0,'Averages 2'!P19)","v":{"$error":"#DIV/0!"}},{"$f":"IF('Averages 2'!Q19<0,0,'Averages 2'!Q19)","v":{"$error":"#DIV/0!"}}]
[{"$f":"'Sorting 2'!A21","v":"P14"},{"$f":"IF('Averages 2'!B20<0,0,'Averages 2'!B20)","v":{"$error":"#DIV/0!"}},{"$f":"IF('Averages 2'!C20<0,0,'Averages 2'!C20)","v":{"$error":"#DIV/0!"}},{"$f":"IF('Averages 2'!D20<0,0,'Averages 2'!D20)","v":{"$error":"#DIV/0!"}},{"$f":"IF('Averages 2'!E20<0,0,'Averages 2'!E20)","v":{"$error":"#DIV/0!"}},{"$f":"IF('Averages 2'!F20<0,0,'Averages 2'!F20)","v":{"$error":"#DIV/0!"}},{"$f":"IF('Averages 2'!G20<0,0,'Averages 2'!G20)","v":{"$error":"#DIV/0!"}},{"$f":"IF('Averages 2'!H20<0,0,'Averages 2'!H20)","v":{"$error":"#DIV/0!"}},{"$f":"IF('Averages 2'!I20<0,0,'Averages 2'!I20)","v":{"$error":"#DIV/0!"}},{"$f":"IF('Averages 2'!J20<0,0,'Averages 2'!J20)","v":{"$error":"#DIV/0!"}},{"$f":"IF('Averages 2'!K20<0,0,'Averages 2'!K20)","v":{"$error":"#DIV/0!"}},{"$f":"IF('Averages 2'!L20<0,0,'Averages 2'!L20)","v":{"$error":"#DIV/0!"}},{"$f":"IF('Averages 2'!M20<0,0,'Averages 2'!M20)","v":{"$error":"#DIV/0!"}},{"$f":"IF('Averages 2'!N20<0,0,'Averages 2'!N20)","v":{"$error":"#DIV/0!"}},{"$f":"IF('Averages 2'!O20<0,0,'Averages 2'!O20)","v":{"$error":"#DIV/0!"}},{"$f":"IF('Averages 2'!P20<0,0,'Averages 2'!P20)","v":{"$error":"#DIV/0!"}},{"$f":"IF('Averages 2'!Q20<0,0,'Averages 2'!Q20)","v":{"$error":"#DIV/0!"}}]
[{"$f":"'Sorting 2'!A22","v":"P24"},{"$f":"IF('Averages 2'!B21<0,0,'Averages 2'!B21)","v":{"$error":"#DIV/0!"}},{"$f":"IF('Averages 2'!C21<0,0,'Averages 2'!C21)","v":{"$error":"#DIV/0!"}},{"$f":"IF('Averages 2'!D21<0,0,'Averages 2'!D21)","v":{"$error":"#DIV/0!"}},{"$f":"IF('Averages 2'!E21<0,0,'Averages 2'!E21)","v":{"$error":"#DIV/0!"}},{"$f":"IF('Averages 2'!F21<0,0,'Averages 2'!F21)","v":{"$error":"#DIV/0!"}},{"$f":"IF('Averages 2'!G21<0,0,'Averages 2'!G21)","v":{"$error":"#DIV/0!"}},{"$f":"IF('Averages 2'!H21<0,0,'Averages 2'!H21)","v":{"$error":"#DIV/0!"}},{"$f":"IF('Averages 2'!I21<0,0,'Averages 2'!I21)","v":{"$error":"#DIV/0!"}},{"$f":"IF('Averages 2'!J21<0,0,'Averages 2'!J21)","v":{"$error":"#DIV/0!"}},{"$f":"IF('Averages 2'!K21<0,0,'Averages 2'!K21)","v":{"$error":"#DIV/0!"}},{"$f":"IF('Averages 2'!L21<0,0,'Averages 2'!L21)","v":{"$error":"#DIV/0!"}},{"$f":"IF('Averages 2'!M21<0,0,'Averages 2'!M21)","v":{"$error":"#DIV/0!"}},{"$f":"IF('Averages 2'!N21<0,0,'Averages 2'!N21)","v":{"$error":"#DIV/0!"}},{"$f":"IF('Averages 2'!O21<0,0,'Averages 2'!O21)","v":{"$error":"#DIV/0!"}},{"$f":"IF('Averages 2'!P21<0,0,'Averages 2'!P21)","v":{"$error":"#DIV/0!"}},{"$f":"IF('Averages 2'!Q21<0,0,'Averages 2'!Q21)","v":{"$error":"#DIV/0!"}}]
[{"$f":"'Sorting 2'!A23","v":"P36"},{"$f":"IF('Averages 2'!B22<0,0,'Averages 2'!B22)","v":{"$error":"#DIV/0!"}},{"$f":"IF('Averages 2'!C22<0,0,'Averages 2'!C22)","v":{"$error":"#DIV/0!"}},{"$f":"IF('Averages 2'!D22<0,0,'Averages 2'!D22)","v":{"$error":"#DIV/0!"}},{"$f":"IF('Averages 2'!E22<0,0,'Averages 2'!E22)","v":{"$error":"#DIV/0!"}},{"$f":"IF('Averages 2'!F22<0,0,'Averages 2'!F22)","v":{"$error":"#DIV/0!"}},{"$f":"IF('Averages 2'!G22<0,0,'Averages 2'!G22)","v":{"$error":"#DIV/0!"}},{"$f":"IF('Averages 2'!H22<0,0,'Averages 2'!H22)","v":{"$error":"#DIV/0!"}},{"$f":"IF('Averages 2'!I22<0,0,'Averages 2'!I22)","v":{"$error":"#DIV/0!"}},{"$f":"IF('Averages 2'!J22<0,0,'Averages 2'!J22)","v":{"$error":"#DIV/0!"}},{"$f":"IF('Averages 2'!K22<0,0,'Averages 2'!K22)","v":{"$error":"#DIV/0!"}},{"$f":"IF('Averages 2'!L22<0,0,'Averages 2'!L22)","v":{"$error":"#DIV/0!"}},{"$f":"IF('Averages 2'!M22<0,0,'Averages 2'!M22)","v":{"$error":"#DIV/0!"}},{"$f":"IF('Averages 2'!N22<0,0,'Averages 2'!N22)","v":{"$error":"#DIV/0!"}},{"$f":"IF('Averages 2'!O22<0,0,'Averages 2'!O22)","v":{"$error":"#DIV/0!"}},{"$f":"IF('Averages 2'!P22<0,0,'Averages 2'!P22)","v":{"$error":"#DIV/0!"}},{"$f":"IF('Averages 2'!Q22<0,0,'Averages 2'!Q22)","v":{"$error":"#DIV/0!"}}]
[{"$f":"'Sorting 2'!A24","v":"P48"},{"$f":"IF('Averages 2'!B23<0,0,'Averages 2'!B23)","v":{"$error":"#DIV/0!"}},{"$f":"IF('Averages 2'!C23<0,0,'Averages 2'!C23)","v":{"$error":"#DIV/0!"}},{"$f":"IF('Averages 2'!D23<0,0,'Averages 2'!D23)","v":{"$error":"#DIV/0!"}},{"$f":"IF('Averages 2'!E23<0,0,'Averages 2'!E23)","v":{"$error":"#DIV/0!"}},{"$f":"IF('Averages 2'!F23<0,0,'Averages 2'!F23)","v":{"$error":"#DIV/0!"}},{"$f":"IF('Averages 2'!G23<0,0,'Averages 2'!G23)","v":{"$error":"#DIV/0!"}},{"$f":"IF('Averages 2'!H23<0,0,'Averages 2'!H23)","v":{"$error":"#DIV/0!"}},{"$f":"IF('Averages 2'!I23<0,0,'Averages 2'!I23)","v":{"$error":"#DIV/0!"}},{"$f":"IF('Averages 2'!J23<0,0,'Averages 2'!J23)","v":{"$error":"#DIV/0!"}},{"$f":"IF('Averages 2'!K23<0,0,'Averages 2'!K23)","v":{"$error":"#DIV/0!"}},{"$f":"IF('Averages 2'!L23<0,0,'Averages 2'!L23)","v":{"$error":"#DIV/0!"}},{"$f":"IF('Averages 2'!M23<0,0,'Averages 2'!M23)","v":{"$error":"#DIV/0!"}},{"$f":"IF('Averages 2'!N23<0,0,'Averages 2'!N23)","v":{"$error":"#DIV/0!"}},{"$f":"IF('Averages 2'!O23<0,0,'Averages 2'!O23)","v":{"$error":"#DIV/0!"}},{"$f":"IF('Averages 2'!P23<0,0,'Averages 2'!P23)","v":{"$error":"#DIV/0!"}},{"$f":"IF('Averages 2'!Q23<0,0,'Averages 2'!Q23)","v":{"$error":"#DIV/0!"}}]
[{"$f":"'Sorting 2'!A25","v":"P3"},{"$f":"IF('Averages 2'!B24<0,0,'Averages 2'!B24)","v":{"$error":"#DIV/0!"}},{"$f":"IF('Averages 2'!C24<0,0,'Averages 2'!C24)","v":{"$error":"#DIV/0!"}},{"$f":"IF('Averages 2'!D24<0,0,'Averages 2'!D24)","v":{"$error":"#DIV/0!"}},{"$f":"IF('Averages 2'!E24<0,0,'Averages 2'!E24)","v":{"$error":"#DIV/0!"}},{"$f":"IF('Averages 2'!F24<0,0,'Averages 2'!F24)","v":{"$error":"#DIV/0!"}},{"$f":"IF('Averages 2'!G24<0,0,'Averages 2'!G24)","v":{"$error":"#DIV/0!"}},{"$f":"IF('Averages 2'!H24<0,0,'Averages 2'!H24)","v":{"$error":"#DIV/0!"}},{"$f":"IF('Averages 2'!I24<0,0,'Averages 2'!I24)","v":{"$error":"#DIV/0!"}},{"$f":"IF('Averages 2'!J24<0,0,'Averages 2'!J24)","v":{"$error":"#DIV/0!"}},{"$f":"IF('Averages 2'!K24<0,0,'Averages 2'!K24)","v":{"$error":"#DIV/0!"}},{"$f":"IF('Averages 2'!L24<0,0,'Averages 2'!L24)","v":{"$error":"#DIV/0!"}},{"$f":"IF('Averages 2'!M24<0,0,'Averages 2'!M24)","v":{"$error":"#DIV/0!"}},{"$f":"IF('Averages 2'!N24<0,0,'Averages 2'!N24)","v":{"$error":"#DIV/0!"}},{"$f":"IF('Averages 2'!O24<0,0,'Averages 2'!O24)","v":{"$error":"#DIV/0!"}},{"$f":"IF('Averages 2'!P24<0,0,'Averages 2'!P24)","v":{"$error":"#DIV/0!"}},{"$f":"IF('Averages 2'!Q24<0,0,'Averages 2'!Q24)","v":{"$error":"#DIV/0!"}}]
[{"$f":"'Sorting 2'!A26","v":"P15"},{"$f":"IF('Averages 2'!B25<0,0,'Averages 2'!B25)","v":{"$error":"#DIV/0!"}},{"$f":"IF('Averages 2'!C25<0,0,'Averages 2'!C25)","v":{"$error":"#DIV/0!"}},{"$f":"IF('Averages 2'!D25<0,0,'Averages 2'!D25)","v":{"$error":"#DIV/0!"}},{"$f":"IF('Averages 2'!E25<0,0,'Averages 2'!E25)","v":{"$error":"#DIV/0!"}},{"$f":"IF('Averages 2'!F25<0,0,'Averages 2'!F25)","v":{"$error":"#DIV/0!"}},{"$f":"IF('Averages 2'!G25<0,0,'Averages 2'!G25)","v":{"$error":"#DIV/0!"}},{"$f":"IF('Averages 2'!H25<0,0,'Averages 2'!H25)","v":{"$error":"#DIV/0!"}},{"$f":"IF('Averages 2'!I25<0,0,'Averages 2'!I25)","v":{"$error":"#DIV/0!"}},{"$f":"IF('Averages 2'!J25<0,0,'Averages 2'!J25)","v":{"$error":"#DIV/0!"}},{"$f":"IF('Averages 2'!K25<0,0,'Averages 2'!K25)","v":{"$error":"#DIV/0!"}},{"$f":"IF('Averages 2'!L25<0,0,'Averages 2'!L25)","v":{"$error":"#DIV/0!"}},{"$f":"IF('Averages 2'!M25<0,0,'Averages 2'!M25)","v":{"$error":"#DIV/0!"}},{"$f":"IF('Averages 2'!N25<0,0,'Averages 2'!N25)","v":{"$error":"#DIV/0!"}},{"$f":"IF('Averages 2'!O25<0,0,'Averages 2'!O25)","v":{"$error":"#DIV/0!"}},{"$f":"IF('Averages 2'!P25<0,0,'Averages 2'!P25)","v":{"$error":"#DIV/0!"}},{"$f":"IF('Averages 2'!Q25<0,0,'Averages 2'!Q25)","v":{"$error":"#DIV/0!"}}]
[{"$f":"'Sorting 2'!A27","v":"P25"},{"$f":"IF('Averages 2'!B26<0,0,'Averages 2'!B26)","v":{"$error":"#DIV/0!"}},{"$f":"IF('Averages 2'!C26<0,0,'Averages 2'!C26)","v":{"$error":"#DIV/0!"}},{"$f":"IF('Averages 2'!D26<0,0,'Averages 2'!D26)","v":{"$error":"#DIV/0!"}},{"$f":"IF('Averages 2'!E26<0,0,'Averages 2'!E26)","v":{"$error":"#DIV/0!"}},{"$f":"IF('Averages 2'!F26<0,0,'Averages 2'!F26)","v":{"$error":"#DIV/0!"}},{"$f":"IF('Averages 2'!G26<0,0,'Averages 2'!G26)","v":{"$error":"#DIV/0!"}},{"$f":"IF('Averages 2'!H26<0,0,'Averages 2'!H26)","v":{"$error":"#DIV/0!"}},{"$f":"IF('Averages 2'!I26<0,0,'Averages 2'!I26)","v":{"$error":"#DIV/0!"}},{"$f":"IF('Averages 2'!J26<0,0,'Averages 2'!J26)","v":{"$error":"#DIV/0!"}},{"$f":"IF('Averages 2'!K26<0,0,'Averages 2'!K26)","v":{"$error":"#DIV/0!"}},{"$f":"IF('Averages 2'!L26<0,0,'Averages 2'!L26)","v":{"$error":"#DIV/0!"}},{"$f":"IF('Averages 2'!M26<0,0,'Averages 2'!M26)","v":{"$error":"#DIV/0!"}},{"$f":"IF('Averages 2'!N26<0,0,'Averages 2'!N26)","v":{"$error":"#DIV/0!"}},{"$f":"IF('Averages 2'!O26<0,0,'Averages 2'!O26)","v":{"$error":"#DIV/0!"}},{"$f":"IF('Averages 2'!P26<0,0,'Averages 2'!P26)","v":{"$error":"#DIV/0!"}},{"$f":"IF('Averages 2'!Q26<0,0,'Averages 2'!Q26)","v":{"$error":"#DIV/0!"}}]
[{"$f":"'Sorting 2'!A28","v":"P37"},{"$f":"IF('Averages 2'!B27<0,0,'Averages 2'!B27)","v":{"$error":"#DIV/0!"}},{"$f":"IF('Averages 2'!C27<0,0,'Averages 2'!C27)","v":{"$error":"#DIV/0!"}},{"$f":"IF('Averages 2'!D27<0,0,'Averages 2'!D27)","v":{"$error":"#DIV/0!"}},{"$f":"IF('Averages 2'!E27<0,0,'Averages 2'!E27)","v":{"$error":"#DIV/0!"}},{"$f":"IF('Averages 2'!F27<0,0,'Averages 2'!F27)","v":{"$error":"#DIV/0!"}},{"$f":"IF('Averages 2'!G27<0,0,'Averages 2'!G27)","v":{"$error":"#DIV/0!"}},{"$f":"IF('Averages 2'!H27<0,0,'Averages 2'!H27)","v":{"$error":"#DIV/0!"}},{"$f":"IF('Averages 2'!I27<0,0,'Averages 2'!I27)","v":{"$error":"#DIV/0!"}},{"$f":"IF('Averages 2'!J27<0,0,'Averages 2'!J27)","v":{"$error":"#DIV/0!"}},{"$f":"IF('Averages 2'!K27<0,0,'Averages 2'!K27)","v":{"$error":"#DIV/0!"}},{"$f":"IF('Averages 2'!L27<0,0,'Averages 2'!L27)","v":{"$error":"#DIV/0!"}},{"$f":"IF('Averages 2'!M27<0,0,'Averages 2'!M27)","v":{"$error":"#DIV/0!"}},{"$f":"IF('Averages 2'!N27<0,0,'Averages 2'!N27)","v":{"$error":"#DIV/0!"}},{"$f":"IF('Averages 2'!O27<0,0,'Averages 2'!O27)","v":{"$error":"#DIV/0!"}},{"$f":"IF('Averages 2'!P27<0,0,'Averages 2'!P27)","v":{"$error":"#DIV/0!"}},{"$f":"IF('Averages 2'!Q27<0,0,'Averages 2'!Q27)","v":{"$error":"#DIV/0!"}}]
[{"$f":"'Sorting 2'!A29","v":"P49"},{"$f":"IF('Averages 2'!B28<0,0,'Averages 2'!B28)","v":{"$error":"#DIV/0!"}},{"$f":"IF('Averages 2'!C28<0,0,'Averages 2'!C28)","v":{"$error":"#DIV/0!"}},{"$f":"IF('Averages 2'!D28<0,0,'Averages 2'!D28)","v":{"$error":"#DIV/0!"}},{"$f":"IF('Averages 2'!E28<0,0,'Averages 2'!E28)","v":{"$error":"#DIV/0!"}},{"$f":"IF('Averages 2'!F28<0,0,'Averages 2'!F28)","v":{"$error":"#DIV/0!"}},{"$f":"IF('Averages 2'!G28<0,0,'Averages 2'!G28)","v":{"$error":"#DIV/0!"}},{"$f":"IF('Averages 2'!H28<0,0,'Averages 2'!H28)","v":{"$error":"#DIV/0!"}},{"$f":"IF('Averages 2'!I28<0,0,'Averages 2'!I28)","v":{"$error":"#DIV/0!"}},{"$f":"IF('Averages 2'!J28<0,0,'Averages 2'!J28)","v":{"$error":"#DIV/0!"}},{"$f":"IF('Averages 2'!K28<0,0,'Averages 2'!K28)","v":{"$error":"#DIV/0!"}},{"$f":"IF('Averages 2'!L28<0,0,'Averages 2'!L28)","v":{"$error":"#DIV/0!"}},{"$f":"IF('Averages 2'!M28<0,0,'Averages 2'!M28)","v":{"$error":"#DIV/0!"}},{"$f":"IF('Averages 2'!N28<0,0,'Averages 2'!N28)","v":{"$error":"#DIV/0!"}},{"$f":"IF('Averages 2'!O28<0,0,'Averages 2'!O28)","v":{"$error":"#DIV/0!"}},{"$f":"IF('Averages 2'!P28<0,0,'Averages 2'!P28)","v":{"$error":"#DIV/0!"}},{"$f":"IF('Averages 2'!Q28<0,0,'Averages 2'!Q28)","v":{"$error":"#DIV/0!"}}]
[{"$f":"'Sorting 2'!A30","v":"P4"},{"$f":"IF('Averages 2'!B29<0,0,'Averages 2'!B29)","v":{"$error":"#DIV/0!"}},{"$f":"IF('Averages 2'!C29<0,0,'Averages 2'!C29)","v":{"$error":"#DIV/0!"}},{"$f":"IF('Averages 2'!D29<0,0,'Averages 2'!D29)","v":{"$error":"#DIV/0!"}},{"$f":"IF('Averages 2'!E29<0,0,'Averages 2'!E29)","v":{"$error":"#DIV/0!"}},{"$f":"IF('Averages 2'!F29<0,0,'Averages 2'!F29)","v":{"$error":"#DIV/0!"}},{"$f":"IF('Averages 2'!G29<0,0,'Averages 2'!G29)","v":{"$error":"#DIV/0!"}},{"$f":"IF('Averages 2'!H29<0,0,'Averages 2'!H29)","v":{"$error":"#DIV/0!"}},{"$f":"IF('Averages 2'!I29<0,0,'Averages 2'!I29)","v":{"$error":"#DIV/0!"}},{"$f":"IF('Averages 2'!J29<0,0,'Averages 2'!J29)","v":{"$error":"#DIV/0!"}},{"$f":"IF('Averages 2'!K29<0,0,'Averages 2'!K29)","v":{"$error":"#DIV/0!"}},{"$f":"IF('Averages 2'!L29<0,0,'Averages 2'!L29)","v":{"$error":"#DIV/0!"}},{"$f":"IF('Averages 2'!M29<0,0,'Averages 2'!M29)","v":{"$error":"#DIV/0!"}},{"$f":"IF('Averages 2'!N29<0,0,'Averages 2'!N29)","v":{"$error":"#DIV/0!"}},{"$f":"IF('Averages 2'!O29<0,0,'Averages 2'!O29)","v":{"$error":"#DIV/0!"}},{"$f":"IF('Averages 2'!P29<0,0,'Averages 2'!P29)","v":{"$error":"#DIV/0!"}},{"$f":"IF('Averages 2'!Q29<0,0,'Averages 2'!Q29)","v":{"$error":"#DIV/0!"}}]
[{"$f":"'Sorting 2'!A31","v":"P16"},{"$f":"IF('Averages 2'!B30<0,0,'Averages 2'!B30)","v":{"$error":"#DIV/0!"}},{"$f":"IF('Averages 2'!C30<0,0,'Averages 2'!C30)","v":{"$error":"#DIV/0!"}},{"$f":"IF('Averages 2'!D30<0,0,'Averages 2'!D30)","v":{"$error":"#DIV/0!"}},{"$f":"IF('Averages 2'!E30<0,0,'Averages 2'!E30)","v":{"$error":"#DIV/0!"}},{"$f":"IF('Averages 2'!F30<0,0,'Averages 2'!F30)","v":{"$error":"#DIV/0!"}},{"$f":"IF('Averages 2'!G30<0,0,'Averages 2'!G30)","v":{"$error":"#DIV/0!"}},{"$f":"IF('Averages 2'!H30<0,0,'Averages 2'!H30)","v":{"$error":"#DIV/0!"}},{"$f":"IF('Averages 2'!I30<0,0,'Averages 2'!I30)","v":{"$error":"#DIV/0!"}},{"$f":"IF('Averages 2'!J30<0,0,'Averages 2'!J30)","v":{"$error":"#DIV/0!"}},{"$f":"IF('Averages 2'!K30<0,0,'Averages 2'!K30)","v":{"$error":"#DIV/0!"}},{"$f":"IF('Averages 2'!L30<0,0,'Averages 2'!L30)","v":{"$error":"#DIV/0!"}},{"$f":"IF('Averages 2'!M30<0,0,'Averages 2'!M30)","v":{"$error":"#DIV/0!"}},{"$f":"IF('Averages 2'!N30<0,0,'Averages 2'!N30)","v":{"$error":"#DIV/0!"}},{"$f":"IF('Averages 2'!O30<0,0,'Averages 2'!O30)","v":{"$error":"#DIV/0!"}},{"$f":"IF('Averages 2'!P30<0,0,'Averages 2'!P30)","v":{"$error":"#DIV/0!"}},{"$f":"IF('Averages 2'!Q30<0,0,'Averages 2'!Q30)","v":{"$error":"#DIV/0!"}}]
[{"$f":"'Sorting 2'!A32","v":"P26"},{"$f":"IF('Averages 2'!B31<0,0,'Averages 2'!B31)","v":{"$error":"#DIV/0!"}},{"$f":"IF('Averages 2'!C31<0,0,'Averages 2'!C31)","v":{"$error":"#DIV/0!"}},{"$f":"IF('Averages 2'!D31<0,0,'Averages 2'!D31)","v":{"$error":"#DIV/0!"}},{"$f":"IF('Averages 2'!E31<0,0,'Averages 2'!E31)","v":{"$error":"#DIV/0!"}},{"$f":"IF('Averages 2'!F31<0,0,'Averages 2'!F31)","v":{"$error":"#DIV/0!"}},{"$f":"IF('Averages 2'!G31<0,0,'Averages 2'!G31)","v":{"$error":"#DIV/0!"}},{"$f":"IF('Averages 2'!H31<0,0,'Averages 2'!H31)","v":{"$error":"#DIV/0!"}},{"$f":"IF('Averages 2'!I31<0,0,'Averages 2'!I31)","v":{"$error":"#DIV/0!"}},{"$f":"IF('Averages 2'!J31<0,0,'Averages 2'!J31)","v":{"$error":"#DIV/0!"}},{"$f":"IF('Averages 2'!K31<0,0,'Averages 2'!K31)","v":{"$error":"#DIV/0!"}},{"$f":"IF('Averages 2'!L31<0,0,'Averages 2'!L31)","v":{"$error":"#DIV/0!"}},{"$f":"IF('Averages 2'!M31<0,0,'Averages 2'!M31)","v":{"$error":"#DIV/0!"}},{"$f":"IF('Averages 2'!N31<0,0,'Averages 2'!N31)","v":{"$error":"#DIV/0!"}},{"$f":"IF('Averages 2'!O31<0,0,'Averages 2'!O31)","v":{"$error":"#DIV/0!"}},{"$f":"IF('Averages 2'!P31<0,0,'Averages 2'!P31)","v":{"$error":"#DIV/0!"}},{"$f":"IF('Averages 2'!Q31<0,0,'Averages 2'!Q31)","v":{"$error":"#DIV/0!"}}]
[{"$f":"'Sorting 2'!A33","v":"P38"},{"$f":"IF('Averages 2'!B32<0,0,'Averages 2'!B32)","v":{"$error":"#DIV/0!"}},{"$f":"IF('Averages 2'!C32<0,0,'Averages 2'!C32)","v":{"$error":"#DIV/0!"}},{"$f":"IF('Averages 2'!D32<0,0,'Averages 2'!D32)","v":{"$error":"#DIV/0!"}},{"$f":"IF('Averages 2'!E32<0,0,'Averages 2'!E32)","v":{"$error":"#DIV/0!"}},{"$f":"IF('Averages 2'!F32<0,0,'Averages 2'!F32)","v":{"$error":"#DIV/0!"}},{"$f":"IF('Averages 2'!G32<0,0,'Averages 2'!G32)","v":{"$error":"#DIV/0!"}},{"$f":"IF('Averages 2'!H32<0,0,'Averages 2'!H32)","v":{"$error":"#DIV/0!"}},{"$f":"IF('Averages 2'!I32<0,0,'Averages 2'!I32)","v":{"$error":"#DIV/0!"}},{"$f":"IF('Averages 2'!J32<0,0,'Averages 2'!J32)","v":{"$error":"#DIV/0!"}},{"$f":"IF('Averages 2'!K32<0,0,'Averages 2'!K32)","v":{"$error":"#DIV/0!"}},{"$f":"IF('Averages 2'!L32<0,0,'Averages 2'!L32)","v":{"$error":"#DIV/0!"}},{"$f":"IF('Averages 2'!M32<0,0,'Averages 2'!M32)","v":{"$error":"#DIV/0!"}},{"$f":"IF('Averages 2'!N32<0,0,'Averages 2'!N32)","v":{"$error":"#DIV/0!"}},{"$f":"IF('Averages 2'!O32<0,0,'Averages 2'!O32)","v":{"$error":"#DIV/0!"}},{"$f":"IF('Averages 2'!P32<0,0,'Averages 2'!P32)","v":{"$error":"#DIV/0!"}},{"$f":"IF('Averages 2'!Q32<0,0,'Averages 2'!Q32)","v":{"$error":"#DIV/0!"}}]
[{"$f":"'Sorting 2'!A34","v":"P50"},{"$f":"IF('Averages 2'!B33<0,0,'Averages 2'!B33)","v":{"$error":"#DIV/0!"}},{"$f":"IF('Averages 2'!C33<0,0,'Averages 2'!C33)","v":{"$error":"#DIV/0!"}},{"$f":"IF('Averages 2'!D33<0,0,'Averages 2'!D33)","v":{"$error":"#DIV/0!"}},{"$f":"IF('Averages 2'!E33<0,0,'Averages 2'!E33)","v":{"$error":"#DIV/0!"}},{"$f":"IF('Averages 2'!F33<0,0,'Averages 2'!F33)","v":{"$error":"#DIV/0!"}},{"$f":"IF('Averages 2'!G33<0,0,'Averages 2'!G33)","v":{"$error":"#DIV/0!"}},{"$f":"IF('Averages 2'!H33<0,0,'Averages 2'!H33)","v":{"$error":"#DIV/0!"}},{"$f":"IF('Averages 2'!I33<0,0,'Averages 2'!I33)","v":{"$error":"#DIV/0!"}},{"$f":"IF('Averages 2'!J33<0,0,'Averages 2'!J33)","v":{"$error":"#DIV/0!"}},{"$f":"IF('Averages 2'!K33<0,0,'Averages 2'!K33)","v":{"$error":"#DIV/0!"}},{"$f":"IF('Averages 2'!L33<0,0,'Averages 2'!L33)","v":{"$error":"#DIV/0!"}},{"$f":"IF('Averages 2'!M33<0,0,'Averages 2'!M33)","v":{"$error":"#DIV/0!"}},{"$f":"IF('Averages 2'!N33<0,0,'Averages 2'!N33)","v":{"$error":"#DIV/0!"}},{"$f":"IF('Averages 2'!O33<0,0,'Averages 2'!O33)","v":{"$error":"#DIV/0!"}},{"$f":"IF('Averages 2'!P33<0,0,'Averages 2'!P33)","v":{"$error":"#DIV/0!"}},{"$f":"IF('Averages 2'!Q33<0,0,'Averages 2'!Q33)","v":{"$error":"#DIV/0!"}}]
[{"$f":"'Sorting 2'!A35","v":"P5"},{"$f":"IF('Averages 2'!B34<0,0,'Averages 2'!B34)","v":{"$error":"#DIV/0!"}},{"$f":"IF('Averages 2'!C34<0,0,'Averages 2'!C34)","v":{"$error":"#DIV/0!"}},{"$f":"IF('Averages 2'!D34<0,0,'Averages 2'!D34)","v":{"$error":"#DIV/0!"}},{"$f":"IF('Averages 2'!E34<0,0,'Averages 2'!E34)","v":{"$error":"#DIV/0!"}},{"$f":"IF('Averages 2'!F34<0,0,'Averages 2'!F34)","v":{"$error":"#DIV/0!"}},{"$f":"IF('Averages 2'!G34<0,0,'Averages 2'!G34)","v":{"$error":"#DIV/0!"}},{"$f":"IF('Averages 2'!H34<0,0,'Averages 2'!H34)","v":{"$error":"#DIV/0!"}},{"$f":"IF('Averages 2'!I34<0,0,'Averages 2'!I34)","v":{"$error":"#DIV/0!"}},{"$f":"IF('Averages 2'!J34<0,0,'Averages 2'!J34)","v":{"$error":"#DIV/0!"}},{"$f":"IF('Averages 2'!K34<0,0,'Averages 2'!K34)","v":{"$error":"#DIV/0!"}},{"$f":"IF('Averages 2'!L34<0,0,'Averages 2'!L34)","v":{"$error":"#DIV/0!"}},{"$f":"IF('Averages 2'!M34<0,0,'Averages 2'!M34)","v":{"$error":"#DIV/0!"}},{"$f":"IF('Averages 2'!N34<0,0,'Averages 2'!N34)","v":{"$error":"#DIV/0!"}},{"$f":"IF('Averages 2'!O34<0,0,'Averages 2'!O34)","v":{"$error":"#DIV/0!"}},{"$f":"IF('Averages 2'!P34<0,0,'Averages 2'!P34)","v":{"$error":"#DIV/0!"}},{"$f":"IF('Averages 2'!Q34<0,0,'Averages 2'!Q34)","v":{"$error":"#DIV/0!"}}]
[{"$f":"'Sorting 2'!A36","v":"P17"},{"$f":"IF('Averages 2'!B35<0,0,'Averages 2'!B35)","v":{"$error":"#DIV/0!"}},{"$f":"IF('Averages 2'!C35<0,0,'Averages 2'!C35)","v":{"$error":"#DIV/0!"}},{"$f":"IF('Averages 2'!D35<0,0,'Averages 2'!D35)","v":{"$error":"#DIV/0!"}},{"$f":"IF('Averages 2'!E35<0,0,'Averages 2'!E35)","v":{"$error":"#DIV/0!"}},{"$f":"IF('Averages 2'!F35<0,0,'Averages 2'!F35)","v":{"$error":"#DIV/0!"}},{"$f":"IF('Averages 2'!G35<0,0,'Averages 2'!G35)","v":{"$error":"#DIV/0!"}},{"$f":"IF('Averages 2'!H35<0,0,'Averages 2'!H35)","v":{"$error":"#DIV/0!"}},{"$f":"IF('Averages 2'!I35<0,0,'Averages 2'!I35)","v":{"$error":"#DIV/0!"}},{"$f":"IF('Averages 2'!J35<0,0,'Averages 2'!J35)","v":{"$error":"#DIV/0!"}},{"$f":"IF('Averages 2'!K35<0,0,'Averages 2'!K35)","v":{"$error":"#DIV/0!"}},{"$f":"IF('Averages 2'!L35<0,0,'Averages 2'!L35)","v":{"$error":"#DIV/0!"}},{"$f":"IF('Averages 2'!M35<0,0,'Averages 2'!M35)","v":{"$error":"#DIV/0!"}},{"$f":"IF('Averages 2'!N35<0,0,'Averages 2'!N35)","v":{"$error":"#DIV/0!"}},{"$f":"IF('Averages 2'!O35<0,0,'Averages 2'!O35)","v":{"$error":"#DIV/0!"}},{"$f":"IF('Averages 2'!P35<0,0,'Averages 2'!P35)","v":{"$error":"#DIV/0!"}},{"$f":"IF('Averages 2'!Q35<0,0,'Averages 2'!Q35)","v":{"$error":"#DIV/0!"}}]
[{"$f":"'Sorting 2'!A37","v":"P27"},{"$f":"IF('Averages 2'!B36<0,0,'Averages 2'!B36)","v":{"$error":"#DIV/0!"}},{"$f":"IF('Averages 2'!C36<0,0,'Averages 2'!C36)","v":{"$error":"#DIV/0!"}},{"$f":"IF('Averages 2'!D36<0,0,'Averages 2'!D36)","v":{"$error":"#DIV/0!"}},{"$f":"IF('Averages 2'!E36<0,0,'Averages 2'!E36)","v":{"$error":"#DIV/0!"}},{"$f":"IF('Averages 2'!F36<0,0,'Averages 2'!F36)","v":{"$error":"#DIV/0!"}},{"$f":"IF('Averages 2'!G36<0,0,'Averages 2'!G36)","v":{"$error":"#DIV/0!"}},{"$f":"IF('Averages 2'!H36<0,0,'Averages 2'!H36)","v":{"$error":"#DIV/0!"}},{"$f":"IF('Averages 2'!I36<0,0,'Averages 2'!I36)","v":{"$error":"#DIV/0!"}},{"$f":"IF('Averages 2'!J36<0,0,'Averages 2'!J36)","v":{"$error":"#DIV/0!"}},{"$f":"IF('Averages 2'!K36<0,0,'Averages 2'!K36)","v":{"$error":"#DIV/0!"}},{"$f":"IF('Averages 2'!L36<0,0,'Averages 2'!L36)","v":{"$error":"#DIV/0!"}},{"$f":"IF('Averages 2'!M36<0,0,'Averages 2'!M36)","v":{"$error":"#DIV/0!"}},{"$f":"IF('Averages 2'!N36<0,0,'Averages 2'!N36)","v":{"$error":"#DIV/0!"}},{"$f":"IF('Averages 2'!O36<0,0,'Averages 2'!O36)","v":{"$error":"#DIV/0!"}},{"$f":"IF('Averages 2'!P36<0,0,'Averages 2'!P36)","v":{"$error":"#DIV/0!"}},{"$f":"IF('Averages 2'!Q36<0,0,'Averages 2'!Q36)","v":{"$error":"#DIV/0!"}}]
[{"$f":"'Sorting 2'!A38","v":"P39"},{"$f":"IF('Averages 2'!B37<0,0,'Averages 2'!B37)","v":{"$error":"#DIV/0!"}},{"$f":"IF('Averages 2'!C37<0,0,'Averages 2'!C37)","v":{"$error":"#DIV/0!"}},{"$f":"IF('Averages 2'!D37<0,0,'Averages 2'!D37)","v":{"$error":"#DIV/0!"}},{"$f":"IF('Averages 2'!E37<0,0,'Averages 2'!E37)","v":{"$error":"#DIV/0!"}},{"$f":"IF('Averages 2'!F37<0,0,'Averages 2'!F37)","v":{"$error":"#DIV/0!"}},{"$f":"IF('Averages 2'!G37<0,0,'Averages 2'!G37)","v":{"$error":"#DIV/0!"}},{"$f":"IF('Averages 2'!H37<0,0,'Averages 2'!H37)","v":{"$error":"#DIV/0!"}},{"$f":"IF('Averages 2'!I37<0,0,'Averages 2'!I37)","v":{"$error":"#DIV/0!"}},{"$f":"IF('Averages 2'!J37<0,0,'Averages 2'!J37)","v":{"$error":"#DIV/0!"}},{"$f":"IF('Averages 2'!K37<0,0,'Averages 2'!K37)","v":{"$error":"#DIV/0!"}},{"$f":"IF('Averages 2'!L37<0,0,'Averages 2'!L37)","v":{"$error":"#DIV/0!"}},{"$f":"IF('Averages 2'!M37<0,0,'Averages 2'!M37)","v":{"$error":"#DIV/0!"}},{"$f":"IF('Averages 2'!N37<0,0,'Averages 2'!N37)","v":{"$error":"#DIV/0!"}},{"$f":"IF('Averages 2'!O37<0,0,'Averages 2'!O37)","v":{"$error":"#DIV/0!"}},{"$f":"IF('Averages 2'!P37<0,0,'Averages 2'!P37)","v":{"$error":"#DIV/0!"}},{"$f":"IF('Averages 2'!Q37<0,0,'Averages 2'!Q37)","v":{"$error":"#DIV/0!"}}]
[{"$f":"'Sorting 2'!A39","v":"P51"},{"$f":"IF('Averages 2'!B38<0,0,'Averages 2'!B38)","v":{"$error":"#DIV/0!"}},{"$f":"IF('Averages 2'!C38<0,0,'Averages 2'!C38)","v":{"$error":"#DIV/0!"}},{"$f":"IF('Averages 2'!D38<0,0,'Averages 2'!D38)","v":{"$error":"#DIV/0!"}},{"$f":"IF('Averages 2'!E38<0,0,'Averages 2'!E38)","v":{"$error":"#DIV/0!"}},{"$f":"IF('Averages 2'!F38<0,0,'Averages 2'!F38)","v":{"$error":"#DIV/0!"}},{"$f":"IF('Averages 2'!G38<0,0,'Averages 2'!G38)","v":{"$error":"#DIV/0!"}},{"$f":"IF('Averages 2'!H38<0,0,'Averages 2'!H38)","v":{"$error":"#DIV/0!"}},{"$f":"IF('Averages 2'!I38<0,0,'Averages 2'!I38)","v":{"$error":"#DIV/0!"}},{"$f":"IF('Averages 2'!J38<0,0,'Averages 2'!J38)","v":{"$error":"#DIV/0!"}},{"$f":"IF('Averages 2'!K38<0,0,'Averages 2'!K38)","v":{"$error":"#DIV/0!"}},{"$f":"IF('Averages 2'!L38<0,0,'Averages 2'!L38)","v":{"$error":"#DIV/0!"}},{"$f":"IF('Averages 2'!M38<0,0,'Averages 2'!M38)","v":{"$error":"#DIV/0!"}},{"$f":"IF('Averages 2'!N38<0,0,'Averages 2'!N38)","v":{"$error":"#DIV/0!"}},{"$f":"IF('Averages 2'!O38<0,0,'Averages 2'!O38)","v":{"$error":"#DIV/0!"}},{"$f":"IF('Averages 2'!P38<0,0,'Averages 2'!P38)","v":{"$error":"#DIV/0!"}},{"$f":"IF('Averages 2'!Q38<0,0,'Averages 2'!Q38)","v":{"$error":"#DIV/0!"}}]
[{"$f":"'Sorting 2'!A40","v":"P6"},{"$f":"IF('Averages 2'!B39<0,0,'Averages 2'!B39)","v":{"$error":"#DIV/0!"}},{"$f":"IF('Averages 2'!C39<0,0,'Averages 2'!C39)","v":{"$error":"#DIV/0!"}},{"$f":"IF('Averages 2'!D39<0,0,'Averages 2'!D39)","v":{"$error":"#DIV/0!"}},{"$f":"IF('Averages 2'!E39<0,0,'Averages 2'!E39)","v":{"$error":"#DIV/0!"}},{"$f":"IF('Averages 2'!F39<0,0,'Averages 2'!F39)","v":{"$error":"#DIV/0!"}},{"$f":"IF('Averages 2'!G39<0,0,'Averages 2'!G39)","v":{"$error":"#DIV/0!"}},{"$f":"IF('Averages 2'!H39<0,0,'Averages 2'!H39)","v":{"$error":"#DIV/0!"}},{"$f":"IF('Averages 2'!I39<0,0,'Averages 2'!I39)","v":{"$error":"#DIV/0!"}},{"$f":"IF('Averages 2'!J39<0,0,'Averages 2'!J39)","v":{"$error":"#DIV/0!"}},{"$f":"IF('Averages 2'!K39<0,0,'Averages 2'!K39)","v":{"$error":"#DIV/0!"}},{"$f":"IF('Averages 2'!L39<0,0,'Averages 2'!L39)","v":{"$error":"#DIV/0!"}},{"$f":"IF('Averages 2'!M39<0,0,'Averages 2'!M39)","v":{"$error":"#DIV/0!"}},{"$f":"IF('Averages 2'!N39<0,0,'Averages 2'!N39)","v":{"$error":"#DIV/0!"}},{"$f":"IF('Averages 2'!O39<0,0,'Averages 2'!O39)","v":{"$error":"#DIV/0!"}},{"$f":"IF('Averages 2'!P39<0,0,'Averages 2'!P39)","v":{"$error":"#DIV/0!"}},{"$f":"IF('Averages 2'!Q39<0,0,'Averages 2'!Q39)","v":{"$error":"#DIV/0!"}}]
[{"$f":"'Sorting 2'!A41","v":"P18"},{"$f":"IF('Averages 2'!B40<0,0,'Averages 2'!B40)","v":{"$error":"#DIV/0!"}},{"$f":"IF('Averages 2'!C40<0,0,'Averages 2'!C40)","v":{"$error":"#DIV/0!"}},{"$f":"IF('Averages 2'!D40<0,0,'Averages 2'!D40)","v":{"$error":"#DIV/0!"}},{"$f":"IF('Averages 2'!E40<0,0,'Averages 2'!E40)","v":{"$error":"#DIV/0!"}},{"$f":"IF('Averages 2'!F40<0,0,'Averages 2'!F40)","v":{"$error":"#DIV/0!"}},{"$f":"IF('Averages 2'!G40<0,0,'Averages 2'!G40)","v":{"$error":"#DIV/0!"}},{"$f":"IF('Averages 2'!H40<0,0,'Averages 2'!H40)","v":{"$error":"#DIV/0!"}},{"$f":"IF('Averages 2'!I40<0,0,'Averages 2'!I40)","v":{"$error":"#DIV/0!"}},{"$f":"IF('Averages 2'!J40<0,0,'Averages 2'!J40)","v":{"$error":"#DIV/0!"}},{"$f":"IF('Averages 2'!K40<0,0,'Averages 2'!K40)","v":{"$error":"#DIV/0!"}},{"$f":"IF('Averages 2'!L40<0,0,'Averages 2'!L40)","v":{"$error":"#DIV/0!"}},{"$f":"IF('Averages 2'!M40<0,0,'Averages 2'!M40)","v":{"$error":"#DIV/0!"}},{"$f":"IF('Averages 2'!N40<0,0,'Averages 2'!N40)","v":{"$error":"#DIV/0!"}},{"$f":"IF('Averages 2'!O40<0,0,'Averages 2'!O40)","v":{"$error":"#DIV/0!"}},{"$f":"IF('Averages 2'!P40<0,0,'Averages 2'!P40)","v":{"$error":"#DIV/0!"}},{"$f":"IF('Averages 2'!Q40<0,0,'Averages 2'!Q40)","v":{"$error":"#DIV/0!"}}]
[{"$f":"'Sorting 2'!A42","v":"P28"},{"$f":"IF('Averages 2'!B41<0,0,'Averages 2'!B41)","v":{"$error":"#DIV/0!"}},{"$f":"IF('Averages 2'!C41<0,0,'Averages 2'!C41)","v":{"$error":"#DIV/0!"}},{"$f":"IF('Averages 2'!D41<0,0,'Averages 2'!D41)","v":{"$error":"#DIV/0!"}},{"$f":"IF('Averages 2'!E41<0,0,'Averages 2'!E41)","v":{"$error":"#DIV/0!"}},{"$f":"IF('Averages 2'!F41<0,0,'Averages 2'!F41)","v":{"$error":"#DIV/0!"}},{"$f":"IF('Averages 2'!G41<0,0,'Averages 2'!G41)","v":{"$error":"#DIV/0!"}},{"$f":"IF('Averages 2'!H41<0,0,'Averages 2'!H41)","v":{"$error":"#DIV/0!"}},{"$f":"IF('Averages 2'!I41<0,0,'Averages 2'!I41)","v":{"$error":"#DIV/0!"}},{"$f":"IF('Averages 2'!J41<0,0,'Averages 2'!J41)","v":{"$error":"#DIV/0!"}},{"$f":"IF('Averages 2'!K41<0,0,'Averages 2'!K41)","v":{"$error":"#DIV/0!"}},{"$f":"IF('Averages 2'!L41<0,0,'Averages 2'!L41)","v":{"$error":"#DIV/0!"}},{"$f":"IF('Averages 2'!M41<0,0,'Averages 2'!M41)","v":{"$error":"#DIV/0!"}},{"$f":"IF('Averages 2'!N41<0,0,'Averages 2'!N41)","v":{"$error":"#DIV/0!"}},{"$f":"IF('Averages 2'!O41<0,0,'Averages 2'!O41)","v":{"$error":"#DIV/0!"}},{"$f":"IF('Averages 2'!P41<0,0,'Averages 2'!P41)","v":{"$error":"#DIV/0!"}},{"$f":"IF('Averages 2'!Q41<0,0,'Averages 2'!Q41)","v":{"$error":"#DIV/0!"}}]
[{"$f":"'Sorting 2'!A43","v":"P40"},{"$f":"IF('Averages 2'!B42<0,0,'Averages 2'!B42)","v":{"$error":"#DIV/0!"}},{"$f":"IF('Averages 2'!C42<0,0,'Averages 2'!C42)","v":{"$error":"#DIV/0!"}},{"$f":"IF('Averages 2'!D42<0,0,'Averages 2'!D42)","v":{"$error":"#DIV/0!"}},{"$f":"IF('Averages 2'!E42<0,0,'Averages 2'!E42)","v":{"$error":"#DIV/0!"}},{"$f":"IF('Averages 2'!F42<0,0,'Averages 2'!F42)","v":{"$error":"#DIV/0!"}},{"$f":"IF('Averages 2'!G42<0,0,'Averages 2'!G42)","v":{"$error":"#DIV/0!"}},{"$f":"IF('Averages 2'!H42<0,0,'Averages 2'!H42)","v":{"$error":"#DIV/0!"}},{"$f":"IF('Averages 2'!I42<0,0,'Averages 2'!I42)","v":{"$error":"#DIV/0!"}},{"$f":"IF('Averages 2'!J42<0,0,'Averages 2'!J42)","v":{"$error":"#DIV/0!"}},{"$f":"IF('Averages 2'!K42<0,0,'Averages 2'!K42)","v":{"$error":"#DIV/0!"}},{"$f":"IF('Averages 2'!L42<0,0,'Averages 2'!L42)","v":{"$error":"#DIV/0!"}},{"$f":"IF('Averages 2'!M42<0,0,'Averages 2'!M42)","v":{"$error":"#DIV/0!"}},{"$f":"IF('Averages 2'!N42<0,0,'Averages 2'!N42)","v":{"$error":"#DIV/0!"}},{"$f":"IF('Averages 2'!O42<0,0,'Averages 2'!O42)","v":{"$error":"#DIV/0!"}},{"$f":"IF('Averages 2'!P42<0,0,'Averages 2'!P42)","v":{"$error":"#DIV/0!"}},{"$f":"IF('Averages 2'!Q42<0,0,'Averages 2'!Q42)","v":{"$error":"#DIV/0!"}}]
[{"$f":"'Sorting 2'!A44","v":"P7"},{"$f":"IF('Averages 2'!B43<0,0,'Averages 2'!B43)","v":{"$error":"#DIV/0!"}},{"$f":"IF('Averages 2'!C43<0,0,'Averages 2'!C43)","v":{"$error":"#DIV/0!"}},{"$f":"IF('Averages 2'!D43<0,0,'Averages 2'!D43)","v":{"$error":"#DIV/0!"}},{"$f":"IF('Averages 2'!E43<0,0,'Averages 2'!E43)","v":{"$error":"#DIV/0!"}},{"$f":"IF('Averages 2'!F43<0,0,'Averages 2'!F43)","v":{"$error":"#DIV/0!"}},{"$f":"IF('Averages 2'!G43<0,0,'Averages 2'!G43)","v":{"$error":"#DIV/0!"}},{"$f":"IF('Averages 2'!H43<0,0,'Averages 2'!H43)","v":{"$error":"#DIV/0!"}},{"$f":"IF('Averages 2'!I43<0,0,'Averages 2'!I43)","v":{"$error":"#DIV/0!"}},{"$f":"IF('Averages 2'!J43<0,0,'Averages 2'!J43)","v":{"$error":"#DIV/0!"}},{"$f":"IF('Averages 2'!K43<0,0,'Averages 2'!K43)","v":{"$error":"#DIV/0!"}},{"$f":"IF('Averages 2'!L43<0,0,'Averages 2'!L43)","v":{"$error":"#DIV/0!"}},{"$f":"IF('Averages 2'!M43<0,0,'Averages 2'!M43)","v":{"$error":"#DIV/0!"}},{"$f":"IF('Averages 2'!N43<0,0,'Averages 2'!N43)","v":{"$error":"#DIV/0!"}},{"$f":"IF('Averages 2'!O43<0,0,'Averages 2'!O43)","v":{"$error":"#DIV/0!"}},{"$f":"IF('Averages 2'!P43<0,0,'Averages 2'!P43)","v":{"$error":"#DIV/0!"}},{"$f":"IF('Averages 2'!Q43<0,0,'Averages 2'!Q43)","v":{"$error":"#DIV/0!"}}]
[{"$f":"'Sorting 2'!A45","v":"P19"},{"$f":"IF('Averages 2'!B44<0,0,'Averages 2'!B44)","v":{"$error":"#DIV/0!"}},{"$f":"IF('Averages 2'!C44<0,0,'Averages 2'!C44)","v":{"$error":"#DIV/0!"}},{"$f":"IF('Averages 2'!D44<0,0,'Averages 2'!D44)","v":{"$error":"#DIV/0!"}},{"$f":"IF('Averages 2'!E44<0,0,'Averages 2'!E44)","v":{"$error":"#DIV/0!"}},{"$f":"IF('Averages 2'!F44<0,0,'Averages 2'!F44)","v":{"$error":"#DIV/0!"}},{"$f":"IF('Averages 2'!G44<0,0,'Averages 2'!G44)","v":{"$error":"#DIV/0!"}},{"$f":"IF('Averages 2'!H44<0,0,'Averages 2'!H44)","v":{"$error":"#DIV/0!"}},{"$f":"IF('Averages 2'!I44<0,0,'Averages 2'!I44)","v":{"$error":"#DIV/0!"}},{"$f":"IF('Averages 2'!J44<0,0,'Averages 2'!J44)","v":{"$error":"#DIV/0!"}},{"$f":"IF('Averages 2'!K44<0,0,'Averages 2'!K44)","v":{"$error":"#DIV/0!"}},{"$f":"IF('Averages 2'!L44<0,0,'Averages 2'!L44)","v":{"$error":"#DIV/0!"}},{"$f":"IF('Averages 2'!M44<0,0,'Averages 2'!M44)","v":{"$error":"#DIV/0!"}},{"$f":"IF('Averages 2'!N44<0,0,'Averages 2'!N44)","v":{"$error":"#DIV/0!"}},{"$f":"IF('Averages 2'!O44<0,0,'Averages 2'!O44)","v":{"$error":"#DIV/0!"}},{"$f":"IF('Averages 2'!P44<0,0,'Averages 2'!P44)","v":{"$error":"#DIV/0!"}},{"$f":"IF('Averages 2'!Q44<0,0,'Averages 2'!Q44)","v":{"$error":"#DIV/0!"}}]
[{"$f":"'Sorting 2'!A46","v":"P29"},{"$f":"IF('Averages 2'!B45<0,0,'Averages 2'!B45)","v":{"$error":"#DIV/0!"}},{"$f":"IF('Averages 2'!C45<0,0,'Averages 2'!C45)","v":{"$error":"#DIV/0!"}},{"$f":"IF('Averages 2'!D45<0,0,'Averages 2'!D45)","v":{"$error":"#DIV/0!"}},{"$f":"IF('Averages 2'!E45<0,0,'Averages 2'!E45)","v":{"$error":"#DIV/0!"}},{"$f":"IF('Averages 2'!F45<0,0,'Averages 2'!F45)","v":{"$error":"#DIV/0!"}},{"$f":"IF('Averages 2'!G45<0,0,'Averages 2'!G45)","v":{"$error":"#DIV/0!"}},{"$f":"IF('Averages 2'!H45<0,0,'Averages 2'!H45)","v":{"$error":"#DIV/0!"}},{"$f":"IF('Averages 2'!I45<0,0,'Averages 2'!I45)","v":{"$error":"#DIV/0!"}},{"$f":"IF('Averages 2'!J45<0,0,'Averages 2'!J45)","v":{"$error":"#DIV/0!"}},{"$f":"IF('Averages 2'!K45<0,0,'Averages 2'!K45)","v":{"$error":"#DIV/0!"}},{"$f":"IF('Averages 2'!L45<0,0,'Averages 2'!L45)","v":{"$error":"#DIV/0!"}},{"$f":"IF('Averages 2'!M45<0,0,'Averages 2'!M45)","v":{"$error":"#DIV/0!"}},{"$f":"IF('Averages 2'!N45<0,0,'Averages 2'!N45)","v":{"$error":"#DIV/0!"}},{"$f":"IF('Averages 2'!O45<0,0,'Averages 2'!O45)","v":{"$error":"#DIV/0!"}},{"$f":"IF('Averages 2'!P45<0,0,'Averages 2'!P45)","v":{"$error":"#DIV/0!"}},{"$f":"IF('Averages 2'!Q45<0,0,'Averages 2'!Q45)","v":{"$error":"#DIV/0!"}}]
[{"$f":"'Sorting 2'!A47","v":"P41"},{"$f":"IF('Averages 2'!B46<0,0,'Averages 2'!B46)","v":{"$error":"#DIV/0!"}},{"$f":"IF('Averages 2'!C46<0,0,'Averages 2'!C46)","v":{"$error":"#DIV/0!"}},{"$f":"IF('Averages 2'!D46<0,0,'Averages 2'!D46)","v":{"$error":"#DIV/0!"}},{"$f":"IF('Averages 2'!E46<0,0,'Averages 2'!E46)","v":{"$error":"#DIV/0!"}},{"$f":"IF('Averages 2'!F46<0,0,'Averages 2'!F46)","v":{"$error":"#DIV/0!"}},{"$f":"IF('Averages 2'!G46<0,0,'Averages 2'!G46)","v":{"$error":"#DIV/0!"}},{"$f":"IF('Averages 2'!H46<0,0,'Averages 2'!H46)","v":{"$error":"#DIV/0!"}},{"$f":"IF('Averages 2'!I46<0,0,'Averages 2'!I46)","v":{"$error":"#DIV/0!"}},{"$f":"IF('Averages 2'!J46<0,0,'Averages 2'!J46)","v":{"$error":"#DIV/0!"}},{"$f":"IF('Averages 2'!K46<0,0,'Averages 2'!K46)","v":{"$error":"#DIV/0!"}},{"$f":"IF('Averages 2'!L46<0,0,'Averages 2'!L46)","v":{"$error":"#DIV/0!"}},{"$f":"IF('Averages 2'!M46<0,0,'Averages 2'!M46)","v":{"$error":"#DIV/0!"}},{"$f":"IF('Averages 2'!N46<0,0,'Averages 2'!N46)","v":{"$error":"#DIV/0!"}},{"$f":"IF('Averages 2'!O46<0,0,'Averages 2'!O46)","v":{"$error":"#DIV/0!"}},{"$f":"IF('Averages 2'!P46<0,0,'Averages 2'!P46)","v":{"$error":"#DIV/0!"}},{"$f":"IF('Averages 2'!Q46<0,0,'Averages 2'!Q46)","v":{"$error":"#DIV/0!"}}]
[{"$f":"'Sorting 2'!A48","v":"Pig IgG"},{"$f":"IF('Averages 2'!B47<0,0,'Averages 2'!B47)","v":{"$error":"#DIV/0!"}},{"$f":"IF('Averages 2'!C47<0,0,'Averages 2'!C47)","v":{"$error":"#DIV/0!"}},{"$f":"IF('Averages 2'!D47<0,0,'Averages 2'!D47)","v":{"$error":"#DIV/0!"}},{"$f":"IF('Averages 2'!E47<0,0,'Averages 2'!E47)","v":{"$error":"#DIV/0!"}},{"$f":"IF('Averages 2'!F47<0,0,'Averages 2'!F47)","v":{"$error":"#DIV/0!"}},{"$f":"IF('Averages 2'!G47<0,0,'Averages 2'!G47)","v":{"$error":"#DIV/0!"}},{"$f":"IF('Averages 2'!H47<0,0,'Averages 2'!H47)","v":{"$error":"#DIV/0!"}},{"$f":"IF('Averages 2'!I47<0,0,'Averages 2'!I47)","v":{"$error":"#DIV/0!"}},{"$f":"IF('Averages 2'!J47<0,0,'Averages 2'!J47)","v":{"$error":"#DIV/0!"}},{"$f":"IF('Averages 2'!K47<0,0,'Averages 2'!K47)","v":{"$error":"#DIV/0!"}},{"$f":"IF('Averages 2'!L47<0,0,'Averages 2'!L47)","v":{"$error":"#DIV/0!"}},{"$f":"IF('Averages 2'!M47<0,0,'Averages 2'!M47)","v":{"$error":"#DIV/0!"}},{"$f":"IF('Averages 2'!N47<0,0,'Averages 2'!N47)","v":{"$error":"#DIV/0!"}},{"$f":"IF('Averages 2'!O47<0,0,'Averages 2'!O47)","v":{"$error":"#DIV/0!"}},{"$f":"IF('Averages 2'!P47<0,0,'Averages 2'!P47)","v":{"$error":"#DIV/0!"}},{"$f":"IF('Averages 2'!Q47<0,0,'Averages 2'!Q47)","v":{"$error":"#DIV/0!"}}]
[{"$f":"'Sorting 2'!A49","v":"P8"},{"$f":"IF('Averages 2'!B48<0,0,'Averages 2'!B48)","v":{"$error":"#DIV/0!"}},{"$f":"IF('Averages 2'!C48<0,0,'Averages 2'!C48)","v":{"$error":"#DIV/0!"}},{"$f":"IF('Averages 2'!D48<0,0,'Averages 2'!D48)","v":{"$error":"#DIV/0!"}},{"$f":"IF('Averages 2'!E48<0,0,'Averages 2'!E48)","v":{"$error":"#DIV/0!"}},{"$f":"IF('Averages 2'!F48<0,0,'Averages 2'!F48)","v":{"$error":"#DIV/0!"}},{"$f":"IF('Averages 2'!G48<0,0,'Averages 2'!G48)","v":{"$error":"#DIV/0!"}},{"$f":"IF('Averages 2'!H48<0,0,'Averages 2'!H48)","v":{"$error":"#DIV/0!"}},{"$f":"IF('Averages 2'!I48<0,0,'Averages 2'!I48)","v":{"$error":"#DIV/0!"}},{"$f":"IF('Averages 2'!J48<0,0,'Averages 2'!J48)","v":{"$error":"#DIV/0!"}},{"$f":"IF('Averages 2'!K48<0,0,'Averages 2'!K48)","v":{"$error":"#DIV/0!"}},{"$f":"IF('Averages 2'!L48<0,0,'Averages 2'!L48)","v":{"$error":"#DIV/0!"}},{"$f":"IF('Averages 2'!M48<0,0,'Averages 2'!M48)","v":{"$error":"#DIV/0!"}},{"$f":"IF('Averages 2'!N48<0,0,'Averages 2'!N48)","v":{"$error":"#DIV/0!"}},{"$f":"IF('Averages 2'!O48<0,0,'Averages 2'!O48)","v":{"$error":"#DIV/0!"}},{"$f":"IF('Averages 2'!P48<0,0,'Averages 2'!P48)","v":{"$error":"#DIV/0!"}},{"$f":"IF('Averages 2'!Q48<0,0,'Averages 2'!Q48)","v":{"$error":"#DIV/0!"}}]
[{"$f":"'Sorting 2'!A50","v":"P20"},{"$f":"IF('Averages 2'!B49<0,0,'Averages 2'!B49)","v":{"$error":"#DIV/0!"}},{"$f":"IF('Averages 2'!C49<0,0,'Averages 2'!C49)","v":{"$error":"#DIV/0!"}},{"$f":"IF('Averages 2'!D49<0,0,'Averages 2'!D49)","v":{"$error":"#DIV/0!"}},{"$f":"IF('Averages 2'!E49<0,0,'Averages 2'!E49)","v":{"$error":"#DIV/0!"}},{"$f":"IF('Averages 2'!F49<0,0,'Averages 2'!F49)","v":{"$error":"#DIV/0!"}},{"$f":"IF('Averages 2'!G49<0,0,'Averages 2'!G49)","v":{"$error":"#DIV/0!"}},{"$f":"IF('Averages 2'!H49<0,0,'Averages 2'!H49)","v":{"$error":"#DIV/0!"}},{"$f":"IF('Averages 2'!I49<0,0,'Averages 2'!I49)","v":{"$error":"#DIV/0!"}},{"$f":"IF('Averages 2'!J49<0,0,'Averages 2'!J49)","v":{"$error":"#DIV/0!"}},{"$f":"IF('Averages 2'!K49<0,0,'Averages 2'!K49)","v":{"$error":"#DIV/0!"}},{"$f":"IF('Averages 2'!L49<0,0,'Averages 2'!L49)","v":{"$error":"#DIV/0!"}},{"$f":"IF('Averages 2'!M49<0,0,'Averages 2'!M49)","v":{"$error":"#DIV/0!"}},{"$f":"IF('Averages 2'!N49<0,0,'Averages 2'!N49)","v":{"$error":"#DIV/0!"}},{"$f":"IF('Averages 2'!O49<0,0,'Averages 2'!O49)","v":{"$error":"#DIV/0!"}},{"$f":"IF('Averages 2'!P49<0,0,'Averages 2'!P49)","v":{"$error":"#DIV/0!"}},{"$f":"IF('Averages 2'!Q49<0,0,'Averages 2'!Q49)","v":{"$error":"#DIV/0!"}}]
[{"$f":"'Sorting 2'!A51","v":"P30"},{"$f":"IF('Averages 2'!B50<0,0,'Averages 2'!B50)","v":{"$error":"#DIV/0!"}},{"$f":"IF('Averages 2'!C50<0,0,'Averages 2'!C50)","v":{"$error":"#DIV/0!"}},{"$f":"IF('Averages 2'!D50<0,0,'Averages 2'!D50)","v":{"$error":"#DIV/0!"}},{"$f":"IF('Averages 2'!E50<0,0,'Averages 2'!E50)","v":{"$error":"#DIV/0!"}},{"$f":"IF('Averages 2'!F50<0,0,'Averages 2'!F50)","v":{"$error":"#DIV/0!"}},{"$f":"IF('Averages 2'!G50<0,0,'Averages 2'!G50)","v":{"$error":"#DIV/0!"}},{"$f":"IF('Averages 2'!H50<0,0,'Averages 2'!H50)","v":{"$error":"#DIV/0!"}},{"$f":"IF('Averages 2'!I50<0,0,'Averages 2'!I50)","v":{"$error":"#DIV/0!"}},{"$f":"IF('Averages 2'!J50<0,0,'Averages 2'!J50)","v":{"$error":"#DIV/0!"}},{"$f":"IF('Averages 2'!K50<0,0,'Averages 2'!K50)","v":{"$error":"#DIV/0!"}},{"$f":"IF('Averages 2'!L50<0,0,'Averages 2'!L50)","v":{"$error":"#DIV/0!"}},{"$f":"IF('Averages 2'!M50<0,0,'Averages 2'!M50)","v":{"$error":"#DIV/0!"}},{"$f":"IF('Averages 2'!N50<0,0,'Averages 2'!N50)","v":{"$error":"#DIV/0!"}},{"$f":"IF('Averages 2'!O50<0,0,'Averages 2'!O50)","v":{"$error":"#DIV/0!"}},{"$f":"IF('Averages 2'!P50<0,0,'Averages 2'!P50)","v":{"$error":"#DIV/0!"}},{"$f":"IF('Averages 2'!Q50<0,0,'Averages 2'!Q50)","v":{"$error":"#DIV/0!"}}]
[{"$f":"'Sorting 2'!A52","v":"P42"},{"$f":"IF('Averages 2'!B51<0,0,'Averages 2'!B51)","v":{"$error":"#DIV/0!"}},{"$f":"IF('Averages 2'!C51<0,0,'Averages 2'!C51)","v":{"$error":"#DIV/0!"}},{"$f":"IF('Averages 2'!D51<0,0,'Averages 2'!D51)","v":{"$error":"#DIV/0!"}},{"$f":"IF('Averages 2'!E51<0,0,'Averages 2'!E51)","v":{"$error":"#DIV/0!"}},{"$f":"IF('Averages 2'!F51<0,0,'Averages 2'!F51)","v":{"$error":"#DIV/0!"}},{"$f":"IF('Averages 2'!G51<0,0,'Averages 2'!G51)","v":{"$error":"#DIV/0!"}},{"$f":"IF('Averages 2'!H51<0,0,'Averages 2'!H51)","v":{"$error":"#DIV/0!"}},{"$f":"IF('Averages 2'!I51<0,0,'Averages 2'!I51)","v":{"$error":"#DIV/0!"}},{"$f":"IF('Averages 2'!J51<0,0,'Averages 2'!J51)","v":{"$error":"#DIV/0!"}},{"$f":"IF('Averages 2'!K51<0,0,'Averages 2'!K51)","v":{"$error":"#DIV/0!"}},{"$f":"IF('Averages 2'!L51<0,0,'Averages 2'!L51)","v":{"$error":"#DIV/0!"}},{"$f":"IF('Averages 2'!M51<0,0,'Averages 2'!M51)","v":{"$error":"#DIV/0!"}},{"$f":"IF('Averages 2'!N51<0,0,'Averages 2'!N51)","v":{"$error":"#DIV/0!"}},{"$f":"IF('Averages 2'!O51<0,0,'Averages 2'!O51)","v":{"$error":"#DIV/0!"}},{"$f":"IF('Averages 2'!P51<0,0,'Averages 2'!P51)","v":{"$error":"#DIV/0!"}},{"$f":"IF('Averages 2'!Q51<0,0,'Averages 2'!Q51)","v":{"$error":"#DIV/0!"}}]
[{"$f":"'Sorting 2'!A53","v":"Pig IgA"},{"$f":"IF('Averages 2'!B52<0,0,'Averages 2'!B52)","v":{"$error":"#DIV/0!"}},{"$f":"IF('Averages 2'!C52<0,0,'Averages 2'!C52)","v":{"$error":"#DIV/0!"}},{"$f":"IF('Averages 2'!D52<0,0,'Averages 2'!D52)","v":{"$error":"#DIV/0!"}},{"$f":"IF('Averages 2'!E52<0,0,'Averages 2'!E52)","v":{"$error":"#DIV/0!"}},{"$f":"IF('Averages 2'!F52<0,0,'Averages 2'!F52)","v":{"$error":"#DIV/0!"}},{"$f":"IF('Averages 2'!G52<0,0,'Averages 2'!G52)","v":{"$error":"#DIV/0!"}},{"$f":"IF('Averages 2'!H52<0,0,'Averages 2'!H52)","v":{"$error":"#DIV/0!"}},{"$f":"IF('Averages 2'!I52<0,0,'Averages 2'!I52)","v":{"$error":"#DIV/0!"}},{"$f":"IF('Averages 2'!J52<0,0,'Averages 2'!J52)","v":{"$error":"#DIV/0!"}},{"$f":"IF('Averages 2'!K52<0,0,'Averages 2'!K52)","v":{"$error":"#DIV/0!"}},{"$f":"IF('Averages 2'!L52<0,0,'Averages 2'!L52)","v":{"$error":"#DIV/0!"}},{"$f":"IF('Averages 2'!M52<0,0,'Averages 2'!M52)","v":{"$error":"#DIV/0!"}},{"$f":"IF('Averages 2'!N52<0,0,'Averages 2'!N52)","v":{"$error":"#DIV/0!"}},{"$f":"IF('Averages 2'!O52<0,0,'Averages 2'!O52)","v":{"$error":"#DIV/0!"}},{"$f":"IF('Averages 2'!P52<0,0,'Averages 2'!P52)","v":{"$error":"#DIV/0!"}},{"$f":"IF('Averages 2'!Q52<0,0,'Averages 2'!Q52)","v":{"$error":"#DIV/0!"}}]
[{"$f":"'Sorting 2'!A54","v":"P9"},{"$f":"IF('Averages 2'!B53<0,0,'Averages 2'!B53)","v":{"$error":"#DIV/0!"}},{"$f":"IF('Averages 2'!C53<0,0,'Averages 2'!C53)","v":{"$error":"#DIV/0!"}},{"$f":"IF('Averages 2'!D53<0,0,'Averages 2'!D53)","v":{"$error":"#DIV/0!"}},{"$f":"IF('Averages 2'!E53<0,0,'Averages 2'!E53)","v":{"$error":"#DIV/0!"}},{"$f":"IF('Averages 2'!F53<0,0,'Averages 2'!F53)","v":{"$error":"#DIV/0!"}},{"$f":"IF('Averages 2'!G53<0,0,'Averages 2'!G53)","v":{"$error":"#DIV/0!"}},{"$f":"IF('Averages 2'!H53<0,0,'Averages 2'!H53)","v":{"$error":"#DIV/0!"}},{"$f":"IF('Averages 2'!I53<0,0,'Averages 2'!I53)","v":{"$error":"#DIV/0!"}},{"$f":"IF('Averages 2'!J53<0,0,'Averages 2'!J53)","v":{"$error":"#DIV/0!"}},{"$f":"IF('Averages 2'!K53<0,0,'Averages 2'!K53)","v":{"$error":"#DIV/0!"}},{"$f":"IF('Averages 2'!L53<0,0,'Averages 2'!L53)","v":{"$error":"#DIV/0!"}},{"$f":"IF('Averages 2'!M53<0,0,'Averages 2'!M53)","v":{"$error":"#DIV/0!"}},{"$f":"IF('Averages 2'!N53<0,0,'Averages 2'!N53)","v":{"$error":"#DIV/0!"}},{"$f":"IF('Averages 2'!O53<0,0,'Averages 2'!O53)","v":{"$error":"#DIV/0!"}},{"$f":"IF('Averages 2'!P53<0,0,'Averages 2'!P53)","v":{"$error":"#DIV/0!"}},{"$f":"IF('Averages 2'!Q53<0,0,'Averages 2'!Q53)","v":{"$error":"#DIV/0!"}}]
[{"$f":"'Sorting 2'!A55","v":"P21"},{"$f":"IF('Averages 2'!B54<0,0,'Averages 2'!B54)","v":{"$error":"#DIV/0!"}},{"$f":"IF('Averages 2'!C54<0,0,'Averages 2'!C54)","v":{"$error":"#DIV/0!"}},{"$f":"IF('Averages 2'!D54<0,0,'Averages 2'!D54)","v":{"$error":"#DIV/0!"}},{"$f":"IF('Averages 2'!E54<0,0,'Averages 2'!E54)","v":{"$error":"#DIV/0!"}},{"$f":"IF('Averages 2'!F54<0,0,'Averages 2'!F54)","v":{"$error":"#DIV/0!"}},{"$f":"IF('Averages 2'!G54<0,0,'Averages 2'!G54)","v":{"$error":"#DIV/0!"}},{"$f":"IF('Averages 2'!H54<0,0,'Averages 2'!H54)","v":{"$error":"#DIV/0!"}},{"$f":"IF('Averages 2'!I54<0,0,'Averages 2'!I54)","v":{"$error":"#DIV/0!"}},{"$f":"IF('Averages 2'!J54<0,0,'Averages 2'!J54)","v":{"$error":"#DIV/0!"}},{"$f":"IF('Averages 2'!K54<0,0,'Averages 2'!K54)","v":{"$error":"#DIV/0!"}},{"$f":"IF('Averages 2'!L54<0,0,'Averages 2'!L54)","v":{"$error":"#DIV/0!"}},{"$f":"IF('Averages 2'!M54<0,0,'Averages 2'!M54)","v":{"$error":"#DIV/0!"}},{"$f":"IF('Averages 2'!N54<0,0,'Averages 2'!N54)","v":{"$error":"#DIV/0!"}},{"$f":"IF('Averages 2'!O54<0,0,'Averages 2'!O54)","v":{"$error":"#DIV/0!"}},{"$f":"IF('Averages 2'!P54<0,0,'Averages 2'!P54)","v":{"$error":"#DIV/0!"}},{"$f":"IF('Averages 2'!Q54<0,0,'Averages 2'!Q54)","v":{"$error":"#DIV/0!"}}]
[{"$f":"'Sorting 2'!A56","v":"P31"},{"$f":"IF('Averages 2'!B55<0,0,'Averages 2'!B55)","v":{"$error":"#DIV/0!"}},{"$f":"IF('Averages 2'!C55<0,0,'Averages 2'!C55)","v":{"$error":"#DIV/0!"}},{"$f":"IF('Averages 2'!D55<0,0,'Averages 2'!D55)","v":{"$error":"#DIV/0!"}},{"$f":"IF('Averages 2'!E55<0,0,'Averages 2'!E55)","v":{"$error":"#DIV/0!"}},{"$f":"IF('Averages 2'!F55<0,0,'Averages 2'!F55)","v":{"$error":"#DIV/0!"}},{"$f":"IF('Averages 2'!G55<0,0,'Averages 2'!G55)","v":{"$error":"#DIV/0!"}},{"$f":"IF('Averages 2'!H55<0,0,'Averages 2'!H55)","v":{"$error":"#DIV/0!"}},{"$f":"IF('Averages 2'!I55<0,0,'Averages 2'!I55)","v":{"$error":"#DIV/0!"}},{"$f":"IF('Averages 2'!J55<0,0,'Averages 2'!J55)","v":{"$error":"#DIV/0!"}},{"$f":"IF('Averages 2'!K55<0,0,'Averages 2'!K55)","v":{"$error":"#DIV/0!"}},{"$f":"IF('Averages 2'!L55<0,0,'Averages 2'!L55)","v":{"$error":"#DIV/0!"}},{"$f":"IF('Averages 2'!M55<0,0,'Averages 2'!M55)","v":{"$error":"#DIV/0!"}},{"$f":"IF('Averages 2'!N55<0,0,'Averages 2'!N55)","v":{"$error":"#DIV/0!"}},{"$f":"IF('Averages 2'!O55<0,0,'Averages 2'!O55)","v":{"$error":"#DIV/0!"}},{"$f":"IF('Averages 2'!P55<0,0,'Averages 2'!P55)","v":{"$error":"#DIV/0!"}},{"$f":"IF('Averages 2'!Q55<0,0,'Averages 2'!Q55)","v":{"$error":"#DIV/0!"}}]
[{"$f":"'Sorting 2'!A57","v":"P43"},{"$f":"IF('Averages 2'!B56<0,0,'Averages 2'!B56)","v":{"$error":"#DIV/0!"}},{"$f":"IF('Averages 2'!C56<0,0,'Averages 2'!C56)","v":{"$error":"#DIV/0!"}},{"$f":"IF('Averages 2'!D56<0,0,'Averages 2'!D56)","v":{"$error":"#DIV/0!"}},{"$f":"IF('Averages 2'!E56<0,0,'Averages 2'!E56)","v":{"$error":"#DIV/0!"}},{"$f":"IF('Averages 2'!F56<0,0,'Averages 2'!F56)","v":{"$error":"#DIV/0!"}},{"$f":"IF('Averages 2'!G56<0,0,'Averages 2'!G56)","v":{"$error":"#DIV/0!"}},{"$f":"IF('Averages 2'!H56<0,0,'Averages 2'!H56)","v":{"$error":"#DIV/0!"}},{"$f":"IF('Averages 2'!I56<0,0,'Averages 2'!I56)","v":{"$error":"#DIV/0!"}},{"$f":"IF('Averages 2'!J56<0,0,'Averages 2'!J56)","v":{"$error":"#DIV/0!"}},{"$f":"IF('Averages 2'!K56<0,0,'Averages 2'!K56)","v":{"$error":"#DIV/0!"}},{"$f":"IF('Averages 2'!L56<0,0,'Averages 2'!L56)","v":{"$error":"#DIV/0!"}},{"$f":"IF('Averages 2'!M56<0,0,'Averages 2'!M56)","v":{"$error":"#DIV/0!"}},{"$f":"IF('Averages 2'!N56<0,0,'Averages 2'!N56)","v":{"$error":"#DIV/0!"}},{"$f":"IF('Averages 2'!O56<0,0,'Averages 2'!O56)","v":{"$error":"#DIV/0!"}},{"$f":"IF('Averages 2'!P56<0,0,'Averages 2'!P56)","v":{"$error":"#DIV/0!"}},{"$f":"IF('Averages 2'!Q56<0,0,'Averages 2'!Q56)","v":{"$error":"#DIV/0!"}}]
[{"$f":"'Sorting 2'!A58","v":"P10"},{"$f":"IF('Averages 2'!B57<0,0,'Averages 2'!B57)","v":{"$error":"#DIV/0!"}},{"$f":"IF('Averages 2'!C57<0,0,'Averages 2'!C57)","v":{"$error":"#DIV/0!"}},{"$f":"IF('Averages 2'!D57<0,0,'Averages 2'!D57)","v":{"$error":"#DIV/0!"}},{"$f":"IF('Averages 2'!E57<0,0,'Averages 2'!E57)","v":{"$error":"#DIV/0!"}},{"$f":"IF('Averages 2'!F57<0,0,'Averages 2'!F57)","v":{"$error":"#DIV/0!"}},{"$f":"IF('Averages 2'!G57<0,0,'Averages 2'!G57)","v":{"$error":"#DIV/0!"}},{"$f":"IF('Averages 2'!H57<0,0,'Averages 2'!H57)","v":{"$error":"#DIV/0!"}},{"$f":"IF('Averages 2'!I57<0,0,'Averages 2'!I57)","v":{"$error":"#DIV/0!"}},{"$f":"IF('Averages 2'!J57<0,0,'Averages 2'!J57)","v":{"$error":"#DIV/0!"}},{"$f":"IF('Averages 2'!K57<0,0,'Averages 2'!K57)","v":{"$error":"#DIV/0!"}},{"$f":"IF('Averages 2'!L57<0,0,'Averages 2'!L57)","v":{"$error":"#DIV/0!"}},{"$f":"IF('Averages 2'!M57<0,0,'Averages 2'!M57)","v":{"$error":"#DIV/0!"}},{"$f":"IF('Averages 2'!N57<0,0,'Averages 2'!N57)","v":{"$error":"#DIV/0!"}},{"$f":"IF('Averages 2'!O57<0,0,'Averages 2'!O57)","v":{"$error":"#DIV/0!"}},{"$f":"IF('Averages 2'!P57<0,0,'Averages 2'!P57)","v":{"$error":"#DIV/0!"}},{"$f":"IF('Averages 2'!Q57<0,0,'Averages 2'!Q57)","v":{"$error":"#DIV/0!"}}]
[{"$f":"'Sorting 2'!A59","v":"P32"},{"$f":"IF('Averages 2'!B58<0,0,'Averages 2'!B58)","v":{"$error":"#DIV/0!"}},{"$f":"IF('Averages 2'!C58<0,0,'Averages 2'!C58)","v":{"$error":"#DIV/0!"}},{"$f":"IF('Averages 2'!D58<0,0,'Averages 2'!D58)","v":{"$error":"#DIV/0!"}},{"$f":"IF('Averages 2'!E58<0,0,'Averages 2'!E58)","v":{"$error":"#DIV/0!"}},{"$f":"IF('Averages 2'!F58<0,0,'Averages 2'!F58)","v":{"$error":"#DIV/0!"}},{"$f":"IF('Averages 2'!G58<0,0,'Averages 2'!G58)","v":{"$error":"#DIV/0!"}},{"$f":"IF('Averages 2'!H58<0,0,'Averages 2'!H58)","v":{"$error":"#DIV/0!"}},{"$f":"IF('Averages 2'!I58<0,0,'Averages 2'!I58)","v":{"$error":"#DIV/0!"}},{"$f":"IF('Averages 2'!J58<0,0,'Averages 2'!J58)","v":{"$error":"#DIV/0!"}},{"$f":"IF('Averages 2'!K58<0,0,'Averages 2'!K58)","v":{"$error":"#DIV/0!"}},{"$f":"IF('Averages 2'!L58<0,0,'Averages 2'!L58)","v":{"$error":"#DIV/0!"}},{"$f":"IF('Averages 2'!M58<0,0,'Averages 2'!M58)","v":{"$error":"#DIV/0!"}},{"$f":"IF('Averages 2'!N58<0,0,'Averages 2'!N58)","v":{"$error":"#DIV/0!"}},{"$f":"IF('Averages 2'!O58<0,0,'Averages 2'!O58)","v":{"$error":"#DIV/0!"}},{"$f":"IF('Averages 2'!P58<0,0,'Averages 2'!P58)","v":{"$error":"#DIV/0!"}},{"$f":"IF('Averages 2'!Q58<0,0,'Averages 2'!Q58)","v":{"$error":"#DIV/0!"}}]
[{"$f":"'Sorting 2'!A60","v":"P44"},{"$f":"IF('Averages 2'!B59<0,0,'Averages 2'!B59)","v":{"$error":"#DIV/0!"}},{"$f":"IF('Averages 2'!C59<0,0,'Averages 2'!C59)","v":{"$error":"#DIV/0!"}},{"$f":"IF('Averages 2'!D59<0,0,'Averages 2'!D59)","v":{"$error":"#DIV/0!"}},{"$f":"IF('Averages 2'!E59<0,0,'Averages 2'!E59)","v":{"$error":"#DIV/0!"}},{"$f":"IF('Averages 2'!F59<0,0,'Averages 2'!F59)","v":{"$error":"#DIV/0!"}},{"$f":"IF('Averages 2'!G59<0,0,'Averages 2'!G59)","v":{"$error":"#DIV/0!"}},{"$f":"IF('Averages 2'!H59<0,0,'Averages 2'!H59)","v":{"$error":"#DIV/0!"}},{"$f":"IF('Averages 2'!I59<0,0,'Averages 2'!I59)","v":{"$error":"#DIV/0!"}},{"$f":"IF('Averages 2'!J59<0,0,'Averages 2'!J59)","v":{"$error":"#DIV/0!"}},{"$f":"IF('Averages 2'!K59<0,0,'Averages 2'!K59)","v":{"$error":"#DIV/0!"}},{"$f":"IF('Averages 2'!L59<0,0,'Averages 2'!L59)","v":{"$error":"#DIV/0!"}},{"$f":"IF('Averages 2'!M59<0,0,'Averages 2'!M59)","v":{"$error":"#DIV/0!"}},{"$f":"IF('Averages 2'!N59<0,0,'Averages 2'!N59)","v":{"$error":"#DIV/0!"}},{"$f":"IF('Averages 2'!O59<0,0,'Averages 2'!O59)","v":{"$error":"#DIV/0!"}},{"$f":"IF('Averages 2'!P59<0,0,'Averages 2'!P59)","v":{"$error":"#DIV/0!"}},{"$f":"IF('Averages 2'!Q59<0,0,'Averages 2'!Q59)","v":{"$error":"#DIV/0!"}}]
[{"$f":"'Sorting 2'!A61","v":"P44"},{"$f":"IF('Averages 2'!B60<0,0,'Averages 2'!B60)","v":{"$error":"#DIV/0!"}},{"$f":"IF('Averages 2'!C60<0,0,'Averages 2'!C60)","v":{"$error":"#DIV/0!"}},{"$f":"IF('Averages 2'!D60<0,0,'Averages 2'!D60)","v":{"$error":"#DIV/0!"}},{"$f":"IF('Averages 2'!E60<0,0,'Averages 2'!E60)","v":{"$error":"#DIV/0!"}},{"$f":"IF('Averages 2'!F60<0,0,'Averages 2'!F60)","v":{"$error":"#DIV/0!"}},{"$f":"IF('Averages 2'!G60<0,0,'Averages 2'!G60)","v":{"$error":"#DIV/0!"}},{"$f":"IF('Averages 2'!H60<0,0,'Averages 2'!H60)","v":{"$error":"#DIV/0!"}},{"$f":"IF('Averages 2'!I60<0,0,'Averages 2'!I60)","v":{"$error":"#DIV/0!"}},{"$f":"IF('Averages 2'!J60<0,0,'Averages 2'!J60)","v":{"$error":"#DIV/0!"}},{"$f":"IF('Averages 2'!K60<0,0,'Averages 2'!K60)","v":{"$error":"#DIV/0!"}},{"$f":"IF('Averages 2'!L60<0,0,'Averages 2'!L60)","v":{"$error":"#DIV/0!"}},{"$f":"IF('Averages 2'!M60<0,0,'Averages 2'!M60)","v":{"$error":"#DIV/0!"}},{"$f":"IF('Averages 2'!N60<0,0,'Averages 2'!N60)","v":{"$error":"#DIV/0!"}},{"$f":"IF('Averages 2'!O60<0,0,'Averages 2'!O60)","v":{"$error":"#DIV/0!"}},{"$f":"IF('Averages 2'!P60<0,0,'Averages 2'!P60)","v":{"$error":"#DIV/0!"}},{"$f":"IF('Averages 2'!Q60<0,0,'Averages 2'!Q60)","v":{"$error":"#DIV/0!"}}]

{"sheet":"Final Data","index":17,"n_rows":60,"n_cols":17,"rows_kept":60,"cut":false,"hidden":false,"merged":[[1,4,2,4],[1,5,2,5]]}
["Positive Control Normalization Without Background"]
["RayBio® Pig Cytokine Protein Array G1 Analysis Tool",null,null,null,"Normalization Constant",{"$f":"'Average w-o bkg'!B5","v":0}]
[]
["Target Name",{"$f":"'Averages 2'!B4","v":"Sample 1"},{"$f":"'Averages 2'!C4","v":"Sample 2"},{"$f":"'Averages 2'!D4","v":"Sample 3"},{"$f":"'Averages 2'!E4","v":"Sample 4"},{"$f":"'Averages 2'!F4","v":"Sample 5"},{"$f":"'Averages 2'!G4","v":"Sample 6"},{"$f":"'Averages 2'!H4","v":"Sample 7"},{"$f":"'Averages 2'!I4","v":"Sample 8"},{"$f":"'Averages 2'!J4","v":"Sample 9"},{"$f":"'Averages 2'!K4","v":"Sample 10"},{"$f":"'Averages 2'!L4","v":"Sample 11"},{"$f":"'Averages 2'!M4","v":"Sample 12"},{"$f":"'Averages 2'!N4","v":"Sample 13"},{"$f":"'Averages 2'!O4","v":"Sample 14"},{"$f":"'Averages 2'!P4","v":"Sample 15"},{"$f":"'Averages 2'!Q4","v":"Sample 16"}]
[{"$f":"'Sorting 2'!A6","v":"POS"},{"$f":"'Average w-o bkg'!B5*$F$2/'Average w-o bkg'!B$5","v":{"$error":"#DIV/0!"}},{"$f":"'Average w-o bkg'!C5*$F$2/'Average w-o bkg'!C$5","v":{"$error":"#DIV/0!"}},{"$f":"'Average w-o bkg'!D5*$F$2/'Average w-o bkg'!D$5","v":{"$error":"#DIV/0!"}},{"$f":"'Average w-o bkg'!E5*$F$2/'Average w-o bkg'!E$5","v":{"$error":"#DIV/0!"}},{"$f":"'Average w-o bkg'!F5*$F$2/'Average w-o bkg'!F$5","v":{"$error":"#DIV/0!"}},{"$f":"'Average w-o bkg'!G5*$F$2/'Average w-o bkg'!G$5","v":{"$error":"#DIV/0!"}},{"$f":"'Average w-o bkg'!H5*$F$2/'Average w-o bkg'!H$5","v":{"$error":"#DIV/0!"}},{"$f":"'Average w-o bkg'!I5*$F$2/'Average w-o bkg'!I$5","v":{"$error":"#DIV/0!"}},{"$f":"'Average w-o bkg'!J5*$F$2/'Average w-o bkg'!J$5","v":{"$error":"#DIV/0!"}},{"$f":"'Average w-o bkg'!K5*$F$2/'Average w-o bkg'!K$5","v":{"$error":"#DIV/0!"}},{"$f":"'Average w-o bkg'!L5*$F$2/'Average w-o bkg'!L$5","v":{"$error":"#DIV/0!"}},{"$f":"'Average w-o bkg'!M5*$F$2/'Average w-o bkg'!M$5","v":{"$error":"#DIV/0!"}},{"$f":"'Average w-o bkg'!N5*$F$2/'Average w-o bkg'!N$5","v":{"$error":"#DIV/0!"}},{"$f":"'Average w-o bkg'!O5*$F$2/'Average w-o bkg'!O$5","v":{"$error":"#DIV/0!"}},{"$f":"'Average w-o bkg'!P5*$F$2/'Average w-o bkg'!P$5","v":{"$error":"#DIV/0!"}},{"$f":"'Average w-o bkg'!Q5*$F$2/'Average w-o bkg'!Q$5","v":{"$error":"#DIV/0!"}}]
[{"$f":"'Sorting 2'!A7","v":"NEG"},{"$f":"'Average w-o bkg'!B6*$F$2/'Average w-o bkg'!B$5","v":{"$error":"#DIV/0!"}},{"$f":"'Average w-o bkg'!C6*$F$2/'Average w-o bkg'!C$5","v":{"$error":"#DIV/0!"}},{"$f":"'Average w-o bkg'!D6*$F$2/'Average w-o bkg'!D$5","v":{"$error":"#DIV/0!"}},{"$f":"'Average w-o bkg'!E6*$F$2/'Average w-o bkg'!E$5","v":{"$error":"#DIV/0!"}},{"$f":"'Average w-o bkg'!F6*$F$2/'Average w-o bkg'!F$5","v":{"$error":"#DIV/0!"}},{"$f":"'Average w-o bkg'!G6*$F$2/'Average w-o bkg'!G$5","v":{"$error":"#DIV/0!"}},{"$f":"'Average w-o bkg'!H6*$F$2/'Average w-o bkg'!H$5","v":{"$error":"#DIV/0!"}},{"$f":"'Average w-o bkg'!I6*$F$2/'Average w-o bkg'!I$5","v":{"$error":"#DIV/0!"}},{"$f":"'Average w-o bkg'!J6*$F$2/'Average w-o bkg'!J$5","v":{"$error":"#DIV/0!"}},{"$f":"'Average w-o bkg'!K6*$F$2/'Average w-o bkg'!K$5","v":{"$error":"#DIV/0!"}},{"$f":"'Average w-o bkg'!L6*$F$2/'Average w-o bkg'!L$5","v":{"$error":"#DIV/0!"}},{"$f":"'Average w-o bkg'!M6*$F$2/'Average w-o bkg'!M$5","v":{"$error":"#DIV/0!"}},{"$f":"'Average w-o bkg'!N6*$F$2/'Average w-o bkg'!N$5","v":{"$error":"#DIV/0!"}},{"$f":"'Average w-o bkg'!O6*$F$2/'Average w-o bkg'!O$5","v":{"$error":"#DIV/0!"}},{"$f":"'Average w-o bkg'!P6*$F$2/'Average w-o bkg'!P$5","v":{"$error":"#DIV/0!"}},{"$f":"'Average w-o bkg'!Q6*$F$2/'Average w-o bkg'!Q$5","v":{"$error":"#DIV/0!"}}]
[{"$f":"'Sorting 2'!A8","v":"P11"},{"$f":"'Average w-o bkg'!B7*$F$2/'Average w-o bkg'!B$5","v":{"$error":"#DIV/0!"}},{"$f":"'Average w-o bkg'!C7*$F$2/'Average w-o bkg'!C$5","v":{"$error":"#DIV/0!"}},{"$f":"'Average w-o bkg'!D7*$F$2/'Average w-o bkg'!D$5","v":{"$error":"#DIV/0!"}},{"$f":"'Average w-o bkg'!E7*$F$2/'Average w-o bkg'!E$5","v":{"$error":"#DIV/0!"}},{"$f":"'Average w-o bkg'!F7*$F$2/'Average w-o bkg'!F$5","v":{"$error":"#DIV/0!"}},{"$f":"'Average w-o bkg'!G7*$F$2/'Average w-o bkg'!G$5","v":{"$error":"#DIV/0!"}},{"$f":"'Average w-o bkg'!H7*$F$2/'Average w-o bkg'!H$5","v":{"$error":"#DIV/0!"}},{"$f":"'Average w-o bkg'!I7*$F$2/'Average w-o bkg'!I$5","v":{"$error":"#DIV/0!"}},{"$f":"'Average w-o bkg'!J7*$F$2/'Average w-o bkg'!J$5","v":{"$error":"#DIV/0!"}},{"$f":"'Average w-o bkg'!K7*$F$2/'Average w-o bkg'!K$5","v":{"$error":"#DIV/0!"}},{"$f":"'Average w-o bkg'!L7*$F$2/'Average w-o bkg'!L$5","v":{"$error":"#DIV/0!"}},{"$f":"'Average w-o bkg'!M7*$F$2/'Average w-o bkg'!M$5","v":{"$error":"#DIV/0!"}},{"$f":"'Average w-o bkg'!N7*$F$2/'Average w-o bkg'!N$5","v":{"$error":"#DIV/0!"}},{"$f":"'Average w-o bkg'!O7*$F$2/'Average w-o bkg'!O$5","v":{"$error":"#DIV/0!"}},{"$f":"'Average w-o bkg'!P7*$F$2/'Average w-o bkg'!P$5","v":{"$error":"#DIV/0!"}},{"$f":"'Average w-o bkg'!Q7*$F$2/'Average w-o bkg'!Q$5","v":{"$error":"#DIV/0!"}}]
[{"$f":"'Sorting 2'!A9","v":"P33"},{"$f":"'Average w-o bkg'!B8*$F$2/'Average w-o bkg'!B$5","v":{"$error":"#DIV/0!"}},{"$f":"'Average w-o bkg'!C8*$F$2/'Average w-o bkg'!C$5","v":{"$error":"#DIV/0!"}},{"$f":"'Average w-o bkg'!D8*$F$2/'Average w-o bkg'!D$5","v":{"$error":"#DIV/0!"}},{"$f":"'Average w-o bkg'!E8*$F$2/'Average w-o bkg'!E$5","v":{"$error":"#DIV/0!"}},{"$f":"'Average w-o bkg'!F8*$F$2/'Average w-o bkg'!F$5","v":{"$error":"#DIV/0!"}},{"$f":"'Average w-o bkg'!G8*$F$2/'Average w-o bkg'!G$5","v":{"$error":"#DIV/0!"}},{"$f":"'Average w-o bkg'!H8*$F$2/'Average w-o bkg'!H$5","v":{"$error":"#DIV/0!"}},{"$f":"'Average w-o bkg'!I8*$F$2/'Average w-o bkg'!I$5","v":{"$error":"#DIV/0!"}},{"$f":"'Average w-o bkg'!J8*$F$2/'Average w-o bkg'!J$5","v":{"$error":"#DIV/0!"}},{"$f":"'Average w-o bkg'!K8*$F$2/'Average w-o bkg'!K$5","v":{"$error":"#DIV/0!"}},{"$f":"'Average w-o bkg'!L8*$F$2/'Average w-o bkg'!L$5","v":{"$error":"#DIV/0!"}},{"$f":"'Average w-o bkg'!M8*$F$2/'Average w-o bkg'!M$5","v":{"$error":"#DIV/0!"}},{"$f":"'Average w-o bkg'!N8*$F$2/'Average w-o bkg'!N$5","v":{"$error":"#DIV/0!"}},{"$f":"'Average w-o bkg'!O8*$F$2/'Average w-o bkg'!O$5","v":{"$error":"#DIV/0!"}},{"$f":"'Average w-o bkg'!P8*$F$2/'Average w-o bkg'!P$5","v":{"$error":"#DIV/0!"}},{"$f":"'Average w-o bkg'!Q8*$F$2/'Average w-o bkg'!Q$5","v":{"$error":"#DIV/0!"}}]
[{"$f":"'Sorting 2'!A10","v":"P45"},{"$f":"'Average w-o bkg'!B9*$F$2/'Average w-o bkg'!B$5","v":{"$error":"#DIV/0!"}},{"$f":"'Average w-o bkg'!C9*$F$2/'Average w-o bkg'!C$5","v":{"$error":"#DIV/0!"}},{"$f":"'Average w-o bkg'!D9*$F$2/'Average w-o bkg'!D$5","v":{"$error":"#DIV/0!"}},{"$f":"'Average w-o bkg'!E9*$F$2/'Average w-o bkg'!E$5","v":{"$error":"#DIV/0!"}},{"$f":"'Average w-o bkg'!F9*$F$2/'Average w-o bkg'!F$5","v":{"$error":"#DIV/0!"}},{"$f":"'Average w-o bkg'!G9*$F$2/'Average w-o bkg'!G$5","v":{"$error":"#DIV/0!"}},{"$f":"'Average w-o bkg'!H9*$F$2/'Average w-o bkg'!H$5","v":{"$error":"#DIV/0!"}},{"$f":"'Average w-o bkg'!I9*$F$2/'Average w-o bkg'!I$5","v":{"$error":"#DIV/0!"}},{"$f":"'Average w-o bkg'!J9*$F$2/'Average w-o bkg'!J$5","v":{"$error":"#DIV/0!"}},{"$f":"'Average w-o bkg'!K9*$F$2/'Average w-o bkg'!K$5","v":{"$error":"#DIV/0!"}},{"$f":"'Average w-o bkg'!L9*$F$2/'Average w-o bkg'!L$5","v":{"$error":"#DIV/0!"}},{"$f":"'Average w-o bkg'!M9*$F$2/'Average w-o bkg'!M$5","v":{"$error":"#DIV/0!"}},{"$f":"'Average w-o bkg'!N9*$F$2/'Average w-o bkg'!N$5","v":{"$error":"#DIV/0!"}},{"$f":"'Average w-o bkg'!O9*$F$2/'Average w-o bkg'!O$5","v":{"$error":"#DIV/0!"}},{"$f":"'Average w-o bkg'!P9*$F$2/'Average w-o bkg'!P$5","v":{"$error":"#DIV/0!"}},{"$f":"'Average w-o bkg'!Q9*$F$2/'Average w-o bkg'!Q$5","v":{"$error":"#DIV/0!"}}]
[{"$f":"'Sorting 2'!A11","v":"P12"},{"$f":"'Average w-o bkg'!B10*$F$2/'Average w-o bkg'!B$5","v":{"$error":"#DIV/0!"}},{"$f":"'Average w-o bkg'!C10*$F$2/'Average w-o bkg'!C$5","v":{"$error":"#DIV/0!"}},{"$f":"'Average w-o bkg'!D10*$F$2/'Average w-o bkg'!D$5","v":{"$error":"#DIV/0!"}},{"$f":"'Average w-o bkg'!E10*$F$2/'Average w-o bkg'!E$5","v":{"$error":"#DIV/0!"}},{"$f":"'Average w-o bkg'!F10*$F$2/'Average w-o bkg'!F$5","v":{"$error":"#DIV/0!"}},{"$f":"'Average w-o bkg'!G10*$F$2/'Average w-o bkg'!G$5","v":{"$error":"#DIV/0!"}},{"$f":"'Average w-o bkg'!H10*$F$2/'Average w-o bkg'!H$5","v":{"$error":"#DIV/0!"}},{"$f":"'Average w-o bkg'!I10*$F$2/'Average w-o bkg'!I$5","v":{"$error":"#DIV/0!"}},{"$f":"'Average w-o bkg'!J10*$F$2/'Average w-o bkg'!J$5","v":{"$error":"#DIV/0!"}},{"$f":"'Average w-o bkg'!K10*$F$2/'Average w-o bkg'!K$5","v":{"$error":"#DIV/0!"}},{"$f":"'Average w-o bkg'!L10*$F$2/'Average w-o bkg'!L$5","v":{"$error":"#DIV/0!"}},{"$f":"'Average w-o bkg'!M10*$F$2/'Average w-o bkg'!M$5","v":{"$error":"#DIV/0!"}},{"$f":"'Average w-o bkg'!N10*$F$2/'Average w-o bkg'!N$5","v":{"$error":"#DIV/0!"}},{"$f":"'Average w-o bkg'!O10*$F$2/'Average w-o bkg'!O$5","v":{"$error":"#DIV/0!"}},{"$f":"'Average w-o bkg'!P10*$F$2/'Average w-o bkg'!P$5","v":{"$error":"#DIV/0!"}},{"$f":"'Average w-o bkg'!Q10*$F$2/'Average w-o bkg'!Q$5","v":{"$error":"#DIV/0!"}}]
[{"$f":"'Sorting 2'!A12","v":"P22"},{"$f":"'Average w-o bkg'!B11*$F$2/'Average w-o bkg'!B$5","v":{"$error":"#DIV/0!"}},{"$f":"'Average w-o bkg'!C11*$F$2/'Average w-o bkg'!C$5","v":{"$error":"#DIV/0!"}},{"$f":"'Average w-o bkg'!D11*$F$2/'Average w-o bkg'!D$5","v":{"$error":"#DIV/0!"}},{"$f":"'Average w-o bkg'!E11*$F$2/'Average w-o bkg'!E$5","v":{"$error":"#DIV/0!"}},{"$f":"'Average w-o bkg'!F11*$F$2/'Average w-o bkg'!F$5","v":{"$error":"#DIV/0!"}},{"$f":"'Average w-o bkg'!G11*$F$2/'Average w-o bkg'!G$5","v":{"$error":"#DIV/0!"}},{"$f":"'Average w-o bkg'!H11*$F$2/'Average w-o bkg'!H$5","v":{"$error":"#DIV/0!"}},{"$f":"'Average w-o bkg'!I11*$F$2/'Average w-o bkg'!I$5","v":{"$error":"#DIV/0!"}},{"$f":"'Average w-o bkg'!J11*$F$2/'Average w-o bkg'!J$5","v":{"$error":"#DIV/0!"}},{"$f":"'Average w-o bkg'!K11*$F$2/'Average w-o bkg'!K$5","v":{"$error":"#DIV/0!"}},{"$f":"'Average w-o bkg'!L11*$F$2/'Average w-o bkg'!L$5","v":{"$error":"#DIV/0!"}},{"$f":"'Average w-o bkg'!M11*$F$2/'Average w-o bkg'!M$5","v":{"$error":"#DIV/0!"}},{"$f":"'Average w-o bkg'!N11*$F$2/'Average w-o bkg'!N$5","v":{"$error":"#DIV/0!"}},{"$f":"'Average w-o bkg'!O11*$F$2/'Average w-o bkg'!O$5","v":{"$error":"#DIV/0!"}},{"$f":"'Average w-o bkg'!P11*$F$2/'Average w-o bkg'!P$5","v":{"$error":"#DIV/0!"}},{"$f":"'Average w-o bkg'!Q11*$F$2/'Average w-o bkg'!Q$5","v":{"$error":"#DIV/0!"}}]
[{"$f":"'Sorting 2'!A13","v":"P34"},{"$f":"'Average w-o bkg'!B12*$F$2/'Average w-o bkg'!B$5","v":{"$error":"#DIV/0!"}},{"$f":"'Average w-o bkg'!C12*$F$2/'Average w-o bkg'!C$5","v":{"$error":"#DIV/0!"}},{"$f":"'Average w-o bkg'!D12*$F$2/'Average w-o bkg'!D$5","v":{"$error":"#DIV/0!"}},{"$f":"'Average w-o bkg'!E12*$F$2/'Average w-o bkg'!E$5","v":{"$error":"#DIV/0!"}},{"$f":"'Average w-o bkg'!F12*$F$2/'Average w-o bkg'!F$5","v":{"$error":"#DIV/0!"}},{"$f":"'Average w-o bkg'!G12*$F$2/'Average w-o bkg'!G$5","v":{"$error":"#DIV/0!"}},{"$f":"'Average w-o bkg'!H12*$F$2/'Average w-o bkg'!H$5","v":{"$error":"#DIV/0!"}},{"$f":"'Average w-o bkg'!I12*$F$2/'Average w-o bkg'!I$5","v":{"$error":"#DIV/0!"}},{"$f":"'Average w-o bkg'!J12*$F$2/'Average w-o bkg'!J$5","v":{"$error":"#DIV/0!"}},{"$f":"'Average w-o bkg'!K12*$F$2/'Average w-o bkg'!K$5","v":{"$error":"#DIV/0!"}},{"$f":"'Average w-o bkg'!L12*$F$2/'Average w-o bkg'!L$5","v":{"$error":"#DIV/0!"}},{"$f":"'Average w-o bkg'!M12*$F$2/'Average w-o bkg'!M$5","v":{"$error":"#DIV/0!"}},{"$f":"'Average w-o bkg'!N12*$F$2/'Average w-o bkg'!N$5","v":{"$error":"#DIV/0!"}},{"$f":"'Average w-o bkg'!O12*$F$2/'Average w-o bkg'!O$5","v":{"$error":"#DIV/0!"}},{"$f":"'Average w-o bkg'!P12*$F$2/'Average w-o bkg'!P$5","v":{"$error":"#DIV/0!"}},{"$f":"'Average w-o bkg'!Q12*$F$2/'Average w-o bkg'!Q$5","v":{"$error":"#DIV/0!"}}]
[{"$f":"'Sorting 2'!A14","v":"P46"},{"$f":"'Average w-o bkg'!B13*$F$2/'Average w-o bkg'!B$5","v":{"$error":"#DIV/0!"}},{"$f":"'Average w-o bkg'!C13*$F$2/'Average w-o bkg'!C$5","v":{"$error":"#DIV/0!"}},{"$f":"'Average w-o bkg'!D13*$F$2/'Average w-o bkg'!D$5","v":{"$error":"#DIV/0!"}},{"$f":"'Average w-o bkg'!E13*$F$2/'Average w-o bkg'!E$5","v":{"$error":"#DIV/0!"}},{"$f":"'Average w-o bkg'!F13*$F$2/'Average w-o bkg'!F$5","v":{"$error":"#DIV/0!"}},{"$f":"'Average w-o bkg'!G13*$F$2/'Average w-o bkg'!G$5","v":{"$error":"#DIV/0!"}},{"$f":"'Average w-o bkg'!H13*$F$2/'Average w-o bkg'!H$5","v":{"$error":"#DIV/0!"}},{"$f":"'Average w-o bkg'!I13*$F$2/'Average w-o bkg'!I$5","v":{"$error":"#DIV/0!"}},{"$f":"'Average w-o bkg'!J13*$F$2/'Average w-o bkg'!J$5","v":{"$error":"#DIV/0!"}},{"$f":"'Average w-o bkg'!K13*$F$2/'Average w-o bkg'!K$5","v":{"$error":"#DIV/0!"}},{"$f":"'Average w-o bkg'!L13*$F$2/'Average w-o bkg'!L$5","v":{"$error":"#DIV/0!"}},{"$f":"'Average w-o bkg'!M13*$F$2/'Average w-o bkg'!M$5","v":{"$error":"#DIV/0!"}},{"$f":"'Average w-o bkg'!N13*$F$2/'Average w-o bkg'!N$5","v":{"$error":"#DIV/0!"}},{"$f":"'Average w-o bkg'!O13*$F$2/'Average w-o bkg'!O$5","v":{"$error":"#DIV/0!"}},{"$f":"'Average w-o bkg'!P13*$F$2/'Average w-o bkg'!P$5","v":{"$error":"#DIV/0!"}},{"$f":"'Average w-o bkg'!Q13*$F$2/'Average w-o bkg'!Q$5","v":{"$error":"#DIV/0!"}}]
[{"$f":"'Sorting 2'!A15","v":"P1"},{"$f":"'Average w-o bkg'!B14*$F$2/'Average w-o bkg'!B$5","v":{"$error":"#DIV/0!"}},{"$f":"'Average w-o bkg'!C14*$F$2/'Average w-o bkg'!C$5","v":{"$error":"#DIV/0!"}},{"$f":"'Average w-o bkg'!D14*$F$2/'Average w-o bkg'!D$5","v":{"$error":"#DIV/0!"}},{"$f":"'Average w-o bkg'!E14*$F$2/'Average w-o bkg'!E$5","v":{"$error":"#DIV/0!"}},{"$f":"'Average w-o bkg'!F14*$F$2/'Average w-o bkg'!F$5","v":{"$error":"#DIV/0!"}},{"$f":"'Average w-o bkg'!G14*$F$2/'Average w-o bkg'!G$5","v":{"$error":"#DIV/0!"}},{"$f":"'Average w-o bkg'!H14*$F$2/'Average w-o bkg'!H$5","v":{"$error":"#DIV/0!"}},{"$f":"'Average w-o bkg'!I14*$F$2/'Average w-o bkg'!I$5","v":{"$error":"#DIV/0!"}},{"$f":"'Average w-o bkg'!J14*$F$2/'Average w-o bkg'!J$5","v":{"$error":"#DIV/0!"}},{"$f":"'Average w-o bkg'!K14*$F$2/'Average w-o bkg'!K$5","v":{"$error":"#DIV/0!"}},{"$f":"'Average w-o bkg'!L14*$F$2/'Average w-o bkg'!L$5","v":{"$error":"#DIV/0!"}},{"$f":"'Average w-o bkg'!M14*$F$2/'Average w-o bkg'!M$5","v":{"$error":"#DIV/0!"}},{"$f":"'Average w-o bkg'!N14*$F$2/'Average w-o bkg'!N$5","v":{"$error":"#DIV/0!"}},{"$f":"'Average w-o bkg'!O14*$F$2/'Average w-o bkg'!O$5","v":{"$error":"#DIV/0!"}},{"$f":"'Average w-o bkg'!P14*$F$2/'Average w-o bkg'!P$5","v":{"$error":"#DIV/0!"}},{"$f":"'Average w-o bkg'!Q14*$F$2/'Average w-o bkg'!Q$5","v":{"$error":"#DIV/0!"}}]
[{"$f":"'Sorting 2'!A16","v":"P13"},{"$f":"'Average w-o bkg'!B15*$F$2/'Average w-o bkg'!B$5","v":{"$error":"#DIV/0!"}},{"$f":"'Average w-o bkg'!C15*$F$2/'Average w-o bkg'!C$5","v":{"$error":"#DIV/0!"}},{"$f":"'Average w-o bkg'!D15*$F$2/'Average w-o bkg'!D$5","v":{"$error":"#DIV/0!"}},{"$f":"'Average w-o bkg'!E15*$F$2/'Average w-o bkg'!E$5","v":{"$error":"#DIV/0!"}},{"$f":"'Average w-o bkg'!F15*$F$2/'Average w-o bkg'!F$5","v":{"$error":"#DIV/0!"}},{"$f":"'Average w-o bkg'!G15*$F$2/'Average w-o bkg'!G$5","v":{"$error":"#DIV/0!"}},{"$f":"'Average w-o bkg'!H15*$F$2/'Average w-o bkg'!H$5","v":{"$error":"#DIV/0!"}},{"$f":"'Average w-o bkg'!I15*$F$2/'Average w-o bkg'!I$5","v":{"$error":"#DIV/0!"}},{"$f":"'Average w-o bkg'!J15*$F$2/'Average w-o bkg'!J$5","v":{"$error":"#DIV/0!"}},{"$f":"'Average w-o bkg'!K15*$F$2/'Average w-o bkg'!K$5","v":{"$error":"#DIV/0!"}},{"$f":"'Average w-o bkg'!L15*$F$2/'Average w-o bkg'!L$5","v":{"$error":"#DIV/0!"}},{"$f":"'Average w-o bkg'!M15*$F$2/'Average w-o bkg'!M$5","v":{"$error":"#DIV/0!"}},{"$f":"'Average w-o bkg'!N15*$F$2/'Average w-o bkg'!N$5","v":{"$error":"#DIV/0!"}},{"$f":"'Average w-o bkg'!O15*$F$2/'Average w-o bkg'!O$5","v":{"$error":"#DIV/0!"}},{"$f":"'Average w-o bkg'!P15*$F$2/'Average w-o bkg'!P$5","v":{"$error":"#DIV/0!"}},{"$f":"'Average w-o bkg'!Q15*$F$2/'Average w-o bkg'!Q$5","v":{"$error":"#DIV/0!"}}]
[{"$f":"'Sorting 2'!A17","v":"P23"},{"$f":"'Average w-o bkg'!B16*$F$2/'Average w-o bkg'!B$5","v":{"$error":"#DIV/0!"}},{"$f":"'Average w-o bkg'!C16*$F$2/'Average w-o bkg'!C$5","v":{"$error":"#DIV/0!"}},{"$f":"'Average w-o bkg'!D16*$F$2/'Average w-o bkg'!D$5","v":{"$error":"#DIV/0!"}},{"$f":"'Average w-o bkg'!E16*$F$2/'Average w-o bkg'!E$5","v":{"$error":"#DIV/0!"}},{"$f":"'Average w-o bkg'!F16*$F$2/'Average w-o bkg'!F$5","v":{"$error":"#DIV/0!"}},{"$f":"'Average w-o bkg'!G16*$F$2/'Average w-o bkg'!G$5","v":{"$error":"#DIV/0!"}},{"$f":"'Average w-o bkg'!H16*$F$2/'Average w-o bkg'!H$5","v":{"$error":"#DIV/0!"}},{"$f":"'Average w-o bkg'!I16*$F$2/'Average w-o bkg'!I$5","v":{"$error":"#DIV/0!"}},{"$f":"'Average w-o bkg'!J16*$F$2/'Average w-o bkg'!J$5","v":{"$error":"#DIV/0!"}},{"$f":"'Average w-o bkg'!K16*$F$2/'Average w-o bkg'!K$5","v":{"$error":"#DIV/0!"}},{"$f":"'Average w-o bkg'!L16*$F$2/'Average w-o bkg'!L$5","v":{"$error":"#DIV/0!"}},{"$f":"'Average w-o bkg'!M16*$F$2/'Average w-o bkg'!M$5","v":{"$error":"#DIV/0!"}},{"$f":"'Average w-o bkg'!N16*$F$2/'Average w-o bkg'!N$5","v":{"$error":"#DIV/0!"}},{"$f":"'Average w-o bkg'!O16*$F$2/'Average w-o bkg'!O$5","v":{"$error":"#DIV/0!"}},{"$f":"'Average w-o bkg'!P16*$F$2/'Average w-o bkg'!P$5","v":{"$error":"#DIV/0!"}},{"$f":"'Average w-o bkg'!Q16*$F$2/'Average w-o bkg'!Q$5","v":{"$error":"#DIV/0!"}}]
[{"$f":"'Sorting 2'!A18","v":"P35"},{"$f":"'Average w-o bkg'!B17*$F$2/'Average w-o bkg'!B$5","v":{"$error":"#DIV/0!"}},{"$f":"'Average w-o bkg'!C17*$F$2/'Average w-o bkg'!C$5","v":{"$error":"#DIV/0!"}},{"$f":"'Average w-o bkg'!D17*$F$2/'Average w-o bkg'!D$5","v":{"$error":"#DIV/0!"}},{"$f":"'Average w-o bkg'!E17*$F$2/'Average w-o bkg'!E$5","v":{"$error":"#DIV/0!"}},{"$f":"'Average w-o bkg'!F17*$F$2/'Average w-o bkg'!F$5","v":{"$error":"#DIV/0!"}},{"$f":"'Average w-o bkg'!G17*$F$2/'Average w-o bkg'!G$5","v":{"$error":"#DIV/0!"}},{"$f":"'Average w-o bkg'!H17*$F$2/'Average w-o bkg'!H$5","v":{"$error":"#DIV/0!"}},{"$f":"'Average w-o bkg'!I17*$F$2/'Average w-o bkg'!I$5","v":{"$error":"#DIV/0!"}},{"$f":"'Average w-o bkg'!J17*$F$2/'Average w-o bkg'!J$5","v":{"$error":"#DIV/0!"}},{"$f":"'Average w-o bkg'!K17*$F$2/'Average w-o bkg'!K$5","v":{"$error":"#DIV/0!"}},{"$f":"'Average w-o bkg'!L17*$F$2/'Average w-o bkg'!L$5","v":{"$error":"#DIV/0!"}},{"$f":"'Average w-o bkg'!M17*$F$2/'Average w-o bkg'!M$5","v":{"$error":"#DIV/0!"}},{"$f":"'Average w-o bkg'!N17*$F$2/'Average w-o bkg'!N$5","v":{"$error":"#DIV/0!"}},{"$f":"'Average w-o bkg'!O17*$F$2/'Average w-o bkg'!O$5","v":{"$error":"#DIV/0!"}},{"$f":"'Average w-o bkg'!P17*$F$2/'Average w-o bkg'!P$5","v":{"$error":"#DIV/0!"}},{"$f":"'Average w-o bkg'!Q17*$F$2/'Average w-o bkg'!Q$5","v":{"$error":"#DIV/0!"}}]
[{"$f":"'Sorting 2'!A19","v":"P47"},{"$f":"'Average w-o bkg'!B18*$F$2/'Average w-o bkg'!B$5","v":{"$error":"#DIV/0!"}},{"$f":"'Average w-o bkg'!C18*$F$2/'Average w-o bkg'!C$5","v":{"$error":"#DIV/0!"}},{"$f":"'Average w-o bkg'!D18*$F$2/'Average w-o bkg'!D$5","v":{"$error":"#DIV/0!"}},{"$f":"'Average w-o bkg'!E18*$F$2/'Average w-o bkg'!E$5","v":{"$error":"#DIV/0!"}},{"$f":"'Average w-o bkg'!F18*$F$2/'Average w-o bkg'!F$5","v":{"$error":"#DIV/0!"}},{"$f":"'Average w-o bkg'!G18*$F$2/'Average w-o bkg'!G$5","v":{"$error":"#DIV/0!"}},{"$f":"'Average w-o bkg'!H18*$F$2/'Average w-o bkg'!H$5","v":{"$error":"#DIV/0!"}},{"$f":"'Average w-o bkg'!I18*$F$2/'Average w-o bkg'!I$5","v":{"$error":"#DIV/0!"}},{"$f":"'Average w-o bkg'!J18*$F$2/'Average w-o bkg'!J$5","v":{"$error":"#DIV/0!"}},{"$f":"'Average w-o bkg'!K18*$F$2/'Average w-o bkg'!K$5","v":{"$error":"#DIV/0!"}},{"$f":"'Average w-o bkg'!L18*$F$2/'Average w-o bkg'!L$5","v":{"$error":"#DIV/0!"}},{"$f":"'Average w-o bkg'!M18*$F$2/'Average w-o bkg'!M$5","v":{"$error":"#DIV/0!"}},{"$f":"'Average w-o bkg'!N18*$F$2/'Average w-o bkg'!N$5","v":{"$error":"#DIV/0!"}},{"$f":"'Average w-o bkg'!O18*$F$2/'Average w-o bkg'!O$5","v":{"$error":"#DIV/0!"}},{"$f":"'Average w-o bkg'!P18*$F$2/'Average w-o bkg'!P$5","v":{"$error":"#DIV/0!"}},{"$f":"'Average w-o bkg'!Q18*$F$2/'Average w-o bkg'!Q$5","v":{"$error":"#DIV/0!"}}]
[{"$f":"'Sorting 2'!A20","v":"P2"},{"$f":"'Average w-o bkg'!B19*$F$2/'Average w-o bkg'!B$5","v":{"$error":"#DIV/0!"}},{"$f":"'Average w-o bkg'!C19*$F$2/'Average w-o bkg'!C$5","v":{"$error":"#DIV/0!"}},{"$f":"'Average w-o bkg'!D19*$F$2/'Average w-o bkg'!D$5","v":{"$error":"#DIV/0!"}},{"$f":"'Average w-o bkg'!E19*$F$2/'Average w-o bkg'!E$5","v":{"$error":"#DIV/0!"}},{"$f":"'Average w-o bkg'!F19*$F$2/'Average w-o bkg'!F$5","v":{"$error":"#DIV/0!"}},{"$f":"'Average w-o bkg'!G19*$F$2/'Average w-o bkg'!G$5","v":{"$error":"#DIV/0!"}},{"$f":"'Average w-o bkg'!H19*$F$2/'Average w-o bkg'!H$5","v":{"$error":"#DIV/0!"}},{"$f":"'Average w-o bkg'!I19*$F$2/'Average w-o bkg'!I$5","v":{"$error":"#DIV/0!"}},{"$f":"'Average w-o bkg'!J19*$F$2/'Average w-o bkg'!J$5","v":{"$error":"#DIV/0!"}},{"$f":"'Average w-o bkg'!K19*$F$2/'Average w-o bkg'!K$5","v":{"$error":"#DIV/0!"}},{"$f":"'Average w-o bkg'!L19*$F$2/'Average w-o bkg'!L$5","v":{"$error":"#DIV/0!"}},{"$f":"'Average w-o bkg'!M19*$F$2/'Average w-o bkg'!M$5","v":{"$error":"#DIV/0!"}},{"$f":"'Average w-o bkg'!N19*$F$2/'Average w-o bkg'!N$5","v":{"$error":"#DIV/0!"}},{"$f":"'Average w-o bkg'!O19*$F$2/'Average w-o bkg'!O$5","v":{"$error":"#DIV/0!"}},{"$f":"'Average w-o bkg'!P19*$F$2/'Average w-o bkg'!P$5","v":{"$error":"#DIV/0!"}},{"$f":"'Average w-o bkg'!Q19*$F$2/'Average w-o bkg'!Q$5","v":{"$error":"#DIV/0!"}}]
[{"$f":"'Sorting 2'!A21","v":"P14"},{"$f":"'Average w-o bkg'!B20*$F$2/'Average w-o bkg'!B$5","v":{"$error":"#DIV/0!"}},{"$f":"'Average w-o bkg'!C20*$F$2/'Average w-o bkg'!C$5","v":{"$error":"#DIV/0!"}},{"$f":"'Average w-o bkg'!D20*$F$2/'Average w-o bkg'!D$5","v":{"$error":"#DIV/0!"}},{"$f":"'Average w-o bkg'!E20*$F$2/'Average w-o bkg'!E$5","v":{"$error":"#DIV/0!"}},{"$f":"'Average w-o bkg'!F20*$F$2/'Average w-o bkg'!F$5","v":{"$error":"#DIV/0!"}},{"$f":"'Average w-o bkg'!G20*$F$2/'Average w-o bkg'!G$5","v":{"$error":"#DIV/0!"}},{"$f":"'Average w-o bkg'!H20*$F$2/'Average w-o bkg'!H$5","v":{"$error":"#DIV/0!"}},{"$f":"'Average w-o bkg'!I20*$F$2/'Average w-o bkg'!I$5","v":{"$error":"#DIV/0!"}},{"$f":"'Average w-o bkg'!J20*$F$2/'Average w-o bkg'!J$5","v":{"$error":"#DIV/0!"}},{"$f":"'Average w-o bkg'!K20*$F$2/'Average w-o bkg'!K$5","v":{"$error":"#DIV/0!"}},{"$f":"'Average w-o bkg'!L20*$F$2/'Average w-o bkg'!L$5","v":{"$error":"#DIV/0!"}},{"$f":"'Average w-o bkg'!M20*$F$2/'Average w-o bkg'!M$5","v":{"$error":"#DIV/0!"}},{"$f":"'Average w-o bkg'!N20*$F$2/'Average w-o bkg'!N$5","v":{"$error":"#DIV/0!"}},{"$f":"'Average w-o bkg'!O20*$F$2/'Average w-o bkg'!O$5","v":{"$error":"#DIV/0!"}},{"$f":"'Average w-o bkg'!P20*$F$2/'Average w-o bkg'!P$5","v":{"$error":"#DIV/0!"}},{"$f":"'Average w-o bkg'!Q20*$F$2/'Average w-o bkg'!Q$5","v":{"$error":"#DIV/0!"}}]
[{"$f":"'Sorting 2'!A22","v":"P24"},{"$f":"'Average w-o bkg'!B21*$F$2/'Average w-o bkg'!B$5","v":{"$error":"#DIV/0!"}},{"$f":"'Average w-o bkg'!C21*$F$2/'Average w-o bkg'!C$5","v":{"$error":"#DIV/0!"}},{"$f":"'Average w-o bkg'!D21*$F$2/'Average w-o bkg'!D$5","v":{"$error":"#DIV/0!"}},{"$f":"'Average w-o bkg'!E21*$F$2/'Average w-o bkg'!E$5","v":{"$error":"#DIV/0!"}},{"$f":"'Average w-o bkg'!F21*$F$2/'Average w-o bkg'!F$5","v":{"$error":"#DIV/0!"}},{"$f":"'Average w-o bkg'!G21*$F$2/'Average w-o bkg'!G$5","v":{"$error":"#DIV/0!"}},{"$f":"'Average w-o bkg'!H21*$F$2/'Average w-o bkg'!H$5","v":{"$error":"#DIV/0!"}},{"$f":"'Average w-o bkg'!I21*$F$2/'Average w-o bkg'!I$5","v":{"$error":"#DIV/0!"}},{"$f":"'Average w-o bkg'!J21*$F$2/'Average w-o bkg'!J$5","v":{"$error":"#DIV/0!"}},{"$f":"'Average w-o bkg'!K21*$F$2/'Average w-o bkg'!K$5","v":{"$error":"#DIV/0!"}},{"$f":"'Average w-o bkg'!L21*$F$2/'Average w-o bkg'!L$5","v":{"$error":"#DIV/0!"}},{"$f":"'Average w-o bkg'!M21*$F$2/'Average w-o bkg'!M$5","v":{"$error":"#DIV/0!"}},{"$f":"'Average w-o bkg'!N21*$F$2/'Average w-o bkg'!N$5","v":{"$error":"#DIV/0!"}},{"$f":"'Average w-o bkg'!O21*$F$2/'Average w-o bkg'!O$5","v":{"$error":"#DIV/0!"}},{"$f":"'Average w-o bkg'!P21*$F$2/'Average w-o bkg'!P$5","v":{"$error":"#DIV/0!"}},{"$f":"'Average w-o bkg'!Q21*$F$2/'Average w-o bkg'!Q$5","v":{"$error":"#DIV/0!"}}]
[{"$f":"'Sorting 2'!A23","v":"P36"},{"$f":"'Average w-o bkg'!B22*$F$2/'Average w-o bkg'!B$5","v":{"$error":"#DIV/0!"}},{"$f":"'Average w-o bkg'!C22*$F$2/'Average w-o bkg'!C$5","v":{"$error":"#DIV/0!"}},{"$f":"'Average w-o bkg'!D22*$F$2/'Average w-o bkg'!D$5","v":{"$error":"#DIV/0!"}},{"$f":"'Average w-o bkg'!E22*$F$2/'Average w-o bkg'!E$5","v":{"$error":"#DIV/0!"}},{"$f":"'Average w-o bkg'!F22*$F$2/'Average w-o bkg'!F$5","v":{"$error":"#DIV/0!"}},{"$f":"'Average w-o bkg'!G22*$F$2/'Average w-o bkg'!G$5","v":{"$error":"#DIV/0!"}},{"$f":"'Average w-o bkg'!H22*$F$2/'Average w-o bkg'!H$5","v":{"$error":"#DIV/0!"}},{"$f":"'Average w-o bkg'!I22*$F$2/'Average w-o bkg'!I$5","v":{"$error":"#DIV/0!"}},{"$f":"'Average w-o bkg'!J22*$F$2/'Average w-o bkg'!J$5","v":{"$error":"#DIV/0!"}},{"$f":"'Average w-o bkg'!K22*$F$2/'Average w-o bkg'!K$5","v":{"$error":"#DIV/0!"}},{"$f":"'Average w-o bkg'!L22*$F$2/'Average w-o bkg'!L$5","v":{"$error":"#DIV/0!"}},{"$f":"'Average w-o bkg'!M22*$F$2/'Average w-o bkg'!M$5","v":{"$error":"#DIV/0!"}},{"$f":"'Average w-o bkg'!N22*$F$2/'Average w-o bkg'!N$5","v":{"$error":"#DIV/0!"}},{"$f":"'Average w-o bkg'!O22*$F$2/'Average w-o bkg'!O$5","v":{"$error":"#DIV/0!"}},{"$f":"'Average w-o bkg'!P22*$F$2/'Average w-o bkg'!P$5","v":{"$error":"#DIV/0!"}},{"$f":"'Average w-o bkg'!Q22*$F$2/'Average w-o bkg'!Q$5","v":{"$error":"#DIV/0!"}}]
[{"$f":"'Sorting 2'!A24","v":"P48"},{"$f":"'Average w-o bkg'!B23*$F$2/'Average w-o bkg'!B$5","v":{"$error":"#DIV/0!"}},{"$f":"'Average w-o bkg'!C23*$F$2/'Average w-o bkg'!C$5","v":{"$error":"#DIV/0!"}},{"$f":"'Average w-o bkg'!D23*$F$2/'Average w-o bkg'!D$5","v":{"$error":"#DIV/0!"}},{"$f":"'Average w-o bkg'!E23*$F$2/'Average w-o bkg'!E$5","v":{"$error":"#DIV/0!"}},{"$f":"'Average w-o bkg'!F23*$F$2/'Average w-o bkg'!F$5","v":{"$error":"#DIV/0!"}},{"$f":"'Average w-o bkg'!G23*$F$2/'Average w-o bkg'!G$5","v":{"$error":"#DIV/0!"}},{"$f":"'Average w-o bkg'!H23*$F$2/'Average w-o bkg'!H$5","v":{"$error":"#DIV/0!"}},{"$f":"'Average w-o bkg'!I23*$F$2/'Average w-o bkg'!I$5","v":{"$error":"#DIV/0!"}},{"$f":"'Average w-o bkg'!J23*$F$2/'Average w-o bkg'!J$5","v":{"$error":"#DIV/0!"}},{"$f":"'Average w-o bkg'!K23*$F$2/'Average w-o bkg'!K$5","v":{"$error":"#DIV/0!"}},{"$f":"'Average w-o bkg'!L23*$F$2/'Average w-o bkg'!L$5","v":{"$error":"#DIV/0!"}},{"$f":"'Average w-o bkg'!M23*$F$2/'Average w-o bkg'!M$5","v":{"$error":"#DIV/0!"}},{"$f":"'Average w-o bkg'!N23*$F$2/'Average w-o bkg'!N$5","v":{"$error":"#DIV/0!"}},{"$f":"'Average w-o bkg'!O23*$F$2/'Average w-o bkg'!O$5","v":{"$error":"#DIV/0!"}},{"$f":"'Average w-o bkg'!P23*$F$2/'Average w-o bkg'!P$5","v":{"$error":"#DIV/0!"}},{"$f":"'Average w-o bkg'!Q23*$F$2/'Average w-o bkg'!Q$5","v":{"$error":"#DIV/0!"}}]
[{"$f":"'Sorting 2'!A25","v":"P3"},{"$f":"'Average w-o bkg'!B24*$F$2/'Average w-o bkg'!B$5","v":{"$error":"#DIV/0!"}},{"$f":"'Average w-o bkg'!C24*$F$2/'Average w-o bkg'!C$5","v":{"$error":"#DIV/0!"}},{"$f":"'Average w-o bkg'!D24*$F$2/'Average w-o bkg'!D$5","v":{"$error":"#DIV/0!"}},{"$f":"'Average w-o bkg'!E24*$F$2/'Average w-o bkg'!E$5","v":{"$error":"#DIV/0!"}},{"$f":"'Average w-o bkg'!F24*$F$2/'Average w-o bkg'!F$5","v":{"$error":"#DIV/0!"}},{"$f":"'Average w-o bkg'!G24*$F$2/'Average w-o bkg'!G$5","v":{"$error":"#DIV/0!"}},{"$f":"'Average w-o bkg'!H24*$F$2/'Average w-o bkg'!H$5","v":{"$error":"#DIV/0!"}},{"$f":"'Average w-o bkg'!I24*$F$2/'Average w-o bkg'!I$5","v":{"$error":"#DIV/0!"}},{"$f":"'Average w-o bkg'!J24*$F$2/'Average w-o bkg'!J$5","v":{"$error":"#DIV/0!"}},{"$f":"'Average w-o bkg'!K24*$F$2/'Average w-o bkg'!K$5","v":{"$error":"#DIV/0!"}},{"$f":"'Average w-o bkg'!L24*$F$2/'Average w-o bkg'!L$5","v":{"$error":"#DIV/0!"}},{"$f":"'Average w-o bkg'!M24*$F$2/'Average w-o bkg'!M$5","v":{"$error":"#DIV/0!"}},{"$f":"'Average w-o bkg'!N24*$F$2/'Average w-o bkg'!N$5","v":{"$error":"#DIV/0!"}},{"$f":"'Average w-o bkg'!O24*$F$2/'Average w-o bkg'!O$5","v":{"$error":"#DIV/0!"}},{"$f":"'Average w-o bkg'!P24*$F$2/'Average w-o bkg'!P$5","v":{"$error":"#DIV/0!"}},{"$f":"'Average w-o bkg'!Q24*$F$2/'Average w-o bkg'!Q$5","v":{"$error":"#DIV/0!"}}]
[{"$f":"'Sorting 2'!A26","v":"P15"},{"$f":"'Average w-o bkg'!B25*$F$2/'Average w-o bkg'!B$5","v":{"$error":"#DIV/0!"}},{"$f":"'Average w-o bkg'!C25*$F$2/'Average w-o bkg'!C$5","v":{"$error":"#DIV/0!"}},{"$f":"'Average w-o bkg'!D25*$F$2/'Average w-o bkg'!D$5","v":{"$error":"#DIV/0!"}},{"$f":"'Average w-o bkg'!E25*$F$2/'Average w-o bkg'!E$5","v":{"$error":"#DIV/0!"}},{"$f":"'Average w-o bkg'!F25*$F$2/'Average w-o bkg'!F$5","v":{"$error":"#DIV/0!"}},{"$f":"'Average w-o bkg'!G25*$F$2/'Average w-o bkg'!G$5","v":{"$error":"#DIV/0!"}},{"$f":"'Average w-o bkg'!H25*$F$2/'Average w-o bkg'!H$5","v":{"$error":"#DIV/0!"}},{"$f":"'Average w-o bkg'!I25*$F$2/'Average w-o bkg'!I$5","v":{"$error":"#DIV/0!"}},{"$f":"'Average w-o bkg'!J25*$F$2/'Average w-o bkg'!J$5","v":{"$error":"#DIV/0!"}},{"$f":"'Average w-o bkg'!K25*$F$2/'Average w-o bkg'!K$5","v":{"$error":"#DIV/0!"}},{"$f":"'Average w-o bkg'!L25*$F$2/'Average w-o bkg'!L$5","v":{"$error":"#DIV/0!"}},{"$f":"'Average w-o bkg'!M25*$F$2/'Average w-o bkg'!M$5","v":{"$error":"#DIV/0!"}},{"$f":"'Average w-o bkg'!N25*$F$2/'Average w-o bkg'!N$5","v":{"$error":"#DIV/0!"}},{"$f":"'Average w-o bkg'!O25*$F$2/'Average w-o bkg'!O$5","v":{"$error":"#DIV/0!"}},{"$f":"'Average w-o bkg'!P25*$F$2/'Average w-o bkg'!P$5","v":{"$error":"#DIV/0!"}},{"$f":"'Average w-o bkg'!Q25*$F$2/'Average w-o bkg'!Q$5","v":{"$error":"#DIV/0!"}}]
[{"$f":"'Sorting 2'!A27","v":"P25"},{"$f":"'Average w-o bkg'!B26*$F$2/'Average w-o bkg'!B$5","v":{"$error":"#DIV/0!"}},{"$f":"'Average w-o bkg'!C26*$F$2/'Average w-o bkg'!C$5","v":{"$error":"#DIV/0!"}},{"$f":"'Average w-o bkg'!D26*$F$2/'Average w-o bkg'!D$5","v":{"$error":"#DIV/0!"}},{"$f":"'Average w-o bkg'!E26*$F$2/'Average w-o bkg'!E$5","v":{"$error":"#DIV/0!"}},{"$f":"'Average w-o bkg'!F26*$F$2/'Average w-o bkg'!F$5","v":{"$error":"#DIV/0!"}},{"$f":"'Average w-o bkg'!G26*$F$2/'Average w-o bkg'!G$5","v":{"$error":"#DIV/0!"}},{"$f":"'Average w-o bkg'!H26*$F$2/'Average w-o bkg'!H$5","v":{"$error":"#DIV/0!"}},{"$f":"'Average w-o bkg'!I26*$F$2/'Average w-o bkg'!I$5","v":{"$error":"#DIV/0!"}},{"$f":"'Average w-o bkg'!J26*$F$2/'Average w-o bkg'!J$5","v":{"$error":"#DIV/0!"}},{"$f":"'Average w-o bkg'!K26*$F$2/'Average w-o bkg'!K$5","v":{"$error":"#DIV/0!"}},{"$f":"'Average w-o bkg'!L26*$F$2/'Average w-o bkg'!L$5","v":{"$error":"#DIV/0!"}},{"$f":"'Average w-o bkg'!M26*$F$2/'Average w-o bkg'!M$5","v":{"$error":"#DIV/0!"}},{"$f":"'Average w-o bkg'!N26*$F$2/'Average w-o bkg'!N$5","v":{"$error":"#DIV/0!"}},{"$f":"'Average w-o bkg'!O26*$F$2/'Average w-o bkg'!O$5","v":{"$error":"#DIV/0!"}},{"$f":"'Average w-o bkg'!P26*$F$2/'Average w-o bkg'!P$5","v":{"$error":"#DIV/0!"}},{"$f":"'Average w-o bkg'!Q26*$F$2/'Average w-o bkg'!Q$5","v":{"$error":"#DIV/0!"}}]
[{"$f":"'Sorting 2'!A28","v":"P37"},{"$f":"'Average w-o bkg'!B27*$F$2/'Average w-o bkg'!B$5","v":{"$error":"#DIV/0!"}},{"$f":"'Average w-o bkg'!C27*$F$2/'Average w-o bkg'!C$5","v":{"$error":"#DIV/0!"}},{"$f":"'Average w-o bkg'!D27*$F$2/'Average w-o bkg'!D$5","v":{"$error":"#DIV/0!"}},{"$f":"'Average w-o bkg'!E27*$F$2/'Average w-o bkg'!E$5","v":{"$error":"#DIV/0!"}},{"$f":"'Average w-o bkg'!F27*$F$2/'Average w-o bkg'!F$5","v":{"$error":"#DIV/0!"}},{"$f":"'Average w-o bkg'!G27*$F$2/'Average w-o bkg'!G$5","v":{"$error":"#DIV/0!"}},{"$f":"'Average w-o bkg'!H27*$F$2/'Average w-o bkg'!H$5","v":{"$error":"#DIV/0!"}},{"$f":"'Average w-o bkg'!I27*$F$2/'Average w-o bkg'!I$5","v":{"$error":"#DIV/0!"}},{"$f":"'Average w-o bkg'!J27*$F$2/'Average w-o bkg'!J$5","v":{"$error":"#DIV/0!"}},{"$f":"'Average w-o bkg'!K27*$F$2/'Average w-o bkg'!K$5","v":{"$error":"#DIV/0!"}},{"$f":"'Average w-o bkg'!L27*$F$2/'Average w-o bkg'!L$5","v":{"$error":"#DIV/0!"}},{"$f":"'Average w-o bkg'!M27*$F$2/'Average w-o bkg'!M$5","v":{"$error":"#DIV/0!"}},{"$f":"'Average w-o bkg'!N27*$F$2/'Average w-o bkg'!N$5","v":{"$error":"#DIV/0!"}},{"$f":"'Average w-o bkg'!O27*$F$2/'Average w-o bkg'!O$5","v":{"$error":"#DIV/0!"}},{"$f":"'Average w-o bkg'!P27*$F$2/'Average w-o bkg'!P$5","v":{"$error":"#DIV/0!"}},{"$f":"'Average w-o bkg'!Q27*$F$2/'Average w-o bkg'!Q$5","v":{"$error":"#DIV/0!"}}]
[{"$f":"'Sorting 2'!A29","v":"P49"},{"$f":"'Average w-o bkg'!B28*$F$2/'Average w-o bkg'!B$5","v":{"$error":"#DIV/0!"}},{"$f":"'Average w-o bkg'!C28*$F$2/'Average w-o bkg'!C$5","v":{"$error":"#DIV/0!"}},{"$f":"'Average w-o bkg'!D28*$F$2/'Average w-o bkg'!D$5","v":{"$error":"#DIV/0!"}},{"$f":"'Average w-o bkg'!E28*$F$2/'Average w-o bkg'!E$5","v":{"$error":"#DIV/0!"}},{"$f":"'Average w-o bkg'!F28*$F$2/'Average w-o bkg'!F$5","v":{"$error":"#DIV/0!"}},{"$f":"'Average w-o bkg'!G28*$F$2/'Average w-o bkg'!G$5","v":{"$error":"#DIV/0!"}},{"$f":"'Average w-o bkg'!H28*$F$2/'Average w-o bkg'!H$5","v":{"$error":"#DIV/0!"}},{"$f":"'Average w-o bkg'!I28*$F$2/'Average w-o bkg'!I$5","v":{"$error":"#DIV/0!"}},{"$f":"'Average w-o bkg'!J28*$F$2/'Average w-o bkg'!J$5","v":{"$error":"#DIV/0!"}},{"$f":"'Average w-o bkg'!K28*$F$2/'Average w-o bkg'!K$5","v":{"$error":"#DIV/0!"}},{"$f":"'Average w-o bkg'!L28*$F$2/'Average w-o bkg'!L$5","v":{"$error":"#DIV/0!"}},{"$f":"'Average w-o bkg'!M28*$F$2/'Average w-o bkg'!M$5","v":{"$error":"#DIV/0!"}},{"$f":"'Average w-o bkg'!N28*$F$2/'Average w-o bkg'!N$5","v":{"$error":"#DIV/0!"}},{"$f":"'Average w-o bkg'!O28*$F$2/'Average w-o bkg'!O$5","v":{"$error":"#DIV/0!"}},{"$f":"'Average w-o bkg'!P28*$F$2/'Average w-o bkg'!P$5","v":{"$error":"#DIV/0!"}},{"$f":"'Average w-o bkg'!Q28*$F$2/'Average w-o bkg'!Q$5","v":{"$error":"#DIV/0!"}}]
[{"$f":"'Sorting 2'!A30","v":"P4"},{"$f":"'Average w-o bkg'!B29*$F$2/'Average w-o bkg'!B$5","v":{"$error":"#DIV/0!"}},{"$f":"'Average w-o bkg'!C29*$F$2/'Average w-o bkg'!C$5","v":{"$error":"#DIV/0!"}},{"$f":"'Average w-o bkg'!D29*$F$2/'Average w-o bkg'!D$5","v":{"$error":"#DIV/0!"}},{"$f":"'Average w-o bkg'!E29*$F$2/'Average w-o bkg'!E$5","v":{"$error":"#DIV/0!"}},{"$f":"'Average w-o bkg'!F29*$F$2/'Average w-o bkg'!F$5","v":{"$error":"#DIV/0!"}},{"$f":"'Average w-o bkg'!G29*$F$2/'Average w-o bkg'!G$5","v":{"$error":"#DIV/0!"}},{"$f":"'Average w-o bkg'!H29*$F$2/'Average w-o bkg'!H$5","v":{"$error":"#DIV/0!"}},{"$f":"'Average w-o bkg'!I29*$F$2/'Average w-o bkg'!I$5","v":{"$error":"#DIV/0!"}},{"$f":"'Average w-o bkg'!J29*$F$2/'Average w-o bkg'!J$5","v":{"$error":"#DIV/0!"}},{"$f":"'Average w-o bkg'!K29*$F$2/'Average w-o bkg'!K$5","v":{"$error":"#DIV/0!"}},{"$f":"'Average w-o bkg'!L29*$F$2/'Average w-o bkg'!L$5","v":{"$error":"#DIV/0!"}},{"$f":"'Average w-o bkg'!M29*$F$2/'Average w-o bkg'!M$5","v":{"$error":"#DIV/0!"}},{"$f":"'Average w-o bkg'!N29*$F$2/'Average w-o bkg'!N$5","v":{"$error":"#DIV/0!"}},{"$f":"'Average w-o bkg'!O29*$F$2/'Average w-o bkg'!O$5","v":{"$error":"#DIV/0!"}},{"$f":"'Average w-o bkg'!P29*$F$2/'Average w-o bkg'!P$5","v":{"$error":"#DIV/0!"}},{"$f":"'Average w-o bkg'!Q29*$F$2/'Average w-o bkg'!Q$5","v":{"$error":"#DIV/0!"}}]
[{"$f":"'Sorting 2'!A31","v":"P16"},{"$f":"'Average w-o bkg'!B30*$F$2/'Average w-o bkg'!B$5","v":{"$error":"#DIV/0!"}},{"$f":"'Average w-o bkg'!C30*$F$2/'Average w-o bkg'!C$5","v":{"$error":"#DIV/0!"}},{"$f":"'Average w-o bkg'!D30*$F$2/'Average w-o bkg'!D$5","v":{"$error":"#DIV/0!"}},{"$f":"'Average w-o bkg'!E30*$F$2/'Average w-o bkg'!E$5","v":{"$error":"#DIV/0!"}},{"$f":"'Average w-o bkg'!F30*$F$2/'Average w-o bkg'!F$5","v":{"$error":"#DIV/0!"}},{"$f":"'Average w-o bkg'!G30*$F$2/'Average w-o bkg'!G$5","v":{"$error":"#DIV/0!"}},{"$f":"'Average w-o bkg'!H30*$F$2/'Average w-o bkg'!H$5","v":{"$error":"#DIV/0!"}},{"$f":"'Average w-o bkg'!I30*$F$2/'Average w-o bkg'!I$5","v":{"$error":"#DIV/0!"}},{"$f":"'Average w-o bkg'!J30*$F$2/'Average w-o bkg'!J$5","v":{"$error":"#DIV/0!"}},{"$f":"'Average w-o bkg'!K30*$F$2/'Average w-o bkg'!K$5","v":{"$error":"#DIV/0!"}},{"$f":"'Average w-o bkg'!L30*$F$2/'Average w-o bkg'!L$5","v":{"$error":"#DIV/0!"}},{"$f":"'Average w-o bkg'!M30*$F$2/'Average w-o bkg'!M$5","v":{"$error":"#DIV/0!"}},{"$f":"'Average w-o bkg'!N30*$F$2/'Average w-o bkg'!N$5","v":{"$error":"#DIV/0!"}},{"$f":"'Average w-o bkg'!O30*$F$2/'Average w-o bkg'!O$5","v":{"$error":"#DIV/0!"}},{"$f":"'Average w-o bkg'!P30*$F$2/'Average w-o bkg'!P$5","v":{"$error":"#DIV/0!"}},{"$f":"'Average w-o bkg'!Q30*$F$2/'Average w-o bkg'!Q$5","v":{"$error":"#DIV/0!"}}]
[{"$f":"'Sorting 2'!A32","v":"P26"},{"$f":"'Average w-o bkg'!B31*$F$2/'Average w-o bkg'!B$5","v":{"$error":"#DIV/0!"}},{"$f":"'Average w-o bkg'!C31*$F$2/'Average w-o bkg'!C$5","v":{"$error":"#DIV/0!"}},{"$f":"'Average w-o bkg'!D31*$F$2/'Average w-o bkg'!D$5","v":{"$error":"#DIV/0!"}},{"$f":"'Average w-o bkg'!E31*$F$2/'Average w-o bkg'!E$5","v":{"$error":"#DIV/0!"}},{"$f":"'Average w-o bkg'!F31*$F$2/'Average w-o bkg'!F$5","v":{"$error":"#DIV/0!"}},{"$f":"'Average w-o bkg'!G31*$F$2/'Average w-o bkg'!G$5","v":{"$error":"#DIV/0!"}},{"$f":"'Average w-o bkg'!H31*$F$2/'Average w-o bkg'!H$5","v":{"$error":"#DIV/0!"}},{"$f":"'Average w-o bkg'!I31*$F$2/'Average w-o bkg'!I$5","v":{"$error":"#DIV/0!"}},{"$f":"'Average w-o bkg'!J31*$F$2/'Average w-o bkg'!J$5","v":{"$error":"#DIV/0!"}},{"$f":"'Average w-o bkg'!K31*$F$2/'Average w-o bkg'!K$5","v":{"$error":"#DIV/0!"}},{"$f":"'Average w-o bkg'!L31*$F$2/'Average w-o bkg'!L$5","v":{"$error":"#DIV/0!"}},{"$f":"'Average w-o bkg'!M31*$F$2/'Average w-o bkg'!M$5","v":{"$error":"#DIV/0!"}},{"$f":"'Average w-o bkg'!N31*$F$2/'Average w-o bkg'!N$5","v":{"$error":"#DIV/0!"}},{"$f":"'Average w-o bkg'!O31*$F$2/'Average w-o bkg'!O$5","v":{"$error":"#DIV/0!"}},{"$f":"'Average w-o bkg'!P31*$F$2/'Average w-o bkg'!P$5","v":{"$error":"#DIV/0!"}},{"$f":"'Average w-o bkg'!Q31*$F$2/'Average w-o bkg'!Q$5","v":{"$error":"#DIV/0!"}}]
[{"$f":"'Sorting 2'!A33","v":"P38"},{"$f":"'Average w-o bkg'!B32*$F$2/'Average w-o bkg'!B$5","v":{"$error":"#DIV/0!"}},{"$f":"'Average w-o bkg'!C32*$F$2/'Average w-o bkg'!C$5","v":{"$error":"#DIV/0!"}},{"$f":"'Average w-o bkg'!D32*$F$2/'Average w-o bkg'!D$5","v":{"$error":"#DIV/0!"}},{"$f":"'Average w-o bkg'!E32*$F$2/'Average w-o bkg'!E$5","v":{"$error":"#DIV/0!"}},{"$f":"'Average w-o bkg'!F32*$F$2/'Average w-o bkg'!F$5","v":{"$error":"#DIV/0!"}},{"$f":"'Average w-o bkg'!G32*$F$2/'Average w-o bkg'!G$5","v":{"$error":"#DIV/0!"}},{"$f":"'Average w-o bkg'!H32*$F$2/'Average w-o bkg'!H$5","v":{"$error":"#DIV/0!"}},{"$f":"'Average w-o bkg'!I32*$F$2/'Average w-o bkg'!I$5","v":{"$error":"#DIV/0!"}},{"$f":"'Average w-o bkg'!J32*$F$2/'Average w-o bkg'!J$5","v":{"$error":"#DIV/0!"}},{"$f":"'Average w-o bkg'!K32*$F$2/'Average w-o bkg'!K$5","v":{"$error":"#DIV/0!"}},{"$f":"'Average w-o bkg'!L32*$F$2/'Average w-o bkg'!L$5","v":{"$error":"#DIV/0!"}},{"$f":"'Average w-o bkg'!M32*$F$2/'Average w-o bkg'!M$5","v":{"$error":"#DIV/0!"}},{"$f":"'Average w-o bkg'!N32*$F$2/'Average w-o bkg'!N$5","v":{"$error":"#DIV/0!"}},{"$f":"'Average w-o bkg'!O32*$F$2/'Average w-o bkg'!O$5","v":{"$error":"#DIV/0!"}},{"$f":"'Average w-o bkg'!P32*$F$2/'Average w-o bkg'!P$5","v":{"$error":"#DIV/0!"}},{"$f":"'Average w-o bkg'!Q32*$F$2/'Average w-o bkg'!Q$5","v":{"$error":"#DIV/0!"}}]
[{"$f":"'Sorting 2'!A34","v":"P50"},{"$f":"'Average w-o bkg'!B33*$F$2/'Average w-o bkg'!B$5","v":{"$error":"#DIV/0!"}},{"$f":"'Average w-o bkg'!C33*$F$2/'Average w-o bkg'!C$5","v":{"$error":"#DIV/0!"}},{"$f":"'Average w-o bkg'!D33*$F$2/'Average w-o bkg'!D$5","v":{"$error":"#DIV/0!"}},{"$f":"'Average w-o bkg'!E33*$F$2/'Average w-o bkg'!E$5","v":{"$error":"#DIV/0!"}},{"$f":"'Average w-o bkg'!F33*$F$2/'Average w-o bkg'!F$5","v":{"$error":"#DIV/0!"}},{"$f":"'Average w-o bkg'!G33*$F$2/'Average w-o bkg'!G$5","v":{"$error":"#DIV/0!"}},{"$f":"'Average w-o bkg'!H33*$F$2/'Average w-o bkg'!H$5","v":{"$error":"#DIV/0!"}},{"$f":"'Average w-o bkg'!I33*$F$2/'Average w-o bkg'!I$5","v":{"$error":"#DIV/0!"}},{"$f":"'Average w-o bkg'!J33*$F$2/'Average w-o bkg'!J$5","v":{"$error":"#DIV/0!"}},{"$f":"'Average w-o bkg'!K33*$F$2/'Average w-o bkg'!K$5","v":{"$error":"#DIV/0!"}},{"$f":"'Average w-o bkg'!L33*$F$2/'Average w-o bkg'!L$5","v":{"$error":"#DIV/0!"}},{"$f":"'Average w-o bkg'!M33*$F$2/'Average w-o bkg'!M$5","v":{"$error":"#DIV/0!"}},{"$f":"'Average w-o bkg'!N33*$F$2/'Average w-o bkg'!N$5","v":{"$error":"#DIV/0!"}},{"$f":"'Average w-o bkg'!O33*$F$2/'Average w-o bkg'!O$5","v":{"$error":"#DIV/0!"}},{"$f":"'Average w-o bkg'!P33*$F$2/'Average w-o bkg'!P$5","v":{"$error":"#DIV/0!"}},{"$f":"'Average w-o bkg'!Q33*$F$2/'Average w-o bkg'!Q$5","v":{"$error":"#DIV/0!"}}]
[{"$f":"'Sorting 2'!A35","v":"P5"},{"$f":"'Average w-o bkg'!B34*$F$2/'Average w-o bkg'!B$5","v":{"$error":"#DIV/0!"}},{"$f":"'Average w-o bkg'!C34*$F$2/'Average w-o bkg'!C$5","v":{"$error":"#DIV/0!"}},{"$f":"'Average w-o bkg'!D34*$F$2/'Average w-o bkg'!D$5","v":{"$error":"#DIV/0!"}},{"$f":"'Average w-o bkg'!E34*$F$2/'Average w-o bkg'!E$5","v":{"$error":"#DIV/0!"}},{"$f":"'Average w-o bkg'!F34*$F$2/'Average w-o bkg'!F$5","v":{"$error":"#DIV/0!"}},{"$f":"'Average w-o bkg'!G34*$F$2/'Average w-o bkg'!G$5","v":{"$error":"#DIV/0!"}},{"$f":"'Average w-o bkg'!H34*$F$2/'Average w-o bkg'!H$5","v":{"$error":"#DIV/0!"}},{"$f":"'Average w-o bkg'!I34*$F$2/'Average w-o bkg'!I$5","v":{"$error":"#DIV/0!"}},{"$f":"'Average w-o bkg'!J34*$F$2/'Average w-o bkg'!J$5","v":{"$error":"#DIV/0!"}},{"$f":"'Average w-o bkg'!K34*$F$2/'Average w-o bkg'!K$5","v":{"$error":"#DIV/0!"}},{"$f":"'Average w-o bkg'!L34*$F$2/'Average w-o bkg'!L$5","v":{"$error":"#DIV/0!"}},{"$f":"'Average w-o bkg'!M34*$F$2/'Average w-o bkg'!M$5","v":{"$error":"#DIV/0!"}},{"$f":"'Average w-o bkg'!N34*$F$2/'Average w-o bkg'!N$5","v":{"$error":"#DIV/0!"}},{"$f":"'Average w-o bkg'!O34*$F$2/'Average w-o bkg'!O$5","v":{"$error":"#DIV/0!"}},{"$f":"'Average w-o bkg'!P34*$F$2/'Average w-o bkg'!P$5","v":{"$error":"#DIV/0!"}},{"$f":"'Average w-o bkg'!Q34*$F$2/'Average w-o bkg'!Q$5","v":{"$error":"#DIV/0!"}}]
[{"$f":"'Sorting 2'!A36","v":"P17"},{"$f":"'Average w-o bkg'!B35*$F$2/'Average w-o bkg'!B$5","v":{"$error":"#DIV/0!"}},{"$f":"'Average w-o bkg'!C35*$F$2/'Average w-o bkg'!C$5","v":{"$error":"#DIV/0!"}},{"$f":"'Average w-o bkg'!D35*$F$2/'Average w-o bkg'!D$5","v":{"$error":"#DIV/0!"}},{"$f":"'Average w-o bkg'!E35*$F$2/'Average w-o bkg'!E$5","v":{"$error":"#DIV/0!"}},{"$f":"'Average w-o bkg'!F35*$F$2/'Average w-o bkg'!F$5","v":{"$error":"#DIV/0!"}},{"$f":"'Average w-o bkg'!G35*$F$2/'Average w-o bkg'!G$5","v":{"$error":"#DIV/0!"}},{"$f":"'Average w-o bkg'!H35*$F$2/'Average w-o bkg'!H$5","v":{"$error":"#DIV/0!"}},{"$f":"'Average w-o bkg'!I35*$F$2/'Average w-o bkg'!I$5","v":{"$error":"#DIV/0!"}},{"$f":"'Average w-o bkg'!J35*$F$2/'Average w-o bkg'!J$5","v":{"$error":"#DIV/0!"}},{"$f":"'Average w-o bkg'!K35*$F$2/'Average w-o bkg'!K$5","v":{"$error":"#DIV/0!"}},{"$f":"'Average w-o bkg'!L35*$F$2/'Average w-o bkg'!L$5","v":{"$error":"#DIV/0!"}},{"$f":"'Average w-o bkg'!M35*$F$2/'Average w-o bkg'!M$5","v":{"$error":"#DIV/0!"}},{"$f":"'Average w-o bkg'!N35*$F$2/'Average w-o bkg'!N$5","v":{"$error":"#DIV/0!"}},{"$f":"'Average w-o bkg'!O35*$F$2/'Average w-o bkg'!O$5","v":{"$error":"#DIV/0!"}},{"$f":"'Average w-o bkg'!P35*$F$2/'Average w-o bkg'!P$5","v":{"$error":"#DIV/0!"}},{"$f":"'Average w-o bkg'!Q35*$F$2/'Average w-o bkg'!Q$5","v":{"$error":"#DIV/0!"}}]
[{"$f":"'Sorting 2'!A37","v":"P27"},{"$f":"'Average w-o bkg'!B36*$F$2/'Average w-o bkg'!B$5","v":{"$error":"#DIV/0!"}},{"$f":"'Average w-o bkg'!C36*$F$2/'Average w-o bkg'!C$5","v":{"$error":"#DIV/0!"}},{"$f":"'Average w-o bkg'!D36*$F$2/'Average w-o bkg'!D$5","v":{"$error":"#DIV/0!"}},{"$f":"'Average w-o bkg'!E36*$F$2/'Average w-o bkg'!E$5","v":{"$error":"#DIV/0!"}},{"$f":"'Average w-o bkg'!F36*$F$2/'Average w-o bkg'!F$5","v":{"$error":"#DIV/0!"}},{"$f":"'Average w-o bkg'!G36*$F$2/'Average w-o bkg'!G$5","v":{"$error":"#DIV/0!"}},{"$f":"'Average w-o bkg'!H36*$F$2/'Average w-o bkg'!H$5","v":{"$error":"#DIV/0!"}},{"$f":"'Average w-o bkg'!I36*$F$2/'Average w-o bkg'!I$5","v":{"$error":"#DIV/0!"}},{"$f":"'Average w-o bkg'!J36*$F$2/'Average w-o bkg'!J$5","v":{"$error":"#DIV/0!"}},{"$f":"'Average w-o bkg'!K36*$F$2/'Average w-o bkg'!K$5","v":{"$error":"#DIV/0!"}},{"$f":"'Average w-o bkg'!L36*$F$2/'Average w-o bkg'!L$5","v":{"$error":"#DIV/0!"}},{"$f":"'Average w-o bkg'!M36*$F$2/'Average w-o bkg'!M$5","v":{"$error":"#DIV/0!"}},{"$f":"'Average w-o bkg'!N36*$F$2/'Average w-o bkg'!N$5","v":{"$error":"#DIV/0!"}},{"$f":"'Average w-o bkg'!O36*$F$2/'Average w-o bkg'!O$5","v":{"$error":"#DIV/0!"}},{"$f":"'Average w-o bkg'!P36*$F$2/'Average w-o bkg'!P$5","v":{"$error":"#DIV/0!"}},{"$f":"'Average w-o bkg'!Q36*$F$2/'Average w-o bkg'!Q$5","v":{"$error":"#DIV/0!"}}]
[{"$f":"'Sorting 2'!A38","v":"P39"},{"$f":"'Average w-o bkg'!B37*$F$2/'Average w-o bkg'!B$5","v":{"$error":"#DIV/0!"}},{"$f":"'Average w-o bkg'!C37*$F$2/'Average w-o bkg'!C$5","v":{"$error":"#DIV/0!"}},{"$f":"'Average w-o bkg'!D37*$F$2/'Average w-o bkg'!D$5","v":{"$error":"#DIV/0!"}},{"$f":"'Average w-o bkg'!E37*$F$2/'Average w-o bkg'!E$5","v":{"$error":"#DIV/0!"}},{"$f":"'Average w-o bkg'!F37*$F$2/'Average w-o bkg'!F$5","v":{"$error":"#DIV/0!"}},{"$f":"'Average w-o bkg'!G37*$F$2/'Average w-o bkg'!G$5","v":{"$error":"#DIV/0!"}},{"$f":"'Average w-o bkg'!H37*$F$2/'Average w-o bkg'!H$5","v":{"$error":"#DIV/0!"}},{"$f":"'Average w-o bkg'!I37*$F$2/'Average w-o bkg'!I$5","v":{"$error":"#DIV/0!"}},{"$f":"'Average w-o bkg'!J37*$F$2/'Average w-o bkg'!J$5","v":{"$error":"#DIV/0!"}},{"$f":"'Average w-o bkg'!K37*$F$2/'Average w-o bkg'!K$5","v":{"$error":"#DIV/0!"}},{"$f":"'Average w-o bkg'!L37*$F$2/'Average w-o bkg'!L$5","v":{"$error":"#DIV/0!"}},{"$f":"'Average w-o bkg'!M37*$F$2/'Average w-o bkg'!M$5","v":{"$error":"#DIV/0!"}},{"$f":"'Average w-o bkg'!N37*$F$2/'Average w-o bkg'!N$5","v":{"$error":"#DIV/0!"}},{"$f":"'Average w-o bkg'!O37*$F$2/'Average w-o bkg'!O$5","v":{"$error":"#DIV/0!"}},{"$f":"'Average w-o bkg'!P37*$F$2/'Average w-o bkg'!P$5","v":{"$error":"#DIV/0!"}},{"$f":"'Average w-o bkg'!Q37*$F$2/'Average w-o bkg'!Q$5","v":{"$error":"#DIV/0!"}}]
[{"$f":"'Sorting 2'!A39","v":"P51"},{"$f":"'Average w-o bkg'!B38*$F$2/'Average w-o bkg'!B$5","v":{"$error":"#DIV/0!"}},{"$f":"'Average w-o bkg'!C38*$F$2/'Average w-o bkg'!C$5","v":{"$error":"#DIV/0!"}},{"$f":"'Average w-o bkg'!D38*$F$2/'Average w-o bkg'!D$5","v":{"$error":"#DIV/0!"}},{"$f":"'Average w-o bkg'!E38*$F$2/'Average w-o bkg'!E$5","v":{"$error":"#DIV/0!"}},{"$f":"'Average w-o bkg'!F38*$F$2/'Average w-o bkg'!F$5","v":{"$error":"#DIV/0!"}},{"$f":"'Average w-o bkg'!G38*$F$2/'Average w-o bkg'!G$5","v":{"$error":"#DIV/0!"}},{"$f":"'Average w-o bkg'!H38*$F$2/'Average w-o bkg'!H$5","v":{"$error":"#DIV/0!"}},{"$f":"'Average w-o bkg'!I38*$F$2/'Average w-o bkg'!I$5","v":{"$error":"#DIV/0!"}},{"$f":"'Average w-o bkg'!J38*$F$2/'Average w-o bkg'!J$5","v":{"$error":"#DIV/0!"}},{"$f":"'Average w-o bkg'!K38*$F$2/'Average w-o bkg'!K$5","v":{"$error":"#DIV/0!"}},{"$f":"'Average w-o bkg'!L38*$F$2/'Average w-o bkg'!L$5","v":{"$error":"#DIV/0!"}},{"$f":"'Average w-o bkg'!M38*$F$2/'Average w-o bkg'!M$5","v":{"$error":"#DIV/0!"}},{"$f":"'Average w-o bkg'!N38*$F$2/'Average w-o bkg'!N$5","v":{"$error":"#DIV/0!"}},{"$f":"'Average w-o bkg'!O38*$F$2/'Average w-o bkg'!O$5","v":{"$error":"#DIV/0!"}},{"$f":"'Average w-o bkg'!P38*$F$2/'Average w-o bkg'!P$5","v":{"$error":"#DIV/0!"}},{"$f":"'Average w-o bkg'!Q38*$F$2/'Average w-o bkg'!Q$5","v":{"$error":"#DIV/0!"}}]
[{"$f":"'Sorting 2'!A40","v":"P6"},{"$f":"'Average w-o bkg'!B39*$F$2/'Average w-o bkg'!B$5","v":{"$error":"#DIV/0!"}},{"$f":"'Average w-o bkg'!C39*$F$2/'Average w-o bkg'!C$5","v":{"$error":"#DIV/0!"}},{"$f":"'Average w-o bkg'!D39*$F$2/'Average w-o bkg'!D$5","v":{"$error":"#DIV/0!"}},{"$f":"'Average w-o bkg'!E39*$F$2/'Average w-o bkg'!E$5","v":{"$error":"#DIV/0!"}},{"$f":"'Average w-o bkg'!F39*$F$2/'Average w-o bkg'!F$5","v":{"$error":"#DIV/0!"}},{"$f":"'Average w-o bkg'!G39*$F$2/'Average w-o bkg'!G$5","v":{"$error":"#DIV/0!"}},{"$f":"'Average w-o bkg'!H39*$F$2/'Average w-o bkg'!H$5","v":{"$error":"#DIV/0!"}},{"$f":"'Average w-o bkg'!I39*$F$2/'Average w-o bkg'!I$5","v":{"$error":"#DIV/0!"}},{"$f":"'Average w-o bkg'!J39*$F$2/'Average w-o bkg'!J$5","v":{"$error":"#DIV/0!"}},{"$f":"'Average w-o bkg'!K39*$F$2/'Average w-o bkg'!K$5","v":{"$error":"#DIV/0!"}},{"$f":"'Average w-o bkg'!L39*$F$2/'Average w-o bkg'!L$5","v":{"$error":"#DIV/0!"}},{"$f":"'Average w-o bkg'!M39*$F$2/'Average w-o bkg'!M$5","v":{"$error":"#DIV/0!"}},{"$f":"'Average w-o bkg'!N39*$F$2/'Average w-o bkg'!N$5","v":{"$error":"#DIV/0!"}},{"$f":"'Average w-o bkg'!O39*$F$2/'Average w-o bkg'!O$5","v":{"$error":"#DIV/0!"}},{"$f":"'Average w-o bkg'!P39*$F$2/'Average w-o bkg'!P$5","v":{"$error":"#DIV/0!"}},{"$f":"'Average w-o bkg'!Q39*$F$2/'Average w-o bkg'!Q$5","v":{"$error":"#DIV/0!"}}]
[{"$f":"'Sorting 2'!A41","v":"P18"},{"$f":"'Average w-o bkg'!B40*$F$2/'Average w-o bkg'!B$5","v":{"$error":"#DIV/0!"}},{"$f":"'Average w-o bkg'!C40*$F$2/'Average w-o bkg'!C$5","v":{"$error":"#DIV/0!"}},{"$f":"'Average w-o bkg'!D40*$F$2/'Average w-o bkg'!D$5","v":{"$error":"#DIV/0!"}},{"$f":"'Average w-o bkg'!E40*$F$2/'Average w-o bkg'!E$5","v":{"$error":"#DIV/0!"}},{"$f":"'Average w-o bkg'!F40*$F$2/'Average w-o bkg'!F$5","v":{"$error":"#DIV/0!"}},{"$f":"'Average w-o bkg'!G40*$F$2/'Average w-o bkg'!G$5","v":{"$error":"#DIV/0!"}},{"$f":"'Average w-o bkg'!H40*$F$2/'Average w-o bkg'!H$5","v":{"$error":"#DIV/0!"}},{"$f":"'Average w-o bkg'!I40*$F$2/'Average w-o bkg'!I$5","v":{"$error":"#DIV/0!"}},{"$f":"'Average w-o bkg'!J40*$F$2/'Average w-o bkg'!J$5","v":{"$error":"#DIV/0!"}},{"$f":"'Average w-o bkg'!K40*$F$2/'Average w-o bkg'!K$5","v":{"$error":"#DIV/0!"}},{"$f":"'Average w-o bkg'!L40*$F$2/'Average w-o bkg'!L$5","v":{"$error":"#DIV/0!"}},{"$f":"'Average w-o bkg'!M40*$F$2/'Average w-o bkg'!M$5","v":{"$error":"#DIV/0!"}},{"$f":"'Average w-o bkg'!N40*$F$2/'Average w-o bkg'!N$5","v":{"$error":"#DIV/0!"}},{"$f":"'Average w-o bkg'!O40*$F$2/'Average w-o bkg'!O$5","v":{"$error":"#DIV/0!"}},{"$f":"'Average w-o bkg'!P40*$F$2/'Average w-o bkg'!P$5","v":{"$error":"#DIV/0!"}},{"$f":"'Average w-o bkg'!Q40*$F$2/'Average w-o bkg'!Q$5","v":{"$error":"#DIV/0!"}}]
[{"$f":"'Sorting 2'!A42","v":"P28"},{"$f":"'Average w-o bkg'!B41*$F$2/'Average w-o bkg'!B$5","v":{"$error":"#DIV/0!"}},{"$f":"'Average w-o bkg'!C41*$F$2/'Average w-o bkg'!C$5","v":{"$error":"#DIV/0!"}},{"$f":"'Average w-o bkg'!D41*$F$2/'Average w-o bkg'!D$5","v":{"$error":"#DIV/0!"}},{"$f":"'Average w-o bkg'!E41*$F$2/'Average w-o bkg'!E$5","v":{"$error":"#DIV/0!"}},{"$f":"'Average w-o bkg'!F41*$F$2/'Average w-o bkg'!F$5","v":{"$error":"#DIV/0!"}},{"$f":"'Average w-o bkg'!G41*$F$2/'Average w-o bkg'!G$5","v":{"$error":"#DIV/0!"}},{"$f":"'Average w-o bkg'!H41*$F$2/'Average w-o bkg'!H$5","v":{"$error":"#DIV/0!"}},{"$f":"'Average w-o bkg'!I41*$F$2/'Average w-o bkg'!I$5","v":{"$error":"#DIV/0!"}},{"$f":"'Average w-o bkg'!J41*$F$2/'Average w-o bkg'!J$5","v":{"$error":"#DIV/0!"}},{"$f":"'Average w-o bkg'!K41*$F$2/'Average w-o bkg'!K$5","v":{"$error":"#DIV/0!"}},{"$f":"'Average w-o bkg'!L41*$F$2/'Average w-o bkg'!L$5","v":{"$error":"#DIV/0!"}},{"$f":"'Average w-o bkg'!M41*$F$2/'Average w-o bkg'!M$5","v":{"$error":"#DIV/0!"}},{"$f":"'Average w-o bkg'!N41*$F$2/'Average w-o bkg'!N$5","v":{"$error":"#DIV/0!"}},{"$f":"'Average w-o bkg'!O41*$F$2/'Average w-o bkg'!O$5","v":{"$error":"#DIV/0!"}},{"$f":"'Average w-o bkg'!P41*$F$2/'Average w-o bkg'!P$5","v":{"$error":"#DIV/0!"}},{"$f":"'Average w-o bkg'!Q41*$F$2/'Average w-o bkg'!Q$5","v":{"$error":"#DIV/0!"}}]
[{"$f":"'Sorting 2'!A43","v":"P40"},{"$f":"'Average w-o bkg'!B42*$F$2/'Average w-o bkg'!B$5","v":{"$error":"#DIV/0!"}},{"$f":"'Average w-o bkg'!C42*$F$2/'Average w-o bkg'!C$5","v":{"$error":"#DIV/0!"}},{"$f":"'Average w-o bkg'!D42*$F$2/'Average w-o bkg'!D$5","v":{"$error":"#DIV/0!"}},{"$f":"'Average w-o bkg'!E42*$F$2/'Average w-o bkg'!E$5","v":{"$error":"#DIV/0!"}},{"$f":"'Average w-o bkg'!F42*$F$2/'Average w-o bkg'!F$5","v":{"$error":"#DIV/0!"}},{"$f":"'Average w-o bkg'!G42*$F$2/'Average w-o bkg'!G$5","v":{"$error":"#DIV/0!"}},{"$f":"'Average w-o bkg'!H42*$F$2/'Average w-o bkg'!H$5","v":{"$error":"#DIV/0!"}},{"$f":"'Average w-o bkg'!I42*$F$2/'Average w-o bkg'!I$5","v":{"$error":"#DIV/0!"}},{"$f":"'Average w-o bkg'!J42*$F$2/'Average w-o bkg'!J$5","v":{"$error":"#DIV/0!"}},{"$f":"'Average w-o bkg'!K42*$F$2/'Average w-o bkg'!K$5","v":{"$error":"#DIV/0!"}},{"$f":"'Average w-o bkg'!L42*$F$2/'Average w-o bkg'!L$5","v":{"$error":"#DIV/0!"}},{"$f":"'Average w-o bkg'!M42*$F$2/'Average w-o bkg'!M$5","v":{"$error":"#DIV/0!"}},{"$f":"'Average w-o bkg'!N42*$F$2/'Average w-o bkg'!N$5","v":{"$error":"#DIV/0!"}},{"$f":"'Average w-o bkg'!O42*$F$2/'Average w-o bkg'!O$5","v":{"$error":"#DIV/0!"}},{"$f":"'Average w-o bkg'!P42*$F$2/'Average w-o bkg'!P$5","v":{"$error":"#DIV/0!"}},{"$f":"'Average w-o bkg'!Q42*$F$2/'Average w-o bkg'!Q$5","v":{"$error":"#DIV/0!"}}]
[{"$f":"'Sorting 2'!A44","v":"P7"},{"$f":"'Average w-o bkg'!B43*$F$2/'Average w-o bkg'!B$5","v":{"$error":"#DIV/0!"}},{"$f":"'Average w-o bkg'!C43*$F$2/'Average w-o bkg'!C$5","v":{"$error":"#DIV/0!"}},{"$f":"'Average w-o bkg'!D43*$F$2/'Average w-o bkg'!D$5","v":{"$error":"#DIV/0!"}},{"$f":"'Average w-o bkg'!E43*$F$2/'Average w-o bkg'!E$5","v":{"$error":"#DIV/0!"}},{"$f":"'Average w-o bkg'!F43*$F$2/'Average w-o bkg'!F$5","v":{"$error":"#DIV/0!"}},{"$f":"'Average w-o bkg'!G43*$F$2/'Average w-o bkg'!G$5","v":{"$error":"#DIV/0!"}},{"$f":"'Average w-o bkg'!H43*$F$2/'Average w-o bkg'!H$5","v":{"$error":"#DIV/0!"}},{"$f":"'Average w-o bkg'!I43*$F$2/'Average w-o bkg'!I$5","v":{"$error":"#DIV/0!"}},{"$f":"'Average w-o bkg'!J43*$F$2/'Average w-o bkg'!J$5","v":{"$error":"#DIV/0!"}},{"$f":"'Average w-o bkg'!K43*$F$2/'Average w-o bkg'!K$5","v":{"$error":"#DIV/0!"}},{"$f":"'Average w-o bkg'!L43*$F$2/'Average w-o bkg'!L$5","v":{"$error":"#DIV/0!"}},{"$f":"'Average w-o bkg'!M43*$F$2/'Average w-o bkg'!M$5","v":{"$error":"#DIV/0!"}},{"$f":"'Average w-o bkg'!N43*$F$2/'Average w-o bkg'!N$5","v":{"$error":"#DIV/0!"}},{"$f":"'Average w-o bkg'!O43*$F$2/'Average w-o bkg'!O$5","v":{"$error":"#DIV/0!"}},{"$f":"'Average w-o bkg'!P43*$F$2/'Average w-o bkg'!P$5","v":{"$error":"#DIV/0!"}},{"$f":"'Average w-o bkg'!Q43*$F$2/'Average w-o bkg'!Q$5","v":{"$error":"#DIV/0!"}}]
[{"$f":"'Sorting 2'!A45","v":"P19"},{"$f":"'Average w-o bkg'!B44*$F$2/'Average w-o bkg'!B$5","v":{"$error":"#DIV/0!"}},{"$f":"'Average w-o bkg'!C44*$F$2/'Average w-o bkg'!C$5","v":{"$error":"#DIV/0!"}},{"$f":"'Average w-o bkg'!D44*$F$2/'Average w-o bkg'!D$5","v":{"$error":"#DIV/0!"}},{"$f":"'Average w-o bkg'!E44*$F$2/'Average w-o bkg'!E$5","v":{"$error":"#DIV/0!"}},{"$f":"'Average w-o bkg'!F44*$F$2/'Average w-o bkg'!F$5","v":{"$error":"#DIV/0!"}},{"$f":"'Average w-o bkg'!G44*$F$2/'Average w-o bkg'!G$5","v":{"$error":"#DIV/0!"}},{"$f":"'Average w-o bkg'!H44*$F$2/'Average w-o bkg'!H$5","v":{"$error":"#DIV/0!"}},{"$f":"'Average w-o bkg'!I44*$F$2/'Average w-o bkg'!I$5","v":{"$error":"#DIV/0!"}},{"$f":"'Average w-o bkg'!J44*$F$2/'Average w-o bkg'!J$5","v":{"$error":"#DIV/0!"}},{"$f":"'Average w-o bkg'!K44*$F$2/'Average w-o bkg'!K$5","v":{"$error":"#DIV/0!"}},{"$f":"'Average w-o bkg'!L44*$F$2/'Average w-o bkg'!L$5","v":{"$error":"#DIV/0!"}},{"$f":"'Average w-o bkg'!M44*$F$2/'Average w-o bkg'!M$5","v":{"$error":"#DIV/0!"}},{"$f":"'Average w-o bkg'!N44*$F$2/'Average w-o bkg'!N$5","v":{"$error":"#DIV/0!"}},{"$f":"'Average w-o bkg'!O44*$F$2/'Average w-o bkg'!O$5","v":{"$error":"#DIV/0!"}},{"$f":"'Average w-o bkg'!P44*$F$2/'Average w-o bkg'!P$5","v":{"$error":"#DIV/0!"}},{"$f":"'Average w-o bkg'!Q44*$F$2/'Average w-o bkg'!Q$5","v":{"$error":"#DIV/0!"}}]
[{"$f":"'Sorting 2'!A46","v":"P29"},{"$f":"'Average w-o bkg'!B45*$F$2/'Average w-o bkg'!B$5","v":{"$error":"#DIV/0!"}},{"$f":"'Average w-o bkg'!C45*$F$2/'Average w-o bkg'!C$5","v":{"$error":"#DIV/0!"}},{"$f":"'Average w-o bkg'!D45*$F$2/'Average w-o bkg'!D$5","v":{"$error":"#DIV/0!"}},{"$f":"'Average w-o bkg'!E45*$F$2/'Average w-o bkg'!E$5","v":{"$error":"#DIV/0!"}},{"$f":"'Average w-o bkg'!F45*$F$2/'Average w-o bkg'!F$5","v":{"$error":"#DIV/0!"}},{"$f":"'Average w-o bkg'!G45*$F$2/'Average w-o bkg'!G$5","v":{"$error":"#DIV/0!"}},{"$f":"'Average w-o bkg'!H45*$F$2/'Average w-o bkg'!H$5","v":{"$error":"#DIV/0!"}},{"$f":"'Average w-o bkg'!I45*$F$2/'Average w-o bkg'!I$5","v":{"$error":"#DIV/0!"}},{"$f":"'Average w-o bkg'!J45*$F$2/'Average w-o bkg'!J$5","v":{"$error":"#DIV/0!"}},{"$f":"'Average w-o bkg'!K45*$F$2/'Average w-o bkg'!K$5","v":{"$error":"#DIV/0!"}},{"$f":"'Average w-o bkg'!L45*$F$2/'Average w-o bkg'!L$5","v":{"$error":"#DIV/0!"}},{"$f":"'Average w-o bkg'!M45*$F$2/'Average w-o bkg'!M$5","v":{"$error":"#DIV/0!"}},{"$f":"'Average w-o bkg'!N45*$F$2/'Average w-o bkg'!N$5","v":{"$error":"#DIV/0!"}},{"$f":"'Average w-o bkg'!O45*$F$2/'Average w-o bkg'!O$5","v":{"$error":"#DIV/0!"}},{"$f":"'Average w-o bkg'!P45*$F$2/'Average w-o bkg'!P$5","v":{"$error":"#DIV/0!"}},{"$f":"'Average w-o bkg'!Q45*$F$2/'Average w-o bkg'!Q$5","v":{"$error":"#DIV/0!"}}]
[{"$f":"'Sorting 2'!A47","v":"P41"},{"$f":"'Average w-o bkg'!B46*$F$2/'Average w-o bkg'!B$5","v":{"$error":"#DIV/0!"}},{"$f":"'Average w-o bkg'!C46*$F$2/'Average w-o bkg'!C$5","v":{"$error":"#DIV/0!"}},{"$f":"'Average w-o bkg'!D46*$F$2/'Average w-o bkg'!D$5","v":{"$error":"#DIV/0!"}},{"$f":"'Average w-o bkg'!E46*$F$2/'Average w-o bkg'!E$5","v":{"$error":"#DIV/0!"}},{"$f":"'Average w-o bkg'!F46*$F$2/'Average w-o bkg'!F$5","v":{"$error":"#DIV/0!"}},{"$f":"'Average w-o bkg'!G46*$F$2/'Average w-o bkg'!G$5","v":{"$error":"#DIV/0!"}},{"$f":"'Average w-o bkg'!H46*$F$2/'Average w-o bkg'!H$5","v":{"$error":"#DIV/0!"}},{"$f":"'Average w-o bkg'!I46*$F$2/'Average w-o bkg'!I$5","v":{"$error":"#DIV/0!"}},{"$f":"'Average w-o bkg'!J46*$F$2/'Average w-o bkg'!J$5","v":{"$error":"#DIV/0!"}},{"$f":"'Average w-o bkg'!K46*$F$2/'Average w-o bkg'!K$5","v":{"$error":"#DIV/0!"}},{"$f":"'Average w-o bkg'!L46*$F$2/'Average w-o bkg'!L$5","v":{"$error":"#DIV/0!"}},{"$f":"'Average w-o bkg'!M46*$F$2/'Average w-o bkg'!M$5","v":{"$error":"#DIV/0!"}},{"$f":"'Average w-o bkg'!N46*$F$2/'Average w-o bkg'!N$5","v":{"$error":"#DIV/0!"}},{"$f":"'Average w-o bkg'!O46*$F$2/'Average w-o bkg'!O$5","v":{"$error":"#DIV/0!"}},{"$f":"'Average w-o bkg'!P46*$F$2/'Average w-o bkg'!P$5","v":{"$error":"#DIV/0!"}},{"$f":"'Average w-o bkg'!Q46*$F$2/'Average w-o bkg'!Q$5","v":{"$error":"#DIV/0!"}}]
[{"$f":"'Sorting 2'!A48","v":"Pig IgG"},{"$f":"'Average w-o bkg'!B47*$F$2/'Average w-o bkg'!B$5","v":{"$error":"#DIV/0!"}},{"$f":"'Average w-o bkg'!C47*$F$2/'Average w-o bkg'!C$5","v":{"$error":"#DIV/0!"}},{"$f":"'Average w-o bkg'!D47*$F$2/'Average w-o bkg'!D$5","v":{"$error":"#DIV/0!"}},{"$f":"'Average w-o bkg'!E47*$F$2/'Average w-o bkg'!E$5","v":{"$error":"#DIV/0!"}},{"$f":"'Average w-o bkg'!F47*$F$2/'Average w-o bkg'!F$5","v":{"$error":"#DIV/0!"}},{"$f":"'Average w-o bkg'!G47*$F$2/'Average w-o bkg'!G$5","v":{"$error":"#DIV/0!"}},{"$f":"'Average w-o bkg'!H47*$F$2/'Average w-o bkg'!H$5","v":{"$error":"#DIV/0!"}},{"$f":"'Average w-o bkg'!I47*$F$2/'Average w-o bkg'!I$5","v":{"$error":"#DIV/0!"}},{"$f":"'Average w-o bkg'!J47*$F$2/'Average w-o bkg'!J$5","v":{"$error":"#DIV/0!"}},{"$f":"'Average w-o bkg'!K47*$F$2/'Average w-o bkg'!K$5","v":{"$error":"#DIV/0!"}},{"$f":"'Average w-o bkg'!L47*$F$2/'Average w-o bkg'!L$5","v":{"$error":"#DIV/0!"}},{"$f":"'Average w-o bkg'!M47*$F$2/'Average w-o bkg'!M$5","v":{"$error":"#DIV/0!"}},{"$f":"'Average w-o bkg'!N47*$F$2/'Average w-o bkg'!N$5","v":{"$error":"#DIV/0!"}},{"$f":"'Average w-o bkg'!O47*$F$2/'Average w-o bkg'!O$5","v":{"$error":"#DIV/0!"}},{"$f":"'Average w-o bkg'!P47*$F$2/'Average w-o bkg'!P$5","v":{"$error":"#DIV/0!"}},{"$f":"'Average w-o bkg'!Q47*$F$2/'Average w-o bkg'!Q$5","v":{"$error":"#DIV/0!"}}]
[{"$f":"'Sorting 2'!A49","v":"P8"},{"$f":"'Average w-o bkg'!B48*$F$2/'Average w-o bkg'!B$5","v":{"$error":"#DIV/0!"}},{"$f":"'Average w-o bkg'!C48*$F$2/'Average w-o bkg'!C$5","v":{"$error":"#DIV/0!"}},{"$f":"'Average w-o bkg'!D48*$F$2/'Average w-o bkg'!D$5","v":{"$error":"#DIV/0!"}},{"$f":"'Average w-o bkg'!E48*$F$2/'Average w-o bkg'!E$5","v":{"$error":"#DIV/0!"}},{"$f":"'Average w-o bkg'!F48*$F$2/'Average w-o bkg'!F$5","v":{"$error":"#DIV/0!"}},{"$f":"'Average w-o bkg'!G48*$F$2/'Average w-o bkg'!G$5","v":{"$error":"#DIV/0!"}},{"$f":"'Average w-o bkg'!H48*$F$2/'Average w-o bkg'!H$5","v":{"$error":"#DIV/0!"}},{"$f":"'Average w-o bkg'!I48*$F$2/'Average w-o bkg'!I$5","v":{"$error":"#DIV/0!"}},{"$f":"'Average w-o bkg'!J48*$F$2/'Average w-o bkg'!J$5","v":{"$error":"#DIV/0!"}},{"$f":"'Average w-o bkg'!K48*$F$2/'Average w-o bkg'!K$5","v":{"$error":"#DIV/0!"}},{"$f":"'Average w-o bkg'!L48*$F$2/'Average w-o bkg'!L$5","v":{"$error":"#DIV/0!"}},{"$f":"'Average w-o bkg'!M48*$F$2/'Average w-o bkg'!M$5","v":{"$error":"#DIV/0!"}},{"$f":"'Average w-o bkg'!N48*$F$2/'Average w-o bkg'!N$5","v":{"$error":"#DIV/0!"}},{"$f":"'Average w-o bkg'!O48*$F$2/'Average w-o bkg'!O$5","v":{"$error":"#DIV/0!"}},{"$f":"'Average w-o bkg'!P48*$F$2/'Average w-o bkg'!P$5","v":{"$error":"#DIV/0!"}},{"$f":"'Average w-o bkg'!Q48*$F$2/'Average w-o bkg'!Q$5","v":{"$error":"#DIV/0!"}}]
[{"$f":"'Sorting 2'!A50","v":"P20"},{"$f":"'Average w-o bkg'!B49*$F$2/'Average w-o bkg'!B$5","v":{"$error":"#DIV/0!"}},{"$f":"'Average w-o bkg'!C49*$F$2/'Average w-o bkg'!C$5","v":{"$error":"#DIV/0!"}},{"$f":"'Average w-o bkg'!D49*$F$2/'Average w-o bkg'!D$5","v":{"$error":"#DIV/0!"}},{"$f":"'Average w-o bkg'!E49*$F$2/'Average w-o bkg'!E$5","v":{"$error":"#DIV/0!"}},{"$f":"'Average w-o bkg'!F49*$F$2/'Average w-o bkg'!F$5","v":{"$error":"#DIV/0!"}},{"$f":"'Average w-o bkg'!G49*$F$2/'Average w-o bkg'!G$5","v":{"$error":"#DIV/0!"}},{"$f":"'Average w-o bkg'!H49*$F$2/'Average w-o bkg'!H$5","v":{"$error":"#DIV/0!"}},{"$f":"'Average w-o bkg'!I49*$F$2/'Average w-o bkg'!I$5","v":{"$error":"#DIV/0!"}},{"$f":"'Average w-o bkg'!J49*$F$2/'Average w-o bkg'!J$5","v":{"$error":"#DIV/0!"}},{"$f":"'Average w-o bkg'!K49*$F$2/'Average w-o bkg'!K$5","v":{"$error":"#DIV/0!"}},{"$f":"'Average w-o bkg'!L49*$F$2/'Average w-o bkg'!L$5","v":{"$error":"#DIV/0!"}},{"$f":"'Average w-o bkg'!M49*$F$2/'Average w-o bkg'!M$5","v":{"$error":"#DIV/0!"}},{"$f":"'Average w-o bkg'!N49*$F$2/'Average w-o bkg'!N$5","v":{"$error":"#DIV/0!"}},{"$f":"'Average w-o bkg'!O49*$F$2/'Average w-o bkg'!O$5","v":{"$error":"#DIV/0!"}},{"$f":"'Average w-o bkg'!P49*$F$2/'Average w-o bkg'!P$5","v":{"$error":"#DIV/0!"}},{"$f":"'Average w-o bkg'!Q49*$F$2/'Average w-o bkg'!Q$5","v":{"$error":"#DIV/0!"}}]
[{"$f":"'Sorting 2'!A51","v":"P30"},{"$f":"'Average w-o bkg'!B50*$F$2/'Average w-o bkg'!B$5","v":{"$error":"#DIV/0!"}},{"$f":"'Average w-o bkg'!C50*$F$2/'Average w-o bkg'!C$5","v":{"$error":"#DIV/0!"}},{"$f":"'Average w-o bkg'!D50*$F$2/'Average w-o bkg'!D$5","v":{"$error":"#DIV/0!"}},{"$f":"'Average w-o bkg'!E50*$F$2/'Average w-o bkg'!E$5","v":{"$error":"#DIV/0!"}},{"$f":"'Average w-o bkg'!F50*$F$2/'Average w-o bkg'!F$5","v":{"$error":"#DIV/0!"}},{"$f":"'Average w-o bkg'!G50*$F$2/'Average w-o bkg'!G$5","v":{"$error":"#DIV/0!"}},{"$f":"'Average w-o bkg'!H50*$F$2/'Average w-o bkg'!H$5","v":{"$error":"#DIV/0!"}},{"$f":"'Average w-o bkg'!I50*$F$2/'Average w-o bkg'!I$5","v":{"$error":"#DIV/0!"}},{"$f":"'Average w-o bkg'!J50*$F$2/'Average w-o bkg'!J$5","v":{"$error":"#DIV/0!"}},{"$f":"'Average w-o bkg'!K50*$F$2/'Average w-o bkg'!K$5","v":{"$error":"#DIV/0!"}},{"$f":"'Average w-o bkg'!L50*$F$2/'Average w-o bkg'!L$5","v":{"$error":"#DIV/0!"}},{"$f":"'Average w-o bkg'!M50*$F$2/'Average w-o bkg'!M$5","v":{"$error":"#DIV/0!"}},{"$f":"'Average w-o bkg'!N50*$F$2/'Average w-o bkg'!N$5","v":{"$error":"#DIV/0!"}},{"$f":"'Average w-o bkg'!O50*$F$2/'Average w-o bkg'!O$5","v":{"$error":"#DIV/0!"}},{"$f":"'Average w-o bkg'!P50*$F$2/'Average w-o bkg'!P$5","v":{"$error":"#DIV/0!"}},{"$f":"'Average w-o bkg'!Q50*$F$2/'Average w-o bkg'!Q$5","v":{"$error":"#DIV/0!"}}]
[{"$f":"'Sorting 2'!A52","v":"P42"},{"$f":"'Average w-o bkg'!B51*$F$2/'Average w-o bkg'!B$5","v":{"$error":"#DIV/0!"}},{"$f":"'Average w-o bkg'!C51*$F$2/'Average w-o bkg'!C$5","v":{"$error":"#DIV/0!"}},{"$f":"'Average w-o bkg'!D51*$F$2/'Average w-o bkg'!D$5","v":{"$error":"#DIV/0!"}},{"$f":"'Average w-o bkg'!E51*$F$2/'Average w-o bkg'!E$5","v":{"$error":"#DIV/0!"}},{"$f":"'Average w-o bkg'!F51*$F$2/'Average w-o bkg'!F$5","v":{"$error":"#DIV/0!"}},{"$f":"'Average w-o bkg'!G51*$F$2/'Average w-o bkg'!G$5","v":{"$error":"#DIV/0!"}},{"$f":"'Average w-o bkg'!H51*$F$2/'Average w-o bkg'!H$5","v":{"$error":"#DIV/0!"}},{"$f":"'Average w-o bkg'!I51*$F$2/'Average w-o bkg'!I$5","v":{"$error":"#DIV/0!"}},{"$f":"'Average w-o bkg'!J51*$F$2/'Average w-o bkg'!J$5","v":{"$error":"#DIV/0!"}},{"$f":"'Average w-o bkg'!K51*$F$2/'Average w-o bkg'!K$5","v":{"$error":"#DIV/0!"}},{"$f":"'Average w-o bkg'!L51*$F$2/'Average w-o bkg'!L$5","v":{"$error":"#DIV/0!"}},{"$f":"'Average w-o bkg'!M51*$F$2/'Average w-o bkg'!M$5","v":{"$error":"#DIV/0!"}},{"$f":"'Average w-o bkg'!N51*$F$2/'Average w-o bkg'!N$5","v":{"$error":"#DIV/0!"}},{"$f":"'Average w-o bkg'!O51*$F$2/'Average w-o bkg'!O$5","v":{"$error":"#DIV/0!"}},{"$f":"'Average w-o bkg'!P51*$F$2/'Average w-o bkg'!P$5","v":{"$error":"#DIV/0!"}},{"$f":"'Average w-o bkg'!Q51*$F$2/'Average w-o bkg'!Q$5","v":{"$error":"#DIV/0!"}}]
[{"$f":"'Sorting 2'!A53","v":"Pig IgA"},{"$f":"'Average w-o bkg'!B52*$F$2/'Average w-o bkg'!B$5","v":{"$error":"#DIV/0!"}},{"$f":"'Average w-o bkg'!C52*$F$2/'Average w-o bkg'!C$5","v":{"$error":"#DIV/0!"}},{"$f":"'Average w-o bkg'!D52*$F$2/'Average w-o bkg'!D$5","v":{"$error":"#DIV/0!"}},{"$f":"'Average w-o bkg'!E52*$F$2/'Average w-o bkg'!E$5","v":{"$error":"#DIV/0!"}},{"$f":"'Average w-o bkg'!F52*$F$2/'Average w-o bkg'!F$5","v":{"$error":"#DIV/0!"}},{"$f":"'Average w-o bkg'!G52*$F$2/'Average w-o bkg'!G$5","v":{"$error":"#DIV/0!"}},{"$f":"'Average w-o bkg'!H52*$F$2/'Average w-o bkg'!H$5","v":{"$error":"#DIV/0!"}},{"$f":"'Average w-o bkg'!I52*$F$2/'Average w-o bkg'!I$5","v":{"$error":"#DIV/0!"}},{"$f":"'Average w-o bkg'!J52*$F$2/'Average w-o bkg'!J$5","v":{"$error":"#DIV/0!"}},{"$f":"'Average w-o bkg'!K52*$F$2/'Average w-o bkg'!K$5","v":{"$error":"#DIV/0!"}},{"$f":"'Average w-o bkg'!L52*$F$2/'Average w-o bkg'!L$5","v":{"$error":"#DIV/0!"}},{"$f":"'Average w-o bkg'!M52*$F$2/'Average w-o bkg'!M$5","v":{"$error":"#DIV/0!"}},{"$f":"'Average w-o bkg'!N52*$F$2/'Average w-o bkg'!N$5","v":{"$error":"#DIV/0!"}},{"$f":"'Average w-o bkg'!O52*$F$2/'Average w-o bkg'!O$5","v":{"$error":"#DIV/0!"}},{"$f":"'Average w-o bkg'!P52*$F$2/'Average w-o bkg'!P$5","v":{"$error":"#DIV/0!"}},{"$f":"'Average w-o bkg'!Q52*$F$2/'Average w-o bkg'!Q$5","v":{"$error":"#DIV/0!"}}]
[{"$f":"'Sorting 2'!A54","v":"P9"},{"$f":"'Average w-o bkg'!B53*$F$2/'Average w-o bkg'!B$5","v":{"$error":"#DIV/0!"}},{"$f":"'Average w-o bkg'!C53*$F$2/'Average w-o bkg'!C$5","v":{"$error":"#DIV/0!"}},{"$f":"'Average w-o bkg'!D53*$F$2/'Average w-o bkg'!D$5","v":{"$error":"#DIV/0!"}},{"$f":"'Average w-o bkg'!E53*$F$2/'Average w-o bkg'!E$5","v":{"$error":"#DIV/0!"}},{"$f":"'Average w-o bkg'!F53*$F$2/'Average w-o bkg'!F$5","v":{"$error":"#DIV/0!"}},{"$f":"'Average w-o bkg'!G53*$F$2/'Average w-o bkg'!G$5","v":{"$error":"#DIV/0!"}},{"$f":"'Average w-o bkg'!H53*$F$2/'Average w-o bkg'!H$5","v":{"$error":"#DIV/0!"}},{"$f":"'Average w-o bkg'!I53*$F$2/'Average w-o bkg'!I$5","v":{"$error":"#DIV/0!"}},{"$f":"'Average w-o bkg'!J53*$F$2/'Average w-o bkg'!J$5","v":{"$error":"#DIV/0!"}},{"$f":"'Average w-o bkg'!K53*$F$2/'Average w-o bkg'!K$5","v":{"$error":"#DIV/0!"}},{"$f":"'Average w-o bkg'!L53*$F$2/'Average w-o bkg'!L$5","v":{"$error":"#DIV/0!"}},{"$f":"'Average w-o bkg'!M53*$F$2/'Average w-o bkg'!M$5","v":{"$error":"#DIV/0!"}},{"$f":"'Average w-o bkg'!N53*$F$2/'Average w-o bkg'!N$5","v":{"$error":"#DIV/0!"}},{"$f":"'Average w-o bkg'!O53*$F$2/'Average w-o bkg'!O$5","v":{"$error":"#DIV/0!"}},{"$f":"'Average w-o bkg'!P53*$F$2/'Average w-o bkg'!P$5","v":{"$error":"#DIV/0!"}},{"$f":"'Average w-o bkg'!Q53*$F$2/'Average w-o bkg'!Q$5","v":{"$error":"#DIV/0!"}}]
[{"$f":"'Sorting 2'!A55","v":"P21"},{"$f":"'Average w-o bkg'!B54*$F$2/'Average w-o bkg'!B$5","v":{"$error":"#DIV/0!"}},{"$f":"'Average w-o bkg'!C54*$F$2/'Average w-o bkg'!C$5","v":{"$error":"#DIV/0!"}},{"$f":"'Average w-o bkg'!D54*$F$2/'Average w-o bkg'!D$5","v":{"$error":"#DIV/0!"}},{"$f":"'Average w-o bkg'!E54*$F$2/'Average w-o bkg'!E$5","v":{"$error":"#DIV/0!"}},{"$f":"'Average w-o bkg'!F54*$F$2/'Average w-o bkg'!F$5","v":{"$error":"#DIV/0!"}},{"$f":"'Average w-o bkg'!G54*$F$2/'Average w-o bkg'!G$5","v":{"$error":"#DIV/0!"}},{"$f":"'Average w-o bkg'!H54*$F$2/'Average w-o bkg'!H$5","v":{"$error":"#DIV/0!"}},{"$f":"'Average w-o bkg'!I54*$F$2/'Average w-o bkg'!I$5","v":{"$error":"#DIV/0!"}},{"$f":"'Average w-o bkg'!J54*$F$2/'Average w-o bkg'!J$5","v":{"$error":"#DIV/0!"}},{"$f":"'Average w-o bkg'!K54*$F$2/'Average w-o bkg'!K$5","v":{"$error":"#DIV/0!"}},{"$f":"'Average w-o bkg'!L54*$F$2/'Average w-o bkg'!L$5","v":{"$error":"#DIV/0!"}},{"$f":"'Average w-o bkg'!M54*$F$2/'Average w-o bkg'!M$5","v":{"$error":"#DIV/0!"}},{"$f":"'Average w-o bkg'!N54*$F$2/'Average w-o bkg'!N$5","v":{"$error":"#DIV/0!"}},{"$f":"'Average w-o bkg'!O54*$F$2/'Average w-o bkg'!O$5","v":{"$error":"#DIV/0!"}},{"$f":"'Average w-o bkg'!P54*$F$2/'Average w-o bkg'!P$5","v":{"$error":"#DIV/0!"}},{"$f":"'Average w-o bkg'!Q54*$F$2/'Average w-o bkg'!Q$5","v":{"$error":"#DIV/0!"}}]
[{"$f":"'Sorting 2'!A56","v":"P31"},{"$f":"'Average w-o bkg'!B55*$F$2/'Average w-o bkg'!B$5","v":{"$error":"#DIV/0!"}},{"$f":"'Average w-o bkg'!C55*$F$2/'Average w-o bkg'!C$5","v":{"$error":"#DIV/0!"}},{"$f":"'Average w-o bkg'!D55*$F$2/'Average w-o bkg'!D$5","v":{"$error":"#DIV/0!"}},{"$f":"'Average w-o bkg'!E55*$F$2/'Average w-o bkg'!E$5","v":{"$error":"#DIV/0!"}},{"$f":"'Average w-o bkg'!F55*$F$2/'Average w-o bkg'!F$5","v":{"$error":"#DIV/0!"}},{"$f":"'Average w-o bkg'!G55*$F$2/'Average w-o bkg'!G$5","v":{"$error":"#DIV/0!"}},{"$f":"'Average w-o bkg'!H55*$F$2/'Average w-o bkg'!H$5","v":{"$error":"#DIV/0!"}},{"$f":"'Average w-o bkg'!I55*$F$2/'Average w-o bkg'!I$5","v":{"$error":"#DIV/0!"}},{"$f":"'Average w-o bkg'!J55*$F$2/'Average w-o bkg'!J$5","v":{"$error":"#DIV/0!"}},{"$f":"'Average w-o bkg'!K55*$F$2/'Average w-o bkg'!K$5","v":{"$error":"#DIV/0!"}},{"$f":"'Average w-o bkg'!L55*$F$2/'Average w-o bkg'!L$5","v":{"$error":"#DIV/0!"}},{"$f":"'Average w-o bkg'!M55*$F$2/'Average w-o bkg'!M$5","v":{"$error":"#DIV/0!"}},{"$f":"'Average w-o bkg'!N55*$F$2/'Average w-o bkg'!N$5","v":{"$error":"#DIV/0!"}},{"$f":"'Average w-o bkg'!O55*$F$2/'Average w-o bkg'!O$5","v":{"$error":"#DIV/0!"}},{"$f":"'Average w-o bkg'!P55*$F$2/'Average w-o bkg'!P$5","v":{"$error":"#DIV/0!"}},{"$f":"'Average w-o bkg'!Q55*$F$2/'Average w-o bkg'!Q$5","v":{"$error":"#DIV/0!"}}]
[{"$f":"'Sorting 2'!A57","v":"P43"},{"$f":"'Average w-o bkg'!B56*$F$2/'Average w-o bkg'!B$5","v":{"$error":"#DIV/0!"}},{"$f":"'Average w-o bkg'!C56*$F$2/'Average w-o bkg'!C$5","v":{"$error":"#DIV/0!"}},{"$f":"'Average w-o bkg'!D56*$F$2/'Average w-o bkg'!D$5","v":{"$error":"#DIV/0!"}},{"$f":"'Average w-o bkg'!E56*$F$2/'Average w-o bkg'!E$5","v":{"$error":"#DIV/0!"}},{"$f":"'Average w-o bkg'!F56*$F$2/'Average w-o bkg'!F$5","v":{"$error":"#DIV/0!"}},{"$f":"'Average w-o bkg'!G56*$F$2/'Average w-o bkg'!G$5","v":{"$error":"#DIV/0!"}},{"$f":"'Average w-o bkg'!H56*$F$2/'Average w-o bkg'!H$5","v":{"$error":"#DIV/0!"}},{"$f":"'Average w-o bkg'!I56*$F$2/'Average w-o bkg'!I$5","v":{"$error":"#DIV/0!"}},{"$f":"'Average w-o bkg'!J56*$F$2/'Average w-o bkg'!J$5","v":{"$error":"#DIV/0!"}},{"$f":"'Average w-o bkg'!K56*$F$2/'Average w-o bkg'!K$5","v":{"$error":"#DIV/0!"}},{"$f":"'Average w-o bkg'!L56*$F$2/'Average w-o bkg'!L$5","v":{"$error":"#DIV/0!"}},{"$f":"'Average w-o bkg'!M56*$F$2/'Average w-o bkg'!M$5","v":{"$error":"#DIV/0!"}},{"$f":"'Average w-o bkg'!N56*$F$2/'Average w-o bkg'!N$5","v":{"$error":"#DIV/0!"}},{"$f":"'Average w-o bkg'!O56*$F$2/'Average w-o bkg'!O$5","v":{"$error":"#DIV/0!"}},{"$f":"'Average w-o bkg'!P56*$F$2/'Average w-o bkg'!P$5","v":{"$error":"#DIV/0!"}},{"$f":"'Average w-o bkg'!Q56*$F$2/'Average w-o bkg'!Q$5","v":{"$error":"#DIV/0!"}}]
[{"$f":"'Sorting 2'!A58","v":"P10"},{"$f":"'Average w-o bkg'!B57*$F$2/'Average w-o bkg'!B$5","v":{"$error":"#DIV/0!"}},{"$f":"'Average w-o bkg'!C57*$F$2/'Average w-o bkg'!C$5","v":{"$error":"#DIV/0!"}},{"$f":"'Average w-o bkg'!D57*$F$2/'Average w-o bkg'!D$5","v":{"$error":"#DIV/0!"}},{"$f":"'Average w-o bkg'!E57*$F$2/'Average w-o bkg'!E$5","v":{"$error":"#DIV/0!"}},{"$f":"'Average w-o bkg'!F57*$F$2/'Average w-o bkg'!F$5","v":{"$error":"#DIV/0!"}},{"$f":"'Average w-o bkg'!G57*$F$2/'Average w-o bkg'!G$5","v":{"$error":"#DIV/0!"}},{"$f":"'Average w-o bkg'!H57*$F$2/'Average w-o bkg'!H$5","v":{"$error":"#DIV/0!"}},{"$f":"'Average w-o bkg'!I57*$F$2/'Average w-o bkg'!I$5","v":{"$error":"#DIV/0!"}},{"$f":"'Average w-o bkg'!J57*$F$2/'Average w-o bkg'!J$5","v":{"$error":"#DIV/0!"}},{"$f":"'Average w-o bkg'!K57*$F$2/'Average w-o bkg'!K$5","v":{"$error":"#DIV/0!"}},{"$f":"'Average w-o bkg'!L57*$F$2/'Average w-o bkg'!L$5","v":{"$error":"#DIV/0!"}},{"$f":"'Average w-o bkg'!M57*$F$2/'Average w-o bkg'!M$5","v":{"$error":"#DIV/0!"}},{"$f":"'Average w-o bkg'!N57*$F$2/'Average w-o bkg'!N$5","v":{"$error":"#DIV/0!"}},{"$f":"'Average w-o bkg'!O57*$F$2/'Average w-o bkg'!O$5","v":{"$error":"#DIV/0!"}},{"$f":"'Average w-o bkg'!P57*$F$2/'Average w-o bkg'!P$5","v":{"$error":"#DIV/0!"}},{"$f":"'Average w-o bkg'!Q57*$F$2/'Average w-o bkg'!Q$5","v":{"$error":"#DIV/0!"}}]
[{"$f":"'Sorting 2'!A59","v":"P32"},{"$f":"'Average w-o bkg'!B58*$F$2/'Average w-o bkg'!B$5","v":{"$error":"#DIV/0!"}},{"$f":"'Average w-o bkg'!C58*$F$2/'Average w-o bkg'!C$5","v":{"$error":"#DIV/0!"}},{"$f":"'Average w-o bkg'!D58*$F$2/'Average w-o bkg'!D$5","v":{"$error":"#DIV/0!"}},{"$f":"'Average w-o bkg'!E58*$F$2/'Average w-o bkg'!E$5","v":{"$error":"#DIV/0!"}},{"$f":"'Average w-o bkg'!F58*$F$2/'Average w-o bkg'!F$5","v":{"$error":"#DIV/0!"}},{"$f":"'Average w-o bkg'!G58*$F$2/'Average w-o bkg'!G$5","v":{"$error":"#DIV/0!"}},{"$f":"'Average w-o bkg'!H58*$F$2/'Average w-o bkg'!H$5","v":{"$error":"#DIV/0!"}},{"$f":"'Average w-o bkg'!I58*$F$2/'Average w-o bkg'!I$5","v":{"$error":"#DIV/0!"}},{"$f":"'Average w-o bkg'!J58*$F$2/'Average w-o bkg'!J$5","v":{"$error":"#DIV/0!"}},{"$f":"'Average w-o bkg'!K58*$F$2/'Average w-o bkg'!K$5","v":{"$error":"#DIV/0!"}},{"$f":"'Average w-o bkg'!L58*$F$2/'Average w-o bkg'!L$5","v":{"$error":"#DIV/0!"}},{"$f":"'Average w-o bkg'!M58*$F$2/'Average w-o bkg'!M$5","v":{"$error":"#DIV/0!"}},{"$f":"'Average w-o bkg'!N58*$F$2/'Average w-o bkg'!N$5","v":{"$error":"#DIV/0!"}},{"$f":"'Average w-o bkg'!O58*$F$2/'Average w-o bkg'!O$5","v":{"$error":"#DIV/0!"}},{"$f":"'Average w-o bkg'!P58*$F$2/'Average w-o bkg'!P$5","v":{"$error":"#DIV/0!"}},{"$f":"'Average w-o bkg'!Q58*$F$2/'Average w-o bkg'!Q$5","v":{"$error":"#DIV/0!"}}]
[{"$f":"'Sorting 2'!A60","v":"P44"},{"$f":"'Average w-o bkg'!B59*$F$2/'Average w-o bkg'!B$5","v":{"$error":"#DIV/0!"}},{"$f":"'Average w-o bkg'!C59*$F$2/'Average w-o bkg'!C$5","v":{"$error":"#DIV/0!"}},{"$f":"'Average w-o bkg'!D59*$F$2/'Average w-o bkg'!D$5","v":{"$error":"#DIV/0!"}},{"$f":"'Average w-o bkg'!E59*$F$2/'Average w-o bkg'!E$5","v":{"$error":"#DIV/0!"}},{"$f":"'Average w-o bkg'!F59*$F$2/'Average w-o bkg'!F$5","v":{"$error":"#DIV/0!"}},{"$f":"'Average w-o bkg'!G59*$F$2/'Average w-o bkg'!G$5","v":{"$error":"#DIV/0!"}},{"$f":"'Average w-o bkg'!H59*$F$2/'Average w-o bkg'!H$5","v":{"$error":"#DIV/0!"}},{"$f":"'Average w-o bkg'!I59*$F$2/'Average w-o bkg'!I$5","v":{"$error":"#DIV/0!"}},{"$f":"'Average w-o bkg'!J59*$F$2/'Average w-o bkg'!J$5","v":{"$error":"#DIV/0!"}},{"$f":"'Average w-o bkg'!K59*$F$2/'Average w-o bkg'!K$5","v":{"$error":"#DIV/0!"}},{"$f":"'Average w-o bkg'!L59*$F$2/'Average w-o bkg'!L$5","v":{"$error":"#DIV/0!"}},{"$f":"'Average w-o bkg'!M59*$F$2/'Average w-o bkg'!M$5","v":{"$error":"#DIV/0!"}},{"$f":"'Average w-o bkg'!N59*$F$2/'Average w-o bkg'!N$5","v":{"$error":"#DIV/0!"}},{"$f":"'Average w-o bkg'!O59*$F$2/'Average w-o bkg'!O$5","v":{"$error":"#DIV/0!"}},{"$f":"'Average w-o bkg'!P59*$F$2/'Average w-o bkg'!P$5","v":{"$error":"#DIV/0!"}},{"$f":"'Average w-o bkg'!Q59*$F$2/'Average w-o bkg'!Q$5","v":{"$error":"#DIV/0!"}}]
[{"$f":"'Sorting 2'!A61","v":"P44"},{"$f":"'Average w-o bkg'!B60*$F$2/'Average w-o bkg'!B$5","v":{"$error":"#DIV/0!"}},{"$f":"'Average w-o bkg'!C60*$F$2/'Average w-o bkg'!C$5","v":{"$error":"#DIV/0!"}},{"$f":"'Average w-o bkg'!D60*$F$2/'Average w-o bkg'!D$5","v":{"$error":"#DIV/0!"}},{"$f":"'Average w-o bkg'!E60*$F$2/'Average w-o bkg'!E$5","v":{"$error":"#DIV/0!"}},{"$f":"'Average w-o bkg'!F60*$F$2/'Average w-o bkg'!F$5","v":{"$error":"#DIV/0!"}},{"$f":"'Average w-o bkg'!G60*$F$2/'Average w-o bkg'!G$5","v":{"$error":"#DIV/0!"}},{"$f":"'Average w-o bkg'!H60*$F$2/'Average w-o bkg'!H$5","v":{"$error":"#DIV/0!"}},{"$f":"'Average w-o bkg'!I60*$F$2/'Average w-o bkg'!I$5","v":{"$error":"#DIV/0!"}},{"$f":"'Average w-o bkg'!J60*$F$2/'Average w-o bkg'!J$5","v":{"$error":"#DIV/0!"}},{"$f":"'Average w-o bkg'!K60*$F$2/'Average w-o bkg'!K$5","v":{"$error":"#DIV/0!"}},{"$f":"'Average w-o bkg'!L60*$F$2/'Average w-o bkg'!L$5","v":{"$error":"#DIV/0!"}},{"$f":"'Average w-o bkg'!M60*$F$2/'Average w-o bkg'!M$5","v":{"$error":"#DIV/0!"}},{"$f":"'Average w-o bkg'!N60*$F$2/'Average w-o bkg'!N$5","v":{"$error":"#DIV/0!"}},{"$f":"'Average w-o bkg'!O60*$F$2/'Average w-o bkg'!O$5","v":{"$error":"#DIV/0!"}},{"$f":"'Average w-o bkg'!P60*$F$2/'Average w-o bkg'!P$5","v":{"$error":"#DIV/0!"}},{"$f":"'Average w-o bkg'!Q60*$F$2/'Average w-o bkg'!Q$5","v":{"$error":"#DIV/0!"}}]

{"sheet":"Final Graphs","index":18,"n_rows":0,"n_cols":0,"rows_kept":0,"cut":false,"hidden":true,"merged":[]}